{"text_format":"1","workbook":"xlsx","n_sheets":12,"sheets":["Instructions","Complicated Price Adjustment","tables","District Bids","Addresses Helper","Order Details","Mileages","Vendor Totals","Order Summary","PJ-101","FIELD","WV-39_09_11_17"],"not_rendered":{"charts":0,"images":2,"macros":1,"external_links":3,"defined_names":94,"comments":5,"pivot_tables":0},"unopened":[],"bounds":{"document_bytes":16777216,"sheet_cells":100000,"rows_first":2000,"rows_last":500,"rows_between":2000,"halvings":0,"cell_chars":16384,"cell_head_chars":4096},"cells_cut":0,"cells_raw":0,"read":"whole","date_system":"1900"}

{"sheet":"Instructions","index":0,"n_rows":58,"n_cols":4,"rows_kept":58,"cut":false,"hidden":false,"merged":[]}
["Instructions",null,"AFtable","=Data!$M$124:$N$128"]
["1. Go to 'Order Details' sheet\n(Note: all dark green boxes indicate a user input area, all cells containing a note have red indicators in top right corner, scroll over to display note)\n(Note: some cells contain drop down lists for selections, choose a selection from the list, do not type in entry)",null,"Bidders","='https://westvirginiaot.sharepoint.com/Users/a122318/Documents/_Asphalt/HMAPO2019/[HMAPO2019 MATERIAL LAYDOWN_052319.xlsb]Data'!$A$3:$F$108"]
["2. Select a county (B-3) from the drop down menu. ",null,"Bids","=Data!$A$3:$BW$108"]
["3. Select the \"Get Bidders\" button",null,"County","='https://westvirginiaot.sharepoint.com/Users/a122318/Documents/_Asphalt/HMAPO2019/[HMAPO2019 MATERIAL LAYDOWN_052319.xlsb]Data'!$I$111:$K$165"]
["4. Select the \"Clear Data\" button to clear any existing, old data in the sheet",null,"CountyList","='https://westvirginiaot.sharepoint.com/Users/a122318/Documents/_Asphalt/HMAPO2019/[HMAPO2019 MATERIAL LAYDOWN_052319.xlsb]Data'!$I$111:$I$165"]
["5. Under \"Item Quantities,\" enter each quantity into the green blank\n(Note: if no quantity is needed of a certain item, can either enter 0 or leave blank)",null,"PID_Haul","='https://westvirginiaot.sharepoint.com/Users/a122318/Documents/_Asphalt/HMAPO2019/[HMAPO2019 MATERIAL LAYDOWN_052319.xlsb]Order Details'!$K$6:$Q$23"]
["6. Enter the Milling Waste Haul Distance (cell K3 on Mileages worksheet) for each respective company (Note: if the same distance for all, enter the distance beside each company)",null,"OverrideList","='https://westvirginiaot.sharepoint.com/Users/a122318/Documents/_Asphalt/HMAPO2019/[HMAPO2019 MATERIAL LAYDOWN_052319.xlsb]Data'!$B$215:$B$233"]
["7. View the 'Vendor Totals' sheet for a complete cost breakdown of each company, bid prices for each item,  and lowest bidder",null,"PODB","=Data!$A$3:$BM$107"]
["8. The 'Vendor Totals' sheet will display the lowest, complete bid; meaning the vendor has a bid for each of the input quantities needed.",null,"Print_Area","=Instructions!$A$1:$A$29"]
["9. View the 'Order Summary' sheet for a complete list of unit bid prices for the lowest bidder from the 'Vendor Totals' sheet. ",null,"ProjectDistrict","='Order Details'!$F$3:$F$4"]
["10. If you'd like to perform a maual override selection of a vendor from the available group of vendors that is not the lowest bidder, you can do so on the 'Order Summary' sheet",null,"QA","='https://westvirginiaot.sharepoint.com/Users/a122318/Documents/_Asphalt/HMAPO2019/[HMAPO2019 MATERIAL LAYDOWN_052319.xlsb]Order Details'!$F$36"]
["11. To perform a manual override pick a vendor using the drop down box at the top of the 'Order Summary' sheet (E-1), the data below will then be automatically filled in and a total will be displayed at the bottom. \n(Note: vendor identifications are found at the top of the 'Vendor Totals' sheet)",null,"QAA","='https://westvirginiaot.sharepoint.com/Users/a122318/Documents/_Asphalt/HMAPO2019/[HMAPO2019 MATERIAL LAYDOWN_052319.xlsb]Order Details'!$M$45"]
["12. The 'Order Summary' sheet is fit to a single page for printing ease",null,"QABFIRST","='https://westvirginiaot.sharepoint.com/Users/a122318/Documents/_Asphalt/HMAPO2019/[HMAPO2019 MATERIAL LAYDOWN_052319.xlsb]Order Details'!$M$56"]
["13. The PJ-101 form is automatically filled in with data from the 'Order Details' sheet and can either be completed in excel or printed and completed by hand by filling in all green spaces",null,"QAF","='https://westvirginiaot.sharepoint.com/Users/a122318/Documents/_Asphalt/HMAPO2019/[HMAPO2019 MATERIAL LAYDOWN_052319.xlsb]Order Details'!$M$64"]
["14. The Field Personnel sheet is also filled in automatically with quantities and project data and can either completed in excel or printed out for completion",null,"QAG","='https://westvirginiaot.sharepoint.com/Users/a122318/Documents/_Asphalt/HMAPO2019/[HMAPO2019 MATERIAL LAYDOWN_052319.xlsb]Order Details'!$M$48"]
["15. The WV-39 form is automatically filled in with all quantities,descriptions,unit prices, and item numbers and can be completed either on excel or printed out\nNote: The spreadsheet will automcatically place all quantities on the first sheet; using filters, the user can display the first six items on the first page and\n then using filters again, can display the remaining quantities on the WV-39 Continuation sheet. Also any unwanted quantities that do not have bids can be removed using filters as well.",null,"QAH","='https://westvirginiaot.sharepoint.com/Users/a122318/Documents/_Asphalt/HMAPO2019/[HMAPO2019 MATERIAL LAYDOWN_052319.xlsb]Order Details'!$M$49"]
[null,null,"QAM","='https://westvirginiaot.sharepoint.com/Users/a122318/Documents/_Asphalt/HMAPO2019/[HMAPO2019 MATERIAL LAYDOWN_052319.xlsb]Order Details'!$M$52"]
[null,null,"QAN","='https://westvirginiaot.sharepoint.com/Users/a122318/Documents/_Asphalt/HMAPO2019/[HMAPO2019 MATERIAL LAYDOWN_052319.xlsb]Order Details'!$M$53"]
[null,null,"QAO","='Order Details'!$M$52"]
[null,null,"QB","='https://westvirginiaot.sharepoint.com/Users/a122318/Documents/_Asphalt/HMAPO2019/[HMAPO2019 MATERIAL LAYDOWN_052319.xlsb]Order Details'!$F$37"]
[null,null,"QC","='https://westvirginiaot.sharepoint.com/Users/a122318/Documents/_Asphalt/HMAPO2019/[HMAPO2019 MATERIAL LAYDOWN_052319.xlsb]Order Details'!$F$38"]
[null,null,"QD","='https://westvirginiaot.sharepoint.com/Users/a122318/Documents/_Asphalt/HMAPO2019/[HMAPO2019 MATERIAL LAYDOWN_052319.xlsb]Order Details'!$F$39"]
[null,null,"QE","='https://westvirginiaot.sharepoint.com/Users/a122318/Documents/_Asphalt/HMAPO2019/[HMAPO2019 MATERIAL LAYDOWN_052319.xlsb]Order Details'!$F$40"]
[null,null,"QF","='https://westvirginiaot.sharepoint.com/Users/a122318/Documents/_Asphalt/HMAPO2019/[HMAPO2019 MATERIAL LAYDOWN_052319.xlsb]Order Details'!$F$41"]
[null,null,"QG","='https://westvirginiaot.sharepoint.com/Users/a122318/Documents/_Asphalt/HMAPO2019/[HMAPO2019 MATERIAL LAYDOWN_052319.xlsb]Order Details'!$F$42"]
[null,null,"QH","='https://westvirginiaot.sharepoint.com/Users/a122318/Documents/_Asphalt/HMAPO2019/[HMAPO2019 MATERIAL LAYDOWN_052319.xlsb]Order Details'!$F$43"]
[null,null,"QI","='https://westvirginiaot.sharepoint.com/Users/a122318/Documents/_Asphalt/HMAPO2019/[HMAPO2019 MATERIAL LAYDOWN_052319.xlsb]Order Details'!$F$44"]
[null,null,"QJ","='https://westvirginiaot.sharepoint.com/Users/a122318/Documents/_Asphalt/HMAPO2019/[HMAPO2019 MATERIAL LAYDOWN_052319.xlsb]Order Details'!$F$45"]
[null,null,"QK","='https://westvirginiaot.sharepoint.com/Users/a122318/Documents/_Asphalt/HMAPO2019/[HMAPO2019 MATERIAL LAYDOWN_052319.xlsb]Order Details'!$F$46"]
[null,null,"QL","='https://westvirginiaot.sharepoint.com/Users/a122318/Documents/_Asphalt/HMAPO2019/[HMAPO2019 MATERIAL LAYDOWN_052319.xlsb]Order Details'!$F$47"]
[null,null,"QM","='https://westvirginiaot.sharepoint.com/Users/a122318/Documents/_Asphalt/HMAPO2019/[HMAPO2019 MATERIAL LAYDOWN_052319.xlsb]Order Details'!$F$48"]
[null,null,"QN","='https://westvirginiaot.sharepoint.com/Users/a122318/Documents/_Asphalt/HMAPO2019/[HMAPO2019 MATERIAL LAYDOWN_052319.xlsb]Order Details'!$F$49"]
[null,null,"QO","='https://westvirginiaot.sharepoint.com/Users/a122318/Documents/_Asphalt/HMAPO2019/[HMAPO2019 MATERIAL LAYDOWN_052319.xlsb]Order Details'!$F$50"]
[null,null,"QP","='https://westvirginiaot.sharepoint.com/Users/a122318/Documents/_Asphalt/HMAPO2019/[HMAPO2019 MATERIAL LAYDOWN_052319.xlsb]Order Details'!$F$54"]
[null,null,"QQ","='https://westvirginiaot.sharepoint.com/Users/a122318/Documents/_Asphalt/HMAPO2019/[HMAPO2019 MATERIAL LAYDOWN_052319.xlsb]Order Details'!$F$55"]
[null,null,"QR","='https://westvirginiaot.sharepoint.com/Users/a122318/Documents/_Asphalt/HMAPO2019/[HMAPO2019 MATERIAL LAYDOWN_052319.xlsb]Order Details'!$F$56"]
[null,null,"QS","='https://westvirginiaot.sharepoint.com/Users/a122318/Documents/_Asphalt/HMAPO2019/[HMAPO2019 MATERIAL LAYDOWN_052319.xlsb]Order Details'!$M$36"]
[null,null,"QT","='https://westvirginiaot.sharepoint.com/Users/a122318/Documents/_Asphalt/HMAPO2019/[HMAPO2019 MATERIAL LAYDOWN_052319.xlsb]Order Details'!$M$37"]
[null,null,"QU","='https://westvirginiaot.sharepoint.com/Users/a122318/Documents/_Asphalt/HMAPO2019/[HMAPO2019 MATERIAL LAYDOWN_052319.xlsb]Order Details'!$M$38"]
[null,null,"QW","='https://westvirginiaot.sharepoint.com/Users/a122318/Documents/_Asphalt/HMAPO2019/[HMAPO2019 MATERIAL LAYDOWN_052319.xlsb]Order Details'!$M$58"]
[null,null,"QX","='https://westvirginiaot.sharepoint.com/Users/a122318/Documents/_Asphalt/HMAPO2019/[HMAPO2019 MATERIAL LAYDOWN_052319.xlsb]Order Details'!$M$43"]
[null,null,"QY","='https://westvirginiaot.sharepoint.com/Users/a122318/Documents/_Asphalt/HMAPO2019/[HMAPO2019 MATERIAL LAYDOWN_052319.xlsb]Order Details'!$F$57"]
[null,null,"QZ","='https://westvirginiaot.sharepoint.com/Users/a122318/Documents/_Asphalt/HMAPO2019/[HMAPO2019 MATERIAL LAYDOWN_052319.xlsb]Order Details'!$M$44"]
[null,null,"Route","='https://westvirginiaot.sharepoint.com/Users/a122318/Documents/_Asphalt/HMAPO2019/[HMAPO2019 MATERIAL LAYDOWN_052319.xlsb]Data'!$N$113:$N$118"]
[null,null,"SAList","='https://westvirginiaot.sharepoint.com/Users/a122318/Documents/_Asphalt/HMAPO2019/[HMAPO2019 MATERIAL LAYDOWN_052319.xlsb]Data'!$B$173:$B$195"]
[null,null,"SATable","='https://westvirginiaot.sharepoint.com/Users/a122318/Documents/_Asphalt/HMAPO2019/[HMAPO2019 MATERIAL LAYDOWN_052319.xlsb]Data'!$B$173:$C$195"]
[null,null,"SCO","='https://westvirginiaot.sharepoint.com/Users/a122318/Documents/_Asphalt/HMAPO2019/[HMAPO2019 MATERIAL LAYDOWN_052319.xlsb]Order Details'!$N$2"]
[null,null,"Sign","=Data!$N$113:$O$118"]
[null,null,"Stable","=Data!$M$132:$N$135"]
[null,null,"TUWtable","=Data!$M$139:$N$142"]
[null,null,"Vend","=Data!$C$199:$C$208"]
[null,null,"Vendor","=Data!$A$3:$F$107"]
[null,null,"Vendor1","='https://westvirginiaot.sharepoint.com/Users/a122318/Documents/_Asphalt/HMAPO2019/[HMAPO2019 MATERIAL LAYDOWN_052319.xlsb]Order Details'!$K$6"]
[null,null,"VendorBids","='https://westvirginiaot.sharepoint.com/Users/a122318/Documents/_Asphalt/HMAPO2019/[HMAPO2019 MATERIAL LAYDOWN_052319.xlsb]District Bids'!#REF!"]
[null,null,"Vendorlist","=Data!$C$199:$C$208"]
[null,null,"VendorName","='Vendor Totals'!$A$106:$B$118"]
[null,null,"VendorPID","='https://westvirginiaot.sharepoint.com/Users/a122318/Documents/_Asphalt/HMAPO2019/[HMAPO2019 MATERIAL LAYDOWN_052319.xlsb]District Bids'!$A$8:$BZ$112"]
[null,null,"Vendors","=Data!$C$199:$C$208"]

{"sheet":"Complicated Price Adjustment","index":1,"n_rows":51,"n_cols":12,"rows_kept":51,"cut":false,"hidden":false,"merged":[[0,0,0,4],[1,0,1,4]]}
["2025 Hot Mix Asphalt Contract (Materials, Delivery, and Laydown by Vendors)",null,null,null,null,"If you get an 'error message' asking wether you want to update links, reply yes."]
["Unit Bid Price Adjustment",null,null,null,null,"If the current month is not displayed in Row 5, place cursor in Cell A5, press F2, press enter."]
[" ",null,"Asphalt","Fuel",null,"That will update the month and associated price indices."]
["Asphalt Price Index at Month of Bid Opening August 2024, Ib","Fuel Price Index at Month of Bid Opening August 2024, Ib",595,2.5364,null,"Monthly Fuel/Asphalt Price Link"]
[{"$f":"'[3]Basic Price Adjustment'!$A5","v":" Price Index March 2025, Ip"},{"$f":"A5","v":" Price Index March 2025, Ip"},{"$f":"'[3]Basic Price Adjustment'!$C5","v":579},{"$f":"'[3]Basic Price Adjustment'!$D5","v":2.6029},null,null,null,null,null,null,"C= Cost Adjustment Factor"]
[null,null,null," ",null,null,null,null,null,"Item","Factor","Pa"]
["Asphalt Cement Content, AC",null," ",null,null,"Description","Factor","Applicable Item(s)",null,1,0.43,{"$f":"ROUND((($D$5/$D$4)-1)*$D$4*K7,2)","v":0.03}]
[" ",null," ",null,null,"Asphalt Material",0.43,"1-17,66,69",null,2,0.43,{"$f":"ROUND((($D$5/$D$4)-1)*$D$4*K8,2)","v":0.03}]
[1,"Section 401 - Base I",3.9E-2,null,null,"Asphalt Hauling",0.02,"27-28",null,3,0.43,0.03]
[2,"Section 401 - 25mm Superpave",4.3999999999999997E-2,null,null,"Asphalt Laydown",0.14000000000000001,"29-32",null,4,0.43,0.03]
[3,"Section 401 - Base II",0.05,null,null,"Aggregate Production",0.52,18,null,5,0.43,0.03]
[4,"Section 401 - Patch & Level",0.05,null,null,"Aggregate Haul",0.02,"20-21",null,6,0.43,0.03]
[5,"Section 401 - Wearing IV",5.1999999999999998E-2,null,null,"Excavating",0.25,"35-38",null,7,0.43,0.03]
[6,"Section 402 - Wearing IV",5.0999999999999997E-2,null,null,null,null,null,null,8,0.43,0.03]
[7,"Section 401 - 19mm Superpave",4.7E-2,null,null,null,null,null,null,9,0.43,0.03]
[8,"Section 401 - Scratch Course",6.2E-2,null,null,null,null,null,null,10,0.43,0.03]
[9,"Section 402 - 9.5mm Superpave",6.0999999999999999E-2,null,null,null,null,null,null,11,0.43,0.03]
[10,"Section 401 - Wearing I",6.0999999999999999E-2,null,null,null,null,null,null,12,0.43,0.03]
[11,"Section 402 - Wearing I",0.06,null,null,null,null,null,null,13,0.43,0.03]
[12,"Section 401 - 4.75mm Superpave",7.5999999999999998E-2,null,null,null,null,null,null,14,0.43,0.03]
[13,"Section 402 - 4.75mm Superpave",7.1999999999999995E-2,null,null,null,null,null,null,15,0.43,0.03]
[14,"Section 401 - Wearing III",7.2999999999999995E-2,null,null,null,null,null,null,16,0.43,0.03]
[15,"Section 402 - Wearing III",7.4999999999999997E-2,null,null,null,null,null,null,17,0.43,0.03]
[16,"Section 401 - 12.5mm Superpave",5.6000000000000001E-2,null,null,null,null,null,null,66,0.43,0.03]
[17,"Section 402 - 12.5mm Superpave",5.6000000000000001E-2,null,null,null,null,null,null,69,0.43,0.03]
[66,"Asphalt HPTO, SP 496",7.0999999999999994E-2,null,null,null,null,null,null,27,0.02,0]
[69,"Ultra-Thin Asph. Overlay, SP 498 ",7.5999999999999998E-2,null,null,null,null,null,null,28,0.02,0]
[" ",null," ",null,null,null,null,null,null,29,0.14000000000000001,0.01]
["The asphalt prices will be adjusted as follows:","The fuel prices will be adjusted as follows:",null,null,null,null,null,null,null,30,0.14000000000000001,0.01]
["(Ip - Ib) x AC / 100","(Ip/Ib - 1) x Ib x C"," ","*per ton of asphalt",null,null,null,null,null,31,0.14000000000000001,0.01]
["Adjustment to Price* at Bid Opening",null,"Asphalt","Fuel","Total",null,null,null,null,32,0.14000000000000001,0.01]
[1,"Section 401 - Base I",{"$f":"ROUND(($C$5-$C$4)*C9,2)","v":-0.62},{"$f":"ROUND(L7,2)","v":0.03},{"$f":"C32+D32","v":-0.59},null,null,null,null,18,0.52,0.03]
[2,"Section 401 - 25mm Superpave",{"$f":"ROUND(($C$5-$C$4)*C10,2)","v":-0.7},{"$f":"ROUND(L8,2)","v":0.03},{"$f":"C33+D33","v":-0.66999999999999993},null,null,null,null,20,0.02,0]
[3,"Section 401 - Base II",-0.8,0.03,-0.77,null,null,null,null,21,0.02,0]
[4,"Section 401 - Patch & Level",-0.8,0.03,-0.77,null,null,null,null,35,0.25,0.02]
[5,"Section 401 - Wearing IV",-0.83,0.03,-0.79999999999999993,null,null,null,null,36,0.25,0.02]
[6,"Section 402 - Wearing IV",-0.82,0.03,-0.78999999999999992,null,null,null,null,37,0.25,0.02]
[7,"Section 401 - 19mm Superpave",-0.75,0.03,-0.72,null,null,null,null,38,0.25,0.02]
[8,"Section 401 - Scratch Course",-0.99,0.03,-0.96]
[9,"Section 402 - 9.5mm Superpave",-0.98,0.03,-0.95]
[10,"Section 401 - Wearing I",-0.98,0.03,-0.95]
[11,"Section 402 - Wearing I",-0.96,0.03,-0.92999999999999994]
[12,"Section 401 - 4.75mm Superpave",-1.22,0.03,-1.19]
[13,"Section 402 - 4.75mm Superpave",-1.1499999999999999,0.03,-1.1199999999999999]
[14,"Section 401 - Wearing III",-1.17,0.03,-1.1399999999999999]
[15,"Section 402 - Wearing III",-1.2,0.03,-1.17]
[16,"Section 401 - 12.5mm Superpave",-0.9,0.03,{"$f":"C47+D47","v":-0.87}]
[17,"Section 402 - 12.5mm Superpave",-0.9,0.03,{"$f":"C48+D48","v":-0.87}]
[66,"Asphalt HPTO, SP 496",-1.1399999999999999,0.03,{"$f":"C49+D49","v":-1.1099999999999999}]
[69,"Ultra-Thin Asph. Overlay, SP 498 ",-1.22,0.03,{"$f":"C50+D50","v":-1.19}]
[null,null," "]

{"sheet":"tables","index":2,"n_rows":91,"n_cols":23,"rows_kept":91,"cut":false,"hidden":true,"merged":[]}
["County","Number","District",null,"District",null,"Other Override",null,"Other Override",null,"Supplemental Code",null,null,"Override List",null,"Sign System",null,null,"Activity",null,null,null,"Override List"]
["Barbour",1,7,null,1,null,"Yes",null,0,"NO","00","Not Applicable",null,"Vendor A",null,"Interstate",1,null,1,"Asphalt Section 401 - Base I","TON",null,"Vendor A"]
["Berkeley",2,"05",null,2,null,"No",null,1,"YES","01","Alternate",null,"Vendor B",null,"US",2,null,2,"Asphalt Section 401 - 25mm Superpave","TON",null,"Vendor B"]
["Boone",3,"01",null,3,null,null,null,null,null,"02","Wye",null,"Vendor C",null,"WV",3,null,3,"Asphalt Section 401 - Base II","TON",null,"Vendor C"]
["Braxton",4,"07",null,4,null,null,null,null,null,"03","Spur",null,"Vendor D",null,"County",4,null,4,"Asphalt Section 401 - Patch and Level","TON",null,"Vendor D"]
["Brooke",5,"06",null,5,null,null,null,null,null,"04","North",null,"Vendor E",null,"Park Forest",6,null,5,"Asphalt Section 401 - Wearing IV","TON",null,"Vendor E"]
["Cabell",6,"02",null,6,null,null,null,null,null,"05","South",null,"Vendor F",null,"HARP",8,null,6,"Asphalt Section 402 - Wearing IV","TON",null,"Vendor F"]
["Calhoun",7,"03",null,7,null,null,null,null,null,"06","East",null,"Vendor G",null,null,null,null,7,"Asphalt Section 401 - 19mm Superpave","TON",null,"Vendor G"]
["Clay",8,"01",null,8,null,null,null,null,null,"07","West",null,"Vendor H",null,null,null,null,8,"Asphalt Section 401 - Scratch Course","TON",null,"Vendor H"]
["Doddridge",9,"04",null,9,null,null,null,null,null,"08","Business",null,"Vendor I",null,null,null,null,9,"Asphalt Section 402 - 9.5mm Superpave","TON",null,"Vendor I"]
["Fayette",10,"09",null,10,null,null,null,null,null,"09","North Bound(Business)",null,"Vendor J",null,null,null,null,10,"Asphalt Section 401 - Wearing 1","TON",null,"Vendor J"]
["Gilmer",11,"07",null,null,null,null,null,null,null,"10","South Bound(Business)",null,"Vendor K",null,null,null,null,11,"Asphalt Section 402 - Wearing 1","TON",null,"Vendor K"]
["Grant",12,"05",null,null,null,null,null,null,null,"11","East Bound(Business)",null,"Vendor L",null,null,null,null,12,"Asphalt Section 401 - 4.75mm Superpave","TON",null,"Vendor L"]
["Greenbrier",13,"09",null,null,null,null,null,null,null,"12","West Bound(Business)",null,"Vendor M",null,null,null,null,13,"Asphalt Section 402 - 4.75mm Superpave","TON",null,"Vendor M"]
["Hampshire",14,"05",null,null,null,null,null,null,null,"13","Truck Route",null,"Vendor N",null,null,null,null,14,"Asphalt Section 401 - Wearing III","TON",null,"Vendor N"]
["Hancock",15,"06",null,null,null,null,null,null,null,"14","Bypass",null,"Vendor O",null,null,null,null,15,"Asphalt Section 402 - Wearing III","TON",null,"Vendor O"]
["Hardy",16,"05",null,null,null,null,null,null,null,"15","Loop",null,"Vendor P",null,null,null,null,16,"Asphalt Section 401 - 12.5mm Superpave","TON",null,"Vendor P"]
["Harrison",17,"04",null,null,null,null,null,null,null,"16","Toll",null,"Vendor Q",null,null,null,null,17,"Asphalt Section 402 - 12.5mm Superpave","TON",null,"Vendor Q"]
["Jackson",18,"03",null,null,null,null,null,null,null,"17","Ramp",null,"Vendor R",null,null,null,null,18,"Shoulder Stone Placement for Asphalt Section 307 - Class 10","TON",null,"Vendor R"]
["Jefferson",19,"05",null,null,null,null,null,null,null,"18","Other",null,"Vendor S",null,null,null,null,20,"Haul by Vendor Shoulder Stone Placement - First Ton Mile","MILE",null,"Vendor S"]
["Kanawha",20,"01",null,null,null,null,null,null,null,"19","City Streets - Non-State",null,"Vendor T",null,null,null,null,21,"Haul by Vendor Shoulder Stone Placement - Each Additional Mile","MILE",null,"Vendor T"]
["Lewis",21,"07",null,null,null,null,null,null,null,"20","Roads Under Construction",null,"Vendor U",null,null,null,null,22,"Surcharge for PG Binder - 64H minus 22","TON",null,"Vendor U"]
["Lincoln",22,"02",null,null,null,null,null,null,null,"21","Footbridges",null,"Vendor V",null,null,null,null,23,"Surcharge for PG Binder 64E minus 22 ordered in 400 Ton increments","TON",null,"Vendor V"]
["Logan",23,"02",null,null,null,null,null,null,null,"22","Historical Bridges",null,"Vendor W",null,null,null,null,24,"ESAL Surcharge - 3 million to 20 million ESALs ","TON",null,"Vendor W"]
["McDowell",24,"10",null,null,null,null,null,null,null,null,null,null,"Vendor X",null,null,null,null,25,"ESAL Surcharge - Greater than 20 million ESALs ","TON",null,"Vendor X"]
["Marion",25,"04",null,null,null,null,null,null,null,null,null,null,"Vendor Y",null,null,null,null,26,"Asphalt Haul by Vendor - First Ton Mile","MILE",null,"Vendor Y"]
["Marshall",26,"06",null,null,null,null,null,null,null,null,null,null,"Vendor Z",null,null,null,null,27,"Asphalt Haul by Vendor - Each Additional Mile","MILE",null,"Vendor Z"]
["Mason",27,"01",null,null,null,null,null,null,null,null,null,null,"Vendor AA",null,null,null,null,28,"Laydown of Materials. Items #1-17 and #67, Each Site 0-100 Tons ","TON",null,"Vendor AA"]
["Mercer",28,"10",null,null,null,null,null,null,null,null,null,null,"Vendor AB",null,null,null,null,29,"Laydown of Materials. Items #1-17 and #67, Each Site 101 to 200 Tons","TON",null,"Vendor AB"]
["Mineral",29,"05",null,null,null,null,null,null,null,null,null,null,"Vendor AC",null,null,null,null,30,"Laydown of Materials. Items #1-17 and #67, Each Site 201 to 500 Tons","TON",null,"Vendor AC"]
["Mingo",30,"02",null,null,null,null,null,null,null,null,null,null,"Vendor AD",null,null,null,null,31,"Laydown of Materials. Items #1-17 and #67, Each Site 501 Tons or Greater","TON",null,"Vendor AD"]
["Monongalia",31,"04",null,null,null,null,null,null,null,null,null,null,"Vendor AE",null,null,null,null,34,"Excavation for Shoulder Paving - 0 to 1000 Sq. Yards","SY",null,"Vendor AE"]
["Monroe",32,"09",null,null,null,null,null,null,null,null,null,null,"Vendor AF",null,null,null,null,35,"Excavation for Shoulder Paving - 1001 to 2000 Sq. Yards","SY"]
["Morgan",33,"05",null,null,null,null,null,null,null,null,null,null,null,null,null,null,null,36,"Excavation for Shoulder Paving - 2001 to 3000 Sq. Yards","SY"]
["Nicholas",34,"09",null,null,null,null,null,null,null,null,null,null,null,null,null,null,null,37,"Excavation for Shoulder Paving - 3001 Sq. Yards or Greater","SY"]
["Ohio",35,"06",null,null,null,null,null,null,null,null,null,null,null,null,null,null,null,38,"Asphalt Base I Shoulder Paving Surcharge - 0 to 100 Tons","TON"]
["Pendleton",36,"08",null,null,null,null,null,null,null,null,null,null,null,null,null,null,null,39,"Asphalt Base I Shoulder Paving Surcharge - 101 to 200 Tons","TON"]
["Pleasants",37,"03",null,null,null,null,null,null,null,null,null,null,null,null,null,null,null,40,"Asphalt Base I Shoulder Paving Surcharge - 201 to 500 Tons","TON"]
["Pocahontas",38,"08",null,null,null,null,null,null,null,null,null,null,null,null,null,null,null,41,"Asphalt Base I Shoulder Paving Surcharge - 501 Tons or Greater","TON"]
["Preston",39,"04",null,null,null,null,null,null,null,null,null,null,null,null,null,null,null,42,"Asphalt Base II Shoulder Paving Surcharge - 0 to 100 Tons","TON"]
["Putnam",40,"01",null,null,null,null,null,null,null,null,null,null,null,null,null,null,null,43,"Asphalt Base II Shoulder Paving Surcharge - 101 to 200 Tons","TON"]
["Raleigh",41,"10",null,null,null,null,null,null,null,null,null,null,null,null,null,null,null,44,"Asphalt Base II Shoulder Paving Surcharge - 201 to 500 Tons","TON"]
["Randolph",42,"08",null,null,null,null,null,null,null,null,null,null,null,null,null,null,null,45,"Asphalt Base II Shoulder Paving Surcharge - 501 Tons or Greater","TON"]
["Ritchie",43,"03",null,null,null,null,null,null,null,null,null,null,null,null,null,null,null,46,"Asphalt Material for Tack Coat or Prime Material","GAL"]
["Roane",44,"03",null,null,null,null,null,null,null,null,null,null,null,null,null,null,null,47,"Additional Heel-In Joints","LF"]
["Summers",45,"09",null,null,null,null,null,null,null,null,null,null,null,null,null,null,null,48,"Skip Paving Surcharge","TON"]
["Taylor",46,"04",null,null,null,null,null,null,null,null,null,null,null,null,null,null,null,49,"Pavement Profiling/Milling-WVDOH Owns Millings 0 to 250 Sq. Yards","SY"]
["Tucker",47,"08",null,null,null,null,null,null,null,null,null,null,null,null,null,null,null,50,"Pavement Profiling/Milling-WVDOH Owns Millings 251 to 500 Sq. Yards","SY"]
["Tyler",48,"06",null,null,null,null,null,null,null,null,null,null,null,null,null,null,null,51,"Pavement Profiling/Milling-WVDOH Owns Millings 501 to 1000 Sq. Yards ","SY"]
["Upshur",49,"07",null,null,null,null,null,null,null,null,null,null,null,null,null,null,null,52,"Pavement Profiling/Milling-WVDOH Owns Millings 1001 to 2500 Sq. Yards ","SY"]
["Wayne",50,"02",null,null,null,null,null,null,null,null,null,null,null,null,null,null,null,53,"Pavement Profiling/Milling-WVDOH Owns Millings 2501 to 5000 Sq. Yards ","SY"]
["Webster",51,"07",null,null,null,null,null,null,null,null,null,null,null,null,null,null,null,54,"Pavement Profiling/Milling-WVDOH Owns Millings 5001 Sq. Yards or Greater ","SY"]
["Wetzel",52,"06",null,null,null,null,null,null,null,null,null,null,null,null,null,null,null,55,"Pavement Profiling/Milling-Vendor Owns Millings 0 to 250 Sq. Yards","SY"]
["Wirt",53,"03",null,null,null,null,null,null,null,null,null,null,null,null,null,null,null,56,"Pavement Profiling/Milling-Vendor Owns Millings 251 to 500 Sq. Yards","SY"]
["Wood",54,"03",null,null,null,null,null,null,null,null,null,null,null,null,null,null,null,57,"Pavement Profiling/Milling-Vendor Owns Millings 501 to 1000 Sq. Yards ","SY"]
["Wyoming",55,"10",null,null,null,null,null,null,null,null,null,null,null,null,null,null,null,58,"Pavement Profiling/Milling-Vendor Owns Millings 1001 to 2500 Sq. Yards ","SY"]
[null,null,null,null,null,null,null,null,null,null,null,null,null,null,null,null,null,null,59,"Pavement Profiling/Milling-Vendor Owns Millings 2501 to 5000 Sq. Yards ","SY"]
[null,null,null,null,null,null,null,null,null,null,null,null,null,null,null,null,null,null,60,"Pavement Profiling/Milling-Vendor Owns Millings 5001 Sq. Yards or Greater ","SY"]
[null,null,null,null,null,null,null,null,null,null,null,null,null,null,null,null,null,null,62,"Haul of Profiled/Milled Cuttings or Fine Millings, First 10 Miles (Included #49-60 and #69-80)","MILE"]
[null,null,null,null,null,null,null,null,null,null,null,null,null,null,null,null,null,null,63,"Haul of Profiled/Milled Cuttings or Fine Millings, Each additional Mile (Above 10 Miles)","LOADED MILE"]
[null,null,null,null,null,null,null,null,null,null,null,null,null,null,null,null,null,null,64,"Pavement Repair - Asphalt Base II","TON"]
[null,null,null,null,null,null,null,null,null,null,null,null,null,null,null,null,null,null,65,"Asphalt HPTO - SP496 - PG 64E-22 ordered 400 Ton increments","TON"]
[null,null,null,null,null,null,null,null,null,null,null,null,null,null,null,null,null,null,66,"Non-Tracking Tack - to be used with #65","GAL"]
[null,null,null,null,null,null,null,null,null,null,null,null,null,null,null,null,null,null,67,"Lay Down of Materials - to be used with #65 - 400 Ton or Greater","TON"]
[null,null,null,null,null,null,null,null,null,null,null,null,null,null,null,null,null,null,68,"Ultra-Thin Asphalt Overlay - SP498","TON"]
[null,null,null,null,null,null,null,null,null,null,null,null,null,null,null,null,null,null,69,"Fine Milling -WVDOH Owns Millings 0 to 250 Sq. Yards","SY"]
[null,null,null,null,null,null,null,null,null,null,null,null,null,null,null,null,null,null,70,"Fine Milling -WVDOH Owns Millings 251 to 500 Sq. Yards","SY"]
[null,null,null,null,null,null,null,null,null,null,null,null,null,null,null,null,null,null,71,"Fine Milling -WVDOH Owns Millings 501 to 1000 Sq. Yards","SY"]
[null,null,null,null,null,null,null,null,null,null,null,null,null,null,null,null,null,null,72,"Fine Milling -WVDOH Owns Millings 1001 to 2500 Sq. Yards","SY"]
[null,null,null,null,null,null,null,null,null,null,null,null,null,null,null,null,null,null,73,"Fine Milling -WVDOH Owns Millings 2501 to 5000 Sq. Yards","SY"]
[null,null,null,null,null,null,null,null,null,null,null,null,null,null,null,null,null,null,74,"Fine Milling -WVDOH Owns Millings 5001 SY or Greater","SY"]
[null,null,null,null,null,null,null,null,null,null,null,null,null,null,null,null,null,null,75,"Fine Milling- Vendor Owns Millings 0 to 250 Sq. Yards","SY"]
[null,null,null,null,null,null,null,null,null,null,null,null,null,null,null,null,null,null,76,"Fine Milling- Vendor Owns Millings 251 to 500 Sq. Yards","SY"]
[null,null,null,null,null,null,null,null,null,null,null,null,null,null,null,null,null,null,77,"Fine Milling- Vendor Owns Millings 501 to 1000 Sq. Yards","SY"]
[null,null,null,null,null,null,null,null,null,null,null,null,null,null,null,null,null,null,78,"Fine Milling- Vendor Owns Millings 1001 to 2500 Sq. Yards","SY"]
[null,null,null,null,null,null,null,null,null,null,null,null,null,null,null,null,null,null,79,"Fine Milling- Vendor Owns Millings 2501 to 5000 Sq. Yards","SY"]
[null,null,null,null,null,null,null,null,null,null,null,null,null,null,null,null,null,null,80,"Fine Milling- Vendor Owns Millings 5001 SY or Greater","SY"]
[null,null,null,null,null,null,null,null,null,null,null,null,null,null,null,null,null,null,81,"Milled Rumble Strips","LF"]
[null,null,null,null,null,null,null,null,null,null,null,null,null,null,null,null,null,null,83,"Surcharge for Parking Lot and Facility Paving ","TON"]
[null,null,null,null,null,null,null,null,null,null,null,null,null,null,null,null,null,null,84,"Cleaning and Sweeping","SY"]
[null,null,null,null,null,null,null,null,null,null,null,null,null,null,null,null,null,null,85,"Maintaining Traffic - Pilot Truck and Driver","DAY"]
[null,null,null,null,null,null,null,null,null,null,null,null,null,null,null,null,null,null,86,"Maintaining Traffic - Traffic Control Devices","UNIT"]
[null,null,null,null,null,null,null,null,null,null,null,null,null,null,null,null,null,null,87,"Maintaining Traffic - Flagger","HOUR"]
[null,null,null,null,null,null,null,null,null,null,null,null,null,null,null,null,null,null,88,"Maintaining Traffic - Arrow Board","DAY"]
[null,null,null,null,null,null,null,null,null,null,null,null,null,null,null,null,null,null,89,"Off-Season Plant Opening - First Day","DAY"]
[null,null,null,null,null,null,null,null,null,null,null,null,null,null,null,null,null,null,90,"Off-Season Plant Opening - Each Additional Day","DAY"]
[null,null,null,null,null,null,null,null,null,null,null,null,null,null,null,null,null,null,19,"Shoulder Stone Mobilization ","LUMP SUM"]
[null,null,null,null,null,null,null,null,null,null,null,null,null,null,null,null,null,null,32,"Mobilization - Daytime Paving ","LUMP SUM"]
[null,null,null,null,null,null,null,null,null,null,null,null,null,null,null,null,null,null,33,"Mobilization - Nighttime Paving ","LUMP SUM"]
[null,null,null,null,null,null,null,null,null,null,null,null,null,null,null,null,null,null,61,"Mobilization - Pavement Profiling/Milling ","LUMP SUM"]
[null,null,null,null,null,null,null,null,null,null,null,null,null,null,null,null,null,null,82,"Mobilization - Milled Rumble Strips ","LUMP SUM"]

{"sheet":"District Bids","index":3,"n_rows":511,"n_cols":110,"rows_kept":511,"cut":false,"hidden":true,"merged":[]}
[]
[null,null,null,null,null,null,null,null,7,8,9,10,11,12,13,14,15,16,17,18,19,20,21,22,23,24,25,26,27,28,29,30,31,32,33,34,35,36,37,38,39,40,41,42,43,44,45,46,47,48,49,50,51,52,53,54,55,56,57,58,59,60,61,62,63,64,65,66,67,68,69,70,71,72,73,74,75,76,77,78,79,80,81,82,83,84,85,86,87,88,89,90,91,92,93,94,95,96,97,98,99,100,101,102,103,104,105,106,107,108]
[]
["County","County# ","PID","District","Vendor","Vendor Asphalt Location","Vendor Stone Plant","Shoulder Stone Location",1,2,3,4,5,6,7,8,9,10,11,12,13,14,15,16,17,18,19,20,21,22,23,24,25,26,27,28,29,30,31,32,33,34,35,36,37,38,39,40,41,42,43,44,45,46,47,48,49,50,51,52,53,54,55,56,57,58,59,60,61,62,63,64,65,66,67,68,69,70,71,72,73,74,75,76,77,78,79,80,81,82,83,84,85,86,87,88,89,90,91,92,93,94,95,96,97,98,99,100,101,102]
["Boone",{"$f":"VLOOKUP(A5,tables!$A$2:$C$56,2,0)","v":3},1001,{"$f":"VLOOKUP(A5,tables!$A$2:$C$56,3,0)","v":"01"},"BTI Contracting Inc. St. Albans","484 Industrial Rd, St Albans, WV 25177","Scary Creek Materials"," #9 Orders Way, Winfield, WV",78.94,79.89,80.72,80.72,81.39,91.22,83.54,88.1,97.57,88.1,97.57,118.91,118.95,113.94,118.92,96.22,96.22,67.5,1950,2.9,0.3,5,5,12.5,1.75,4.5,3,0.27,83,29.75,19.5,9.6999999999999993,1750,8000,7,5,4,3,21.25,16,6,4,20.75,16,6,4,3.25,13,5,23,16.75,11.75,6.6,4.5,3.4,20.25,15.25,9.75,5,3.25,2.25,3250,0,0.27,345,0,5,0,0,24,18,13.5,7.25,5.5,3.6,22.5,16.5,12,6,4.4000000000000004,2.6,0.75,4250,7.25,0.01,960,1,69,40,3500,1250,75,40,1750,22,1950,9.5,7.4,6,4.55,5.25,5000]
["Clay",{"$f":"VLOOKUP(A6,tables!$A$2:$C$56,2,0)","v":8},1002,{"$f":"VLOOKUP(A6,tables!$A$2:$C$56,3,0)","v":"01"},"BTI Contracting Inc. St. Albans","484 Industrial Rd, St Albans, WV 25177","Scary Creek Materials"," #9 Orders Way, Winfield, WV",78.94,79.89,80.72,80.72,81.39,91.22,83.54,88.1,97.57,88.1,97.57,118.91,118.95,113.94,118.92,96.22,96.22,67.5,1950,2.9,0.3,5,5,12.5,1.75,4.5,3,0.27,83,29.75,19.5,9.6999999999999993,1750,8000,7,5,4,3,21.25,16,6,4,20.75,16,6,4,3.25,13,5,23,16.75,11.75,6.6,4.5,3.4,20.25,15.25,9.75,5,3.25,2.25,3250,0,0.27,345,0,5,0,0,24,18,13.5,7.25,5.5,3.6,22.5,16.5,12,6,4.4000000000000004,2.6,0.75,4250,7.25,0.01,960,1,69,40,3500,1250,75,40,1750,22,1950,9.5,7.4,6,4.55,5.25,5000]
["Kanawha",{"$f":"VLOOKUP(A7,tables!$A$2:$C$56,2,0)","v":20},1003,{"$f":"VLOOKUP(A7,tables!$A$2:$C$56,3,0)","v":"01"},"BTI Contracting Inc. St. Albans","484 Industrial Rd, St Albans, WV 25177","Scary Creek Materials"," #9 Orders Way, Winfield, WV",78.94,79.89,80.72,80.72,81.39,91.22,83.54,88.1,97.57,88.1,97.57,118.91,118.95,113.94,118.92,96.22,96.22,67.5,1950,2.9,0.3,5,5,12.5,1.75,4.5,3,0.27,83,29.75,19.5,9.6999999999999993,1750,8000,7,5,4,3,21.25,16,6,4,20.75,16,6,4,3.25,13,5,23,16.75,11.75,6.6,4.5,3.4,20.25,15.25,9.75,5,3.25,2.25,3250,0,0.27,345,0,5,0,0,24,18,13.5,7.25,5.5,3.6,22.5,16.5,12,6,4.4000000000000004,2.6,0.75,4250,7.25,0.01,960,1,69,40,3500,1250,75,40,1750,22,1950,9.5,7.4,6,4.55,5.25,5000]
["Mason",{"$f":"VLOOKUP(A8,tables!$A$2:$C$56,2,0)","v":27},1004,{"$f":"VLOOKUP(A8,tables!$A$2:$C$56,3,0)","v":"01"},"BTI Contracting Inc. St. Albans","484 Industrial Rd, St Albans, WV 25177","Scary Creek Materials"," #9 Orders Way, Winfield, WV",78.94,79.89,80.72,80.72,81.39,91.22,83.54,88.1,97.57,88.1,97.57,118.91,118.95,113.94,118.92,96.22,96.22,67.5,1950,2.9,0.3,5,5,12.5,1.75,4.5,3,0.27,83,29.75,19.5,9.6999999999999993,1750,8000,7,5,4,3,21.25,16,6,4,20.75,16,6,4,3.25,13,5,23,16.75,11.75,6.6,4.5,3.4,20.25,15.25,9.75,5,3.25,2.25,3250,0,0.27,345,0,5,0,0,24,18,13.5,7.25,5.5,3.6,22.5,16.5,12,6,4.4000000000000004,2.6,0.75,4250,7.25,0.01,960,1,69,40,3500,1250,75,40,1750,22,1950,9.5,7.4,6,4.55,5.25,5000]
["Putnam",{"$f":"VLOOKUP(A9,tables!$A$2:$C$56,2,0)","v":40},1005,{"$f":"VLOOKUP(A9,tables!$A$2:$C$56,3,0)","v":"01"},"BTI Contracting Inc. St. Albans","484 Industrial Rd, St Albans, WV 25177","Scary Creek Materials"," #9 Orders Way, Winfield, WV",78.94,79.89,80.72,80.72,81.39,91.22,83.54,88.1,97.57,88.1,97.57,118.91,118.95,113.94,118.92,96.22,96.22,67.5,1950,2.9,0.3,5,5,12.5,1.75,4.5,3,0.27,83,29.75,19.5,9.6999999999999993,1750,8000,7,5,4,3,21.25,16,6,4,20.75,16,6,4,3.25,13,5,23,16.75,11.75,6.6,4.5,3.4,20.25,15.25,9.75,5,3.25,2.25,3250,0,0.27,345,0,5,0,0,24,18,13.5,7.25,5.5,3.6,22.5,16.5,12,6,4.4000000000000004,2.6,0.75,4250,7.25,0.01,960,1,69,40,3500,1250,75,40,1750,22,1950,9.5,7.4,6,4.55,5.25,5000]
["Boone",{"$f":"VLOOKUP(A10,tables!$A$2:$C$56,2,0)","v":3},1006,{"$f":"VLOOKUP(A10,tables!$A$2:$C$56,3,0)","v":"01"},"BTI Contracting Inc. St. Albans","484 Industrial Rd, St Albans, WV 25177","Valley Stone Yard","360 Valley Rd., Millwood WV, 25262",78.94,79.89,80.72,80.72,81.39,91.22,83.54,88.1,97.57,88.1,97.57,118.91,118.95,113.94,118.92,96.22,96.22,67.5,1950,2.9,0.3,5,5,12.5,1.75,4.5,3,0.27,83,29.75,19.5,9.6999999999999993,1750,8000,7,5,4,3,21.25,16,6,4,20.75,16,6,4,3.25,13,5,23,16.75,11.75,6.6,4.5,3.4,20.25,15.25,9.75,5,3.25,2.25,3250,0,0.27,345,0,5,0,0,24,18,13.5,7.25,5.5,3.6,22.5,16.5,12,6,4.4000000000000004,2.6,0.75,4250,7.25,0.01,960,1,69,40,3500,1250,75,40,1750,22,1950,9.5,7.4,6,4.55,5.25,5000]
["Clay",{"$f":"VLOOKUP(A11,tables!$A$2:$C$56,2,0)","v":8},1007,{"$f":"VLOOKUP(A11,tables!$A$2:$C$56,3,0)","v":"01"},"BTI Contracting Inc. St. Albans","484 Industrial Rd, St Albans, WV 25177","Valley Stone Yard","360 Valley Rd., Millwood WV, 25262",78.94,79.89,80.72,80.72,81.39,91.22,83.54,88.1,97.57,88.1,97.57,118.91,118.95,113.94,118.92,96.22,96.22,67.5,1950,2.9,0.3,5,5,12.5,1.75,4.5,3,0.27,83,29.75,19.5,9.6999999999999993,1750,8000,7,5,4,3,21.25,16,6,4,20.75,16,6,4,3.25,13,5,23,16.75,11.75,6.6,4.5,3.4,20.25,15.25,9.75,5,3.25,2.25,3250,0,0.27,345,0,5,0,0,24,18,13.5,7.25,5.5,3.6,22.5,16.5,12,6,4.4000000000000004,2.6,0.75,4250,7.25,0.01,960,1,69,40,3500,1250,75,40,1750,22,1950,9.5,7.4,6,4.55,5.25,5000]
["Kanawha",{"$f":"VLOOKUP(A12,tables!$A$2:$C$56,2,0)","v":20},1008,{"$f":"VLOOKUP(A12,tables!$A$2:$C$56,3,0)","v":"01"},"BTI Contracting Inc. St. Albans","484 Industrial Rd, St Albans, WV 25177","Valley Stone Yard","360 Valley Rd., Millwood WV, 25262",78.94,79.89,80.72,80.72,81.39,91.22,83.54,88.1,97.57,88.1,97.57,118.91,118.95,113.94,118.92,96.22,96.22,67.5,1950,2.9,0.3,5,5,12.5,1.75,4.5,3,0.27,83,29.75,19.5,9.6999999999999993,1750,8000,7,5,4,3,21.25,16,6,4,20.75,16,6,4,3.25,13,5,23,16.75,11.75,6.6,4.5,3.4,20.25,15.25,9.75,5,3.25,2.25,3250,0,0.27,345,0,5,0,0,24,18,13.5,7.25,5.5,3.6,22.5,16.5,12,6,4.4000000000000004,2.6,0.75,4250,7.25,0.01,960,1,69,40,3500,1250,75,40,1750,22,1950,9.5,7.4,6,4.55,5.25,5000]
["Mason",{"$f":"VLOOKUP(A13,tables!$A$2:$C$56,2,0)","v":27},1009,{"$f":"VLOOKUP(A13,tables!$A$2:$C$56,3,0)","v":"01"},"BTI Contracting Inc. St. Albans","484 Industrial Rd, St Albans, WV 25177","Valley Stone Yard","360 Valley Rd., Millwood WV, 25262",78.94,79.89,80.72,80.72,81.39,91.22,83.54,88.1,97.57,88.1,97.57,118.91,118.95,113.94,118.92,96.22,96.22,67.5,1950,2.9,0.3,5,5,12.5,1.75,4.5,3,0.27,83,29.75,19.5,9.6999999999999993,1750,8000,7,5,4,3,21.25,16,6,4,20.75,16,6,4,3.25,13,5,23,16.75,11.75,6.6,4.5,3.4,20.25,15.25,9.75,5,3.25,2.25,3250,0,0.27,345,0,5,0,0,24,18,13.5,7.25,5.5,3.6,22.5,16.5,12,6,4.4000000000000004,2.6,0.75,4250,7.25,0.01,960,1,69,40,3500,1250,75,40,1750,22,1950,9.5,7.4,6,4.55,5.25,5000]
["Putnam",{"$f":"VLOOKUP(A14,tables!$A$2:$C$56,2,0)","v":40},1010,{"$f":"VLOOKUP(A14,tables!$A$2:$C$56,3,0)","v":"01"},"BTI Contracting Inc. St. Albans","484 Industrial Rd, St Albans, WV 25177","Valley Stone Yard","360 Valley Rd., Millwood WV, 25262",78.94,79.89,80.72,80.72,81.39,91.22,83.54,88.1,97.57,88.1,97.57,118.91,118.95,113.94,118.92,96.22,96.22,67.5,1950,2.9,0.3,5,5,12.5,1.75,4.5,3,0.27,83,29.75,19.5,9.6999999999999993,1750,8000,7,5,4,3,21.25,16,6,4,20.75,16,6,4,3.25,13,5,23,16.75,11.75,6.6,4.5,3.4,20.25,15.25,9.75,5,3.25,2.25,3250,0,0.27,345,0,5,0,0,24,18,13.5,7.25,5.5,3.6,22.5,16.5,12,6,4.4000000000000004,2.6,0.75,4250,7.25,0.01,960,1,69,40,3500,1250,75,40,1750,22,1950,9.5,7.4,6,4.55,5.25,5000]
["Boone",{"$f":"VLOOKUP(A15,tables!$A$2:$C$56,2,0)","v":3},1011,{"$f":"VLOOKUP(A15,tables!$A$2:$C$56,3,0)","v":"01"},"BTI Contracting Inc. St. Albans","484 Industrial Rd, St Albans, WV 25177","Mountain Materials- Valley Quarry","12434 US 60, Olive Hill KY",78.94,79.89,80.72,80.72,81.39,91.22,83.54,88.1,97.57,88.1,97.57,118.91,118.95,113.94,118.92,96.22,96.22,67.5,1950,2.9,0.3,5,5,12.5,1.75,4.5,3,0.27,83,29.75,19.5,9.6999999999999993,1750,8000,7,5,4,3,21.25,16,6,4,20.75,16,6,4,3.25,13,5,23,16.75,11.75,6.6,4.5,3.4,20.25,15.25,9.75,5,3.25,2.25,3250,0,0.27,345,0,5,0,0,24,18,13.5,7.25,5.5,3.6,22.5,16.5,12,6,4.4000000000000004,2.6,0.75,4250,7.25,0.01,960,1,69,40,3500,1250,75,40,1750,22,1950,9.5,7.4,6,4.55,5.25,5000]
["Kanawha",{"$f":"VLOOKUP(A16,tables!$A$2:$C$56,2,0)","v":20},1012,{"$f":"VLOOKUP(A16,tables!$A$2:$C$56,3,0)","v":"01"},"BTI Contracting Inc. St. Albans","484 Industrial Rd, St Albans, WV 25177","Mountain Materials- Valley Quarry","12434 US 60, Olive Hill KY",78.94,79.89,80.72,80.72,81.39,91.22,83.54,88.1,97.57,88.1,97.57,118.91,118.95,113.94,118.92,96.22,96.22,67.5,1950,2.9,0.3,5,5,12.5,1.75,4.5,3,0.27,83,29.75,19.5,9.6999999999999993,1750,8000,7,5,4,3,21.25,16,6,4,20.75,16,6,4,3.25,13,5,23,16.75,11.75,6.6,4.5,3.4,20.25,15.25,9.75,5,3.25,2.25,3250,0,0.27,345,0,5,0,0,24,18,13.5,7.25,5.5,3.6,22.5,16.5,12,6,4.4000000000000004,2.6,0.75,4250,7.25,0.01,960,1,69,40,3500,1250,75,40,1750,22,1950,9.5,7.4,6,4.55,5.25,5000]
["Mason",{"$f":"VLOOKUP(A17,tables!$A$2:$C$56,2,0)","v":27},1013,{"$f":"VLOOKUP(A17,tables!$A$2:$C$56,3,0)","v":"01"},"BTI Contracting Inc. St. Albans","484 Industrial Rd, St Albans, WV 25177","Mountain Materials- Valley Quarry","12434 US 60, Olive Hill KY",78.94,79.89,80.72,80.72,81.39,91.22,83.54,88.1,97.57,88.1,97.57,118.91,118.95,113.94,118.92,96.22,96.22,67.5,1950,2.9,0.3,5,5,12.5,1.75,4.5,3,0.27,83,29.75,19.5,9.6999999999999993,1750,8000,7,5,4,3,21.25,16,6,4,20.75,16,6,4,3.25,13,5,23,16.75,11.75,6.6,4.5,3.4,20.25,15.25,9.75,5,3.25,2.25,3250,0,0.27,345,0,5,0,0,24,18,13.5,7.25,5.5,3.6,22.5,16.5,12,6,4.4000000000000004,2.6,0.75,4250,7.25,0.01,960,1,69,40,3500,1250,75,40,1750,22,1950,9.5,7.4,6,4.55,5.25,5000]
["Putnam",{"$f":"VLOOKUP(A18,tables!$A$2:$C$56,2,0)","v":40},1014,{"$f":"VLOOKUP(A18,tables!$A$2:$C$56,3,0)","v":"01"},"BTI Contracting Inc. St. Albans","484 Industrial Rd, St Albans, WV 25177","Mountain Materials- Valley Quarry","12434 US 60, Olive Hill KY",78.94,79.89,80.72,80.72,81.39,91.22,83.54,88.1,97.57,88.1,97.57,118.91,118.95,113.94,118.92,96.22,96.22,67.5,1950,2.9,0.3,5,5,12.5,1.75,4.5,3,0.27,83,29.75,19.5,9.6999999999999993,1750,8000,7,5,4,3,21.25,16,6,4,20.75,16,6,4,3.25,13,5,23,16.75,11.75,6.6,4.5,3.4,20.25,15.25,9.75,5,3.25,2.25,3250,0,0.27,345,0,5,0,0,24,18,13.5,7.25,5.5,3.6,22.5,16.5,12,6,4.4000000000000004,2.6,0.75,4250,7.25,0.01,960,1,69,40,3500,1250,75,40,1750,22,1950,9.5,7.4,6,4.55,5.25,5000]
["Boone",{"$f":"VLOOKUP(A19,tables!$A$2:$C$56,2,0)","v":3},1015,{"$f":"VLOOKUP(A19,tables!$A$2:$C$56,3,0)","v":"01"},"BTI Contracting Inc. Kenova","2334 Route 52 Kenova, WV 25530","Valley Stone Yard","360 Valley Rd., Millwood WV, 25262",77.27,78.22,80.12,80.12,82.83,89.57,80.45,87.7,93.17,87.7,95.9,118.91,118.95,103.94,118.92,96.22,96.22,67.5,1950,2.9,0.3,5,5,12.5,1.75,4.5,3,0.27,83,29.75,19.5,9.6999999999999993,1750,8000,7,5,4,3,21.25,16,6,4,20.75,16,6,4,3.25,13,5,23,16.75,11.75,6.6,4.5,3.4,20.25,15.25,9.75,5,3.25,2.25,3250,0,0.27,345,0,5,0,0,24,18,13.5,7.25,5.5,3.6,22.5,16.5,12,6,4.4000000000000004,2.6,0.75,4250,7.25,0.01,960,1,69,40,3500,1250,75,40,1750,22,1950,9.5,7.4,6,4.55,5.25,5000]
["Mason",{"$f":"VLOOKUP(A20,tables!$A$2:$C$56,2,0)","v":27},1016,{"$f":"VLOOKUP(A20,tables!$A$2:$C$56,3,0)","v":"01"},"BTI Contracting Inc. Kenova","2334 Route 52 Kenova, WV 25530","Valley Stone Yard","360 Valley Rd., Millwood WV, 25262",77.27,78.22,80.12,80.12,82.83,89.57,80.45,87.7,93.17,87.7,95.9,118.91,118.95,103.94,118.92,96.22,96.22,67.5,1950,2.9,0.3,5,5,12.5,1.75,4.5,3,0.27,83,29.75,19.5,9.6999999999999993,1750,8000,7,5,4,3,21.25,16,6,4,20.75,16,6,4,3.25,13,5,23,16.75,11.75,6.6,4.5,3.4,20.25,15.25,9.75,5,3.25,2.25,3250,0,0.27,345,0,5,0,0,24,18,13.5,7.25,5.5,3.6,22.5,16.5,12,6,4.4000000000000004,2.6,0.75,4250,7.25,0.01,960,1,69,40,3500,1250,75,40,1750,22,1950,9.5,7.4,6,4.55,5.25,5000]
["Putnam",{"$f":"VLOOKUP(A21,tables!$A$2:$C$56,2,0)","v":40},1017,{"$f":"VLOOKUP(A21,tables!$A$2:$C$56,3,0)","v":"01"},"BTI Contracting Inc. Kenova","2334 Route 52 Kenova, WV 25530","Valley Stone Yard","360 Valley Rd., Millwood WV, 25262",77.27,78.22,80.12,80.12,82.83,89.57,80.45,87.7,93.17,87.7,95.9,118.91,118.95,103.94,118.92,96.22,96.22,67.5,1950,2.9,0.3,5,5,12.5,1.75,4.5,3,0.27,83,29.75,19.5,9.6999999999999993,1750,8000,7,5,4,3,21.25,16,6,4,20.75,16,6,4,3.25,13,5,23,16.75,11.75,6.6,4.5,3.4,20.25,15.25,9.75,5,3.25,2.25,3250,0,0.27,345,0,5,0,0,24,18,13.5,7.25,5.5,3.6,22.5,16.5,12,6,4.4000000000000004,2.6,0.75,4250,7.25,0.01,960,1,69,40,3500,1250,75,40,1750,22,1950,9.5,7.4,6,4.55,5.25,5000]
["Boone",{"$f":"VLOOKUP(A22,tables!$A$2:$C$56,2,0)","v":3},1018,{"$f":"VLOOKUP(A22,tables!$A$2:$C$56,3,0)","v":"01"},"BTI Contracting Inc. Kenova","2334 Route 52 Kenova, WV 25530","Scary Creek Materials"," #9 Orders Way, Winfield, WV",77.27,78.22,80.12,80.12,82.83,89.57,80.45,87.7,93.17,87.7,95.9,118.91,118.95,103.94,118.92,96.22,96.22,67.5,1950,2.9,0.3,5,5,12.5,1.75,4.5,3,0.27,83,29.75,19.5,9.6999999999999993,1750,8000,7,5,4,3,21.25,16,6,4,20.75,16,6,4,3.25,13,5,23,16.75,11.75,6.6,4.5,3.4,20.25,15.25,9.75,5,3.25,2.25,3250,0,0.27,345,0,5,0,0,24,18,13.5,7.25,5.5,3.6,22.5,16.5,12,6,4.4000000000000004,2.6,0.75,4250,7.25,0.01,960,1,69,40,3500,1250,75,40,1750,22,1950,9.5,7.4,6,4.55,5.25,5000]
["Mason",{"$f":"VLOOKUP(A23,tables!$A$2:$C$56,2,0)","v":27},1019,{"$f":"VLOOKUP(A23,tables!$A$2:$C$56,3,0)","v":"01"},"BTI Contracting Inc. Kenova","2334 Route 52 Kenova, WV 25530","Scary Creek Materials"," #9 Orders Way, Winfield, WV",77.27,78.22,80.12,80.12,82.83,89.57,80.45,87.7,93.17,87.7,95.9,118.91,118.95,103.94,118.92,96.22,96.22,67.5,1950,2.9,0.3,5,5,12.5,1.75,4.5,3,0.27,83,29.75,19.5,9.6999999999999993,1750,8000,7,5,4,3,21.25,16,6,4,20.75,16,6,4,3.25,13,5,23,16.75,11.75,6.6,4.5,3.4,20.25,15.25,9.75,5,3.25,2.25,3250,0,0.27,345,0,5,0,0,24,18,13.5,7.25,5.5,3.6,22.5,16.5,12,6,4.4000000000000004,2.6,0.75,4250,7.25,0.01,960,1,69,40,3500,1250,75,40,1750,22,1950,9.5,7.4,6,4.55,5.25,5000]
["Putnam",{"$f":"VLOOKUP(A24,tables!$A$2:$C$56,2,0)","v":40},1020,{"$f":"VLOOKUP(A24,tables!$A$2:$C$56,3,0)","v":"01"},"BTI Contracting Inc. Kenova","2334 Route 52 Kenova, WV 25530","Scary Creek Materials"," #9 Orders Way, Winfield, WV",77.27,78.22,80.12,80.12,82.83,89.57,80.45,87.7,93.17,87.7,95.9,118.91,118.95,103.94,118.92,96.22,96.22,67.5,1950,2.9,0.3,5,5,12.5,1.75,4.5,3,0.27,83,29.75,19.5,9.6999999999999993,1750,8000,7,5,4,3,21.25,16,6,4,20.75,16,6,4,3.25,13,5,23,16.75,11.75,6.6,4.5,3.4,20.25,15.25,9.75,5,3.25,2.25,3250,0,0.27,345,0,5,0,0,24,18,13.5,7.25,5.5,3.6,22.5,16.5,12,6,4.4000000000000004,2.6,0.75,4250,7.25,0.01,960,1,69,40,3500,1250,75,40,1750,22,1950,9.5,7.4,6,4.55,5.25,5000]
["Boone",{"$f":"VLOOKUP(A25,tables!$A$2:$C$56,2,0)","v":3},1021,{"$f":"VLOOKUP(A25,tables!$A$2:$C$56,3,0)","v":"01"},"BTI Contracting Inc. Kenova","2334 Route 52 Kenova, WV 25530","Mountain Materials- Valley Quarry","12434 US 60, Olive Hill KY",77.27,78.22,80.12,80.12,82.83,89.57,80.45,87.7,93.17,87.7,95.9,118.91,118.95,103.94,118.92,96.22,96.22,67.5,1950,2.9,0.3,5,5,12.5,1.75,4.5,3,0.27,83,29.75,19.5,9.6999999999999993,1750,8000,7,5,4,3,21.25,16,6,4,20.75,16,6,4,3.25,13,5,23,16.75,11.75,6.6,4.5,3.4,20.25,15.25,9.75,5,3.25,2.25,3250,0,0.27,345,0,5,0,0,24,18,13.5,7.25,5.5,3.6,22.5,16.5,12,6,4.4000000000000004,2.6,0.75,4250,7.25,0.01,960,1,69,40,3500,1250,75,40,1750,22,1950,9.5,7.4,6,4.55,5.25,5000]
["Mason",{"$f":"VLOOKUP(A26,tables!$A$2:$C$56,2,0)","v":27},1022,{"$f":"VLOOKUP(A26,tables!$A$2:$C$56,3,0)","v":"01"},"BTI Contracting Inc. Kenova","2334 Route 52 Kenova, WV 25530","Mountain Materials- Valley Quarry","12434 US 60, Olive Hill KY",77.27,78.22,80.12,80.12,82.83,89.57,80.45,87.7,93.17,87.7,95.9,118.91,118.95,103.94,118.92,96.22,96.22,67.5,1950,2.9,0.3,5,5,12.5,1.75,4.5,3,0.27,83,29.75,19.5,9.6999999999999993,1750,8000,7,5,4,3,21.25,16,6,4,20.75,16,6,4,3.25,13,5,23,16.75,11.75,6.6,4.5,3.4,20.25,15.25,9.75,5,3.25,2.25,3250,0,0.27,345,0,5,0,0,24,18,13.5,7.25,5.5,3.6,22.5,16.5,12,6,4.4000000000000004,2.6,0.75,4250,7.25,0.01,960,1,69,40,3500,1250,75,40,1750,22,1950,9.5,7.4,6,4.55,5.25,5000]
["Putnam",{"$f":"VLOOKUP(A27,tables!$A$2:$C$56,2,0)","v":40},1023,{"$f":"VLOOKUP(A27,tables!$A$2:$C$56,3,0)","v":"01"},"BTI Contracting Inc. Kenova","2334 Route 52 Kenova, WV 25530","Mountain Materials- Valley Quarry","12434 US 60, Olive Hill KY",77.27,78.22,80.12,80.12,82.83,89.57,80.45,87.7,93.17,87.7,95.9,118.91,118.95,103.94,118.92,96.22,96.22,67.5,1950,2.9,0.3,5,5,12.5,1.75,4.5,3,0.27,83,29.75,19.5,9.6999999999999993,1750,8000,7,5,4,3,21.25,16,6,4,20.75,16,6,4,3.25,13,5,23,16.75,11.75,6.6,4.5,3.4,20.25,15.25,9.75,5,3.25,2.25,3250,0,0.27,345,0,5,0,0,24,18,13.5,7.25,5.5,3.6,22.5,16.5,12,6,4.4000000000000004,2.6,0.75,4250,7.25,0.01,960,1,69,40,3500,1250,75,40,1750,22,1950,9.5,7.4,6,4.55,5.25,5000]
["Clay",{"$f":"VLOOKUP(A28,tables!$A$2:$C$56,2,0)","v":8},1024,{"$f":"VLOOKUP(A28,tables!$A$2:$C$56,3,0)","v":"01"},"Meadows Stone & Paving Inc., Gassaway Stoneyard","661 B&O Railroad Yard, Gassaway, WV 26624","Gassaway Plant","661 B&O Railroad Yard, Gassaway, WV 26624",73,80,78,78,78,93,80,81.5,83.5,81.5,101,113,125,111,122,81,103,42,2000,2.5,0.3,12,8,12,5,10,2.5,0.3,100,35,17,10,1800,3800,7,4.25,3,2,25,16,4.75,2.5,25,16,4.75,2.5,3,14,4.75,34,21,12,6,3.9,2.5499999999999998,30,19,11.5,5.9,3.6,2.4,3400,0,5.25,360,0,0,0,0,44,26.5,14.75,8.1,4.8,3.05,40,25,14.25,8,4.5,2.9,0.6,3500,7,0.02,850,1.25,60,50,3500,1400,70,50,3500,20,1500,24,20,16,11,2.25,4000]
["Kanawha",{"$f":"VLOOKUP(A29,tables!$A$2:$C$56,2,0)","v":20},1025,{"$f":"VLOOKUP(A29,tables!$A$2:$C$56,3,0)","v":"01"},"Meadows Stone & Paving Inc., Gassaway Stoneyard","661 B&O Railroad Yard, Gassaway, WV 26624","Gassaway Plant","661 B&O Railroad Yard, Gassaway, WV 26624",73,80,78,78,78,93,80,81.5,83.5,81.5,101,113,125,111,122,81,103,42,0,2.5,0.3,12,8,12,5,10,2.5,0.3,100,35,17,10,0,0,7,4.25,3,2,25,16,4.75,2.5,25,16,4.75,2.5,3,14,4.75,34,21,12,6,3.9,2.5499999999999998,30,19,11.5,5.9,3.6,2.4,0,0,5.25,360,0,0,0,0,44,26.5,14.75,8.1,4.8,3.05,40,25,14.25,8,4.5,2.9,0.6,0,7,0.02,850,1.25,60,50,3500,1400,70,50,0,20,0,24,20,16,11,2.25,0]
["Boone",{"$f":"VLOOKUP(A30,tables!$A$2:$C$56,2,0)","v":3},1026,{"$f":"VLOOKUP(A30,tables!$A$2:$C$56,3,0)","v":"01"},"West Virginia Paving, Inc., Dunbar Plant","2902 Charles Ave., Dunbar, WV 25064","Shamblin Stone","658 Winfield Rd., St Albans, WV 25177",86.5,86.5,88,88,88,0,91.5,95.5,107.5,95.5,104.5,0,0,113.5,0,103.5,103.5,65,2000,2.75,0.33,15,4,12,2,5,2.75,0.28000000000000003,85,30,20,10,2000,15000,6.75,4.75,3.75,2.75,20.75,15.75,4.75,2.75,20.75,15.75,4.75,2.75,3.5,14,6,22.25,17.5,12.5,6.75,4.8499999999999996,3.75,21.5,16.5,11.5,5.75,3.85,2.75,3500,0,0.28000000000000003,350,0,5,0,0,24.9,19.899999999999999,14.9,8,6.15,4.3499999999999996,23.9,18.899999999999999,13.9,7,5.15,3.35,0.5,4500,8,0.01,1000,1.5,70,40,5000,2000,76,35,2000,13,2000,8.5,8,6.5,5,6,5000]
["Clay",{"$f":"VLOOKUP(A31,tables!$A$2:$C$56,2,0)","v":8},1027,{"$f":"VLOOKUP(A31,tables!$A$2:$C$56,3,0)","v":"01"},"West Virginia Paving, Inc., Dunbar Plant","2902 Charles Ave., Dunbar, WV 25064","Shamblin Stone","658 Winfield Rd., St Albans, WV 25177",86.5,86.5,88,88,88,0,91.5,95.5,107.5,95.5,104.5,0,0,113.5,0,103.5,103.5,65,2000,2.75,0.33,15,4,12,2,5,2.75,0.28000000000000003,85,30,20,10,2000,15000,6.75,4.75,3.75,2.75,20.75,15.75,4.75,2.75,20.75,15.75,4.75,2.75,3.5,14,6,22.25,17.5,12.5,6.75,4.8499999999999996,3.75,21.5,16.5,11.5,5.75,3.85,2.75,3500,0,0.28000000000000003,350,0,5,0,0,24.9,19.899999999999999,14.9,8,6.15,4.3499999999999996,23.9,18.899999999999999,13.9,7,5.15,3.35,0.5,4500,8,0.01,1000,1.5,70,40,5000,2000,76,35,2000,13,2000,8.5,8,6.5,5,6,5000]
["Kanawha",{"$f":"VLOOKUP(A32,tables!$A$2:$C$56,2,0)","v":20},1028,{"$f":"VLOOKUP(A32,tables!$A$2:$C$56,3,0)","v":"01"},"West Virginia Paving, Inc., Dunbar Plant","2902 Charles Ave., Dunbar, WV 25064","Shamblin Stone","658 Winfield Rd., St Albans, WV 25177",86.5,86.5,88,88,88,0,91.5,95.5,107.5,95.5,104.5,0,0,113.5,0,103.5,103.5,65,2000,2.75,0.33,15,4,12,2,5,2.75,0.28000000000000003,85,30,20,10,2000,15000,6.75,4.75,3.75,2.75,20.75,15.75,4.75,2.75,20.75,15.75,4.75,2.75,3.5,14,6,22.25,17.5,12.5,6.75,4.8499999999999996,3.75,21.5,16.5,11.5,5.75,3.85,2.75,3500,0,0.28000000000000003,350,0,5,0,0,24.9,19.899999999999999,14.9,8,6.15,4.3499999999999996,23.9,18.899999999999999,13.9,7,5.15,3.35,0.5,4500,8,0.01,1000,1.5,70,40,5000,2000,76,35,2000,13,2000,8.5,8,6.5,5,6,5000]
["Mason",{"$f":"VLOOKUP(A33,tables!$A$2:$C$56,2,0)","v":27},1029,{"$f":"VLOOKUP(A33,tables!$A$2:$C$56,3,0)","v":"01"},"West Virginia Paving, Inc., Dunbar Plant","2902 Charles Ave., Dunbar, WV 25064","Shamblin Stone","658 Winfield Rd., St Albans, WV 25177",86.5,86.5,88,88,88,0,91.5,95.5,107.5,95.5,104.5,0,0,113.5,0,103.5,103.5,65,2000,2.75,0.33,15,4,12,2,5,2.75,0.28000000000000003,85,30,20,10,2000,15000,6.75,4.75,3.75,2.75,20.75,15.75,4.75,2.75,20.75,15.75,4.75,2.75,3.5,14,6,22.25,17.5,12.5,6.75,4.8499999999999996,3.75,21.5,16.5,11.5,5.75,3.85,2.75,3500,0,0.28000000000000003,350,0,5,0,0,24.9,19.899999999999999,14.9,8,6.15,4.3499999999999996,23.9,18.899999999999999,13.9,7,5.15,3.35,0.5,4500,8,0.01,1000,1.5,70,40,5000,2000,76,35,2000,13,2000,8.5,8,6.5,5,6,5000]
["Putnam",{"$f":"VLOOKUP(A34,tables!$A$2:$C$56,2,0)","v":40},1030,{"$f":"VLOOKUP(A34,tables!$A$2:$C$56,3,0)","v":"01"},"West Virginia Paving, Inc., Dunbar Plant","2902 Charles Ave., Dunbar, WV 25064","Shamblin Stone","658 Winfield Rd., St Albans, WV 25177",86.5,86.5,88,88,88,0,91.5,95.5,107.5,95.5,104.5,0,0,113.5,0,103.5,103.5,65,2000,2.75,0.33,15,4,12,2,5,2.75,0.28000000000000003,85,30,20,10,2000,15000,6.75,4.75,3.75,2.75,20.75,15.75,4.75,2.75,20.75,15.75,4.75,2.75,3.5,14,6,22.25,17.5,12.5,6.75,4.8499999999999996,3.75,21.5,16.5,11.5,5.75,3.85,2.75,3500,0,0.28000000000000003,350,0,5,0,0,24.9,19.899999999999999,14.9,8,6.15,4.3499999999999996,23.9,18.899999999999999,13.9,7,5.15,3.35,0.5,4500,8,0.01,1000,1.5,70,40,5000,2000,76,35,2000,13,2000,8.5,8,6.5,5,6,5000]
["Boone",{"$f":"VLOOKUP(A35,tables!$A$2:$C$56,2,0)","v":3},1031,{"$f":"VLOOKUP(A35,tables!$A$2:$C$56,3,0)","v":"01"},"West Virginia Paving, Inc., Dunbar Plant","2902 Charles Ave., Dunbar, WV 25064","Shamblin Stone","70 Dunbar Ave., Dunbar WV 25064",86.5,86.5,88,88,88,0,91.5,95.5,107.5,95.5,104.5,0,0,113.5,0,103.5,103.5,65,2000,2.75,0.33,15,4,12,2,5,2.75,0.28000000000000003,85,30,20,10,2000,15000,6.75,4.75,3.75,2.75,20.75,15.75,4.75,2.75,20.75,15.75,4.75,2.75,3.5,14,6,22.25,17.5,12.5,6.75,4.8499999999999996,3.75,21.5,16.5,11.5,5.75,3.85,2.75,3500,0,0.28000000000000003,350,0,5,0,0,24.9,19.899999999999999,14.9,8,6.15,4.3499999999999996,23.9,18.899999999999999,13.9,7,5.15,3.35,0.5,4500,8,0.01,1000,1.5,70,40,5000,2000,76,35,2000,13,2000,8.5,8,6.5,5,6,5000]
["Clay",{"$f":"VLOOKUP(A36,tables!$A$2:$C$56,2,0)","v":8},1032,{"$f":"VLOOKUP(A36,tables!$A$2:$C$56,3,0)","v":"01"},"West Virginia Paving, Inc., Dunbar Plant","2902 Charles Ave., Dunbar, WV 25064","Shamblin Stone","70 Dunbar Ave., Dunbar WV 25064",86.5,86.5,88,88,88,0,91.5,95.5,107.5,95.5,104.5,0,0,113.5,0,103.5,103.5,65,2000,2.75,0.33,15,4,12,2,5,2.75,0.28000000000000003,85,30,20,10,2000,15000,6.75,4.75,3.75,2.75,20.75,15.75,4.75,2.75,20.75,15.75,4.75,2.75,3.5,14,6,22.25,17.5,12.5,6.75,4.8499999999999996,3.75,21.5,16.5,11.5,5.75,3.85,2.75,3500,0,0.28000000000000003,350,0,5,0,0,24.9,19.899999999999999,14.9,8,6.15,4.3499999999999996,23.9,18.899999999999999,13.9,7,5.15,3.35,0.5,4500,8,0.01,1000,1.5,70,40,5000,2000,76,35,2000,13,2000,8.5,8,6.5,5,6,5000]
["Kanawha",{"$f":"VLOOKUP(A37,tables!$A$2:$C$56,2,0)","v":20},1033,{"$f":"VLOOKUP(A37,tables!$A$2:$C$56,3,0)","v":"01"},"West Virginia Paving, Inc., Dunbar Plant","2902 Charles Ave., Dunbar, WV 25064","Shamblin Stone","70 Dunbar Ave., Dunbar WV 25064",86.5,86.5,88,88,88,0,91.5,95.5,107.5,95.5,104.5,0,0,113.5,0,103.5,103.5,65,2000,2.75,0.33,15,4,12,2,5,2.75,0.28000000000000003,85,30,20,10,2000,15000,6.75,4.75,3.75,2.75,20.75,15.75,4.75,2.75,20.75,15.75,4.75,2.75,3.5,14,6,22.25,17.5,12.5,6.75,4.8499999999999996,3.75,21.5,16.5,11.5,5.75,3.85,2.75,3500,0,0.28000000000000003,350,0,5,0,0,24.9,19.899999999999999,14.9,8,6.15,4.3499999999999996,23.9,18.899999999999999,13.9,7,5.15,3.35,0.5,4500,8,0.01,1000,1.5,70,40,5000,2000,76,35,2000,13,2000,8.5,8,6.5,5,6,5000]
["Mason",{"$f":"VLOOKUP(A38,tables!$A$2:$C$56,2,0)","v":27},1034,{"$f":"VLOOKUP(A38,tables!$A$2:$C$56,3,0)","v":"01"},"West Virginia Paving, Inc., Dunbar Plant","2902 Charles Ave., Dunbar, WV 25064","Shamblin Stone","70 Dunbar Ave., Dunbar WV 25064",86.5,86.5,88,88,88,0,91.5,95.5,107.5,95.5,104.5,0,0,113.5,0,103.5,103.5,65,2000,2.75,0.33,15,4,12,2,5,2.75,0.28000000000000003,85,30,20,10,2000,15000,6.75,4.75,3.75,2.75,20.75,15.75,4.75,2.75,20.75,15.75,4.75,2.75,3.5,14,6,22.25,17.5,12.5,6.75,4.8499999999999996,3.75,21.5,16.5,11.5,5.75,3.85,2.75,3500,0,0.28000000000000003,350,0,5,0,0,24.9,19.899999999999999,14.9,8,6.15,4.3499999999999996,23.9,18.899999999999999,13.9,7,5.15,3.35,0.5,4500,8,0.01,1000,1.5,70,40,5000,2000,76,35,2000,13,2000,8.5,8,6.5,5,6,5000]
["Putnam",{"$f":"VLOOKUP(A39,tables!$A$2:$C$56,2,0)","v":40},1035,{"$f":"VLOOKUP(A39,tables!$A$2:$C$56,3,0)","v":"01"},"West Virginia Paving, Inc., Dunbar Plant","2902 Charles Ave., Dunbar, WV 25064","Shamblin Stone","70 Dunbar Ave., Dunbar WV 25064",86.5,86.5,88,88,88,0,91.5,95.5,107.5,95.5,104.5,0,0,113.5,0,103.5,103.5,65,2000,2.75,0.33,15,4,12,2,5,2.75,0.28000000000000003,85,30,20,10,2000,15000,6.75,4.75,3.75,2.75,20.75,15.75,4.75,2.75,20.75,15.75,4.75,2.75,3.5,14,6,22.25,17.5,12.5,6.75,4.8499999999999996,3.75,21.5,16.5,11.5,5.75,3.85,2.75,3500,0,0.28000000000000003,350,0,5,0,0,24.9,19.899999999999999,14.9,8,6.15,4.3499999999999996,23.9,18.899999999999999,13.9,7,5.15,3.35,0.5,4500,8,0.01,1000,1.5,70,40,5000,2000,76,35,2000,13,2000,8.5,8,6.5,5,6,5000]
["Mason",{"$f":"VLOOKUP(A40,tables!$A$2:$C$56,2,0)","v":27},1036,{"$f":"VLOOKUP(A40,tables!$A$2:$C$56,3,0)","v":"01"},"West Virginia Paving, Inc., Dunbar Plant","2902 Charles Ave., Dunbar, WV 25064","Shelly Materials","Route 7 North, Gallipolis OH, 45631",86.5,86.5,88,88,88,0,91.5,95.5,107.5,95.5,104.5,0,0,113.5,0,103.5,103.5,65,2000,2.75,0.33,15,4,12,2,5,2.75,0.28000000000000003,85,30,20,10,2000,15000,6.75,4.75,3.75,2.75,20.75,15.75,4.75,2.75,20.75,15.75,4.75,2.75,3.5,14,6,22.25,17.5,12.5,6.75,4.8499999999999996,3.75,21.5,16.5,11.5,5.75,3.85,2.75,3500,0,0.28000000000000003,350,0,5,0,0,24.9,19.899999999999999,14.9,8,6.15,4.3499999999999996,23.9,18.899999999999999,13.9,7,5.15,3.35,0.5,4500,8,0.01,1000,1.5,70,40,5000,2000,76,35,2000,13,2000,8.5,8,6.5,5,6,5000]
["Mason",{"$f":"VLOOKUP(A41,tables!$A$2:$C$56,2,0)","v":27},1037,{"$f":"VLOOKUP(A41,tables!$A$2:$C$56,3,0)","v":"01"},"West Virginia Paving, Inc., Dunbar Plant","2902 Charles Ave., Dunbar, WV 25064","Valley Stone Yard","360 Valley Rd., Millwood WV, 25262",86.5,86.5,88,88,88,0,91.5,95.5,107.5,95.5,104.5,0,0,113.5,0,103.5,103.5,65,2000,2.75,0.33,15,4,12,2,5,2.75,0.28000000000000003,85,30,20,10,2000,15000,6.75,4.75,3.75,2.75,20.75,15.75,4.75,2.75,20.75,15.75,4.75,2.75,3.5,14,6,22.25,17.5,12.5,6.75,4.8499999999999996,3.75,21.5,16.5,11.5,5.75,3.85,2.75,3500,0,0.28000000000000003,350,0,5,0,0,24.9,19.899999999999999,14.9,8,6.15,4.3499999999999996,23.9,18.899999999999999,13.9,7,5.15,3.35,0.5,4500,8,0.01,1000,1.5,70,40,5000,2000,76,35,2000,13,2000,8.5,8,6.5,5,6,5000]
["Mason",{"$f":"VLOOKUP(A42,tables!$A$2:$C$56,2,0)","v":27},1038,{"$f":"VLOOKUP(A42,tables!$A$2:$C$56,3,0)","v":"01"},"West Virginia Paving, Inc., Dunbar Plant","2902 Charles Ave., Dunbar, WV 25064","WV Paving","4022 Ohio River Rd., Huntington, WV 25702",86.5,86.5,88,88,88,0,91.5,95.5,107.5,95.5,104.5,0,0,113.5,0,103.5,103.5,65,2000,2.75,0.33,15,4,12,2,5,2.75,0.28000000000000003,85,30,20,10,2000,15000,6.75,4.75,3.75,2.75,20.75,15.75,4.75,2.75,20.75,15.75,4.75,2.75,3.5,14,6,22.25,17.5,12.5,6.75,4.8499999999999996,3.75,21.5,16.5,11.5,5.75,3.85,2.75,3500,0,0.28000000000000003,350,0,5,0,0,24.9,19.899999999999999,14.9,8,6.15,4.3499999999999996,23.9,18.899999999999999,13.9,7,5.15,3.35,0.5,4500,8,0.01,1000,1.5,70,40,5000,2000,76,35,2000,13,2000,8.5,8,6.5,5,6,5000]
["Boone",{"$f":"VLOOKUP(A43,tables!$A$2:$C$56,2,0)","v":3},1039,{"$f":"VLOOKUP(A43,tables!$A$2:$C$56,3,0)","v":"01"},"West Virginia Paving, Inc., Poca Plant","Rt 1 Wright Rd., Poca, WV 25159","Shamblin Stone","658 Winfield Rd., St Albans, WV 25177",86.5,86.5,88,88,88,0,91.5,95.5,107.5,95.5,104.5,0,0,113.5,0,103.5,103.5,65,2000,2.75,0.33,15,4,12,2,5,2.75,0.28000000000000003,85,30,20,10,2000,15000,6.75,4.75,3.75,2.75,20.75,15.75,4.75,2.75,20.75,15.75,4.75,2.75,3.5,14,6,22.25,17.5,12.5,6.75,4.8499999999999996,3.75,21.5,16.5,11.5,5.75,3.85,2.75,3500,0,0.28000000000000003,350,0,5,0,0,24.9,19.899999999999999,14.9,8,6.15,4.3499999999999996,23.9,18.899999999999999,13.9,7,5.15,3.35,0.5,4500,8,0.01,1000,1.5,70,40,5000,2000,76,35,2000,13,2000,8.5,8,6.5,5,6,5000]
["Clay",{"$f":"VLOOKUP(A44,tables!$A$2:$C$56,2,0)","v":8},1040,{"$f":"VLOOKUP(A44,tables!$A$2:$C$56,3,0)","v":"01"},"West Virginia Paving, Inc., Poca Plant","Rt 1 Wright Rd., Poca, WV 25159","Shamblin Stone","658 Winfield Rd., St Albans, WV 25177",86.5,86.5,88,88,88,0,91.5,95.5,107.5,95.5,104.5,0,0,113.5,0,103.5,103.5,65,2000,2.75,0.33,15,4,12,2,5,2.75,0.28000000000000003,85,30,20,10,2000,15000,6.75,4.75,3.75,2.75,20.75,15.75,4.75,2.75,20.75,15.75,4.75,2.75,3.5,14,6,22.25,17.5,12.5,6.75,4.8499999999999996,3.75,21.5,16.5,11.5,5.75,3.85,2.75,3500,0,0.28000000000000003,350,0,5,0,0,24.9,19.899999999999999,14.9,8,6.15,4.3499999999999996,23.9,18.899999999999999,13.9,7,5.15,3.35,0.5,4500,8,0.01,1000,1.5,70,40,5000,2000,76,35,2000,13,2000,8.5,8,6.5,5,6,5000]
["Kanawha",{"$f":"VLOOKUP(A45,tables!$A$2:$C$56,2,0)","v":20},1041,{"$f":"VLOOKUP(A45,tables!$A$2:$C$56,3,0)","v":"01"},"West Virginia Paving, Inc., Poca Plant","Rt 1 Wright Rd., Poca, WV 25159","Shamblin Stone","658 Winfield Rd., St Albans, WV 25177",86.5,86.5,88,88,88,0,91.5,95.5,107.5,95.5,104.5,0,0,113.5,0,103.5,103.5,65,2000,2.75,0.33,15,4,12,2,5,2.75,0.28000000000000003,85,30,20,10,2000,15000,6.75,4.75,3.75,2.75,20.75,15.75,4.75,2.75,20.75,15.75,4.75,2.75,3.5,14,6,22.25,17.5,12.5,6.75,4.8499999999999996,3.75,21.5,16.5,11.5,5.75,3.85,2.75,3500,0,0.28000000000000003,350,0,5,0,0,24.9,19.899999999999999,14.9,8,6.15,4.3499999999999996,23.9,18.899999999999999,13.9,7,5.15,3.35,0.5,4500,8,0.01,1000,1.5,70,40,5000,2000,76,35,2000,13,2000,8.5,8,6.5,5,6,5000]
["Mason",{"$f":"VLOOKUP(A46,tables!$A$2:$C$56,2,0)","v":27},1042,{"$f":"VLOOKUP(A46,tables!$A$2:$C$56,3,0)","v":"01"},"West Virginia Paving, Inc., Poca Plant","Rt 1 Wright Rd., Poca, WV 25159","Shamblin Stone","658 Winfield Rd., St Albans, WV 25177",86.5,86.5,88,88,88,0,91.5,95.5,107.5,95.5,104.5,0,0,113.5,0,103.5,103.5,65,2000,2.75,0.33,15,4,12,2,5,2.75,0.28000000000000003,85,30,20,10,2000,15000,6.75,4.75,3.75,2.75,20.75,15.75,4.75,2.75,20.75,15.75,4.75,2.75,3.5,14,6,22.25,17.5,12.5,6.75,4.8499999999999996,3.75,21.5,16.5,11.5,5.75,3.85,2.75,3500,0,0.28000000000000003,350,0,5,0,0,24.9,19.899999999999999,14.9,8,6.15,4.3499999999999996,23.9,18.899999999999999,13.9,7,5.15,3.35,0.5,4500,8,0.01,1000,1.5,70,40,5000,2000,76,35,2000,13,2000,8.5,8,6.5,5,6,5000]
["Putnam",{"$f":"VLOOKUP(A47,tables!$A$2:$C$56,2,0)","v":40},1043,{"$f":"VLOOKUP(A47,tables!$A$2:$C$56,3,0)","v":"01"},"West Virginia Paving, Inc., Poca Plant","Rt 1 Wright Rd., Poca, WV 25159","Shamblin Stone","658 Winfield Rd., St Albans, WV 25177",86.5,86.5,88,88,88,0,91.5,95.5,107.5,95.5,104.5,0,0,113.5,0,103.5,103.5,65,2000,2.75,0.33,15,4,12,2,5,2.75,0.28000000000000003,85,30,20,10,2000,15000,6.75,4.75,3.75,2.75,20.75,15.75,4.75,2.75,20.75,15.75,4.75,2.75,3.5,14,6,22.25,17.5,12.5,6.75,4.8499999999999996,3.75,21.5,16.5,11.5,5.75,3.85,2.75,3500,0,0.28000000000000003,350,0,5,0,0,24.9,19.899999999999999,14.9,8,6.15,4.3499999999999996,23.9,18.899999999999999,13.9,7,5.15,3.35,0.5,4500,8,0.01,1000,1.5,70,40,5000,2000,76,35,2000,13,2000,8.5,8,6.5,5,6,5000]
["Boone",{"$f":"VLOOKUP(A48,tables!$A$2:$C$56,2,0)","v":3},1044,{"$f":"VLOOKUP(A48,tables!$A$2:$C$56,3,0)","v":"01"},"West Virginia Paving, Inc., Poca Plant","Rt 1 Wright Rd., Poca, WV 25159","Shamblin Stone","70 Dunbar Ave., Dunbar WV 25064",86.5,86.5,88,88,88,0,91.5,95.5,107.5,95.5,104.5,0,0,113.5,0,103.5,103.5,65,2000,2.75,0.33,15,4,12,2,5,2.75,0.28000000000000003,85,30,20,10,2000,15000,6.75,4.75,3.75,2.75,20.75,15.75,4.75,2.75,20.75,15.75,4.75,2.75,3.5,14,6,22.25,17.5,12.5,6.75,4.8499999999999996,3.75,21.5,16.5,11.5,5.75,3.85,2.75,3500,0,0.28000000000000003,350,0,5,0,0,24.9,19.899999999999999,14.9,8,6.15,4.3499999999999996,23.9,18.899999999999999,13.9,7,5.15,3.35,0.5,4500,8,0.01,1000,1.5,70,40,5000,2000,76,35,2000,13,2000,8.5,8,6.5,5,6,5000]
["Clay",{"$f":"VLOOKUP(A49,tables!$A$2:$C$56,2,0)","v":8},1045,{"$f":"VLOOKUP(A49,tables!$A$2:$C$56,3,0)","v":"01"},"West Virginia Paving, Inc., Poca Plant","Rt 1 Wright Rd., Poca, WV 25159","Shamblin Stone","70 Dunbar Ave., Dunbar WV 25064",86.5,86.5,88,88,88,0,91.5,95.5,107.5,95.5,104.5,0,0,113.5,0,103.5,103.5,65,2000,2.75,0.33,15,4,12,2,5,2.75,0.28000000000000003,85,30,20,10,2000,15000,6.75,4.75,3.75,2.75,20.75,15.75,4.75,2.75,20.75,15.75,4.75,2.75,3.5,14,6,22.25,17.5,12.5,6.75,4.8499999999999996,3.75,21.5,16.5,11.5,5.75,3.85,2.75,3500,0,0.28000000000000003,350,0,5,0,0,24.9,19.899999999999999,14.9,8,6.15,4.3499999999999996,23.9,18.899999999999999,13.9,7,5.15,3.35,0.5,4500,8,0.01,1000,1.5,70,40,5000,2000,76,35,2000,13,2000,8.5,8,6.5,5,6,5000]
["Kanawha",{"$f":"VLOOKUP(A50,tables!$A$2:$C$56,2,0)","v":20},1046,{"$f":"VLOOKUP(A50,tables!$A$2:$C$56,3,0)","v":"01"},"West Virginia Paving, Inc., Poca Plant","Rt 1 Wright Rd., Poca, WV 25159","Shamblin Stone","70 Dunbar Ave., Dunbar WV 25064",86.5,86.5,88,88,88,0,91.5,95.5,107.5,95.5,104.5,0,0,113.5,0,103.5,103.5,65,2000,2.75,0.33,15,4,12,2,5,2.75,0.28000000000000003,85,30,20,10,2000,15000,6.75,4.75,3.75,2.75,20.75,15.75,4.75,2.75,20.75,15.75,4.75,2.75,3.5,14,6,22.25,17.5,12.5,6.75,4.8499999999999996,3.75,21.5,16.5,11.5,5.75,3.85,2.75,3500,0,0.28000000000000003,350,0,5,0,0,24.9,19.899999999999999,14.9,8,6.15,4.3499999999999996,23.9,18.899999999999999,13.9,7,5.15,3.35,0.5,4500,8,0.01,1000,1.5,70,40,5000,2000,76,35,2000,13,2000,8.5,8,6.5,5,6,5000]
["Mason",{"$f":"VLOOKUP(A51,tables!$A$2:$C$56,2,0)","v":27},1047,{"$f":"VLOOKUP(A51,tables!$A$2:$C$56,3,0)","v":"01"},"West Virginia Paving, Inc., Poca Plant","Rt 1 Wright Rd., Poca, WV 25159","Shamblin Stone","70 Dunbar Ave., Dunbar WV 25064",86.5,86.5,88,88,88,0,91.5,95.5,107.5,95.5,104.5,0,0,113.5,0,103.5,103.5,65,2000,2.75,0.33,15,4,12,2,5,2.75,0.28000000000000003,85,30,20,10,2000,15000,6.75,4.75,3.75,2.75,20.75,15.75,4.75,2.75,20.75,15.75,4.75,2.75,3.5,14,6,22.25,17.5,12.5,6.75,4.8499999999999996,3.75,21.5,16.5,11.5,5.75,3.85,2.75,3500,0,0.28000000000000003,350,0,5,0,0,24.9,19.899999999999999,14.9,8,6.15,4.3499999999999996,23.9,18.899999999999999,13.9,7,5.15,3.35,0.5,4500,8,0.01,1000,1.5,70,40,5000,2000,76,35,2000,13,2000,8.5,8,6.5,5,6,5000]
["Putnam",{"$f":"VLOOKUP(A52,tables!$A$2:$C$56,2,0)","v":40},1048,{"$f":"VLOOKUP(A52,tables!$A$2:$C$56,3,0)","v":"01"},"West Virginia Paving, Inc., Poca Plant","Rt 1 Wright Rd., Poca, WV 25159","Shamblin Stone","70 Dunbar Ave., Dunbar WV 25064",86.5,86.5,88,88,88,0,91.5,95.5,107.5,95.5,104.5,0,0,113.5,0,103.5,103.5,65,2000,2.75,0.33,15,4,12,2,5,2.75,0.28000000000000003,85,30,20,10,2000,15000,6.75,4.75,3.75,2.75,20.75,15.75,4.75,2.75,20.75,15.75,4.75,2.75,3.5,14,6,22.25,17.5,12.5,6.75,4.8499999999999996,3.75,21.5,16.5,11.5,5.75,3.85,2.75,3500,0,0.28000000000000003,350,0,5,0,0,24.9,19.899999999999999,14.9,8,6.15,4.3499999999999996,23.9,18.899999999999999,13.9,7,5.15,3.35,0.5,4500,8,0.01,1000,1.5,70,40,5000,2000,76,35,2000,13,2000,8.5,8,6.5,5,6,5000]
["Mason",{"$f":"VLOOKUP(A53,tables!$A$2:$C$56,2,0)","v":27},1049,{"$f":"VLOOKUP(A53,tables!$A$2:$C$56,3,0)","v":"01"},"West Virginia Paving, Inc., Poca Plant","Rt 1 Wright Rd., Poca, WV 25159","Shelly Materials","Route 7 North, Gallipolis OH, 45631",86.5,86.5,88,88,88,0,91.5,95.5,107.5,95.5,104.5,0,0,113.5,0,103.5,103.5,65,2000,2.75,0.33,15,4,12,2,5,2.75,0.28000000000000003,85,30,20,10,2000,15000,6.75,4.75,3.75,2.75,20.75,15.75,4.75,2.75,20.75,15.75,4.75,2.75,3.5,14,6,22.25,17.5,12.5,6.75,4.8499999999999996,3.75,21.5,16.5,11.5,5.75,3.85,2.75,3500,0,0.28000000000000003,350,0,5,0,0,24.9,19.899999999999999,14.9,8,6.15,4.3499999999999996,23.9,18.899999999999999,13.9,7,5.15,3.35,0.5,4500,8,0.01,1000,1.5,70,40,5000,2000,76,35,2000,13,2000,8.5,8,6.5,5,6,5000]
["Mason",{"$f":"VLOOKUP(A54,tables!$A$2:$C$56,2,0)","v":27},1050,{"$f":"VLOOKUP(A54,tables!$A$2:$C$56,3,0)","v":"01"},"West Virginia Paving, Inc., Poca Plant","Rt 1 Wright Rd., Poca, WV 25159","Valley Stone Yard","360 Valley Rd., Millwood WV, 25262",86.5,86.5,88,88,88,0,91.5,95.5,107.5,95.5,104.5,0,0,113.5,0,103.5,103.5,65,2000,2.75,0.33,15,4,12,2,5,2.75,0.28000000000000003,85,30,20,10,2000,15000,6.75,4.75,3.75,2.75,20.75,15.75,4.75,2.75,20.75,15.75,4.75,2.75,3.5,14,6,22.25,17.5,12.5,6.75,4.8499999999999996,3.75,21.5,16.5,11.5,5.75,3.85,2.75,3500,0,0.28000000000000003,350,0,5,0,0,24.9,19.899999999999999,14.9,8,6.15,4.3499999999999996,23.9,18.899999999999999,13.9,7,5.15,3.35,0.5,4500,8,0.01,1000,1.5,70,40,5000,2000,76,35,2000,13,2000,8.5,8,6.5,5,6,5000]
["Mason",{"$f":"VLOOKUP(A55,tables!$A$2:$C$56,2,0)","v":27},1051,{"$f":"VLOOKUP(A55,tables!$A$2:$C$56,3,0)","v":"01"},"West Virginia Paving, Inc., Poca Plant","Rt 1 Wright Rd., Poca, WV 25159","WV Paving","4022 Ohio River Rd., Huntington, WV 25702",86.5,86.5,88,88,88,0,91.5,95.5,107.5,95.5,104.5,0,0,113.5,0,103.5,103.5,65,2000,2.75,0.33,15,4,12,2,5,2.75,0.28000000000000003,85,30,20,10,2000,15000,6.75,4.75,3.75,2.75,20.75,15.75,4.75,2.75,20.75,15.75,4.75,2.75,3.5,14,6,22.25,17.5,12.5,6.75,4.8499999999999996,3.75,21.5,16.5,11.5,5.75,3.85,2.75,3500,0,0.28000000000000003,350,0,5,0,0,24.9,19.899999999999999,14.9,8,6.15,4.3499999999999996,23.9,18.899999999999999,13.9,7,5.15,3.35,0.5,4500,8,0.01,1000,1.5,70,40,5000,2000,76,35,2000,13,2000,8.5,8,6.5,5,6,5000]
["Mason",{"$f":"VLOOKUP(A56,tables!$A$2:$C$56,2,0)","v":27},1052,{"$f":"VLOOKUP(A56,tables!$A$2:$C$56,3,0)","v":"01"},"West Virginia Paving, Inc., Ripley Plant","2187 Ripley Rd., Ripley, WV25271","Shamblin Stone","658 Winfield Rd., St Albans, WV 25177",0,0,96,96,96,0,0,100,0,100,0,0,0,110,0,0,0,65,2000,2.75,0.33,15,4,12,2,5,2.75,0.28000000000000003,85,30,20,10,2000,15000,6.75,4.75,3.75,2.75,20.75,15.75,4.75,2.75,20.75,15.75,4.75,2.75,3.5,14,6,22.25,17.5,12.5,6.75,4.8499999999999996,3.75,21.5,16.5,11.5,5.75,3.85,2.75,3500,0,0.28000000000000003,350,0,5,0,0,24.9,19.899999999999999,14.9,8,6.15,4.3499999999999996,23.9,18.899999999999999,13.9,7,5.15,3.35,0.5,4500,8,0.01,1000,1.5,70,40,5000,2000,76,35,2000,13,2000,8.5,8,6.5,5,6,5000]
["Mason",{"$f":"VLOOKUP(A57,tables!$A$2:$C$56,2,0)","v":27},1053,{"$f":"VLOOKUP(A57,tables!$A$2:$C$56,3,0)","v":"01"},"West Virginia Paving, Inc., Ripley Plant","2187 Ripley Rd., Ripley, WV25271","WV Paving","4022 Ohio River Rd., Huntington, WV 25702",0,0,96,96,96,0,0,100,0,100,0,0,0,110,0,0,0,65,2000,2.75,0.33,15,4,12,2,5,2.75,0.28000000000000003,85,30,20,10,2000,15000,6.75,4.75,3.75,2.75,20.75,15.75,4.75,2.75,20.75,15.75,4.75,2.75,3.5,14,6,22.25,17.5,12.5,6.75,4.8499999999999996,3.75,21.5,16.5,11.5,5.75,3.85,2.75,3500,0,0.28000000000000003,350,0,5,0,0,24.9,19.899999999999999,14.9,8,6.15,4.3499999999999996,23.9,18.899999999999999,13.9,7,5.15,3.35,0.5,4500,8,0.01,1000,1.5,70,40,5000,2000,76,35,2000,13,2000,8.5,8,6.5,5,6,5000]
["Mason",{"$f":"VLOOKUP(A58,tables!$A$2:$C$56,2,0)","v":27},1054,{"$f":"VLOOKUP(A58,tables!$A$2:$C$56,3,0)","v":"01"},"West Virginia Paving, Inc., Ripley Plant","2187 Ripley Rd., Ripley, WV25271","Shamblin Stone","70 Dunbar Ave., Dunbar WV 25064",0,0,96,96,96,0,0,100,0,100,0,0,0,110,0,0,0,65,2000,2.75,0.33,15,4,12,2,5,2.75,0.28000000000000003,85,30,20,10,2000,15000,6.75,4.75,3.75,2.75,20.75,15.75,4.75,2.75,20.75,15.75,4.75,2.75,3.5,14,6,22.25,17.5,12.5,6.75,4.8499999999999996,3.75,21.5,16.5,11.5,5.75,3.85,2.75,3500,0,0.28000000000000003,350,0,5,0,0,24.9,19.899999999999999,14.9,8,6.15,4.3499999999999996,23.9,18.899999999999999,13.9,7,5.15,3.35,0.5,4500,8,0.01,1000,1.5,70,40,5000,2000,76,35,2000,13,2000,8.5,8,6.5,5,6,5000]
["Mason",{"$f":"VLOOKUP(A59,tables!$A$2:$C$56,2,0)","v":27},1055,{"$f":"VLOOKUP(A59,tables!$A$2:$C$56,3,0)","v":"01"},"West Virginia Paving, Inc., Ripley Plant","2187 Ripley Rd., Ripley, WV25271","Valley Stone Yard","360 Valley Rd., Millwood WV, 25262",0,0,96,96,96,0,0,100,0,100,0,0,0,110,0,0,0,65,2000,2.75,0.33,15,4,12,2,5,2.75,0.28000000000000003,85,30,20,10,2000,15000,6.75,4.75,3.75,2.75,20.75,15.75,4.75,2.75,20.75,15.75,4.75,2.75,3.5,14,6,22.25,17.5,12.5,6.75,4.8499999999999996,3.75,21.5,16.5,11.5,5.75,3.85,2.75,3500,0,0.28000000000000003,350,0,5,0,0,24.9,19.899999999999999,14.9,8,6.15,4.3499999999999996,23.9,18.899999999999999,13.9,7,5.15,3.35,0.5,4500,8,0.01,1000,1.5,70,40,5000,2000,76,35,2000,13,2000,8.5,8,6.5,5,6,5000]
["Mason",{"$f":"VLOOKUP(A60,tables!$A$2:$C$56,2,0)","v":27},1056,{"$f":"VLOOKUP(A60,tables!$A$2:$C$56,3,0)","v":"01"},"West Virginia Paving, Inc., Ripley Plant","2187 Ripley Rd., Ripley, WV25271","Shelly Materials","Route 7 North, Gallipolis OH, 45631",0,0,96,96,96,0,0,100,0,100,0,0,0,110,0,0,0,65,2000,2.75,0.33,15,4,12,2,5,2.75,0.28000000000000003,85,30,20,10,2000,15000,6.75,4.75,3.75,2.75,20.75,15.75,4.75,2.75,20.75,15.75,4.75,2.75,3.5,14,6,22.25,17.5,12.5,6.75,4.8499999999999996,3.75,21.5,16.5,11.5,5.75,3.85,2.75,3500,0,0.28000000000000003,350,0,5,0,0,24.9,19.899999999999999,14.9,8,6.15,4.3499999999999996,23.9,18.899999999999999,13.9,7,5.15,3.35,0.5,4500,8,0.01,1000,1.5,70,40,5000,2000,76,35,2000,13,2000,8.5,8,6.5,5,6,5000]
["Putnam",{"$f":"VLOOKUP(A61,tables!$A$2:$C$56,2,0)","v":40},1057,{"$f":"VLOOKUP(A61,tables!$A$2:$C$56,3,0)","v":"01"},"West Virginia Paving, Inc., Ripley Plant","2187 Ripley Rd., Ripley, WV25271","Shamblin Stone","658 Winfield Rd., St Albans, WV 25177",0,0,96,96,96,0,0,100,0,100,0,0,0,110,0,0,0,65,2000,2.75,0.33,15,4,12,2,5,2.75,0.28000000000000003,85,30,20,10,2000,15000,6.75,4.75,3.75,2.75,20.75,15.75,4.75,2.75,20.75,15.75,4.75,2.75,3.5,14,6,22.25,17.5,12.5,6.75,4.8499999999999996,3.75,21.5,16.5,11.5,5.75,3.85,2.75,3500,0,0.28000000000000003,350,0,5,0,0,24.9,19.899999999999999,14.9,8,6.15,4.3499999999999996,23.9,18.899999999999999,13.9,7,5.15,3.35,0.5,4500,8,0.01,1000,1.5,70,40,5000,2000,76,35,2000,13,2000,8.5,8,6.5,5,6,5000]
["Putnam",{"$f":"VLOOKUP(A62,tables!$A$2:$C$56,2,0)","v":40},1058,{"$f":"VLOOKUP(A62,tables!$A$2:$C$56,3,0)","v":"01"},"West Virginia Paving, Inc., Ripley Plant","2187 Ripley Rd., Ripley, WV25271","WV Paving","4022 Ohio River Rd., Huntington, WV 25702",0,0,96,96,96,0,0,100,0,100,0,0,0,110,0,0,0,65,2000,2.75,0.33,15,4,12,2,5,2.75,0.28000000000000003,85,30,20,10,2000,15000,6.75,4.75,3.75,2.75,20.75,15.75,4.75,2.75,20.75,15.75,4.75,2.75,3.5,14,6,22.25,17.5,12.5,6.75,4.8499999999999996,3.75,21.5,16.5,11.5,5.75,3.85,2.75,3500,0,0.28000000000000003,350,0,5,0,0,24.9,19.899999999999999,14.9,8,6.15,4.3499999999999996,23.9,18.899999999999999,13.9,7,5.15,3.35,0.5,4500,8,0.01,1000,1.5,70,40,5000,2000,76,35,2000,13,2000,8.5,8,6.5,5,6,5000]
["Putnam",{"$f":"VLOOKUP(A63,tables!$A$2:$C$56,2,0)","v":40},1059,{"$f":"VLOOKUP(A63,tables!$A$2:$C$56,3,0)","v":"01"},"West Virginia Paving, Inc., Ripley Plant","2187 Ripley Rd., Ripley, WV25271","Shamblin Stone","70 Dunbar Ave., Dunbar WV 25064",0,0,96,96,96,0,0,100,0,100,0,0,0,110,0,0,0,65,2000,2.75,0.33,15,4,12,2,5,2.75,0.28000000000000003,85,30,20,10,2000,15000,6.75,4.75,3.75,2.75,20.75,15.75,4.75,2.75,20.75,15.75,4.75,2.75,3.5,14,6,22.25,17.5,12.5,6.75,4.8499999999999996,3.75,21.5,16.5,11.5,5.75,3.85,2.75,3500,0,0.28000000000000003,350,0,5,0,0,24.9,19.899999999999999,14.9,8,6.15,4.3499999999999996,23.9,18.899999999999999,13.9,7,5.15,3.35,0.5,4500,8,0.01,1000,1.5,70,40,5000,2000,76,35,2000,13,2000,8.5,8,6.5,5,6,5000]
["Putnam",{"$f":"VLOOKUP(A64,tables!$A$2:$C$56,2,0)","v":40},1060,{"$f":"VLOOKUP(A64,tables!$A$2:$C$56,3,0)","v":"01"},"West Virginia Paving, Inc., Ripley Plant","2187 Ripley Rd., Ripley, WV25271","Valley Stone Yard","360 Valley Rd., Millwood WV, 25262",0,0,96,96,96,0,0,100,0,100,0,0,0,110,0,0,0,65,2000,2.75,0.33,15,4,12,2,5,2.75,0.28000000000000003,85,30,20,10,2000,15000,6.75,4.75,3.75,2.75,20.75,15.75,4.75,2.75,20.75,15.75,4.75,2.75,3.5,14,6,22.25,17.5,12.5,6.75,4.8499999999999996,3.75,21.5,16.5,11.5,5.75,3.85,2.75,3500,0,0.28000000000000003,350,0,5,0,0,24.9,19.899999999999999,14.9,8,6.15,4.3499999999999996,23.9,18.899999999999999,13.9,7,5.15,3.35,0.5,4500,8,0.01,1000,1.5,70,40,5000,2000,76,35,2000,13,2000,8.5,8,6.5,5,6,5000]
["Putnam",{"$f":"VLOOKUP(A65,tables!$A$2:$C$56,2,0)","v":40},1061,{"$f":"VLOOKUP(A65,tables!$A$2:$C$56,3,0)","v":"01"},"West Virginia Paving, Inc., Ripley Plant","2187 Ripley Rd., Ripley, WV25271","Shelly Materials","Route 7 North, Gallipolis OH, 45631",0,0,96,96,96,0,0,100,0,100,0,0,0,110,0,0,0,65,2000,2.75,0.33,15,4,12,2,5,2.75,0.28000000000000003,85,30,20,10,2000,15000,6.75,4.75,3.75,2.75,20.75,15.75,4.75,2.75,20.75,15.75,4.75,2.75,3.5,14,6,22.25,17.5,12.5,6.75,4.8499999999999996,3.75,21.5,16.5,11.5,5.75,3.85,2.75,3500,0,0.28000000000000003,350,0,5,0,0,24.9,19.899999999999999,14.9,8,6.15,4.3499999999999996,23.9,18.899999999999999,13.9,7,5.15,3.35,0.5,4500,8,0.01,1000,1.5,70,40,5000,2000,76,35,2000,13,2000,8.5,8,6.5,5,6,5000]
["Mason",{"$f":"VLOOKUP(A66,tables!$A$2:$C$56,2,0)","v":27},1062,{"$f":"VLOOKUP(A66,tables!$A$2:$C$56,3,0)","v":"01"},"West Virginia Paving, Inc., Shelly Co.","Rt. 7 North,Gallipolis, OH 45631","Shamblin Stone","658 Winfield Rd., St Albans, WV 25177",0,0,92,92,92,0,0,102,0,102,0,0,0,0,0,0,0,65,2000,2.75,0.51,15,4,12,2,5,2.75,0.46,85,30,20,10,2000,15000,6.75,4.75,3.75,2.75,20.75,15.75,4.75,2.75,20.75,15.75,4.75,2.75,3.5,14,6,21.5,16.75,11.75,6.75,4.75,3.75,20.75,15.75,11.75,5.75,3.75,2.75,3500,0,0.46,350,0,5,0,0,24.9,19.899999999999999,14.9,8,6.15,4.3499999999999996,23.9,18.899999999999999,13.9,7,5.15,3.35,0.5,4500,8,0.01,1000,1.5,70,40,5000,2000,76,35,2000,13,2000,8.5,8,6.5,5,6,5000]
["Mason",{"$f":"VLOOKUP(A67,tables!$A$2:$C$56,2,0)","v":27},1063,{"$f":"VLOOKUP(A67,tables!$A$2:$C$56,3,0)","v":"01"},"West Virginia Paving, Inc., Shelly Co.","Rt. 7 North,Gallipolis, OH 45631","WV Paving","4022 Ohio River Rd., Huntington, WV 25702",0,0,92,92,92,0,0,102,0,102,0,0,0,0,0,0,0,65,2000,2.75,0.51,15,4,12,2,5,2.75,0.46,85,30,20,10,2000,15000,6.75,4.75,3.75,2.75,20.75,15.75,4.75,2.75,20.75,15.75,4.75,2.75,3.5,14,6,21.5,16.75,11.75,6.75,4.75,3.75,20.75,15.75,11.75,5.75,3.75,2.75,3500,0,0.46,350,0,5,0,0,24.9,19.899999999999999,14.9,8,6.15,4.3499999999999996,23.9,18.899999999999999,13.9,7,5.15,3.35,0.5,4500,8,0.01,1000,1.5,70,40,5000,2000,76,35,2000,13,2000,8.5,8,6.5,5,6,5000]
["Mason",{"$f":"VLOOKUP(A68,tables!$A$2:$C$56,2,0)","v":27},1064,{"$f":"VLOOKUP(A68,tables!$A$2:$C$56,3,0)","v":"01"},"West Virginia Paving, Inc., Shelly Co.","Rt. 7 North,Gallipolis, OH 45631","Shamblin Stone","70 Dunbar Ave., Dunbar WV 25064",0,0,92,92,92,0,0,102,0,102,0,0,0,0,0,0,0,65,2000,2.75,0.51,15,4,12,2,5,2.75,0.46,85,30,20,10,2000,15000,6.75,4.75,3.75,2.75,20.75,15.75,4.75,2.75,20.75,15.75,4.75,2.75,3.5,14,6,21.5,16.75,11.75,6.75,4.75,3.75,20.75,15.75,11.75,5.75,3.75,2.75,3500,0,0.46,350,0,5,0,0,24.9,19.899999999999999,14.9,8,6.15,4.3499999999999996,23.9,18.899999999999999,13.9,7,5.15,3.35,0.5,4500,8,0.01,1000,1.5,70,40,5000,2000,76,35,2000,13,2000,8.5,8,6.5,5,6,5000]
["Mason",{"$f":"VLOOKUP(A69,tables!$A$2:$C$56,2,0)","v":27},1065,{"$f":"VLOOKUP(A69,tables!$A$2:$C$56,3,0)","v":"01"},"West Virginia Paving, Inc., Shelly Co.","Rt. 7 North,Gallipolis, OH 45631","Valley Stone Yard","360 Valley Rd., Millwood WV, 25262",0,0,92,92,92,0,0,102,0,102,0,0,0,0,0,0,0,65,2000,2.75,0.51,15,4,12,2,5,2.75,0.46,85,30,20,10,2000,15000,6.75,4.75,3.75,2.75,20.75,15.75,4.75,2.75,20.75,15.75,4.75,2.75,3.5,14,6,21.5,16.75,11.75,6.75,4.75,3.75,20.75,15.75,11.75,5.75,3.75,2.75,3500,0,0.46,350,0,5,0,0,24.9,19.899999999999999,14.9,8,6.15,4.3499999999999996,23.9,18.899999999999999,13.9,7,5.15,3.35,0.5,4500,8,0.01,1000,1.5,70,40,5000,2000,76,35,2000,13,2000,8.5,8,6.5,5,6,5000]
["Mason",{"$f":"VLOOKUP(A70,tables!$A$2:$C$56,2,0)","v":27},1066,{"$f":"VLOOKUP(A70,tables!$A$2:$C$56,3,0)","v":"01"},"West Virginia Paving, Inc., Shelly Co.","Rt. 7 North,Gallipolis, OH 45631","Shelly Materials","Route 7 North, Gallipolis OH, 45631",0,0,92,92,92,0,0,102,0,102,0,0,0,0,0,0,0,65,2000,2.75,0.51,15,4,12,2,5,2.75,0.46,85,30,20,10,2000,15000,6.75,4.75,3.75,2.75,20.75,15.75,4.75,2.75,20.75,15.75,4.75,2.75,3.5,14,6,21.5,16.75,11.75,6.75,4.75,3.75,20.75,15.75,11.75,5.75,3.75,2.75,3500,0,0.46,350,0,5,0,0,24.9,19.899999999999999,14.9,8,6.15,4.3499999999999996,23.9,18.899999999999999,13.9,7,5.15,3.35,0.5,4500,8,0.01,1000,1.5,70,40,5000,2000,76,35,2000,13,2000,8.5,8,6.5,5,6,5000]
["Cabell",{"$f":"VLOOKUP(A71,tables!$A$2:$C$56,2,0)","v":6},2001,{"$f":"VLOOKUP(A71,tables!$A$2:$C$56,3,0)","v":"02"},"BTI Contracting Inc. Kenova","2334 Route 52 Kenova, WV 25530","Scary Creek Materials"," #9 Orders Way, Winfield, WV",77.27,78.22,80.12,80.12,82.83,89.57,80.45,87.7,93.17,87.7,95.9,118.91,118.95,103.94,118.92,96.22,96.22,67.5,1950,2.9,0.3,5,5,12.5,1.75,4.5,3,0.27,83,29.75,19.5,9.6999999999999993,1750,8000,7,5,4,3,21.25,16,6,4,20.75,16,6,4,3.25,13,5,23,16.75,11.75,6.6,4.5,3.4,20.25,15.25,9.75,5,3.25,2.25,3250,0,0.27,345,0,5,0,0,24,18,13.5,7.25,5.5,3.6,22.5,16.5,12,6,4.4000000000000004,2.6,0.75,4250,7.25,0.01,960,1,69,40,3500,1250,75,40,1750,22,1950,9.5,7.4,6,4.55,5.25,5000]
["Lincoln",{"$f":"VLOOKUP(A72,tables!$A$2:$C$56,2,0)","v":22},2002,{"$f":"VLOOKUP(A72,tables!$A$2:$C$56,3,0)","v":"02"},"BTI Contracting Inc. Kenova","2334 Route 52 Kenova, WV 25530","Scary Creek Materials"," #9 Orders Way, Winfield, WV",77.27,78.22,80.12,80.12,82.83,89.57,80.45,87.7,93.17,87.7,95.9,118.91,118.95,103.94,118.92,96.22,96.22,67.5,1950,2.9,0.3,5,5,12.5,1.75,4.5,3,0.27,83,29.75,19.5,9.6999999999999993,1750,8000,7,5,4,3,21.25,16,6,4,20.75,16,6,4,3.25,13,5,23,16.75,11.75,6.6,4.5,3.4,20.25,15.25,9.75,5,3.25,2.25,3250,0,0.27,345,0,5,0,0,24,18,13.5,7.25,5.5,3.6,22.5,16.5,12,6,4.4000000000000004,2.6,0.75,4250,7.25,0.01,960,1,69,40,3500,1250,75,40,1750,22,1950,9.5,7.4,6,4.55,5.25,5000]
["Logan",{"$f":"VLOOKUP(A73,tables!$A$2:$C$56,2,0)","v":23},2003,{"$f":"VLOOKUP(A73,tables!$A$2:$C$56,3,0)","v":"02"},"BTI Contracting Inc. Kenova","2334 Route 52 Kenova, WV 25530","Scary Creek Materials"," #9 Orders Way, Winfield, WV",77.27,78.22,80.12,80.12,82.83,89.57,80.45,87.7,93.17,87.7,95.9,118.91,118.95,103.94,118.92,96.22,96.22,67.5,1950,2.9,0.3,5,5,12.5,1.75,4.5,3,0.27,83,29.75,19.5,9.6999999999999993,1750,8000,7,5,4,3,21.25,16,6,4,20.75,16,6,4,3.25,13,5,23,16.75,11.75,6.6,4.5,3.4,20.25,15.25,9.75,5,3.25,2.25,3250,0,0.27,345,0,5,0,0,24,18,13.5,7.25,5.5,3.6,22.5,16.5,12,6,4.4000000000000004,2.6,0.75,4250,7.25,0.01,960,1,69,40,3500,1250,75,40,1750,22,1950,9.5,7.4,6,4.55,5.25,5000]
["Mingo",{"$f":"VLOOKUP(A74,tables!$A$2:$C$56,2,0)","v":30},2004,{"$f":"VLOOKUP(A74,tables!$A$2:$C$56,3,0)","v":"02"},"BTI Contracting Inc. Kenova","2334 Route 52 Kenova, WV 25530","Scary Creek Materials"," #9 Orders Way, Winfield, WV",77.27,78.22,80.12,80.12,82.83,89.57,80.45,87.7,93.17,87.7,95.9,118.91,118.95,103.94,118.92,96.22,96.22,67.5,1950,2.9,0.3,5,5,12.5,1.75,4.5,3,0.27,83,29.75,19.5,9.6999999999999993,1750,8000,7,5,4,3,21.25,16,6,4,20.75,16,6,4,3.25,13,5,23,16.75,11.75,6.6,4.5,3.4,20.25,15.25,9.75,5,3.25,2.25,3250,0,0.27,345,0,5,0,0,24,18,13.5,7.25,5.5,3.6,22.5,16.5,12,6,4.4000000000000004,2.6,0.75,4250,7.25,0.01,960,1,69,40,3500,1250,75,40,1750,22,1950,9.5,7.4,6,4.55,5.25,5000]
["Wayne",{"$f":"VLOOKUP(A75,tables!$A$2:$C$56,2,0)","v":50},2005,{"$f":"VLOOKUP(A75,tables!$A$2:$C$56,3,0)","v":"02"},"BTI Contracting Inc. Kenova","2334 Route 52 Kenova, WV 25530","Scary Creek Materials"," #9 Orders Way, Winfield, WV",77.27,78.22,80.12,80.12,82.83,89.57,80.45,87.7,93.17,87.7,95.9,118.91,118.95,103.94,118.92,96.22,96.22,67.5,1950,2.9,0.3,5,5,12.5,1.75,4.5,3,0.27,83,29.75,19.5,9.6999999999999993,1750,8000,7,5,4,3,21.25,16,6,4,20.75,16,6,4,3.25,13,5,23,16.75,11.75,6.6,4.5,3.4,20.25,15.25,9.75,5,3.25,2.25,3250,0,0.27,345,0,5,0,0,24,18,13.5,7.25,5.5,3.6,22.5,16.5,12,6,4.4000000000000004,2.6,0.75,4250,7.25,0.01,960,1,69,40,3500,1250,75,40,1750,22,1950,9.5,7.4,6,4.55,5.25,5000]
["Cabell",{"$f":"VLOOKUP(A76,tables!$A$2:$C$56,2,0)","v":6},2006,{"$f":"VLOOKUP(A76,tables!$A$2:$C$56,3,0)","v":"02"},"BTI Contracting Inc. Kenova","2334 Route 52 Kenova, WV 25530","Valley Stone Yard","360 Valley Rd., Millwood WV, 25262",77.27,78.22,80.12,80.12,82.83,89.57,80.45,87.7,93.17,87.7,95.9,118.91,118.95,103.94,118.92,96.22,96.22,67.5,1950,2.9,0.3,5,5,12.5,1.75,4.5,3,0.27,83,29.75,19.5,9.6999999999999993,1750,8000,7,5,4,3,21.25,16,6,4,20.75,16,6,4,3.25,13,5,23,16.75,11.75,6.6,4.5,3.4,20.25,15.25,9.75,5,3.25,2.25,3250,0,0.27,345,0,5,0,0,24,18,13.5,7.25,5.5,3.6,22.5,16.5,12,6,4.4000000000000004,2.6,0.75,4250,7.25,0.01,960,1,69,40,3500,1250,75,40,1750,22,1950,9.5,7.4,6,4.55,5.25,5000]
["Lincoln",{"$f":"VLOOKUP(A77,tables!$A$2:$C$56,2,0)","v":22},2007,{"$f":"VLOOKUP(A77,tables!$A$2:$C$56,3,0)","v":"02"},"BTI Contracting Inc. Kenova","2334 Route 52 Kenova, WV 25530","Valley Stone Yard","360 Valley Rd., Millwood WV, 25262",77.27,78.22,80.12,80.12,82.83,89.57,80.45,87.7,93.17,87.7,95.9,118.91,118.95,103.94,118.92,96.22,96.22,67.5,1950,2.9,0.3,5,5,12.5,1.75,4.5,3,0.27,83,29.75,19.5,9.6999999999999993,1750,8000,7,5,4,3,21.25,16,6,4,20.75,16,6,4,3.25,13,5,23,16.75,11.75,6.6,4.5,3.4,20.25,15.25,9.75,5,3.25,2.25,3250,0,0.27,345,0,5,0,0,24,18,13.5,7.25,5.5,3.6,22.5,16.5,12,6,4.4000000000000004,2.6,0.75,4250,7.25,0.01,960,1,69,40,3500,1250,75,40,1750,22,1950,9.5,7.4,6,4.55,5.25,5000]
["Logan",{"$f":"VLOOKUP(A78,tables!$A$2:$C$56,2,0)","v":23},2008,{"$f":"VLOOKUP(A78,tables!$A$2:$C$56,3,0)","v":"02"},"BTI Contracting Inc. Kenova","2334 Route 52 Kenova, WV 25530","Valley Stone Yard","360 Valley Rd., Millwood WV, 25262",77.27,78.22,80.12,80.12,82.83,89.57,80.45,87.7,93.17,87.7,95.9,118.91,118.95,103.94,118.92,96.22,96.22,67.5,1950,2.9,0.3,5,5,12.5,1.75,4.5,3,0.27,83,29.75,19.5,9.6999999999999993,1750,8000,7,5,4,3,21.25,16,6,4,20.75,16,6,4,3.25,13,5,23,16.75,11.75,6.6,4.5,3.4,20.25,15.25,9.75,5,3.25,2.25,3250,0,0.27,345,0,5,0,0,24,18,13.5,7.25,5.5,3.6,22.5,16.5,12,6,4.4000000000000004,2.6,0.75,4250,7.25,0.01,960,1,69,40,3500,1250,75,40,1750,22,1950,9.5,7.4,6,4.55,5.25,5000]
["Mingo",{"$f":"VLOOKUP(A79,tables!$A$2:$C$56,2,0)","v":30},2009,{"$f":"VLOOKUP(A79,tables!$A$2:$C$56,3,0)","v":"02"},"BTI Contracting Inc. Kenova","2334 Route 52 Kenova, WV 25530","Valley Stone Yard","360 Valley Rd., Millwood WV, 25262",77.27,78.22,80.12,80.12,82.83,89.57,80.45,87.7,93.17,87.7,95.9,118.91,118.95,103.94,118.92,96.22,96.22,67.5,1950,2.9,0.3,5,5,12.5,1.75,4.5,3,0.27,83,29.75,19.5,9.6999999999999993,1750,8000,7,5,4,3,21.25,16,6,4,20.75,16,6,4,3.25,13,5,23,16.75,11.75,6.6,4.5,3.4,20.25,15.25,9.75,5,3.25,2.25,3250,0,0.27,345,0,5,0,0,24,18,13.5,7.25,5.5,3.6,22.5,16.5,12,6,4.4000000000000004,2.6,0.75,4250,7.25,0.01,960,1,69,40,3500,1250,75,40,1750,22,1950,9.5,7.4,6,4.55,5.25,5000]
["Wayne",{"$f":"VLOOKUP(A80,tables!$A$2:$C$56,2,0)","v":50},2010,{"$f":"VLOOKUP(A80,tables!$A$2:$C$56,3,0)","v":"02"},"BTI Contracting Inc. Kenova","2334 Route 52 Kenova, WV 25530","Valley Stone Yard","360 Valley Rd., Millwood WV, 25262",77.27,78.22,80.12,80.12,82.83,89.57,80.45,87.7,93.17,87.7,95.9,118.91,118.95,103.94,118.92,96.22,96.22,67.5,1950,2.9,0.3,5,5,12.5,1.75,4.5,3,0.27,83,29.75,19.5,9.6999999999999993,1750,8000,7,5,4,3,21.25,16,6,4,20.75,16,6,4,3.25,13,5,23,16.75,11.75,6.6,4.5,3.4,20.25,15.25,9.75,5,3.25,2.25,3250,0,0.27,345,0,5,0,0,24,18,13.5,7.25,5.5,3.6,22.5,16.5,12,6,4.4000000000000004,2.6,0.75,4250,7.25,0.01,960,1,69,40,3500,1250,75,40,1750,22,1950,9.5,7.4,6,4.55,5.25,5000]
["Cabell",{"$f":"VLOOKUP(A81,tables!$A$2:$C$56,2,0)","v":6},2011,{"$f":"VLOOKUP(A81,tables!$A$2:$C$56,3,0)","v":"02"},"BTI Contracting Inc. Kenova","2334 Route 52 Kenova, WV 25530","Mountain Materials- Valley Quarry","12434 US 60, Olive Hill KY",77.27,78.22,80.12,80.12,82.83,89.57,80.45,87.7,93.17,87.7,95.9,118.91,118.95,103.94,118.92,96.22,96.22,67.5,1950,2.9,0.3,5,5,12.5,1.75,4.5,3,0.27,83,29.75,19.5,9.6999999999999993,1750,8000,7,5,4,3,21.25,16,6,4,20.75,16,6,4,3.25,13,5,23,16.75,11.75,6.6,4.5,3.4,20.25,15.25,9.75,5,3.25,2.25,3250,0,0.27,345,0,5,0,0,24,18,13.5,7.25,5.5,3.6,22.5,16.5,12,6,4.4000000000000004,2.6,0.75,4250,7.25,0.01,960,1,69,40,3500,1250,75,40,1750,22,1950,9.5,7.4,6,4.55,5.25,5000]
["Lincoln",{"$f":"VLOOKUP(A82,tables!$A$2:$C$56,2,0)","v":22},2012,{"$f":"VLOOKUP(A82,tables!$A$2:$C$56,3,0)","v":"02"},"BTI Contracting Inc. Kenova","2334 Route 52 Kenova, WV 25530","Mountain Materials- Valley Quarry","12434 US 60, Olive Hill KY",77.27,78.22,80.12,80.12,82.83,89.57,80.45,87.7,93.17,87.7,95.9,118.91,118.95,103.94,118.92,96.22,96.22,67.5,1950,2.9,0.3,5,5,12.5,1.75,4.5,3,0.27,83,29.75,19.5,9.6999999999999993,1750,8000,7,5,4,3,21.25,16,6,4,20.75,16,6,4,3.25,13,5,23,16.75,11.75,6.6,4.5,3.4,20.25,15.25,9.75,5,3.25,2.25,3250,0,0.27,345,0,5,0,0,24,18,13.5,7.25,5.5,3.6,22.5,16.5,12,6,4.4000000000000004,2.6,0.75,4250,7.25,0.01,960,1,69,40,3500,1250,75,40,1750,22,1950,9.5,7.4,6,4.55,5.25,5000]
["Logan",{"$f":"VLOOKUP(A83,tables!$A$2:$C$56,2,0)","v":23},2013,{"$f":"VLOOKUP(A83,tables!$A$2:$C$56,3,0)","v":"02"},"BTI Contracting Inc. Kenova","2334 Route 52 Kenova, WV 25530","Mountain Materials- Valley Quarry","12434 US 60, Olive Hill KY",77.27,78.22,80.12,80.12,82.83,89.57,80.45,87.7,93.17,87.7,95.9,118.91,118.95,103.94,118.92,96.22,96.22,67.5,1950,2.9,0.3,5,5,12.5,1.75,4.5,3,0.27,83,29.75,19.5,9.6999999999999993,1750,8000,7,5,4,3,21.25,16,6,4,20.75,16,6,4,3.25,13,5,23,16.75,11.75,6.6,4.5,3.4,20.25,15.25,9.75,5,3.25,2.25,3250,0,0.27,345,0,5,0,0,24,18,13.5,7.25,5.5,3.6,22.5,16.5,12,6,4.4000000000000004,2.6,0.75,4250,7.25,0.01,960,1,69,40,3500,1250,75,40,1750,22,1950,9.5,7.4,6,4.55,5.25,5000]
["Mingo",{"$f":"VLOOKUP(A84,tables!$A$2:$C$56,2,0)","v":30},2014,{"$f":"VLOOKUP(A84,tables!$A$2:$C$56,3,0)","v":"02"},"BTI Contracting Inc. Kenova","2334 Route 52 Kenova, WV 25530","Mountain Materials- Valley Quarry","12434 US 60, Olive Hill KY",77.27,78.22,80.12,80.12,82.83,89.57,80.45,87.7,93.17,87.7,95.9,118.91,118.95,103.94,118.92,96.22,96.22,67.5,1950,2.9,0.3,5,5,12.5,1.75,4.5,3,0.27,83,29.75,19.5,9.6999999999999993,1750,8000,7,5,4,3,21.25,16,6,4,20.75,16,6,4,3.25,13,5,23,16.75,11.75,6.6,4.5,3.4,20.25,15.25,9.75,5,3.25,2.25,3250,0,0.27,345,0,5,0,0,24,18,13.5,7.25,5.5,3.6,22.5,16.5,12,6,4.4000000000000004,2.6,0.75,4250,7.25,0.01,960,1,69,40,3500,1250,75,40,1750,22,1950,9.5,7.4,6,4.55,5.25,5000]
["Wayne",{"$f":"VLOOKUP(A85,tables!$A$2:$C$56,2,0)","v":50},2015,{"$f":"VLOOKUP(A85,tables!$A$2:$C$56,3,0)","v":"02"},"BTI Contracting Inc. Kenova","2334 Route 52 Kenova, WV 25530","Mountain Materials- Valley Quarry","12434 US 60, Olive Hill KY",77.27,78.22,80.12,80.12,82.83,89.57,80.45,87.7,93.17,87.7,95.9,118.91,118.95,103.94,118.92,96.22,96.22,67.5,1950,2.9,0.3,5,5,12.5,1.75,4.5,3,0.27,83,29.75,19.5,9.6999999999999993,1750,8000,7,5,4,3,21.25,16,6,4,20.75,16,6,4,3.25,13,5,23,16.75,11.75,6.6,4.5,3.4,20.25,15.25,9.75,5,3.25,2.25,3250,0,0.27,345,0,5,0,0,24,18,13.5,7.25,5.5,3.6,22.5,16.5,12,6,4.4000000000000004,2.6,0.75,4250,7.25,0.01,960,1,69,40,3500,1250,75,40,1750,22,1950,9.5,7.4,6,4.55,5.25,5000]
["Cabell",{"$f":"VLOOKUP(A86,tables!$A$2:$C$56,2,0)","v":6},2016,{"$f":"VLOOKUP(A86,tables!$A$2:$C$56,3,0)","v":"02"},"BTI Contracting Inc. St. Albans","484 Industrial Rd, St Albans, WV 25177","Scary Creek Materials"," #9 Orders Way, Winfield, WV",78.94,79.89,80.72,80.72,81.39,91.22,83.54,88.1,97.57,88.1,97.57,118.91,118.95,113.94,118.92,96.22,96.22,67.5,1950,2.9,0.3,5,5,12.5,1.75,4.5,3,0.27,83,29.75,19.5,9.6999999999999993,1750,8000,7,5,4,3,21.25,16,6,4,20.75,16,6,4,3.25,13,5,23,16.75,11.75,6.6,4.5,3.4,20.25,15.25,9.75,5,3.25,2.25,3250,0,0.27,345,0,5,0,0,24,18,13.5,7.25,5.5,3.6,22.5,16.5,12,6,4.4000000000000004,2.6,0.75,4250,7.25,0.01,960,1,69,40,3500,1250,75,40,1750,22,1950,9.5,7.4,6,4.55,5.25,5000]
["Lincoln",{"$f":"VLOOKUP(A87,tables!$A$2:$C$56,2,0)","v":22},2017,{"$f":"VLOOKUP(A87,tables!$A$2:$C$56,3,0)","v":"02"},"BTI Contracting Inc. St. Albans","484 Industrial Rd, St Albans, WV 25177","Scary Creek Materials"," #9 Orders Way, Winfield, WV",78.94,79.89,80.72,80.72,81.39,91.22,83.54,88.1,97.57,88.1,97.57,118.91,118.95,113.94,118.92,96.22,96.22,67.5,1950,2.9,0.3,5,5,12.5,1.75,4.5,3,0.27,83,29.75,19.5,9.6999999999999993,1750,8000,7,5,4,3,21.25,16,6,4,20.75,16,6,4,3.25,13,5,23,16.75,11.75,6.6,4.5,3.4,20.25,15.25,9.75,5,3.25,2.25,3250,0,0.27,345,0,5,0,0,24,18,13.5,7.25,5.5,3.6,22.5,16.5,12,6,4.4000000000000004,2.6,0.75,4250,7.25,0.01,960,1,69,40,3500,1250,75,40,1750,22,1950,9.5,7.4,6,4.55,5.25,5000]
["Logan",{"$f":"VLOOKUP(A88,tables!$A$2:$C$56,2,0)","v":23},2018,{"$f":"VLOOKUP(A88,tables!$A$2:$C$56,3,0)","v":"02"},"BTI Contracting Inc. St. Albans","484 Industrial Rd, St Albans, WV 25177","Scary Creek Materials"," #9 Orders Way, Winfield, WV",78.94,79.89,80.72,80.72,81.39,91.22,83.54,88.1,97.57,88.1,97.57,118.91,118.95,113.94,118.92,96.22,96.22,67.5,1950,2.9,0.3,5,5,12.5,1.75,4.5,3,0.27,83,29.75,19.5,9.6999999999999993,1750,8000,7,5,4,3,21.25,16,6,4,20.75,16,6,4,3.25,13,5,23,16.75,11.75,6.6,4.5,3.4,20.25,15.25,9.75,5,3.25,2.25,3250,0,0.27,345,0,5,0,0,24,18,13.5,7.25,5.5,3.6,22.5,16.5,12,6,4.4000000000000004,2.6,0.75,4250,7.25,0.01,960,1,69,40,3500,1250,75,40,1750,22,1950,9.5,7.4,6,4.55,5.25,5000]
["Mingo",{"$f":"VLOOKUP(A89,tables!$A$2:$C$56,2,0)","v":30},2019,{"$f":"VLOOKUP(A89,tables!$A$2:$C$56,3,0)","v":"02"},"BTI Contracting Inc. St. Albans","484 Industrial Rd, St Albans, WV 25177","Scary Creek Materials"," #9 Orders Way, Winfield, WV",78.94,79.89,80.72,80.72,81.39,91.22,83.54,88.1,97.57,88.1,97.57,118.91,118.95,113.94,118.92,96.22,96.22,67.5,1950,2.9,0.3,5,5,12.5,1.75,4.5,3,0.27,83,29.75,19.5,9.6999999999999993,1750,8000,7,5,4,3,21.25,16,6,4,20.75,16,6,4,3.25,13,5,23,16.75,11.75,6.6,4.5,3.4,20.25,15.25,9.75,5,3.25,2.25,3250,0,0.27,345,0,5,0,0,24,18,13.5,7.25,5.5,3.6,22.5,16.5,12,6,4.4000000000000004,2.6,0.75,4250,7.25,0.01,960,1,69,40,3500,1250,75,40,1750,22,1950,9.5,7.4,6,4.55,5.25,5000]
["Cabell",{"$f":"VLOOKUP(A90,tables!$A$2:$C$56,2,0)","v":6},2020,{"$f":"VLOOKUP(A90,tables!$A$2:$C$56,3,0)","v":"02"},"BTI Contracting Inc. St. Albans","484 Industrial Rd, St Albans, WV 25177","Valley Stone Yard","360 Valley Rd., Millwood WV, 25262",78.94,79.89,80.72,80.72,81.39,91.22,83.54,88.1,97.57,88.1,97.57,118.91,118.95,113.94,118.92,96.22,96.22,67.5,1950,2.9,0.3,5,5,12.5,1.75,4.5,3,0.27,83,29.75,19.5,9.6999999999999993,1750,8000,7,5,4,3,21.25,16,6,4,20.75,16,6,4,3.25,13,5,23,16.75,11.75,6.6,4.5,3.4,20.25,15.25,9.75,5,3.25,2.25,3250,0,0.27,345,0,5,0,0,24,18,13.5,7.25,5.5,3.6,22.5,16.5,12,6,4.4000000000000004,2.6,0.75,4250,7.25,0.01,960,1,69,40,3500,1250,75,40,1750,22,1950,9.5,7.4,6,4.55,5.25,5000]
["Lincoln",{"$f":"VLOOKUP(A91,tables!$A$2:$C$56,2,0)","v":22},2021,{"$f":"VLOOKUP(A91,tables!$A$2:$C$56,3,0)","v":"02"},"BTI Contracting Inc. St. Albans","484 Industrial Rd, St Albans, WV 25177","Valley Stone Yard","360 Valley Rd., Millwood WV, 25262",78.94,79.89,80.72,80.72,81.39,91.22,83.54,88.1,97.57,88.1,97.57,118.91,118.95,113.94,118.92,96.22,96.22,67.5,1950,2.9,0.3,5,5,12.5,1.75,4.5,3,0.27,83,29.75,19.5,9.6999999999999993,1750,8000,7,5,4,3,21.25,16,6,4,20.75,16,6,4,3.25,13,5,23,16.75,11.75,6.6,4.5,3.4,20.25,15.25,9.75,5,3.25,2.25,3250,0,0.27,345,0,5,0,0,24,18,13.5,7.25,5.5,3.6,22.5,16.5,12,6,4.4000000000000004,2.6,0.75,4250,7.25,0.01,960,1,69,40,3500,1250,75,40,1750,22,1950,9.5,7.4,6,4.55,5.25,5000]
["Logan",{"$f":"VLOOKUP(A92,tables!$A$2:$C$56,2,0)","v":23},2022,{"$f":"VLOOKUP(A92,tables!$A$2:$C$56,3,0)","v":"02"},"BTI Contracting Inc. St. Albans","484 Industrial Rd, St Albans, WV 25177","Valley Stone Yard","360 Valley Rd., Millwood WV, 25262",78.94,79.89,80.72,80.72,81.39,91.22,83.54,88.1,97.57,88.1,97.57,118.91,118.95,113.94,118.92,96.22,96.22,67.5,1950,2.9,0.3,5,5,12.5,1.75,4.5,3,0.27,83,29.75,19.5,9.6999999999999993,1750,8000,7,5,4,3,21.25,16,6,4,20.75,16,6,4,3.25,13,5,23,16.75,11.75,6.6,4.5,3.4,20.25,15.25,9.75,5,3.25,2.25,3250,0,0.27,345,0,5,0,0,24,18,13.5,7.25,5.5,3.6,22.5,16.5,12,6,4.4000000000000004,2.6,0.75,4250,7.25,0.01,960,1,69,40,3500,1250,75,40,1750,22,1950,9.5,7.4,6,4.55,5.25,5000]
["Mingo",{"$f":"VLOOKUP(A93,tables!$A$2:$C$56,2,0)","v":30},2023,{"$f":"VLOOKUP(A93,tables!$A$2:$C$56,3,0)","v":"02"},"BTI Contracting Inc. St. Albans","484 Industrial Rd, St Albans, WV 25177","Valley Stone Yard","360 Valley Rd., Millwood WV, 25262",78.94,79.89,80.72,80.72,81.39,91.22,83.54,88.1,97.57,88.1,97.57,118.91,118.95,113.94,118.92,96.22,96.22,67.5,1950,2.9,0.3,5,5,12.5,1.75,4.5,3,0.27,83,29.75,19.5,9.6999999999999993,1750,8000,7,5,4,3,21.25,16,6,4,20.75,16,6,4,3.25,13,5,23,16.75,11.75,6.6,4.5,3.4,20.25,15.25,9.75,5,3.25,2.25,3250,0,0.27,345,0,5,0,0,24,18,13.5,7.25,5.5,3.6,22.5,16.5,12,6,4.4000000000000004,2.6,0.75,4250,7.25,0.01,960,1,69,40,3500,1250,75,40,1750,22,1950,9.5,7.4,6,4.55,5.25,5000]
["Cabell",{"$f":"VLOOKUP(A94,tables!$A$2:$C$56,2,0)","v":6},2024,{"$f":"VLOOKUP(A94,tables!$A$2:$C$56,3,0)","v":"02"},"BTI Contracting Inc. St. Albans","484 Industrial Rd, St Albans, WV 25177","Mountain Materials- Valley Quarry","12434 US 60, Olive Hill KY",78.94,79.89,80.72,80.72,81.39,91.22,83.54,88.1,97.57,88.1,97.57,118.91,118.95,113.94,118.92,96.22,96.22,67.5,1950,2.9,0.3,5,5,12.5,1.75,4.5,3,0.27,83,29.75,19.5,9.6999999999999993,1750,8000,7,5,4,3,21.25,16,6,4,20.75,16,6,4,3.25,13,5,23,16.75,11.75,6.6,4.5,3.4,20.25,15.25,9.75,5,3.25,2.25,3250,0,0.27,345,0,5,0,0,24,18,13.5,7.25,5.5,3.6,22.5,16.5,12,6,4.4000000000000004,2.6,0.75,4250,7.25,0.01,960,1,69,40,3500,1250,75,40,1750,22,1950,9.5,7.4,6,4.55,5.25,5000]
["Lincoln",{"$f":"VLOOKUP(A95,tables!$A$2:$C$56,2,0)","v":22},2025,{"$f":"VLOOKUP(A95,tables!$A$2:$C$56,3,0)","v":"02"},"BTI Contracting Inc. St. Albans","484 Industrial Rd, St Albans, WV 25177","Mountain Materials- Valley Quarry","12434 US 60, Olive Hill KY",78.94,79.89,80.72,80.72,81.39,91.22,83.54,88.1,97.57,88.1,97.57,118.91,118.95,113.94,118.92,96.22,96.22,67.5,1950,2.9,0.3,5,5,12.5,1.75,4.5,3,0.27,83,29.75,19.5,9.6999999999999993,1750,8000,7,5,4,3,21.25,16,6,4,20.75,16,6,4,3.25,13,5,23,16.75,11.75,6.6,4.5,3.4,20.25,15.25,9.75,5,3.25,2.25,3250,0,0.27,345,0,5,0,0,24,18,13.5,7.25,5.5,3.6,22.5,16.5,12,6,4.4000000000000004,2.6,0.75,4250,7.25,0.01,960,1,69,40,3500,1250,75,40,1750,22,1950,9.5,7.4,6,4.55,5.25,5000]
["Logan",{"$f":"VLOOKUP(A96,tables!$A$2:$C$56,2,0)","v":23},2026,{"$f":"VLOOKUP(A96,tables!$A$2:$C$56,3,0)","v":"02"},"BTI Contracting Inc. St. Albans","484 Industrial Rd, St Albans, WV 25177","Mountain Materials- Valley Quarry","12434 US 60, Olive Hill KY",78.94,79.89,80.72,80.72,81.39,91.22,83.54,88.1,97.57,88.1,97.57,118.91,118.95,113.94,118.92,96.22,96.22,67.5,1950,2.9,0.3,5,5,12.5,1.75,4.5,3,0.27,83,29.75,19.5,9.6999999999999993,1750,8000,7,5,4,3,21.25,16,6,4,20.75,16,6,4,3.25,13,5,23,16.75,11.75,6.6,4.5,3.4,20.25,15.25,9.75,5,3.25,2.25,3250,0,0.27,345,0,5,0,0,24,18,13.5,7.25,5.5,3.6,22.5,16.5,12,6,4.4000000000000004,2.6,0.75,4250,7.25,0.01,960,1,69,40,3500,1250,75,40,1750,22,1950,9.5,7.4,6,4.55,5.25,5000]
["Mingo",{"$f":"VLOOKUP(A97,tables!$A$2:$C$56,2,0)","v":30},2027,{"$f":"VLOOKUP(A97,tables!$A$2:$C$56,3,0)","v":"02"},"BTI Contracting Inc. St. Albans","484 Industrial Rd, St Albans, WV 25177","Mountain Materials- Valley Quarry","12434 US 60, Olive Hill KY",78.94,79.89,80.72,80.72,81.39,91.22,83.54,88.1,97.57,88.1,97.57,118.91,118.95,113.94,118.92,96.22,96.22,67.5,1950,2.9,0.3,5,5,12.5,1.75,4.5,3,0.27,83,29.75,19.5,9.6999999999999993,1750,8000,7,5,4,3,21.25,16,6,4,20.75,16,6,4,3.25,13,5,23,16.75,11.75,6.6,4.5,3.4,20.25,15.25,9.75,5,3.25,2.25,3250,0,0.27,345,0,5,0,0,24,18,13.5,7.25,5.5,3.6,22.5,16.5,12,6,4.4000000000000004,2.6,0.75,4250,7.25,0.01,960,1,69,40,3500,1250,75,40,1750,22,1950,9.5,7.4,6,4.55,5.25,5000]
["Cabell",{"$f":"VLOOKUP(A98,tables!$A$2:$C$56,2,0)","v":6},2028,{"$f":"VLOOKUP(A98,tables!$A$2:$C$56,3,0)","v":"02"},"West Virginia Paving, Inc., Shelly Co.","Rt. 7 North,Gallipolis, OH 45631","Shamblin Stone","658 Winfield Rd., St Albans, WV 25177",0,0,92,92,92,0,0,102,0,102,0,0,0,0,0,0,0,65,2000,2.75,0.51,15,4,12,2,5,2.75,0.46,85,30,20,10,2000,15000,6.75,4.75,3.75,2.75,20.75,15.75,4.75,2.75,20.75,15.75,4.75,2.75,3.5,14,6,21.5,16.75,11.75,6.75,4.75,3.75,20.75,15.75,11.75,5.75,3.75,2.75,3500,0,0.46,350,0,5,0,0,24.9,19.899999999999999,14.9,8,6.15,4.3499999999999996,23.9,18.899999999999999,13.9,7,5.15,3.35,0.5,4500,8,0.01,1000,1.5,70,40,5000,2000,76,35,2000,13,2000,8.5,8,6.5,5,6,5000]
["Cabell",{"$f":"VLOOKUP(A99,tables!$A$2:$C$56,2,0)","v":6},2029,{"$f":"VLOOKUP(A99,tables!$A$2:$C$56,3,0)","v":"02"},"West Virginia Paving, Inc., Shelly Co.","Rt. 7 North,Gallipolis, OH 45631","WV Paving","4022 Ohio River Rd., Huntington, WV 25702",0,0,92,92,92,0,0,102,0,102,0,0,0,0,0,0,0,65,2000,2.75,0.51,15,4,12,2,5,2.75,0.46,85,30,20,10,2000,15000,6.75,4.75,3.75,2.75,20.75,15.75,4.75,2.75,20.75,15.75,4.75,2.75,3.5,14,6,21.5,16.75,11.75,6.75,4.75,3.75,20.75,15.75,11.75,5.75,3.75,2.75,3500,0,0.46,350,0,5,0,0,24.9,19.899999999999999,14.9,8,6.15,4.3499999999999996,23.9,18.899999999999999,13.9,7,5.15,3.35,0.5,4500,8,0.01,1000,1.5,70,40,5000,2000,76,35,2000,13,2000,8.5,8,6.5,5,6,5000]
["Cabell",{"$f":"VLOOKUP(A100,tables!$A$2:$C$56,2,0)","v":6},2030,{"$f":"VLOOKUP(A100,tables!$A$2:$C$56,3,0)","v":"02"},"West Virginia Paving, Inc., Huntington Plant","4022 Ohio River Rd., Huntington, WV 25702","Shamblin Stone","658 Winfield Rd., St Albans, WV 25177",85.75,85.75,90,90,90,101,90.5,99,106,99,106,0,0,0,0,105.5,105.5,65,2000,2.75,0.33,15,4,12,2,5,2.75,0.28000000000000003,85,30,20,10,2000,15000,6.75,4.75,3.75,2.75,20.75,15.75,4.75,2.75,20.75,15.75,4.75,2.75,3.5,14,6,22.25,17.5,12.5,6.75,4.8499999999999996,3.75,21.5,16.5,11.5,5.75,3.85,2.75,3500,0,0.28000000000000003,350,0,5,0,0,24.9,19.899999999999999,14.9,8,6.15,4.3499999999999996,23.9,18.899999999999999,13.9,7,5.15,3.35,0.5,4500,8,0.01,1000,1.5,70,40,5000,2000,76,35,2000,13,2000,8.5,8,6.5,5,6,5000]
["Cabell",{"$f":"VLOOKUP(A101,tables!$A$2:$C$56,2,0)","v":6},2031,{"$f":"VLOOKUP(A101,tables!$A$2:$C$56,3,0)","v":"02"},"West Virginia Paving, Inc., Huntington Plant","4022 Ohio River Rd., Huntington, WV 25702","WV Paving","4022 Ohio River Rd., Huntington, WV 25702",85.75,85.75,90,90,90,101,90.5,99,106,99,106,0,0,0,0,105.5,105.5,65,2000,2.75,0.33,15,4,12,2,5,2.75,0.28000000000000003,85,30,20,10,2000,15000,6.75,4.75,3.75,2.75,20.75,15.75,4.75,2.75,20.75,15.75,4.75,2.75,3.5,14,6,22.25,17.5,12.5,6.75,4.8499999999999996,3.75,21.5,16.5,11.5,5.75,3.85,2.75,3500,0,0.28000000000000003,350,0,5,0,0,24.9,19.899999999999999,14.9,8,6.15,4.3499999999999996,23.9,18.899999999999999,13.9,7,5.15,3.35,0.5,4500,8,0.01,1000,1.5,70,40,5000,2000,76,35,2000,13,2000,8.5,8,6.5,5,6,5000]
["Lincoln",{"$f":"VLOOKUP(A102,tables!$A$2:$C$56,2,0)","v":22},2032,{"$f":"VLOOKUP(A102,tables!$A$2:$C$56,3,0)","v":"02"},"West Virginia Paving, Inc., Huntington Plant","4022 Ohio River Rd., Huntington, WV 25702","Shamblin Stone","70 Dunbar Ave., Dunbar WV 25064",85.75,85.75,90,90,90,101,90.5,99,106,99,106,0,0,0,0,105.5,105.5,65,2000,2.75,0.33,15,4,12,2,5,2.75,0.28000000000000003,85,30,20,10,2000,15000,6.75,4.75,3.75,2.75,20.75,15.75,4.75,2.75,20.75,15.75,4.75,2.75,3.5,14,6,22.25,17.5,12.5,6.75,4.8499999999999996,3.75,21.5,16.5,11.5,5.75,3.85,2.75,3500,0,0.28000000000000003,350,0,5,0,0,24.9,19.899999999999999,14.9,8,6.15,4.3499999999999996,23.9,18.899999999999999,13.9,7,5.15,3.35,0.5,4500,8,0.01,1000,1.5,70,40,5000,2000,76,35,2000,13,2000,8.5,8,6.5,5,6,5000]
["Lincoln",{"$f":"VLOOKUP(A103,tables!$A$2:$C$56,2,0)","v":22},2033,{"$f":"VLOOKUP(A103,tables!$A$2:$C$56,3,0)","v":"02"},"West Virginia Paving, Inc., Huntington Plant","4022 Ohio River Rd., Huntington, WV 25702","Shamblin Stone","658 Winfield Rd., St Albans, WV 25177",85.75,85.75,90,90,90,101,90.5,99,106,99,106,0,0,0,0,105.5,105.5,65,2000,2.75,0.33,15,4,12,2,5,2.75,0.28000000000000003,85,30,20,10,2000,15000,6.75,4.75,3.75,2.75,20.75,15.75,4.75,2.75,20.75,15.75,4.75,2.75,3.5,14,6,22.25,17.5,12.5,6.75,4.8499999999999996,3.75,21.5,16.5,11.5,5.75,3.85,2.75,3500,0,0.28000000000000003,350,0,5,0,0,24.9,19.899999999999999,14.9,8,6.15,4.3499999999999996,23.9,18.899999999999999,13.9,7,5.15,3.35,0.5,4500,8,0.01,1000,1.5,70,40,5000,2000,76,35,2000,13,2000,8.5,8,6.5,5,6,5000]
["Lincoln",{"$f":"VLOOKUP(A104,tables!$A$2:$C$56,2,0)","v":22},2034,{"$f":"VLOOKUP(A104,tables!$A$2:$C$56,3,0)","v":"02"},"West Virginia Paving, Inc., Huntington Plant","4022 Ohio River Rd., Huntington, WV 25702","WV Paving","4022 Ohio River Rd., Huntington, WV 25702",85.75,85.75,90,90,90,101,90.5,99,106,99,106,0,0,0,0,105.5,105.5,65,2000,2.75,0.33,15,4,12,2,5,2.75,0.28000000000000003,85,30,20,10,2000,15000,6.75,4.75,3.75,2.75,20.75,15.75,4.75,2.75,20.75,15.75,4.75,2.75,3.5,14,6,22.25,17.5,12.5,6.75,4.8499999999999996,3.75,21.5,16.5,11.5,5.75,3.85,2.75,3500,0,0.28000000000000003,350,0,5,0,0,24.9,19.899999999999999,14.9,8,6.15,4.3499999999999996,23.9,18.899999999999999,13.9,7,5.15,3.35,0.5,4500,8,0.01,1000,1.5,70,40,5000,2000,76,35,2000,13,2000,8.5,8,6.5,5,6,5000]
["Lincoln",{"$f":"VLOOKUP(A105,tables!$A$2:$C$56,2,0)","v":22},2035,{"$f":"VLOOKUP(A105,tables!$A$2:$C$56,3,0)","v":"02"},"West Virginia Paving, Inc., Huntington Plant","4022 Ohio River Rd., Huntington, WV 25702","WV Paving","US 119 Whitman Creek Rd., Whitman, WV 25652",85.75,85.75,90,90,90,101,90.5,99,106,99,106,0,0,0,0,105.5,105.5,65,2000,2.75,0.33,15,4,12,2,5,2.75,0.28000000000000003,85,30,20,10,2000,15000,6.75,4.75,3.75,2.75,20.75,15.75,4.75,2.75,20.75,15.75,4.75,2.75,3.5,14,6,22.25,17.5,12.5,6.75,4.8499999999999996,3.75,21.5,16.5,11.5,5.75,3.85,2.75,3500,0,0.28000000000000003,350,0,5,0,0,24.9,19.899999999999999,14.9,8,6.15,4.3499999999999996,23.9,18.899999999999999,13.9,7,5.15,3.35,0.5,4500,8,0.01,1000,1.5,70,40,5000,2000,76,35,2000,13,2000,8.5,8,6.5,5,6,5000]
["Wayne",{"$f":"VLOOKUP(A106,tables!$A$2:$C$56,2,0)","v":50},2036,{"$f":"VLOOKUP(A106,tables!$A$2:$C$56,3,0)","v":"02"},"West Virginia Paving, Inc., Huntington Plant","4022 Ohio River Rd., Huntington, WV 25702","WV Paving","4022 Ohio River Rd., Huntington, WV 25702",85.75,85.75,90,90,90,101,90.5,99,106,99,106,0,0,0,0,105.5,105.5,65,2000,2.75,0.33,15,4,12,2,5,2.75,0.28000000000000003,85,30,20,10,2000,15000,6.75,4.75,3.75,2.75,20.75,15.75,4.75,2.75,20.75,15.75,4.75,2.75,3.5,14,6,22.25,17.5,12.5,6.75,4.8499999999999996,3.75,21.5,16.5,11.5,5.75,3.85,2.75,3500,0,0.28000000000000003,350,0,5,0,0,24.9,19.899999999999999,14.9,8,6.15,4.3499999999999996,23.9,18.899999999999999,13.9,7,5.15,3.35,0.5,4500,8,0.01,1000,1.5,70,40,5000,2000,76,35,2000,13,2000,8.5,8,6.5,5,6,5000]
["Lincoln",{"$f":"VLOOKUP(A107,tables!$A$2:$C$56,2,0)","v":22},2037,{"$f":"VLOOKUP(A107,tables!$A$2:$C$56,3,0)","v":"02"},"West Virginia Paving, Inc., Whitman Plant","US 119 Whitman Creek Rd., Whitman, WV 25652","Shamblin Stone","70 Dunbar Ave., Dunbar WV 25064",106.5,106.5,113,113,113,118.5,114.5,120.5,122.5,120.5,121.5,0,0,0,0,119.5,119.5,65,2000,2.75,0.33,15,4,12,2,5,2.75,0.28000000000000003,85,30,20,10,2000,15000,6.75,4.75,3.75,2.75,20.75,15.75,4.75,2.75,20.75,15.75,4.75,2.75,3.5,14,6,22.25,17.5,12.5,6.75,4.8499999999999996,3.75,21.5,16.5,11.5,5.75,3.85,2.75,3500,0,0.28000000000000003,350,0,5,0,0,24.9,19.899999999999999,14.9,8,6.15,4.3499999999999996,23.9,18.899999999999999,13.9,7,5.15,3.35,0.5,4500,8,0.01,1000,1.5,70,40,5000,2000,76,35,2000,13,2000,8.5,8,6.5,5,6,5000]
["Lincoln",{"$f":"VLOOKUP(A108,tables!$A$2:$C$56,2,0)","v":22},2038,{"$f":"VLOOKUP(A108,tables!$A$2:$C$56,3,0)","v":"02"},"West Virginia Paving, Inc., Whitman Plant","US 119 Whitman Creek Rd., Whitman, WV 25652","WV Paving","658 Winfield Rd., St Albans, WV 25177",106.5,106.5,113,113,113,118.5,114.5,120.5,122.5,120.5,121.5,0,0,0,0,119.5,119.5,65,2000,2.75,0.33,15,4,12,2,5,2.75,0.28000000000000003,85,30,20,10,2000,15000,6.75,4.75,3.75,2.75,20.75,15.75,4.75,2.75,20.75,15.75,4.75,2.75,3.5,14,6,22.25,17.5,12.5,6.75,4.8499999999999996,3.75,21.5,16.5,11.5,5.75,3.85,2.75,3500,0,0.28000000000000003,350,0,5,0,0,24.9,19.899999999999999,14.9,8,6.15,4.3499999999999996,23.9,18.899999999999999,13.9,7,5.15,3.35,0.5,4500,8,0.01,1000,1.5,70,40,5000,2000,76,35,2000,13,2000,8.5,8,6.5,5,6,5000]
["Lincoln",{"$f":"VLOOKUP(A109,tables!$A$2:$C$56,2,0)","v":22},2039,{"$f":"VLOOKUP(A109,tables!$A$2:$C$56,3,0)","v":"02"},"West Virginia Paving, Inc., Whitman Plant","US 119 Whitman Creek Rd., Whitman, WV 25652","WV Paving","US 119 Whitman Creek Rd., Whitman, WV 25652",106.5,106.5,113,113,113,118.5,114.5,120.5,122.5,120.5,121.5,0,0,0,0,119.5,119.5,65,2000,2.75,0.33,15,4,12,2,5,2.75,0.28000000000000003,85,30,20,10,2000,15000,6.75,4.75,3.75,2.75,20.75,15.75,4.75,2.75,20.75,15.75,4.75,2.75,3.5,14,6,22.25,17.5,12.5,6.75,4.8499999999999996,3.75,21.5,16.5,11.5,5.75,3.85,2.75,3500,0,0.28000000000000003,350,0,5,0,0,24.9,19.899999999999999,14.9,8,6.15,4.3499999999999996,23.9,18.899999999999999,13.9,7,5.15,3.35,0.5,4500,8,0.01,1000,1.5,70,40,5000,2000,76,35,2000,13,2000,8.5,8,6.5,5,6,5000]
["Logan",{"$f":"VLOOKUP(A110,tables!$A$2:$C$56,2,0)","v":23},2040,{"$f":"VLOOKUP(A110,tables!$A$2:$C$56,3,0)","v":"02"},"West Virginia Paving, Inc., Whitman Plant","US 119 Whitman Creek Rd., Whitman, WV 25652","WV Paving","US 119 Whitman Creek Rd., Whitman, WV 25652",106.5,106.5,113,113,113,118.5,114.5,120.5,122.5,120.5,121.5,0,0,0,0,119.5,119.5,65,2000,2.75,0.33,15,4,12,2,5,2.75,0.28000000000000003,85,30,20,10,2000,15000,6.75,4.75,3.75,2.75,20.75,15.75,4.75,2.75,20.75,15.75,4.75,2.75,3.5,14,6,22.25,17.5,12.5,6.75,4.8499999999999996,3.75,21.5,16.5,11.5,5.75,3.85,2.75,3500,0,0.28000000000000003,350,0,5,0,0,24.9,19.899999999999999,14.9,8,6.15,4.3499999999999996,23.9,18.899999999999999,13.9,7,5.15,3.35,0.5,4500,8,0.01,1000,1.5,70,40,5000,2000,76,35,2000,13,2000,8.5,8,6.5,5,6,5000]
["Mingo",{"$f":"VLOOKUP(A111,tables!$A$2:$C$56,2,0)","v":30},2041,{"$f":"VLOOKUP(A111,tables!$A$2:$C$56,3,0)","v":"02"},"West Virginia Paving, Inc., Whitman Plant","US 119 Whitman Creek Rd., Whitman, WV 25652","WV Paving","4022 Ohio River Rd., Huntington, WV 25702",106.5,106.5,113,113,113,118.5,114.5,120.5,122.5,120.5,121.5,0,0,0,0,119.5,119.5,65,2000,2.75,0.33,15,4,12,2,5,2.75,0.28000000000000003,85,30,20,10,2000,15000,6.75,4.75,3.75,2.75,20.75,15.75,4.75,2.75,20.75,15.75,4.75,2.75,3.5,14,6,22.25,17.5,12.5,6.75,4.8499999999999996,3.75,21.5,16.5,11.5,5.75,3.85,2.75,3500,0,0.28000000000000003,350,0,5,0,0,24.9,19.899999999999999,14.9,8,6.15,4.3499999999999996,23.9,18.899999999999999,13.9,7,5.15,3.35,0.5,4500,8,0.01,1000,1.5,70,40,5000,2000,76,35,2000,13,2000,8.5,8,6.5,5,6,5000]
["Jackson",{"$f":"VLOOKUP(A112,tables!$A$2:$C$56,2,0)","v":18},3001,{"$f":"VLOOKUP(A112,tables!$A$2:$C$56,3,0)","v":"03"},"BTI Contracting Inc. St. Albans","484 Industrial Rd, St Albans, WV 25177","Scary Creek Materials"," #9 Orders Way, Winfield, WV",78.94,79.89,80.72,80.72,81.39,91.22,83.54,88.1,97.57,88.1,97.57,118.91,118.95,113.94,118.92,96.22,96.22,67.5,1950,2.9,0.3,5,5,12.5,1.75,4.5,3,0.27,83,29.75,19.5,9.6999999999999993,1750,8000,7,5,4,3,21.25,16,6,4,20.75,16,6,4,3.25,13,5,23,16.75,11.75,6.6,4.5,3.4,20.25,15.25,9.75,5,3.25,2.25,3250,0,0.27,345,0,5,0,0,24,18,13.5,7.25,5.5,3.6,22.5,16.5,12,6,4.4000000000000004,2.6,0.75,4250,7.25,0.01,960,1,69,40,3500,1250,75,40,1750,22,1950,9.5,7.4,6,4.55,5.25,5000]
["Roane",{"$f":"VLOOKUP(A113,tables!$A$2:$C$56,2,0)","v":44},3002,{"$f":"VLOOKUP(A113,tables!$A$2:$C$56,3,0)","v":"03"},"BTI Contracting Inc. St. Albans","484 Industrial Rd, St Albans, WV 25177","Scary Creek Materials"," #9 Orders Way, Winfield, WV",78.94,79.89,80.72,80.72,81.39,91.22,83.54,88.1,97.57,88.1,97.57,118.91,118.95,113.94,118.92,96.22,96.22,67.5,1950,2.9,0.3,5,5,12.5,1.75,4.5,3,0.27,83,29.75,19.5,9.6999999999999993,1750,8000,7,5,4,3,21.25,16,6,4,20.75,16,6,4,3.25,13,5,23,16.75,11.75,6.6,4.5,3.4,20.25,15.25,9.75,5,3.25,2.25,3250,0,0.27,345,0,5,0,0,24,18,13.5,7.25,5.5,3.6,22.5,16.5,12,6,4.4000000000000004,2.6,0.75,4250,7.25,0.01,960,1,69,40,3500,1250,75,40,1750,22,1950,9.5,7.4,6,4.55,5.25,5000]
["Jackson",{"$f":"VLOOKUP(A114,tables!$A$2:$C$56,2,0)","v":18},3003,{"$f":"VLOOKUP(A114,tables!$A$2:$C$56,3,0)","v":"03"},"BTI Contracting Inc. St. Albans","484 Industrial Rd, St Albans, WV 25177","Valley Stone Yard","360 Valley Rd., Millwood WV, 25262",78.94,79.89,80.72,80.72,81.39,91.22,83.54,88.1,97.57,88.1,97.57,118.91,118.95,113.94,118.92,96.22,96.22,67.5,1950,2.9,0.3,5,5,12.5,1.75,4.5,3,0.27,83,29.75,19.5,9.6999999999999993,1750,8000,7,5,4,3,21.25,16,6,4,20.75,16,6,4,3.25,13,5,23,16.75,11.75,6.6,4.5,3.4,20.25,15.25,9.75,5,3.25,2.25,3250,0,0.27,345,0,5,0,0,24,18,13.5,7.25,5.5,3.6,22.5,16.5,12,6,4.4000000000000004,2.6,0.75,4250,7.25,0.01,960,1,69,40,3500,1250,75,40,1750,22,1950,9.5,7.4,6,4.55,5.25,5000]
["Roane",{"$f":"VLOOKUP(A115,tables!$A$2:$C$56,2,0)","v":44},3004,{"$f":"VLOOKUP(A115,tables!$A$2:$C$56,3,0)","v":"03"},"BTI Contracting Inc. St. Albans","484 Industrial Rd, St Albans, WV 25177","Valley Stone Yard","360 Valley Rd., Millwood WV, 25262",78.94,79.89,80.72,80.72,81.39,91.22,83.54,88.1,97.57,88.1,97.57,118.91,118.95,113.94,118.92,96.22,96.22,67.5,1950,2.9,0.3,5,5,12.5,1.75,4.5,3,0.27,83,29.75,19.5,9.6999999999999993,1750,8000,7,5,4,3,21.25,16,6,4,20.75,16,6,4,3.25,13,5,23,16.75,11.75,6.6,4.5,3.4,20.25,15.25,9.75,5,3.25,2.25,3250,0,0.27,345,0,5,0,0,24,18,13.5,7.25,5.5,3.6,22.5,16.5,12,6,4.4000000000000004,2.6,0.75,4250,7.25,0.01,960,1,69,40,3500,1250,75,40,1750,22,1950,9.5,7.4,6,4.55,5.25,5000]
["Ritchie",{"$f":"VLOOKUP(A116,tables!$A$2:$C$56,2,0)","v":43},3005,{"$f":"VLOOKUP(A116,tables!$A$2:$C$56,3,0)","v":"03"},"Greer Industries Inc., Clarksburg Asphalt Co.","2399 Benedum Dr. Rt. 131, Bridgeport,WV 26330","Greer Limestone Co","5630 Earl L. Core Road Rt 7, Morgantown, WV 26508",65.5,69,68,68,69,74,71.8,76,80.3,76,78,104,107,93,97,81.400000000000006,81.400000000000006,28,1000,3,0.3,6,6,11,0,0,3,0.3,100,42,15,8,1000,1250,14,13,6,4,18,16,7,5,18,16,7,5,4.5,12.5,3,24,17,10.1,6.1,3,2.1,22,13.5,8.25,4.5,2.25,1.65,2250,0,0.5,250,215,10,85,105,24,17.5,11.25,6.1,3,2.1,22,13.5,8.25,4.5,2.2999999999999998,1.65,3,3000,5,7.0000000000000007E-2,700,1.1000000000000001,60,55,3000,1500,60,60,3000,25,2000,9,8,6,5,8.5,2500]
["Calhoun",{"$f":"VLOOKUP(A117,tables!$A$2:$C$56,2,0)","v":7},3006,{"$f":"VLOOKUP(A117,tables!$A$2:$C$56,3,0)","v":"03"},"JF Allen Company, Buckhannon Plant","320 Alcon Rd., Buckhannon, WV 26201","Aggregates Quarry","3105 Harrison Ave., Elkins WV 26241",73.69,77.88,78.16,78.16,78.36,82.35,78.19,83.3,88.54,83.31,88.7,104.61,107.35,100.87,104.33,89.45,92.33,32,2000,3,0.3,4.75,4.75,12.5,2,5,3,0.3,111,44,20,10.5,2000,10000,7.25,4.5,3.5,2.5,21,16,6.5,4,21,16,6.5,4,4,13,5,29.75,16.100000000000001,10.4,5,3.95,2.5,29.6,15,8.5,4,3.1,2,4250,0,0.75,300,0,5,0,0,29.9,19.75,12.85,8.1,6.75,3,29.9,19.75,12.7,8.1,5,2.5,0.5,4250,6.25,0.01,850,1.55,65,41,3500,1500,46,31,1950,17,2450,10.050000000000001,8.5,7.5,5.5,5.5,4750]
["Ritchie",{"$f":"VLOOKUP(A118,tables!$A$2:$C$56,2,0)","v":43},3007,{"$f":"VLOOKUP(A118,tables!$A$2:$C$56,3,0)","v":"03"},"JF Allen Company, Buckhannon Plant","320 Alcon Rd., Buckhannon, WV 26201","Aggregates Quarry","3105 Harrison Ave., Elkins WV 26241",73.69,77.88,78.16,78.16,78.36,82.35,78.19,83.3,88.54,83.31,88.7,104.61,107.35,100.87,104.33,89.45,92.33,32,2000,3,0.3,4.75,4.75,12.5,2,5,3,0.3,111,44,20,10.5,2000,10000,7.25,4.5,3.5,2.5,21,16,6.5,4,21,16,6.5,4,4,13,5,29.75,16.100000000000001,10.4,5,3.95,2.5,29.6,15,8.5,4,3.1,2,4250,0,0.75,300,0,5,0,0,29.9,19.75,12.85,8.1,6.75,3,29.9,19.75,12.7,8.1,5,2.5,0.5,4250,6.25,0.01,850,1.55,65,41,3500,1500,46,31,1950,17,2450,10.050000000000001,8.5,7.5,5.5,5.5,4750]
["Calhoun",{"$f":"VLOOKUP(A119,tables!$A$2:$C$56,2,0)","v":7},3008,{"$f":"VLOOKUP(A119,tables!$A$2:$C$56,3,0)","v":"03"},"JF Allen Company, Saltwell Plant","5856 Saltwell Rd., Bridgeport, WV 26330","Aggregates Quarry","3105 Harrison Ave., Elkins WV 26241",74.430000000000007,78.36,78.3,78.3,78.36,82.35,78.33,83.3,88.54,83.31,88.7,112.17,115.06,110.28,111.37,93.09,95.88,32,2000,3,0.3,4.75,4.75,12.5,2,5,3,0.3,111,44,20,10.5,2000,10000,7.25,4.5,3.5,2.5,21,16,6.5,4,21,16,6.5,4,4,13,5,29.75,16.100000000000001,10.4,5,3.95,2.5,29.6,15,8.5,4,3.1,2,4250,0,0.75,300,0,5,0,0,29.9,19.75,12.85,8.1,6.75,3,29.9,19.75,12.7,8.1,5,2.5,0.5,4250,6.25,0.01,850,1.55,65,41,3500,1500,46,31,1950,17,2450,10.050000000000001,8.5,7.5,5.5,5.5,4750]
["Ritchie",{"$f":"VLOOKUP(A120,tables!$A$2:$C$56,2,0)","v":43},3009,{"$f":"VLOOKUP(A120,tables!$A$2:$C$56,3,0)","v":"03"},"JF Allen Company, Saltwell Plant","5856 Saltwell Rd., Bridgeport, WV 26330","Aggregates Quarry","3105 Harrison Ave., Elkins WV 26241",74.430000000000007,78.36,78.3,78.3,78.36,82.35,78.33,83.3,88.54,83.31,88.7,112.17,115.06,110.28,111.37,93.09,95.88,32,2000,3,0.3,4.75,4.75,12.5,2,5,3,0.3,111,44,20,10.5,2000,10000,7.25,4.5,3.5,2.5,21,16,6.5,4,21,16,6.5,4,4,13,5,29.75,16.100000000000001,10.4,5,3.95,2.5,29.6,15,8.5,4,3.1,2,4250,0,0.75,300,0,5,0,0,29.9,19.75,12.85,8.1,6.75,3,29.9,19.75,12.7,8.1,5,2.5,0.5,4250,6.25,0.01,850,1.55,65,41,3500,1500,46,31,1950,17,2450,10.050000000000001,8.5,7.5,5.5,5.5,4750]
["Calhoun",{"$f":"VLOOKUP(A121,tables!$A$2:$C$56,2,0)","v":7},3010,{"$f":"VLOOKUP(A121,tables!$A$2:$C$56,3,0)","v":"03"},"Kelly Paving Camden Materials","202 Hickory St., Parkersburg, WV 26101","Martin Marietta","99 Kanawha St., Parkersburg, WV 26101",85.5,88.75,88,88,89.25,102.75,89.25,92.25,102.75,91.5,101.75,104,104,104,104,94.25,104.75,55,1500,3,0.35,5,5,15,2,4,3,0.35,90,40,15,8,1000,5000,6.5,4,2.5,2,25,15,4,2,25,15,4,2,3.5,10,5,22,18,11,5.5,3.5,2.5,21,17,10,5,3,2,3000,0,0.35,350,122.5,4,50,112.5,24,19,13,7,4.5,3.5,23,18,12,6,4,3,0.5,3000,6.5,0.01,850,1,72,25,2500,500,40,28,1250,8,800,9,8,6,5,6,1000]
["Jackson",{"$f":"VLOOKUP(A122,tables!$A$2:$C$56,2,0)","v":18},3011,{"$f":"VLOOKUP(A122,tables!$A$2:$C$56,3,0)","v":"03"},"Kelly Paving Camden Materials","202 Hickory St., Parkersburg, WV 26101","Martin Marietta","99 Kanawha St., Parkersburg, WV 26101",85.5,88.75,88,88,89.25,102.75,89.25,92.25,102.75,91.5,101.75,104,104,104,104,94.25,104.75,55,1500,3,0.35,5,5,15,2,4,3,0.35,90,40,15,8,1000,5000,6.5,4,2.5,2,25,15,4,2,25,15,4,2,3.5,10,5,22,18,11,5.5,3.5,2.5,21,17,10,5,3,2,3000,0,0.35,350,122.5,4,50,112.5,24,19,13,7,4.5,3.5,23,18,12,6,4,3,0.5,3000,6.5,0.01,850,1,72,25,2500,500,40,28,1250,8,800,9,8,6,5,6,1000]
["Pleasants",{"$f":"VLOOKUP(A123,tables!$A$2:$C$56,2,0)","v":37},3012,{"$f":"VLOOKUP(A123,tables!$A$2:$C$56,3,0)","v":"03"},"Kelly Paving Camden Materials","202 Hickory St., Parkersburg, WV 26101","Martin Marietta","99 Kanawha St., Parkersburg, WV 26101",85.5,88.75,88,88,89.25,102.75,89.25,92.25,102.75,91.5,101.75,104,104,104,104,94.25,104.75,55,1500,3,0.35,5,5,15,2,4,3,0.35,90,40,15,8,1000,5000,6.5,4,2.5,2,25,15,4,2,25,15,4,2,3.5,10,5,22,18,11,5.5,3.5,2.5,21,17,10,5,3,2,3000,0,0.35,350,122.5,4,50,112.5,24,19,13,7,4.5,3.5,23,18,12,6,4,3,0.5,3000,6.5,0.01,850,1,72,25,2500,500,40,28,1250,8,800,9,8,6,5,6,1000]
["Ritchie",{"$f":"VLOOKUP(A124,tables!$A$2:$C$56,2,0)","v":43},3013,{"$f":"VLOOKUP(A124,tables!$A$2:$C$56,3,0)","v":"03"},"Kelly Paving Camden Materials","202 Hickory St., Parkersburg, WV 26101","Martin Marietta","99 Kanawha St., Parkersburg, WV 26101",85.5,88.75,88,88,89.25,102.75,89.25,92.25,102.75,91.5,101.75,104,104,104,104,94.25,104.75,55,1500,3,0.35,5,5,15,2,4,3,0.35,90,40,15,8,1000,5000,6.5,4,2.5,2,25,15,4,2,25,15,4,2,3.5,10,5,22,18,11,5.5,3.5,2.5,21,17,10,5,3,2,3000,0,0.35,350,122.5,4,50,112.5,24,19,13,7,4.5,3.5,23,18,12,6,4,3,0.5,3000,6.5,0.01,850,1,72,25,2500,500,40,28,1250,8,800,9,8,6,5,6,1000]
["Roane",{"$f":"VLOOKUP(A125,tables!$A$2:$C$56,2,0)","v":44},3014,{"$f":"VLOOKUP(A125,tables!$A$2:$C$56,3,0)","v":"03"},"Kelly Paving Camden Materials","202 Hickory St., Parkersburg, WV 26101","Martin Marietta","99 Kanawha St., Parkersburg, WV 26101",85.5,88.75,88,88,89.25,102.75,89.25,92.25,102.75,91.5,101.75,104,104,104,104,94.25,104.75,55,1500,3,0.35,5,5,15,2,4,3,0.35,90,40,15,8,1000,5000,6.5,4,2.5,2,25,15,4,2,25,15,4,2,3.5,10,5,22,18,11,5.5,3.5,2.5,21,17,10,5,3,2,3000,0,0.35,350,122.5,4,50,112.5,24,19,13,7,4.5,3.5,23,18,12,6,4,3,0.5,3000,6.5,0.01,850,1,72,25,2500,500,40,28,1250,8,800,9,8,6,5,6,1000]
["Wirt",{"$f":"VLOOKUP(A126,tables!$A$2:$C$56,2,0)","v":53},3015,{"$f":"VLOOKUP(A126,tables!$A$2:$C$56,3,0)","v":"03"},"Kelly Paving Camden Materials","202 Hickory St., Parkersburg, WV 26101","Martin Marietta","99 Kanawha St., Parkersburg, WV 26101",85.5,88.75,88,88,89.25,102.75,89.25,92.25,102.75,91.5,101.75,104,104,104,104,94.25,104.75,55,1500,3,0.35,5,5,15,2,4,3,0.35,90,40,15,8,1000,5000,6.5,4,2.5,2,25,15,4,2,25,15,4,2,3.5,10,5,22,18,11,5.5,3.5,2.5,21,17,10,5,3,2,3000,0,0.35,350,122.5,4,50,112.5,24,19,13,7,4.5,3.5,23,18,12,6,4,3,0.5,3000,6.5,0.01,850,1,72,25,2500,500,40,28,1250,8,800,9,8,6,5,6,1000]
["Wood",{"$f":"VLOOKUP(A127,tables!$A$2:$C$56,2,0)","v":54},3016,{"$f":"VLOOKUP(A127,tables!$A$2:$C$56,3,0)","v":"03"},"Kelly Paving Camden Materials","202 Hickory St., Parkersburg, WV 26101","Martin Marietta","99 Kanawha St., Parkersburg, WV 26101",85.5,88.75,88,88,89.25,102.75,89.25,92.25,102.75,91.5,101.75,104,104,104,104,94.25,104.75,55,1500,3,0.35,5,5,15,2,4,3,0.35,90,40,15,8,1000,5000,6.5,4,2.5,2,25,15,4,2,25,15,4,2,3.5,10,5,22,18,11,5.5,3.5,2.5,21,17,10,5,3,2,3000,0,0.35,350,122.5,4,50,112.5,24,19,13,7,4.5,3.5,23,18,12,6,4,3,0.5,3000,6.5,0.01,850,1,72,25,2500,500,40,28,1250,8,800,9,8,6,5,6,1000]
["Calhoun",{"$f":"VLOOKUP(A128,tables!$A$2:$C$56,2,0)","v":7},3017,{"$f":"VLOOKUP(A128,tables!$A$2:$C$56,3,0)","v":"03"},"Kelly Paving Inc., Plant #14","123 Dodd Dr., St. Marys, WV 26170","Kelly Paving Inc.","123 Dodd Dr., St. Marys, WV 26170",82,88,88,88,88,100,88,92,103,92,100,0,0,102,104,96,102,55,1500,3,0.35,7,6,15,2,4,3,0.35,90,40,15,8,1000,5000,6.5,4,2.5,2,25,15,4,2,25,15,4,2,3.5,10,5,22,18,11,5.5,3.5,2.5,21,17,10,5,3,2,3000,0,0.35,350,0,3.5,0,0,24,19,13,7,4.5,3.5,23,18,12,6,4,3,0.5,3000,6.5,0.01,850,1,72,25,5000,500,40,28,1250,8,800,9,8,6,5,6,1000]
["Jackson",{"$f":"VLOOKUP(A129,tables!$A$2:$C$56,2,0)","v":18},3018,{"$f":"VLOOKUP(A129,tables!$A$2:$C$56,3,0)","v":"03"},"Kelly Paving Inc., Plant #14","123 Dodd Dr., St. Marys, WV 26170",null,null,82,88,88,88,88,100,88,92,103,92,100,0,0,102,104,96,102,55,1500,3,0.35,7,6,15,2,4,3,0.35,90,40,15,8,1000,5000,6.5,4,2.5,2,25,15,4,2,25,15,4,2,3.5,10,5,22,18,11,5.5,3.5,2.5,21,17,10,5,3,2,3000,0,0.35,350,0,3.5,0,0,24,19,13,7,4.5,3.5,23,18,12,6,4,3,0.5,3000,6.5,0.01,850,1,72,25,5000,500,40,28,1250,8,800,9,8,6,5,6,1000]
["Pleasants",{"$f":"VLOOKUP(A130,tables!$A$2:$C$56,2,0)","v":37},3019,{"$f":"VLOOKUP(A130,tables!$A$2:$C$56,3,0)","v":"03"},"Kelly Paving Inc., Plant #14","123 Dodd Dr., St. Marys, WV 26170","Kelly Paving Inc.","123 Dodd Dr., St. Marys, WV 26170",82,88,88,88,88,100,88,92,103,92,100,0,0,102,104,96,102,55,1500,3,0.35,7,6,15,2,4,3,0.35,90,40,15,8,1000,5000,6.5,4,2.5,2,25,15,4,2,25,15,4,2,3.5,10,5,22,18,11,5.5,3.5,2.5,21,17,10,5,3,2,3000,0,0.35,350,0,3.5,0,0,24,19,13,7,4.5,3.5,23,18,12,6,4,3,0.5,3000,6.5,0.01,850,1,72,25,5000,500,40,28,1250,8,800,9,8,6,5,6,1000]
["Ritchie",{"$f":"VLOOKUP(A131,tables!$A$2:$C$56,2,0)","v":43},3020,{"$f":"VLOOKUP(A131,tables!$A$2:$C$56,3,0)","v":"03"},"Kelly Paving Inc., Plant #14","123 Dodd Dr., St. Marys, WV 26170","Kelly Paving Inc.","123 Dodd Dr., St. Marys, WV 26170",82,88,88,88,88,100,88,92,103,92,100,0,0,102,104,96,102,55,1500,3,0.35,7,6,15,2,4,3,0.35,90,40,15,8,1000,5000,6.5,4,2.5,2,25,15,4,2,25,15,4,2,3.5,10,5,22,18,11,5.5,3.5,2.5,21,17,10,5,3,2,3000,0,0.35,350,0,3.5,0,0,24,19,13,7,4.5,3.5,23,18,12,6,4,3,0.5,3000,6.5,0.01,850,1,72,25,5000,500,40,28,1250,8,800,9,8,6,5,6,1000]
["Roane",{"$f":"VLOOKUP(A132,tables!$A$2:$C$56,2,0)","v":44},3021,{"$f":"VLOOKUP(A132,tables!$A$2:$C$56,3,0)","v":"03"},"Kelly Paving Inc., Plant #14","123 Dodd Dr., St. Marys, WV 26170","Kelly Paving Inc.","123 Dodd Dr., St. Marys, WV 26170",82,88,88,88,88,100,88,92,103,92,100,0,0,102,104,96,102,55,1500,3,0.35,7,6,15,2,4,3,0.35,90,40,15,8,1000,5000,6.5,4,2.5,2,25,15,4,2,25,15,4,2,3.5,10,5,22,18,11,5.5,3.5,2.5,21,17,10,5,3,2,3000,0,0.35,350,0,3.5,0,0,24,19,13,7,4.5,3.5,23,18,12,6,4,3,0.5,3000,6.5,0.01,850,1,72,25,5000,500,40,28,1250,8,800,9,8,6,5,6,1000]
["Wirt",{"$f":"VLOOKUP(A133,tables!$A$2:$C$56,2,0)","v":53},3022,{"$f":"VLOOKUP(A133,tables!$A$2:$C$56,3,0)","v":"03"},"Kelly Paving Inc., Plant #14","123 Dodd Dr., St. Marys, WV 26170","Kelly Paving Inc.","123 Dodd Dr., St. Marys, WV 26170",82,88,88,88,88,100,88,92,103,92,100,0,0,102,104,96,102,55,1500,3,0.35,7,6,15,2,4,3,0.35,90,40,15,8,1000,5000,6.5,4,2.5,2,25,15,4,2,25,15,4,2,3.5,10,5,22,18,11,5.5,3.5,2.5,21,17,10,5,3,2,3000,0,0.35,350,0,3.5,0,0,24,19,13,7,4.5,3.5,23,18,12,6,4,3,0.5,3000,6.5,0.01,850,1,72,25,5000,500,40,28,1250,8,800,9,8,6,5,6,1000]
["Wood",{"$f":"VLOOKUP(A134,tables!$A$2:$C$56,2,0)","v":54},3023,{"$f":"VLOOKUP(A134,tables!$A$2:$C$56,3,0)","v":"03"},"Kelly Paving Inc., Plant #14","123 Dodd Dr., St. Marys, WV 26170","Kelly Paving Inc.","123 Dodd Dr., St. Marys, WV 26170",82,88,88,88,88,100,88,92,103,92,100,0,0,102,104,96,102,55,1500,3,0.35,7,6,15,2,4,3,0.35,90,40,15,8,1000,5000,6.5,4,2.5,2,25,15,4,2,25,15,4,2,3.5,10,5,22,18,11,5.5,3.5,2.5,21,17,10,5,3,2,3000,0,0.35,350,0,3.5,0,0,24,19,13,7,4.5,3.5,23,18,12,6,4,3,0.5,3000,6.5,0.01,850,1,72,25,5000,500,40,28,1250,8,800,9,8,6,5,6,1000]
["Calhoun",{"$f":"VLOOKUP(A135,tables!$A$2:$C$56,2,0)","v":7},3024,{"$f":"VLOOKUP(A135,tables!$A$2:$C$56,3,0)","v":"03"},"Kelly Paving Inc., Plant #14","123 Dodd Dr., St. Marys, WV 26170","Martin Marietta","619 Sand Hill Way, Petroleum, WV 26161",82,88,88,88,88,100,88,92,103,92,100,0,0,102,104,96,102,55,1500,3,0.35,7,6,15,2,4,3,0.35,90,40,15,8,1000,5000,6.5,4,2.5,2,25,15,4,2,25,15,4,2,3.5,10,5,22,18,11,5.5,3.5,2.5,21,17,10,5,3,2,3000,0,0.35,350,0,3.5,0,0,24,19,13,7,4.5,3.5,23,18,12,6,4,3,0.5,3000,6.5,0.01,850,1,72,25,5000,500,40,28,1250,8,800,9,8,6,5,6,1000]
["Jackson",{"$f":"VLOOKUP(A136,tables!$A$2:$C$56,2,0)","v":18},3025,{"$f":"VLOOKUP(A136,tables!$A$2:$C$56,3,0)","v":"03"},"Kelly Paving Inc., Plant #14","123 Dodd Dr., St. Marys, WV 26170",null,null,82,88,88,88,88,100,88,92,103,92,100,0,0,102,104,96,102,55,1500,3,0.35,7,6,15,2,4,3,0.35,90,40,15,8,1000,5000,6.5,4,2.5,2,25,15,4,2,25,15,4,2,3.5,10,5,22,18,11,5.5,3.5,2.5,21,17,10,5,3,2,3000,0,0.35,350,0,3.5,0,0,24,19,13,7,4.5,3.5,23,18,12,6,4,3,0.5,3000,6.5,0.01,850,1,72,25,5000,500,40,28,1250,8,800,9,8,6,5,6,1000]
["Pleasants",{"$f":"VLOOKUP(A137,tables!$A$2:$C$56,2,0)","v":37},3026,{"$f":"VLOOKUP(A137,tables!$A$2:$C$56,3,0)","v":"03"},"Kelly Paving Inc., Plant #14","123 Dodd Dr., St. Marys, WV 26170","Martin Marietta","619 Sand Hill Way, Petroleum, WV 26161",82,88,88,88,88,100,88,92,103,92,100,0,0,102,104,96,102,55,1500,3,0.35,7,6,15,2,4,3,0.35,90,40,15,8,1000,5000,6.5,4,2.5,2,25,15,4,2,25,15,4,2,3.5,10,5,22,18,11,5.5,3.5,2.5,21,17,10,5,3,2,3000,0,0.35,350,0,3.5,0,0,24,19,13,7,4.5,3.5,23,18,12,6,4,3,0.5,3000,6.5,0.01,850,1,72,25,5000,500,40,28,1250,8,800,9,8,6,5,6,1000]
["Ritchie",{"$f":"VLOOKUP(A138,tables!$A$2:$C$56,2,0)","v":43},3027,{"$f":"VLOOKUP(A138,tables!$A$2:$C$56,3,0)","v":"03"},"Kelly Paving Inc., Plant #14","123 Dodd Dr., St. Marys, WV 26170","Martin Marietta","619 Sand Hill Way, Petroleum, WV 26161",82,88,88,88,88,100,88,92,103,92,100,0,0,102,104,96,102,55,1500,3,0.35,7,6,15,2,4,3,0.35,90,40,15,8,1000,5000,6.5,4,2.5,2,25,15,4,2,25,15,4,2,3.5,10,5,22,18,11,5.5,3.5,2.5,21,17,10,5,3,2,3000,0,0.35,350,0,3.5,0,0,24,19,13,7,4.5,3.5,23,18,12,6,4,3,0.5,3000,6.5,0.01,850,1,72,25,5000,500,40,28,1250,8,800,9,8,6,5,6,1000]
["Roane",{"$f":"VLOOKUP(A139,tables!$A$2:$C$56,2,0)","v":44},3028,{"$f":"VLOOKUP(A139,tables!$A$2:$C$56,3,0)","v":"03"},"Kelly Paving Inc., Plant #14","123 Dodd Dr., St. Marys, WV 26170","Martin Marietta","619 Sand Hill Way, Petroleum, WV 26161",82,88,88,88,88,100,88,92,103,92,100,0,0,102,104,96,102,55,1500,3,0.35,7,6,15,2,4,3,0.35,90,40,15,8,1000,5000,6.5,4,2.5,2,25,15,4,2,25,15,4,2,3.5,10,5,22,18,11,5.5,3.5,2.5,21,17,10,5,3,2,3000,0,0.35,350,0,3.5,0,0,24,19,13,7,4.5,3.5,23,18,12,6,4,3,0.5,3000,6.5,0.01,850,1,72,25,5000,500,40,28,1250,8,800,9,8,6,5,6,1000]
["Wirt",{"$f":"VLOOKUP(A140,tables!$A$2:$C$56,2,0)","v":53},3029,{"$f":"VLOOKUP(A140,tables!$A$2:$C$56,3,0)","v":"03"},"Kelly Paving Inc., Plant #14","123 Dodd Dr., St. Marys, WV 26170","Martin Marietta","619 Sand Hill Way, Petroleum, WV 26161",82,88,88,88,88,100,88,92,103,92,100,0,0,102,104,96,102,55,1500,3,0.35,7,6,15,2,4,3,0.35,90,40,15,8,1000,5000,6.5,4,2.5,2,25,15,4,2,25,15,4,2,3.5,10,5,22,18,11,5.5,3.5,2.5,21,17,10,5,3,2,3000,0,0.35,350,0,3.5,0,0,24,19,13,7,4.5,3.5,23,18,12,6,4,3,0.5,3000,6.5,0.01,850,1,72,25,5000,500,40,28,1250,8,800,9,8,6,5,6,1000]
["Wood",{"$f":"VLOOKUP(A141,tables!$A$2:$C$56,2,0)","v":54},3030,{"$f":"VLOOKUP(A141,tables!$A$2:$C$56,3,0)","v":"03"},"Kelly Paving Inc., Plant #14","123 Dodd Dr., St. Marys, WV 26170","Martin Marietta","619 Sand Hill Way, Petroleum, WV 26161",82,88,88,88,88,100,88,92,103,92,100,0,0,102,104,96,102,55,1500,3,0.35,7,6,15,2,4,3,0.35,90,40,15,8,1000,5000,6.5,4,2.5,2,25,15,4,2,25,15,4,2,3.5,10,5,22,18,11,5.5,3.5,2.5,21,17,10,5,3,2,3000,0,0.35,350,0,3.5,0,0,24,19,13,7,4.5,3.5,23,18,12,6,4,3,0.5,3000,6.5,0.01,850,1,72,25,5000,500,40,28,1250,8,800,9,8,6,5,6,1000]
["Calhoun",{"$f":"VLOOKUP(A142,tables!$A$2:$C$56,2,0)","v":7},3031,{"$f":"VLOOKUP(A142,tables!$A$2:$C$56,3,0)","v":"03"},"Kelly Paving Inc., Plant #14","123 Dodd Dr., St. Marys, WV 26170","Martin Marietta","99 Kanawha St., Parkersburg, WV 26101",82,88,88,88,88,100,88,92,103,92,100,0,0,102,104,96,102,55,1500,3,0.35,7,6,15,2,4,3,0.35,90,40,15,8,1000,5000,6.5,4,2.5,2,25,15,4,2,25,15,4,2,3.5,10,5,22,18,11,5.5,3.5,2.5,21,17,10,5,3,2,3000,0,0.35,350,0,3.5,0,0,24,19,13,7,4.5,3.5,23,18,12,6,4,3,0.5,3000,6.5,0.01,850,1,72,25,5000,500,40,28,1250,8,800,9,8,6,5,6,1000]
["Jackson",{"$f":"VLOOKUP(A143,tables!$A$2:$C$56,2,0)","v":18},3032,{"$f":"VLOOKUP(A143,tables!$A$2:$C$56,3,0)","v":"03"},"Kelly Paving Inc., Plant #14","123 Dodd Dr., St. Marys, WV 26170","Martin Marietta","99 Kanawha St., Parkersburg, WV 26101",82,88,88,88,88,100,88,92,103,92,100,0,0,102,104,96,102,55,1500,3,0.35,7,6,15,2,4,3,0.35,90,40,15,8,1000,5000,6.5,4,2.5,2,25,15,4,2,25,15,4,2,3.5,10,5,22,18,11,5.5,3.5,2.5,21,17,10,5,3,2,3000,0,0.35,350,0,3.5,0,0,24,19,13,7,4.5,3.5,23,18,12,6,4,3,0.5,3000,6.5,0.01,850,1,72,25,5000,500,40,28,1250,8,800,9,8,6,5,6,1000]
["Pleasants",{"$f":"VLOOKUP(A144,tables!$A$2:$C$56,2,0)","v":37},3033,{"$f":"VLOOKUP(A144,tables!$A$2:$C$56,3,0)","v":"03"},"Kelly Paving Inc., Plant #14","123 Dodd Dr., St. Marys, WV 26170","Martin Marietta","195 Wetzel St., New Martinsville, WV 26155",82,88,88,88,88,100,88,92,103,92,100,0,0,102,104,96,102,55,1500,3,0.35,7,6,15,2,4,3,0.35,90,40,15,8,1000,5000,6.5,4,2.5,2,25,15,4,2,25,15,4,2,3.5,10,5,22,18,11,5.5,3.5,2.5,21,17,10,5,3,2,3000,0,0.35,350,0,3.5,0,0,24,19,13,7,4.5,3.5,23,18,12,6,4,3,0.5,3000,6.5,0.01,850,1,72,25,5000,500,40,28,1250,8,800,9,8,6,5,6,1000]
["Ritchie",{"$f":"VLOOKUP(A145,tables!$A$2:$C$56,2,0)","v":43},3034,{"$f":"VLOOKUP(A145,tables!$A$2:$C$56,3,0)","v":"03"},"Kelly Paving Inc., Plant #14","123 Dodd Dr., St. Marys, WV 26170","Martin Marietta","99 Kanawha St., Parkersburg, WV 26101",82,88,88,88,88,100,88,92,103,92,100,0,0,102,104,96,102,55,1500,3,0.35,7,6,15,2,4,3,0.35,90,40,15,8,1000,5000,6.5,4,2.5,2,25,15,4,2,25,15,4,2,3.5,10,5,22,18,11,5.5,3.5,2.5,21,17,10,5,3,2,3000,0,0.35,350,0,3.5,0,0,24,19,13,7,4.5,3.5,23,18,12,6,4,3,0.5,3000,6.5,0.01,850,1,72,25,5000,500,40,28,1250,8,800,9,8,6,5,6,1000]
["Roane",{"$f":"VLOOKUP(A146,tables!$A$2:$C$56,2,0)","v":44},3035,{"$f":"VLOOKUP(A146,tables!$A$2:$C$56,3,0)","v":"03"},"Kelly Paving Inc., Plant #14","123 Dodd Dr., St. Marys, WV 26170","Martin Marietta","99 Kanawha St., Parkersburg, WV 26101",82,88,88,88,88,100,88,92,103,92,100,0,0,102,104,96,102,55,1500,3,0.35,7,6,15,2,4,3,0.35,90,40,15,8,1000,5000,6.5,4,2.5,2,25,15,4,2,25,15,4,2,3.5,10,5,22,18,11,5.5,3.5,2.5,21,17,10,5,3,2,3000,0,0.35,350,0,3.5,0,0,24,19,13,7,4.5,3.5,23,18,12,6,4,3,0.5,3000,6.5,0.01,850,1,72,25,5000,500,40,28,1250,8,800,9,8,6,5,6,1000]
["Wirt",{"$f":"VLOOKUP(A147,tables!$A$2:$C$56,2,0)","v":53},3036,{"$f":"VLOOKUP(A147,tables!$A$2:$C$56,3,0)","v":"03"},"Kelly Paving Inc., Plant #14","123 Dodd Dr., St. Marys, WV 26170","Martin Marietta","99 Kanawha St., Parkersburg, WV 26101",82,88,88,88,88,100,88,92,103,92,100,0,0,102,104,96,102,55,1500,3,0.35,7,6,15,2,4,3,0.35,90,40,15,8,1000,5000,6.5,4,2.5,2,25,15,4,2,25,15,4,2,3.5,10,5,22,18,11,5.5,3.5,2.5,21,17,10,5,3,2,3000,0,0.35,350,0,3.5,0,0,24,19,13,7,4.5,3.5,23,18,12,6,4,3,0.5,3000,6.5,0.01,850,1,72,25,5000,500,40,28,1250,8,800,9,8,6,5,6,1000]
["Calhoun",{"$f":"VLOOKUP(A148,tables!$A$2:$C$56,2,0)","v":7},3037,{"$f":"VLOOKUP(A148,tables!$A$2:$C$56,3,0)","v":"03"},"Meadows Stone & Paving Inc., Gassaway Stoneyard","661 B&O Railroad Yard, Gassaway, WV 26624","Gassaway Plant","661 B&O Railroad Yard, Gassaway, WV 26624",73,80,78,78,78,93,80,81.5,83.5,81.5,101,113,125,111,122,81,103,42,2000,2.5,0.3,12,8,12,5,10,2.5,0.3,100,35,17,10,1800,3800,7,4.25,3,2,25,16,4.75,2.5,25,16,4.75,2.5,3,14,4.75,34,21,12,6,3.9,2.5499999999999998,30,19,11.5,5.9,3.6,2.4,3400,0,5.25,360,0,0,0,0,44,26.5,14.75,8.1,4.8,3.05,40,25,14.25,8,4.5,2.9,0.6,3500,7,0.02,850,1.25,60,50,3500,1400,70,50,3500,20,1500,24,20,16,11,2.25,4000]
["Roane",{"$f":"VLOOKUP(A149,tables!$A$2:$C$56,2,0)","v":44},3038,{"$f":"VLOOKUP(A149,tables!$A$2:$C$56,3,0)","v":"03"},"Meadows Stone & Paving Inc., Gassaway Stoneyard","661 B&O Railroad Yard, Gassaway, WV 26624","Gassaway Plant","661 B&O Railroad Yard, Gassaway, WV 26624",73,80,78,78,78,93,80,81.5,83.5,81.5,101,113,125,111,122,81,103,42,2000,2.5,0.3,12,8,12,5,10,2.5,0.3,100,35,17,10,1800,3800,7,4.25,3,2,25,16,4.75,2.5,25,16,4.75,2.5,3,14,4.75,34,21,12,6,3.9,2.5499999999999998,30,19,11.5,5.9,3.6,2.4,3400,0,5.25,360,0,0,0,0,44,26.5,14.75,8.1,4.8,3.05,40,25,14.25,8,4.5,2.9,0.6,3500,7,0.02,850,1.25,60,50,3500,1400,70,50,3500,20,1500,24,20,16,11,2.25,4000]
["Calhoun",{"$f":"VLOOKUP(A150,tables!$A$2:$C$56,2,0)","v":7},3039,{"$f":"VLOOKUP(A150,tables!$A$2:$C$56,3,0)","v":"03"},"West Virginia Paving, Inc., Camden Materials","202 Hickory St., Parkersburg, WV 26101","Valley Stone Yard","360 Valley Rd., Millwood WV, 25262",91,94,94,94,95,109,95,98,109,97,108,111,111,111,111,100,112,65,2000,2.75,0.33,5,5,15,2,4,2.75,0.28000000000000003,85,30,20,10,2000,15000,6.75,4.75,3.75,2.75,20.75,15.75,4.75,2.75,20.75,15.752000000000001,4.7519999999999998,2.75,3.5,14,6,22.25,17.5,12.5,6.75,4.8499999999999996,3.75,21.5,16.5,11.5,5.75,3.85,2.75,3500,0,0.28000000000000003,350,129,5,50,120,24.9,19.899999999999999,14.9,8,6.15,4.3499999999999996,23.9,18.899999999999999,13.9,7,5.15,3.35,0.5,4500,8,0.01,1000,1.5,70,40,2500,500,76,35,2000,13,2000,8.5,8,6.5,5,6,5000]
["Jackson",{"$f":"VLOOKUP(A151,tables!$A$2:$C$56,2,0)","v":18},3040,{"$f":"VLOOKUP(A151,tables!$A$2:$C$56,3,0)","v":"03"},"West Virginia Paving, Inc., Camden Materials","202 Hickory St., Parkersburg, WV 26101","Valley Stone Yard","360 Valley Rd., Millwood WV, 25262",91,94,94,94,95,109,95,98,109,97,108,111,111,111,111,100,112,65,2000,2.75,0.33,5,5,15,2,4,2.75,0.28000000000000003,85,30,20,10,2000,15000,6.75,4.75,3.75,2.75,20.75,15.75,4.75,2.75,20.75,15.752000000000001,4.7519999999999998,2.75,3.5,14,6,22.25,17.5,12.5,6.75,4.8499999999999996,3.75,21.5,16.5,11.5,5.75,3.85,2.75,3500,0,0.28000000000000003,350,129,5,50,120,24.9,19.899999999999999,14.9,8,6.15,4.3499999999999996,23.9,18.899999999999999,13.9,7,5.15,3.35,0.5,4500,8,0.01,1000,1.5,70,40,2500,500,76,35,2000,13,2000,8.5,8,6.5,5,6,5000]
["Jackson",{"$f":"VLOOKUP(A152,tables!$A$2:$C$56,2,0)","v":18},3041,{"$f":"VLOOKUP(A152,tables!$A$2:$C$56,3,0)","v":"03"},"West Virginia Paving, Inc., Camden Materials","202 Hickory St., Parkersburg, WV 26101","Shelly Materials","Route 7 North, Gallipolis OH, 45631",91,94,94,94,95,109,95,98,109,97,108,111,111,111,111,100,112,65,2000,2.75,0.33,5,5,15,2,4,2.75,0.28000000000000003,85,30,20,10,2000,15000,6.75,4.75,3.75,2.75,20.75,15.75,4.75,2.75,20.75,15.752000000000001,4.7519999999999998,2.75,3.5,14,6,22.25,17.5,12.5,6.75,4.8499999999999996,3.75,21.5,16.5,11.5,5.75,3.85,2.75,3500,0,0.28000000000000003,350,129,5,50,120,24.9,19.899999999999999,14.9,8,6.15,4.3499999999999996,23.9,18.899999999999999,13.9,7,5.15,3.35,0.5,4500,8,0.01,1000,1.5,70,40,2500,500,76,35,2000,13,2000,8.5,8,6.5,5,6,5000]
["Pleasants",{"$f":"VLOOKUP(A153,tables!$A$2:$C$56,2,0)","v":37},3042,{"$f":"VLOOKUP(A153,tables!$A$2:$C$56,3,0)","v":"03"},"West Virginia Paving, Inc., Camden Materials","202 Hickory St., Parkersburg, WV 26101",null,null,91,94,94,94,95,109,95,98,109,97,108,111,111,111,111,100,112,65,2000,2.75,0.33,5,5,15,2,4,2.75,0.28000000000000003,85,30,20,10,2000,15000,6.75,4.75,3.75,2.75,20.75,15.75,4.75,2.75,20.75,15.752000000000001,4.7519999999999998,2.75,3.5,14,6,22.25,17.5,12.5,6.75,4.8499999999999996,3.75,21.5,16.5,11.5,5.75,3.85,2.75,3500,0,0.28000000000000003,350,129,5,50,120,24.9,19.899999999999999,14.9,8,6.15,4.3499999999999996,23.9,18.899999999999999,13.9,7,5.15,3.35,0.5,4500,8,0.01,1000,1.5,70,40,2500,500,76,35,2000,13,2000,8.5,8,6.5,5,6,5000]
["Ritchie",{"$f":"VLOOKUP(A154,tables!$A$2:$C$56,2,0)","v":43},3043,{"$f":"VLOOKUP(A154,tables!$A$2:$C$56,3,0)","v":"03"},"West Virginia Paving, Inc., Camden Materials","202 Hickory St., Parkersburg, WV 26101",null,null,91,94,94,94,95,109,95,98,109,97,108,111,111,111,111,100,112,65,2000,2.75,0.33,5,5,15,2,4,2.75,0.28000000000000003,85,30,20,10,2000,15000,6.75,4.75,3.75,2.75,20.75,15.75,4.75,2.75,20.75,15.752000000000001,4.7519999999999998,2.75,3.5,14,6,22.25,17.5,12.5,6.75,4.8499999999999996,3.75,21.5,16.5,11.5,5.75,3.85,2.75,3500,0,0.28000000000000003,350,129,5,50,120,24.9,19.899999999999999,14.9,8,6.15,4.3499999999999996,23.9,18.899999999999999,13.9,7,5.15,3.35,0.5,4500,8,0.01,1000,1.5,70,40,2500,500,76,35,2000,13,2000,8.5,8,6.5,5,6,5000]
["Roane",{"$f":"VLOOKUP(A155,tables!$A$2:$C$56,2,0)","v":44},3044,{"$f":"VLOOKUP(A155,tables!$A$2:$C$56,3,0)","v":"03"},"West Virginia Paving, Inc., Camden Materials","202 Hickory St., Parkersburg, WV 26101","Valley Stone Yard","360 Valley Rd., Millwood WV, 25262",91,94,94,94,95,109,95,98,109,97,108,111,111,111,111,100,112,65,2000,2.75,0.33,5,5,15,2,4,2.75,0.28000000000000003,85,30,20,10,2000,15000,6.75,4.75,3.75,2.75,20.75,15.75,4.75,2.75,20.75,15.752000000000001,4.7519999999999998,2.75,3.5,14,6,22.25,17.5,12.5,6.75,4.8499999999999996,3.75,21.5,16.5,11.5,5.75,3.85,2.75,3500,0,0.28000000000000003,350,129,5,50,120,24.9,19.899999999999999,14.9,8,6.15,4.3499999999999996,23.9,18.899999999999999,13.9,7,5.15,3.35,0.5,4500,8,0.01,1000,1.5,70,40,2500,500,76,35,2000,13,2000,8.5,8,6.5,5,6,5000]
["Roane",{"$f":"VLOOKUP(A156,tables!$A$2:$C$56,2,0)","v":44},3045,{"$f":"VLOOKUP(A156,tables!$A$2:$C$56,3,0)","v":"03"},"West Virginia Paving, Inc., Camden Materials","202 Hickory St., Parkersburg, WV 26101","Shamblin Stone","658 Winfield Rd., St Albans, WV 25177",91,94,94,94,95,109,95,98,109,97,108,111,111,111,111,100,112,65,2000,2.75,0.33,5,5,15,2,4,2.75,0.28000000000000003,85,30,20,10,2000,15000,6.75,4.75,3.75,2.75,20.75,15.75,4.75,2.75,20.75,15.752000000000001,4.7519999999999998,2.75,3.5,14,6,22.25,17.5,12.5,6.75,4.8499999999999996,3.75,21.5,16.5,11.5,5.75,3.85,2.75,3500,0,0.28000000000000003,350,129,5,50,120,24.9,19.899999999999999,14.9,8,6.15,4.3499999999999996,23.9,18.899999999999999,13.9,7,5.15,3.35,0.5,4500,8,0.01,1000,1.5,70,40,2500,500,76,35,2000,13,2000,8.5,8,6.5,5,6,5000]
["Wirt",{"$f":"VLOOKUP(A157,tables!$A$2:$C$56,2,0)","v":53},3046,{"$f":"VLOOKUP(A157,tables!$A$2:$C$56,3,0)","v":"03"},"West Virginia Paving, Inc., Camden Materials","202 Hickory St., Parkersburg, WV 26101",null,null,91,94,94,94,95,109,95,98,109,97,108,111,111,111,111,100,112,65,2000,2.75,0.33,5,5,15,2,4,2.75,0.28000000000000003,85,30,20,10,2000,15000,6.75,4.75,3.75,2.75,20.75,15.75,4.75,2.75,20.75,15.752000000000001,4.7519999999999998,2.75,3.5,14,6,22.25,17.5,12.5,6.75,4.8499999999999996,3.75,21.5,16.5,11.5,5.75,3.85,2.75,3500,0,0.28000000000000003,350,129,5,50,120,24.9,19.899999999999999,14.9,8,6.15,4.3499999999999996,23.9,18.899999999999999,13.9,7,5.15,3.35,0.5,4500,8,0.01,1000,1.5,70,40,2500,500,76,35,2000,13,2000,8.5,8,6.5,5,6,5000]
["Wood",{"$f":"VLOOKUP(A158,tables!$A$2:$C$56,2,0)","v":54},3047,{"$f":"VLOOKUP(A158,tables!$A$2:$C$56,3,0)","v":"03"},"West Virginia Paving, Inc., Camden Materials","202 Hickory St., Parkersburg, WV 26101","Valley Stone Yard","360 Valley Rd., Millwood WV, 25262",91,94,94,94,95,109,95,98,109,97,108,111,111,111,111,100,112,65,2000,2.75,0.33,5,5,15,2,4,2.75,0.28000000000000003,85,30,20,10,2000,15000,6.75,4.75,3.75,2.75,20.75,15.75,4.75,2.75,20.75,15.752000000000001,4.7519999999999998,2.75,3.5,14,6,22.25,17.5,12.5,6.75,4.8499999999999996,3.75,21.5,16.5,11.5,5.75,3.85,2.75,3500,0,0.28000000000000003,350,129,5,50,120,24.9,19.899999999999999,14.9,8,6.15,4.3499999999999996,23.9,18.899999999999999,13.9,7,5.15,3.35,0.5,4500,8,0.01,1000,1.5,70,40,2500,500,76,35,2000,13,2000,8.5,8,6.5,5,6,5000]
["Calhoun",{"$f":"VLOOKUP(A159,tables!$A$2:$C$56,2,0)","v":7},3048,{"$f":"VLOOKUP(A159,tables!$A$2:$C$56,3,0)","v":"03"},"West Virginia Paving, Inc., Dunbar Plant","2902 Charles Ave., Dunbar, WV 25064","Valley Stone Yard","360 Valley Rd., Millwood WV, 25262",86.5,86.5,88,88,88,0,91.5,95.5,107.5,95.5,104.5,0,0,113.5,0,103.5,103.5,65,2000,2.75,0.33,15,4,12,2,5,2.75,0.28000000000000003,85,30,20,10,2000,15000,6.75,4.75,3.75,2.75,20.75,15.75,4.75,2.75,20.75,15.75,4.75,2.75,3.5,14,6,22.25,17.5,12.5,6.75,4.8499999999999996,3.75,21.5,16.5,11.5,5.75,3.85,2.75,3500,0,0.28000000000000003,350,0,5,0,0,24.9,19.899999999999999,14.9,8,6.15,4.3499999999999996,23.9,18.899999999999999,13.9,7,5.15,3.35,0.5,4500,8,0.01,1000,1.5,70,40,5000,2000,76,35,2000,13,2000,8.5,8,6.5,5,6,5000]
["Jackson",{"$f":"VLOOKUP(A160,tables!$A$2:$C$56,2,0)","v":18},3049,{"$f":"VLOOKUP(A160,tables!$A$2:$C$56,3,0)","v":"03"},"West Virginia Paving, Inc., Dunbar Plant","2902 Charles Ave., Dunbar, WV 25064","Valley Stone Yard","360 Valley Rd., Millwood WV, 25262",86.5,86.5,88,88,88,0,91.5,95.5,107.5,95.5,104.5,0,0,113.5,0,103.5,103.5,65,2000,2.75,0.33,15,4,12,2,5,2.75,0.28000000000000003,85,30,20,10,2000,15000,6.75,4.75,3.75,2.75,20.75,15.75,4.75,2.75,20.75,15.75,4.75,2.75,3.5,14,6,22.25,17.5,12.5,6.75,4.8499999999999996,3.75,21.5,16.5,11.5,5.75,3.85,2.75,3500,0,0.28000000000000003,350,0,5,0,0,24.9,19.899999999999999,14.9,8,6.15,4.3499999999999996,23.9,18.899999999999999,13.9,7,5.15,3.35,0.5,4500,8,0.01,1000,1.5,70,40,5000,2000,76,35,2000,13,2000,8.5,8,6.5,5,6,5000]
["Jackson",{"$f":"VLOOKUP(A161,tables!$A$2:$C$56,2,0)","v":18},3050,{"$f":"VLOOKUP(A161,tables!$A$2:$C$56,3,0)","v":"03"},"West Virginia Paving, Inc., Dunbar Plant","2902 Charles Ave., Dunbar, WV 25064","Shelly Materials","Route 7 North, Gallipolis OH, 45631",86.5,86.5,88,88,88,0,91.5,95.5,107.5,95.5,104.5,0,0,113.5,0,103.5,103.5,65,2000,2.75,0.33,15,4,12,2,5,2.75,0.28000000000000003,85,30,20,10,2000,15000,6.75,4.75,3.75,2.75,20.75,15.75,4.75,2.75,20.75,15.75,4.75,2.75,3.5,14,6,22.25,17.5,12.5,6.75,4.8499999999999996,3.75,21.5,16.5,11.5,5.75,3.85,2.75,3500,0,0.28000000000000003,350,0,5,0,0,24.9,19.899999999999999,14.9,8,6.15,4.3499999999999996,23.9,18.899999999999999,13.9,7,5.15,3.35,0.5,4500,8,0.01,1000,1.5,70,40,5000,2000,76,35,2000,13,2000,8.5,8,6.5,5,6,5000]
["Roane",{"$f":"VLOOKUP(A162,tables!$A$2:$C$56,2,0)","v":44},3051,{"$f":"VLOOKUP(A162,tables!$A$2:$C$56,3,0)","v":"03"},"West Virginia Paving, Inc., Dunbar Plant","2902 Charles Ave., Dunbar, WV 25064","Valley Stone Yard","360 Valley Rd., Millwood WV, 25262",86.5,86.5,88,88,88,0,91.5,95.5,107.5,95.5,104.5,0,0,113.5,0,103.5,103.5,65,2000,2.75,0.33,15,4,12,2,5,2.75,0.28000000000000003,85,30,20,10,2000,15000,6.75,4.75,3.75,2.75,20.75,15.75,4.75,2.75,20.75,15.75,4.75,2.75,3.5,14,6,22.25,17.5,12.5,6.75,4.8499999999999996,3.75,21.5,16.5,11.5,5.75,3.85,2.75,3500,0,0.28000000000000003,350,0,5,0,0,24.9,19.899999999999999,14.9,8,6.15,4.3499999999999996,23.9,18.899999999999999,13.9,7,5.15,3.35,0.5,4500,8,0.01,1000,1.5,70,40,5000,2000,76,35,2000,13,2000,8.5,8,6.5,5,6,5000]
["Roane",{"$f":"VLOOKUP(A163,tables!$A$2:$C$56,2,0)","v":44},3052,{"$f":"VLOOKUP(A163,tables!$A$2:$C$56,3,0)","v":"03"},"West Virginia Paving, Inc., Dunbar Plant","2902 Charles Ave., Dunbar, WV 25064","Shamblin Stone","658 Winfield Rd., St Albans, WV 25177",86.5,86.5,88,88,88,0,91.5,95.5,107.5,95.5,104.5,0,0,113.5,0,103.5,103.5,65,2000,2.75,0.33,15,4,12,2,5,2.75,0.28000000000000003,85,30,20,10,2000,15000,6.75,4.75,3.75,2.75,20.75,15.75,4.75,2.75,20.75,15.75,4.75,2.75,3.5,14,6,22.25,17.5,12.5,6.75,4.8499999999999996,3.75,21.5,16.5,11.5,5.75,3.85,2.75,3500,0,0.28000000000000003,350,0,5,0,0,24.9,19.899999999999999,14.9,8,6.15,4.3499999999999996,23.9,18.899999999999999,13.9,7,5.15,3.35,0.5,4500,8,0.01,1000,1.5,70,40,5000,2000,76,35,2000,13,2000,8.5,8,6.5,5,6,5000]
["Calhoun",{"$f":"VLOOKUP(A164,tables!$A$2:$C$56,2,0)","v":7},3053,{"$f":"VLOOKUP(A164,tables!$A$2:$C$56,3,0)","v":"03"},"West Virginia Paving, Inc., Poca Plant","Rt 1 Wright Rd., Poca, WV 25159","Valley Stone Yard","360 Valley Rd., Millwood WV, 25262",86.5,86.5,88,88,88,0,91.5,95.5,107.5,95.5,104.5,0,0,113.5,0,103.5,103.5,65,2000,2.75,0.33,15,4,12,2,5,2.75,0.28000000000000003,85,30,20,10,2000,15000,6.75,4.75,3.75,2.75,20.75,15.75,4.75,2.75,20.75,15.75,4.75,2.75,3.5,14,6,22.25,17.5,12.5,6.75,4.8499999999999996,3.75,21.5,16.5,11.5,5.75,3.85,2.75,3500,0,0.28000000000000003,350,0,5,0,0,24.9,19.899999999999999,14.9,8,6.15,4.3499999999999996,23.9,18.899999999999999,13.9,7,5.15,3.35,0.5,4500,8,0.01,1000,1.5,70,40,5000,2000,76,35,2000,13,2000,8.5,8,6.5,5,6,5000]
["Jackson",{"$f":"VLOOKUP(A165,tables!$A$2:$C$56,2,0)","v":18},3054,{"$f":"VLOOKUP(A165,tables!$A$2:$C$56,3,0)","v":"03"},"West Virginia Paving, Inc., Poca Plant","Rt 1 Wright Rd., Poca, WV 25159","Valley Stone Yard","360 Valley Rd., Millwood WV, 25262",86.5,86.5,88,88,88,0,91.5,95.5,107.5,95.5,104.5,0,0,113.5,0,103.5,103.5,65,2000,2.75,0.33,15,4,12,2,5,2.75,0.28000000000000003,85,30,20,10,2000,15000,6.75,4.75,3.75,2.75,20.75,15.75,4.75,2.75,20.75,15.75,4.75,2.75,3.5,14,6,22.25,17.5,12.5,6.75,4.8499999999999996,3.75,21.5,16.5,11.5,5.75,3.85,2.75,3500,0,0.28000000000000003,350,0,5,0,0,24.9,19.899999999999999,14.9,8,6.15,4.3499999999999996,23.9,18.899999999999999,13.9,7,5.15,3.35,0.5,4500,8,0.01,1000,1.5,70,40,5000,2000,76,35,2000,13,2000,8.5,8,6.5,5,6,5000]
["Jackson",{"$f":"VLOOKUP(A166,tables!$A$2:$C$56,2,0)","v":18},3055,{"$f":"VLOOKUP(A166,tables!$A$2:$C$56,3,0)","v":"03"},"West Virginia Paving, Inc., Poca Plant","Rt 1 Wright Rd., Poca, WV 25159","Shelly Materials","Route 7 North, Gallipolis OH, 45631",86.5,86.5,88,88,88,0,91.5,95.5,107.5,95.5,104.5,0,0,113.5,0,103.5,103.5,65,2000,2.75,0.33,15,4,12,2,5,2.75,0.28000000000000003,85,30,20,10,2000,15000,6.75,4.75,3.75,2.75,20.75,15.75,4.75,2.75,20.75,15.75,4.75,2.75,3.5,14,6,22.25,17.5,12.5,6.75,4.8499999999999996,3.75,21.5,16.5,11.5,5.75,3.85,2.75,3500,0,0.28000000000000003,350,0,5,0,0,24.9,19.899999999999999,14.9,8,6.15,4.3499999999999996,23.9,18.899999999999999,13.9,7,5.15,3.35,0.5,4500,8,0.01,1000,1.5,70,40,5000,2000,76,35,2000,13,2000,8.5,8,6.5,5,6,5000]
["Roane",{"$f":"VLOOKUP(A167,tables!$A$2:$C$56,2,0)","v":44},3056,{"$f":"VLOOKUP(A167,tables!$A$2:$C$56,3,0)","v":"03"},"West Virginia Paving, Inc., Poca Plant","Rt 1 Wright Rd., Poca, WV 25159","Valley Stone Yard","360 Valley Rd., Millwood WV, 25262",86.5,86.5,88,88,88,0,91.5,95.5,107.5,95.5,104.5,0,0,113.5,0,103.5,103.5,65,2000,2.75,0.33,15,4,12,2,5,2.75,0.28000000000000003,85,30,20,10,2000,15000,6.75,4.75,3.75,2.75,20.75,15.75,4.75,2.75,20.75,15.75,4.75,2.75,3.5,14,6,22.25,17.5,12.5,6.75,4.8499999999999996,3.75,21.5,16.5,11.5,5.75,3.85,2.75,3500,0,0.28000000000000003,350,0,5,0,0,24.9,19.899999999999999,14.9,8,6.15,4.3499999999999996,23.9,18.899999999999999,13.9,7,5.15,3.35,0.5,4500,8,0.01,1000,1.5,70,40,5000,2000,76,35,2000,13,2000,8.5,8,6.5,5,6,5000]
["Roane",{"$f":"VLOOKUP(A168,tables!$A$2:$C$56,2,0)","v":44},3057,{"$f":"VLOOKUP(A168,tables!$A$2:$C$56,3,0)","v":"03"},"West Virginia Paving, Inc., Poca Plant","Rt 1 Wright Rd., Poca, WV 25159","Shamblin Stone","658 Winfield Rd., St Albans, WV 25177",86.5,86.5,88,88,88,0,91.5,95.5,107.5,95.5,104.5,0,0,113.5,0,103.5,103.5,65,2000,2.75,0.33,15,4,12,2,5,2.75,0.28000000000000003,85,30,20,10,2000,15000,6.75,4.75,3.75,2.75,20.75,15.75,4.75,2.75,20.75,15.75,4.75,2.75,3.5,14,6,22.25,17.5,12.5,6.75,4.8499999999999996,3.75,21.5,16.5,11.5,5.75,3.85,2.75,3500,0,0.28000000000000003,350,0,5,0,0,24.9,19.899999999999999,14.9,8,6.15,4.3499999999999996,23.9,18.899999999999999,13.9,7,5.15,3.35,0.5,4500,8,0.01,1000,1.5,70,40,5000,2000,76,35,2000,13,2000,8.5,8,6.5,5,6,5000]
["Jackson",{"$f":"VLOOKUP(A169,tables!$A$2:$C$56,2,0)","v":18},3058,{"$f":"VLOOKUP(A169,tables!$A$2:$C$56,3,0)","v":"03"},"West Virginia Paving, Inc., Shelly Co.","Rt. 7 North,Gallipolis, OH 45631","Valley Stone Yard","360 Valley Rd., Millwood WV, 25262",0,0,92,92,92,0,0,102,0,102,0,0,0,0,0,0,0,65,2000,2.75,0.51,15,4,12,2,5,2.75,0.46,85,30,20,10,2000,15000,6.75,4.75,3.75,2.75,20.75,15.75,4.75,2.75,20.75,15.75,4.75,2.75,3.5,14,6,21.5,16.75,11.75,6.75,4.75,3.75,20.75,15.75,11.75,5.75,3.75,2.75,3500,0,0.46,350,0,5,0,0,24.9,19.899999999999999,14.9,8,6.15,4.3499999999999996,23.9,18.899999999999999,13.9,7,5.15,3.35,0.5,4500,8,0.01,1000,1.5,70,40,5000,2000,76,35,2000,13,2000,8.5,8,6.5,5,6,5000]
["Jackson",{"$f":"VLOOKUP(A170,tables!$A$2:$C$56,2,0)","v":18},3059,{"$f":"VLOOKUP(A170,tables!$A$2:$C$56,3,0)","v":"03"},"West Virginia Paving, Inc., Shelly Co.","Rt. 7 North,Gallipolis, OH 45631","Shelly Materials","Route 7 North, Gallipolis OH, 45631",0,0,92,92,92,0,0,102,0,102,0,0,0,0,0,0,0,65,2000,2.75,0.51,15,4,12,2,5,2.75,0.46,85,30,20,10,2000,15000,6.75,4.75,3.75,2.75,20.75,15.75,4.75,2.75,20.75,15.75,4.75,2.75,3.5,14,6,21.5,16.75,11.75,6.75,4.75,3.75,20.75,15.75,11.75,5.75,3.75,2.75,3500,0,0.46,350,0,5,0,0,24.9,19.899999999999999,14.9,8,6.15,4.3499999999999996,23.9,18.899999999999999,13.9,7,5.15,3.35,0.5,4500,8,0.01,1000,1.5,70,40,5000,2000,76,35,2000,13,2000,8.5,8,6.5,5,6,5000]
["Jackson",{"$f":"VLOOKUP(A171,tables!$A$2:$C$56,2,0)","v":18},3060,{"$f":"VLOOKUP(A171,tables!$A$2:$C$56,3,0)","v":"03"},"West Virginia Paving, Inc., Ripley Plant","2187 Ripley Rd., Ripley, WV25271","Valley Stone Yard","360 Valley Rd., Millwood WV, 25262",0,0,96,96,96,0,0,100,0,100,0,0,0,110,0,0,0,65,2000,2.75,0.33,15,4,12,2,5,2.75,0.28000000000000003,85,30,20,10,2000,15000,6.75,4.75,3.75,2.75,20.75,15.75,4.75,2.75,20.75,15.75,4.75,2.75,3.5,14,6,22.25,17.5,12.5,6.75,4.8499999999999996,3.75,21.5,16.5,11.5,5.75,3.85,2.75,3500,0,0.28000000000000003,350,0,5,0,0,24.9,19.899999999999999,14.9,8,6.15,4.3499999999999996,23.9,18.899999999999999,13.9,7,5.15,3.35,0.5,4500,8,0.01,1000,1.5,70,40,5000,2000,76,35,2000,13,2000,8.5,8,6.5,5,6,5000]
["Jackson",{"$f":"VLOOKUP(A172,tables!$A$2:$C$56,2,0)","v":18},3061,{"$f":"VLOOKUP(A172,tables!$A$2:$C$56,3,0)","v":"03"},"West Virginia Paving, Inc., Ripley Plant","2187 Ripley Rd., Ripley, WV25271","Shelly Materials","Route 7 North, Gallipolis OH, 45631",0,0,96,96,96,0,0,100,0,100,0,0,0,110,0,0,0,65,2000,2.75,0.33,15,4,12,2,5,2.75,0.28000000000000003,85,30,20,10,2000,15000,6.75,4.75,3.75,2.75,20.75,15.75,4.75,2.75,20.75,15.75,4.75,2.75,3.5,14,6,22.25,17.5,12.5,6.75,4.8499999999999996,3.75,21.5,16.5,11.5,5.75,3.85,2.75,3500,0,0.28000000000000003,350,0,5,0,0,24.9,19.899999999999999,14.9,8,6.15,4.3499999999999996,23.9,18.899999999999999,13.9,7,5.15,3.35,0.5,4500,8,0.01,1000,1.5,70,40,5000,2000,76,35,2000,13,2000,8.5,8,6.5,5,6,5000]
["Roane",{"$f":"VLOOKUP(A173,tables!$A$2:$C$56,2,0)","v":44},3062,{"$f":"VLOOKUP(A173,tables!$A$2:$C$56,3,0)","v":"03"},"West Virginia Paving, Inc., Ripley Plant","2187 Ripley Rd., Ripley, WV25271","Valley Stone Yard","360 Valley Rd., Millwood WV, 25262",0,0,96,96,96,0,0,100,0,100,0,0,0,110,0,0,0,65,2000,2.75,0.33,15,4,12,2,5,2.75,0.28000000000000003,85,30,20,10,2000,15000,6.75,4.75,3.75,2.75,20.75,15.75,4.75,2.75,20.75,15.75,4.75,2.75,3.5,14,6,22.25,17.5,12.5,6.75,4.8499999999999996,3.75,21.5,16.5,11.5,5.75,3.85,2.75,3500,0,0.28000000000000003,350,0,5,0,0,24.9,19.899999999999999,14.9,8,6.15,4.3499999999999996,23.9,18.899999999999999,13.9,7,5.15,3.35,0.5,4500,8,0.01,1000,1.5,70,40,5000,2000,76,35,2000,13,2000,8.5,8,6.5,5,6,5000]
["Roane",{"$f":"VLOOKUP(A174,tables!$A$2:$C$56,2,0)","v":44},3063,{"$f":"VLOOKUP(A174,tables!$A$2:$C$56,3,0)","v":"03"},"West Virginia Paving, Inc., Ripley Plant","2187 Ripley Rd., Ripley, WV25271","Shamblin Stone","658 Winfield Rd., St Albans, WV 25177",0,0,96,96,96,0,0,100,0,100,0,0,0,110,0,0,0,65,2000,2.75,0.33,15,4,12,2,5,2.75,0.28000000000000003,85,30,20,10,2000,15000,6.75,4.75,3.75,2.75,20.75,15.75,4.75,2.75,20.75,15.75,4.75,2.75,3.5,14,6,22.25,17.5,12.5,6.75,4.8499999999999996,3.75,21.5,16.5,11.5,5.75,3.85,2.75,3500,0,0.28000000000000003,350,0,5,0,0,24.9,19.899999999999999,14.9,8,6.15,4.3499999999999996,23.9,18.899999999999999,13.9,7,5.15,3.35,0.5,4500,8,0.01,1000,1.5,70,40,5000,2000,76,35,2000,13,2000,8.5,8,6.5,5,6,5000]
["Wood",{"$f":"VLOOKUP(A175,tables!$A$2:$C$56,2,0)","v":54},3064,{"$f":"VLOOKUP(A175,tables!$A$2:$C$56,3,0)","v":"03"},"West Virginia Paving, Inc., Ripley Plant","2187 Ripley Rd., Ripley, WV25271","Valley Stone Yard","360 Valley Rd., Millwood WV, 25262",0,0,96,96,96,0,0,100,0,100,0,0,0,110,0,0,0,65,2000,2.75,0.33,15,4,12,2,5,2.75,0.28000000000000003,85,30,20,10,2000,15000,6.75,4.75,3.75,2.75,20.75,15.75,4.75,2.75,20.75,15.75,4.75,2.75,3.5,14,6,22.25,17.5,12.5,6.75,4.8499999999999996,3.75,21.5,16.5,11.5,5.75,3.85,2.75,3500,0,0.28000000000000003,350,0,5,0,0,24.9,19.899999999999999,14.9,8,6.15,4.3499999999999996,23.9,18.899999999999999,13.9,7,5.15,3.35,0.5,4500,8,0.01,1000,1.5,70,40,5000,2000,76,35,2000,13,2000,8.5,8,6.5,5,6,5000]
["Doddridge",{"$f":"VLOOKUP(A176,tables!$A$2:$C$56,2,0)","v":9},4001,{"$f":"VLOOKUP(A176,tables!$A$2:$C$56,3,0)","v":"04"},"Greer Industries Inc., Greer Asphalt Co.","8410 Veterans Memorial Hwy., Masontown, WV 26542","Greer Limestone Co","5630 Earl L. Core Road Rt 7, Morgantown, WV 26508",55,57.25,57.75,57.75,58.5,62,61,67,70.650000000000006,67,67.8,100,103,77.8,80,67.25,69.2,26,1000,3,0.3,6,6,11,0,0,3,0.3,100,42,15,8,1000,1250,14,13,6,4,18,16,7,5,18,16,7,5,4.5,12.5,3,24,17,10.1,6.1,3,2.0699999999999998,22,13.5,8.25,4.5,2.25,1.55,2250,0,0.5,250,200,10,85,100,24,17.5,11.25,6.1,3,2.0699999999999998,22,13.5,8.25,4.5,2.2999999999999998,1.55,3,3000,5,7.0000000000000007E-2,700,1.1000000000000001,60,55,3000,1500,60,60,3000,25,2000,9,8,6,5,8.5,2500]
["Harrison",{"$f":"VLOOKUP(A177,tables!$A$2:$C$56,2,0)","v":17},4002,{"$f":"VLOOKUP(A177,tables!$A$2:$C$56,3,0)","v":"04"},"Greer Industries Inc., Greer Asphalt Co.","8410 Veterans Memorial Hwy., Masontown, WV 26542","Greer Limestone Co","5630 Earl L. Core Road Rt 7, Morgantown, WV 26508",55,57.25,57.75,57.75,58.5,62,61,67,70.650000000000006,67,67.8,100,103,77.8,80,67.25,69.2,26,1000,3,0.3,6,6,11,0,0,3,0.3,100,42,15,8,1000,1250,14,13,6,4,18,16,7,5,18,16,7,5,4.5,12.5,3,24,17,10.1,6.1,3,2.0699999999999998,22,13.5,8.25,4.5,2.25,1.55,2250,0,0.5,250,200,10,85,100,24,17.5,11.25,6.1,3,2.0699999999999998,22,13.5,8.25,4.5,2.2999999999999998,1.55,3,3000,5,7.0000000000000007E-2,700,1.1000000000000001,60,55,3000,1500,60,60,3000,25,2000,9,8,6,5,8.5,2500]
["Marion",{"$f":"VLOOKUP(A178,tables!$A$2:$C$56,2,0)","v":25},4003,{"$f":"VLOOKUP(A178,tables!$A$2:$C$56,3,0)","v":"04"},"Greer Industries Inc., Greer Asphalt Co.","8410 Veterans Memorial Hwy., Masontown, WV 26542","Greer Limestone Co","5630 Earl L. Core Road Rt 7, Morgantown, WV 26508",55,57.25,57.75,57.75,58.5,62,61,67,70.650000000000006,67,67.8,100,103,77.8,80,67.25,69.2,26,1000,3,0.3,6,6,11,0,0,3,0.3,100,42,15,8,1000,1250,14,13,6,4,18,16,7,5,18,16,7,5,4.5,12.5,3,24,17,10.1,6.1,3,2.0699999999999998,22,13.5,8.25,4.5,2.25,1.55,2250,0,0.5,250,200,10,85,100,24,17.5,11.25,6.1,3,2.0699999999999998,22,13.5,8.25,4.5,2.2999999999999998,1.55,3,3000,5,7.0000000000000007E-2,700,1.1000000000000001,60,55,3000,1500,60,60,3000,25,2000,9,8,6,5,8.5,2500]
["Monongalia",{"$f":"VLOOKUP(A179,tables!$A$2:$C$56,2,0)","v":31},4004,{"$f":"VLOOKUP(A179,tables!$A$2:$C$56,3,0)","v":"04"},"Greer Industries Inc., Greer Asphalt Co.","8410 Veterans Memorial Hwy., Masontown, WV 26542","Greer Limestone Co","5630 Earl L. Core Road Rt 7, Morgantown, WV 26508",55,57.25,57.75,57.75,58.5,62,61,67,70.650000000000006,67,67.8,100,103,77.8,80,67.25,69.2,26,1000,3,0.3,6,6,11,0,0,3,0.3,100,42,15,8,1000,1250,14,13,6,4,18,16,7,5,18,16,7,5,4.5,12.5,3,24,17,10.1,6.1,3,2.0699999999999998,22,13.5,8.25,4.5,2.25,1.55,2250,0,0.5,250,200,10,85,100,24,17.5,11.25,6.1,3,2.0699999999999998,22,13.5,8.25,4.5,2.2999999999999998,1.55,3,3000,5,7.0000000000000007E-2,700,1.1000000000000001,60,55,3000,1500,60,60,3000,25,2000,9,8,6,5,8.5,2500]
["Preston",{"$f":"VLOOKUP(A180,tables!$A$2:$C$56,2,0)","v":39},4005,{"$f":"VLOOKUP(A180,tables!$A$2:$C$56,3,0)","v":"04"},"Greer Industries Inc., Greer Asphalt Co.","8410 Veterans Memorial Hwy., Masontown, WV 26542","Greer Limestone Co","5630 Earl L. Core Road Rt 7, Morgantown, WV 26508",55,57.25,57.75,57.75,58.5,62,61,67,70.650000000000006,67,67.8,100,103,77.8,80,67.25,69.2,26,1000,3,0.3,6,6,11,0,0,3,0.3,100,42,15,8,1000,1250,14,13,6,4,18,16,7,5,18,16,7,5,4.5,12.5,3,24,17,10.1,6.1,3,2.0699999999999998,22,13.5,8.25,4.5,2.25,1.55,2250,0,0.5,250,200,10,85,100,24,17.5,11.25,6.1,3,2.0699999999999998,22,13.5,8.25,4.5,2.2999999999999998,1.55,3,3000,5,7.0000000000000007E-2,700,1.1000000000000001,60,55,3000,1500,60,60,3000,25,2000,9,8,6,5,8.5,2500]
["Taylor",{"$f":"VLOOKUP(A181,tables!$A$2:$C$56,2,0)","v":46},4006,{"$f":"VLOOKUP(A181,tables!$A$2:$C$56,3,0)","v":"04"},"Greer Industries Inc., Greer Asphalt Co.","8410 Veterans Memorial Hwy., Masontown, WV 26542","Greer Limestone Co","5630 Earl L. Core Road Rt 7, Morgantown, WV 26508",55,57.25,57.75,57.75,58.5,62,61,67,70.650000000000006,67,67.8,100,103,77.8,80,67.25,69.2,26,1000,3,0.3,6,6,11,0,0,3,0.3,100,42,15,8,1000,1250,14,13,6,4,18,16,7,5,18,16,7,5,4.5,12.5,3,24,17,10.1,6.1,3,2.0699999999999998,22,13.5,8.25,4.5,2.25,1.55,2250,0,0.5,250,200,10,85,100,24,17.5,11.25,6.1,3,2.0699999999999998,22,13.5,8.25,4.5,2.2999999999999998,1.55,3,3000,5,7.0000000000000007E-2,700,1.1000000000000001,60,55,3000,1500,60,60,3000,25,2000,9,8,6,5,8.5,2500]
["Doddridge",{"$f":"VLOOKUP(A182,tables!$A$2:$C$56,2,0)","v":9},4007,{"$f":"VLOOKUP(A182,tables!$A$2:$C$56,3,0)","v":"04"},"Greer Industries Inc., Buckeye Asphalt Co.","442 Blaney Hollow Rd., Morgantown, WV 26508","Greer Limestone Co","5630 Earl L. Core Road Rt 7, Morgantown, WV 26508",55,57.25,57.75,57.75,58.5,62,61,67,70.650000000000006,67,67.8,100,103,77.8,80,67.25,69.2,26,1000,3,0.3,6,6,11,0,0,3,0.3,100,42,15,8,1000,1250,14,13,6,4,18,16,7,5,18,16,7,5,4.5,12.5,3,24,17,10.1,6.1,3,2.0699999999999998,22,13.5,8.25,4.5,2.25,1.55,2250,0,0.5,250,200,10,85,100,24,17.5,11.25,6.1,3,2.0699999999999998,22,13.5,8.25,4.5,2.2999999999999998,1.55,3,3000,5,7.0000000000000007E-2,700,1.1000000000000001,60,55,3000,1500,60,60,3000,25,2000,9,8,6,5,8.5,2500]
["Harrison",{"$f":"VLOOKUP(A183,tables!$A$2:$C$56,2,0)","v":17},4008,{"$f":"VLOOKUP(A183,tables!$A$2:$C$56,3,0)","v":"04"},"Greer Industries Inc., Buckeye Asphalt Co.","442 Blaney Hollow Rd., Morgantown, WV 26508","Greer Limestone Co","5630 Earl L. Core Road Rt 7, Morgantown, WV 26508",55,57.25,57.75,57.75,58.5,62,61,67,70.650000000000006,67,67.8,100,103,77.8,80,67.25,69.2,26,1000,3,0.3,6,6,11,0,0,3,0.3,100,42,15,8,1000,1250,14,13,6,4,18,16,7,5,18,16,7,5,4.5,12.5,3,24,17,10.1,6.1,3,2.0699999999999998,22,13.5,8.25,4.5,2.25,1.55,2250,0,0.5,250,200,10,85,100,24,17.5,11.25,6.1,3,2.0699999999999998,22,13.5,8.25,4.5,2.2999999999999998,1.55,3,3000,5,7.0000000000000007E-2,700,1.1000000000000001,60,55,3000,1500,60,60,3000,25,2000,9,8,6,5,8.5,2500]
["Marion",{"$f":"VLOOKUP(A184,tables!$A$2:$C$56,2,0)","v":25},4009,{"$f":"VLOOKUP(A184,tables!$A$2:$C$56,3,0)","v":"04"},"Greer Industries Inc., Buckeye Asphalt Co.","442 Blaney Hollow Rd., Morgantown, WV 26508","Greer Limestone Co","5630 Earl L. Core Road Rt 7, Morgantown, WV 26508",55,57.25,57.75,57.75,58.5,62,61,67,70.650000000000006,67,67.8,100,103,77.8,80,67.25,69.2,26,1000,3,0.3,6,6,11,0,0,3,0.3,100,42,15,8,1000,1250,14,13,6,4,18,16,7,5,18,16,7,5,4.5,12.5,3,24,17,10.1,6.1,3,2.0699999999999998,22,13.5,8.25,4.5,2.25,1.55,2250,0,0.5,250,200,10,85,100,24,17.5,11.25,6.1,3,2.0699999999999998,22,13.5,8.25,4.5,2.2999999999999998,1.55,3,3000,5,7.0000000000000007E-2,700,1.1000000000000001,60,55,3000,1500,60,60,3000,25,2000,9,8,6,5,8.5,2500]
["Monongalia",{"$f":"VLOOKUP(A185,tables!$A$2:$C$56,2,0)","v":31},4010,{"$f":"VLOOKUP(A185,tables!$A$2:$C$56,3,0)","v":"04"},"Greer Industries Inc., Buckeye Asphalt Co.","442 Blaney Hollow Rd., Morgantown, WV 26508","Greer Limestone Co","5630 Earl L. Core Road Rt 7, Morgantown, WV 26508",55,57.25,57.75,57.75,58.5,62,61,67,70.650000000000006,67,67.8,100,103,77.8,80,67.25,69.2,26,1000,3,0.3,6,6,11,0,0,3,0.3,100,42,15,8,1000,1250,14,13,6,4,18,16,7,5,18,16,7,5,4.5,12.5,3,24,17,10.1,6.1,3,2.0699999999999998,22,13.5,8.25,4.5,2.25,1.55,2250,0,0.5,250,200,10,85,100,24,17.5,11.25,6.1,3,2.0699999999999998,22,13.5,8.25,4.5,2.2999999999999998,1.55,3,3000,5,7.0000000000000007E-2,700,1.1000000000000001,60,55,3000,1500,60,60,3000,25,2000,9,8,6,5,8.5,2500]
["Preston",{"$f":"VLOOKUP(A186,tables!$A$2:$C$56,2,0)","v":39},4011,{"$f":"VLOOKUP(A186,tables!$A$2:$C$56,3,0)","v":"04"},"Greer Industries Inc., Buckeye Asphalt Co.","442 Blaney Hollow Rd., Morgantown, WV 26508","Greer Limestone Co","5630 Earl L. Core Road Rt 7, Morgantown, WV 26508",55,57.25,57.75,57.75,58.5,62,61,67,70.650000000000006,67,67.8,100,103,77.8,80,67.25,69.2,26,1000,3,0.3,6,6,11,0,0,3,0.3,100,42,15,8,1000,1250,14,13,6,4,18,16,7,5,18,16,7,5,4.5,12.5,3,24,17,10.1,6.1,3,2.0699999999999998,22,13.5,8.25,4.5,2.25,1.55,2250,0,0.5,250,200,10,85,100,24,17.5,11.25,6.1,3,2.0699999999999998,22,13.5,8.25,4.5,2.2999999999999998,1.55,3,3000,5,7.0000000000000007E-2,700,1.1000000000000001,60,55,3000,1500,60,60,3000,25,2000,9,8,6,5,8.5,2500]
["Taylor",{"$f":"VLOOKUP(A187,tables!$A$2:$C$56,2,0)","v":46},4012,{"$f":"VLOOKUP(A187,tables!$A$2:$C$56,3,0)","v":"04"},"Greer Industries Inc., Buckeye Asphalt Co.","442 Blaney Hollow Rd., Morgantown, WV 26508","Greer Limestone Co","5630 Earl L. Core Road Rt 7, Morgantown, WV 26508",55,57.25,57.75,57.75,58.5,62,61,67,70.650000000000006,67,67.8,100,103,77.8,80,67.25,69.2,26,1000,3,0.3,6,6,11,0,0,3,0.3,100,42,15,8,1000,1250,14,13,6,4,18,16,7,5,18,16,7,5,4.5,12.5,3,24,17,10.1,6.1,3,2.0699999999999998,22,13.5,8.25,4.5,2.25,1.55,2250,0,0.5,250,200,10,85,100,24,17.5,11.25,6.1,3,2.0699999999999998,22,13.5,8.25,4.5,2.2999999999999998,1.55,3,3000,5,7.0000000000000007E-2,700,1.1000000000000001,60,55,3000,1500,60,60,3000,25,2000,9,8,6,5,8.5,2500]
["Doddridge",{"$f":"VLOOKUP(A188,tables!$A$2:$C$56,2,0)","v":9},4013,{"$f":"VLOOKUP(A188,tables!$A$2:$C$56,3,0)","v":"04"},"Greer Industries Inc., Clarksburg Asphalt Co.","2399 Benedum Dr. Rt. 131, Bridgeport,WV 26330","Greer Limestone Co","5630 Earl L. Core Road Rt 7, Morgantown, WV 26508",65.5,69,68,68,69,74,71.8,76,80.3,76,78,104,107,93,97,81.400000000000006,81.400000000000006,28,1000,3,0.3,6,6,11,0,0,3,0.3,100,42,15,8,1000,1250,14,13,6,4,18,16,7,5,18,16,7,5,4.5,12.5,3,24,17,10.1,6.1,3,2.1,22,13.5,8.25,4.5,2.25,1.65,2250,0,0.5,250,215,10,85,105,24,17.5,11.25,6.1,3,2.1,22,13.5,8.25,4.5,2.2999999999999998,1.65,3,3000,5,7.0000000000000007E-2,700,1.1000000000000001,60,55,3000,1500,60,60,3000,25,2000,9,8,6,5,8.5,2500]
["Harrison",{"$f":"VLOOKUP(A189,tables!$A$2:$C$56,2,0)","v":17},4014,{"$f":"VLOOKUP(A189,tables!$A$2:$C$56,3,0)","v":"04"},"Greer Industries Inc., Clarksburg Asphalt Co.","2399 Benedum Dr. Rt. 131, Bridgeport,WV 26330","Greer Limestone Co","5630 Earl L. Core Road Rt 7, Morgantown, WV 26508",65.5,69,68,68,69,74,71.8,76,80.3,76,78,104,107,93,97,81.400000000000006,81.400000000000006,28,1000,3,0.3,6,6,11,0,0,3,0.3,100,42,15,8,1000,1250,14,13,6,4,18,16,7,5,18,16,7,5,4.5,12.5,3,24,17,10.1,6.1,3,2.1,22,13.5,8.25,4.5,2.25,1.65,2250,0,0.5,250,215,10,85,105,24,17.5,11.25,6.1,3,2.1,22,13.5,8.25,4.5,2.2999999999999998,1.65,3,3000,5,7.0000000000000007E-2,700,1.1000000000000001,60,55,3000,1500,60,60,3000,25,2000,9,8,6,5,8.5,2500]
["Marion",{"$f":"VLOOKUP(A190,tables!$A$2:$C$56,2,0)","v":25},4015,{"$f":"VLOOKUP(A190,tables!$A$2:$C$56,3,0)","v":"04"},"Greer Industries Inc., Clarksburg Asphalt Co.","2399 Benedum Dr. Rt. 131, Bridgeport,WV 26330","Greer Limestone Co","5630 Earl L. Core Road Rt 7, Morgantown, WV 26508",65.5,69,68,68,69,74,71.8,76,80.3,76,78,104,107,93,97,81.400000000000006,81.400000000000006,28,1000,3,0.3,6,6,11,0,0,3,0.3,100,42,15,8,1000,1250,14,13,6,4,18,16,7,5,18,16,7,5,4.5,12.5,3,24,17,10.1,6.1,3,2.1,22,13.5,8.25,4.5,2.25,1.65,2250,0,0.5,250,215,10,85,105,24,17.5,11.25,6.1,3,2.1,22,13.5,8.25,4.5,2.2999999999999998,1.65,3,3000,5,7.0000000000000007E-2,700,1.1000000000000001,60,55,3000,1500,60,60,3000,25,2000,9,8,6,5,8.5,2500]
["Monongalia",{"$f":"VLOOKUP(A191,tables!$A$2:$C$56,2,0)","v":31},4016,{"$f":"VLOOKUP(A191,tables!$A$2:$C$56,3,0)","v":"04"},"Greer Industries Inc., Clarksburg Asphalt Co.","2399 Benedum Dr. Rt. 131, Bridgeport,WV 26330","Greer Limestone Co","5630 Earl L. Core Road Rt 7, Morgantown, WV 26508",65.5,69,68,68,69,74,71.8,76,80.3,76,78,104,107,93,97,81.400000000000006,81.400000000000006,28,1000,3,0.3,6,6,11,0,0,3,0.3,100,42,15,8,1000,1250,14,13,6,4,18,16,7,5,18,16,7,5,4.5,12.5,3,24,17,10.1,6.1,3,2.1,22,13.5,8.25,4.5,2.25,1.65,2250,0,0.5,250,215,10,85,105,24,17.5,11.25,6.1,3,2.1,22,13.5,8.25,4.5,2.2999999999999998,1.65,3,3000,5,7.0000000000000007E-2,700,1.1000000000000001,60,55,3000,1500,60,60,3000,25,2000,9,8,6,5,8.5,2500]
["Preston",{"$f":"VLOOKUP(A192,tables!$A$2:$C$56,2,0)","v":39},4017,{"$f":"VLOOKUP(A192,tables!$A$2:$C$56,3,0)","v":"04"},"Greer Industries Inc., Clarksburg Asphalt Co.","2399 Benedum Dr. Rt. 131, Bridgeport,WV 26330","Greer Limestone Co","5630 Earl L. Core Road Rt 7, Morgantown, WV 26508",65.5,69,68,68,69,74,71.8,76,80.3,76,78,104,107,93,97,81.400000000000006,81.400000000000006,28,1000,3,0.3,6,6,11,0,0,3,0.3,100,42,15,8,1000,1250,14,13,6,4,18,16,7,5,18,16,7,5,4.5,12.5,3,24,17,10.1,6.1,3,2.1,22,13.5,8.25,4.5,2.25,1.65,2250,0,0.5,250,215,10,85,105,24,17.5,11.25,6.1,3,2.1,22,13.5,8.25,4.5,2.2999999999999998,1.65,3,3000,5,7.0000000000000007E-2,700,1.1000000000000001,60,55,3000,1500,60,60,3000,25,2000,9,8,6,5,8.5,2500]
["Taylor",{"$f":"VLOOKUP(A193,tables!$A$2:$C$56,2,0)","v":46},4018,{"$f":"VLOOKUP(A193,tables!$A$2:$C$56,3,0)","v":"04"},"Greer Industries Inc., Clarksburg Asphalt Co.","2399 Benedum Dr. Rt. 131, Bridgeport,WV 26330","Greer Limestone Co","5630 Earl L. Core Road Rt 7, Morgantown, WV 26508",65.5,69,68,68,69,74,71.8,76,80.3,76,78,104,107,93,97,81.400000000000006,81.400000000000006,28,1000,3,0.3,6,6,11,0,0,3,0.3,100,42,15,8,1000,1250,14,13,6,4,18,16,7,5,18,16,7,5,4.5,12.5,3,24,17,10.1,6.1,3,2.1,22,13.5,8.25,4.5,2.25,1.65,2250,0,0.5,250,215,10,85,105,24,17.5,11.25,6.1,3,2.1,22,13.5,8.25,4.5,2.2999999999999998,1.65,3,3000,5,7.0000000000000007E-2,700,1.1000000000000001,60,55,3000,1500,60,60,3000,25,2000,9,8,6,5,8.5,2500]
["Doddridge",{"$f":"VLOOKUP(A194,tables!$A$2:$C$56,2,0)","v":9},4019,{"$f":"VLOOKUP(A194,tables!$A$2:$C$56,3,0)","v":"04"},"JF Allen Company, Buckhannon Plant","320 Alcon Rd., Buckhannon, WV 26201","Aggregates Quarry","3105 Harrison Ave., Elkins WV 26241",73.69,77.88,78.16,78.16,78.36,82.35,78.19,83.3,88.54,83.31,88.7,104.61,107.35,100.87,104.33,89.45,92.33,32,2000,3,0.3,4.75,4.75,12.5,2,5,3,0.3,111,44,20,10.5,2000,10000,7.25,4.5,3.5,2.5,21,16,6.5,4,21,16,6.5,4,4,13,5,29.75,16.100000000000001,10.4,5,3.95,2.5,29.6,15,8.5,4,3.1,2,4250,0,0.75,300,0,5,0,0,29.9,19.75,12.85,8.1,6.75,3,29.9,19.75,12.7,8.1,5,2.5,0.5,4250,6.25,0.01,850,1.55,65,41,3500,1500,46,31,1950,17,2450,10.050000000000001,8.5,7.5,5.5,5.5,4750]
["Harrison",{"$f":"VLOOKUP(A195,tables!$A$2:$C$56,2,0)","v":17},4020,{"$f":"VLOOKUP(A195,tables!$A$2:$C$56,3,0)","v":"04"},"JF Allen Company, Buckhannon Plant","320 Alcon Rd., Buckhannon, WV 26201","Aggregates Quarry","3105 Harrison Ave., Elkins WV 26241",73.69,77.88,78.16,78.16,78.36,82.35,78.19,83.3,88.54,83.31,88.7,104.61,107.35,100.87,104.33,89.45,92.33,32,2000,3,0.3,4.75,4.75,12.5,2,5,3,0.3,111,44,20,10.5,2000,10000,7.25,4.5,3.5,2.5,21,16,6.5,4,21,16,6.5,4,4,13,5,29.75,16.100000000000001,10.4,5,3.95,2.5,29.6,15,8.5,4,3.1,2,4250,0,0.75,300,0,5,0,0,29.9,19.75,12.85,8.1,6.75,3,29.9,19.75,12.7,8.1,5,2.5,0.5,4250,6.25,0.01,850,1.55,65,41,3500,1500,46,31,1950,17,2450,10.050000000000001,8.5,7.5,5.5,5.5,4750]
["Preston",{"$f":"VLOOKUP(A196,tables!$A$2:$C$56,2,0)","v":39},4021,{"$f":"VLOOKUP(A196,tables!$A$2:$C$56,3,0)","v":"04"},"JF Allen Company, Buckhannon Plant","320 Alcon Rd., Buckhannon, WV 26201","Aggregates Quarry","3105 Harrison Ave., Elkins WV 26241",73.69,77.88,78.16,78.16,78.36,82.35,78.19,83.3,88.54,83.31,88.7,104.61,107.35,100.87,104.33,89.45,92.33,32,2000,3,0.3,4.75,4.75,12.5,2,5,3,0.3,111,44,20,10.5,2000,10000,7.25,4.5,3.5,2.5,21,16,6.5,4,21,16,6.5,4,4,13,5,29.75,16.100000000000001,10.4,5,3.95,2.5,29.6,15,8.5,4,3.1,2,4250,0,0.75,300,0,5,0,0,29.9,19.75,12.85,8.1,6.75,3,29.9,19.75,12.7,8.1,5,2.5,0.5,4250,6.25,0.01,850,1.55,65,41,3500,1500,46,31,1950,17,2450,10.050000000000001,8.5,7.5,5.5,5.5,4750]
["Taylor",{"$f":"VLOOKUP(A197,tables!$A$2:$C$56,2,0)","v":46},4022,{"$f":"VLOOKUP(A197,tables!$A$2:$C$56,3,0)","v":"04"},"JF Allen Company, Buckhannon Plant","320 Alcon Rd., Buckhannon, WV 26201","Aggregates Quarry","3105 Harrison Ave., Elkins WV 26241",73.69,77.88,78.16,78.16,78.36,82.35,78.19,83.3,88.54,83.31,88.7,104.61,107.35,100.87,104.33,89.45,92.33,32,2000,3,0.3,4.75,4.75,12.5,2,5,3,0.3,111,44,20,10.5,2000,10000,7.25,4.5,3.5,2.5,21,16,6.5,4,21,16,6.5,4,4,13,5,29.75,16.100000000000001,10.4,5,3.95,2.5,29.6,15,8.5,4,3.1,2,4250,0,0.75,300,0,5,0,0,29.9,19.75,12.85,8.1,6.75,3,29.9,19.75,12.7,8.1,5,2.5,0.5,4250,6.25,0.01,850,1.55,65,41,3500,1500,46,31,1950,17,2450,10.050000000000001,8.5,7.5,5.5,5.5,4750]
["Doddridge",{"$f":"VLOOKUP(A198,tables!$A$2:$C$56,2,0)","v":9},4023,{"$f":"VLOOKUP(A198,tables!$A$2:$C$56,3,0)","v":"04"},"JF Allen Company, Elkins Plant","3105 Harrison Ave., Elkins, WV 26201","Aggregates Quarry","3105 Harrison Ave., Elkins WV 26241",67.56,67.069999999999993,73.03,73.03,73.03,77.25,73.06,82.38,83.19,78.900000000000006,83.2,91.7,93.47,93.5,97.42,80.75,82.75,32,2000,3,0.3,4.75,4.75,12.5,2,5,3,0.3,111,44,20,10.5,2000,10000,7.25,4.5,3.5,2.5,21,16,6.5,4,21,16,6.5,4,4,13,5,29.75,16.100000000000001,10.4,5,3.95,2.5,29.6,15,8.5,4,3.1,2,4250,0,0.75,300,0,5,0,0,29.9,19.75,12.85,8.1,6.75,3,29.9,19.75,12.7,8.1,5,2.5,0.5,4250,6.25,0.01,850,1.55,65,41,3500,1500,46,31,1950,17,2450,10.050000000000001,8.5,7.5,5.5,5.5,4750]
["Harrison",{"$f":"VLOOKUP(A199,tables!$A$2:$C$56,2,0)","v":17},4024,{"$f":"VLOOKUP(A199,tables!$A$2:$C$56,3,0)","v":"04"},"JF Allen Company, Elkins Plant","3105 Harrison Ave., Elkins, WV 26201","Aggregates Quarry","3105 Harrison Ave., Elkins WV 26241",67.56,67.069999999999993,73.03,73.03,73.03,77.25,73.06,82.38,83.19,78.900000000000006,83.2,91.7,93.47,93.5,97.42,80.75,82.75,32,2000,3,0.3,4.75,4.75,12.5,2,5,3,0.3,111,44,20,10.5,2000,10000,7.25,4.5,3.5,2.5,21,16,6.5,4,21,16,6.5,4,4,13,5,29.75,16.100000000000001,10.4,5,3.95,2.5,29.6,15,8.5,4,3.1,2,4250,0,0.75,300,0,5,0,0,29.9,19.75,12.85,8.1,6.75,3,29.9,19.75,12.7,8.1,5,2.5,0.5,4250,6.25,0.01,850,1.55,65,41,3500,1500,46,31,1950,17,2450,10.050000000000001,8.5,7.5,5.5,5.5,4750]
["Marion",{"$f":"VLOOKUP(A200,tables!$A$2:$C$56,2,0)","v":25},4025,{"$f":"VLOOKUP(A200,tables!$A$2:$C$56,3,0)","v":"04"},"JF Allen Company, Elkins Plant","3105 Harrison Ave., Elkins, WV 26201","Aggregates Quarry","3105 Harrison Ave., Elkins WV 26241",67.56,67.069999999999993,73.03,73.03,73.03,77.25,73.06,82.38,83.19,78.900000000000006,83.2,91.7,93.47,93.5,97.42,80.75,82.75,32,2000,3,0.3,4.75,4.75,12.5,2,5,3,0.3,111,44,20,10.5,2000,10000,7.25,4.5,3.5,2.5,21,16,6.5,4,21,16,6.5,4,4,13,5,29.75,16.100000000000001,10.4,5,3.95,2.5,29.6,15,8.5,4,3.1,2,4250,0,0.75,300,0,5,0,0,29.9,19.75,12.85,8.1,6.75,3,29.9,19.75,12.7,8.1,5,2.5,0.5,4250,6.25,0.01,850,1.55,65,41,3500,1500,46,31,1950,17,2450,10.050000000000001,8.5,7.5,5.5,5.5,4750]
["Preston",{"$f":"VLOOKUP(A201,tables!$A$2:$C$56,2,0)","v":39},4026,{"$f":"VLOOKUP(A201,tables!$A$2:$C$56,3,0)","v":"04"},"JF Allen Company, Elkins Plant","3105 Harrison Ave., Elkins, WV 26201","Aggregates Quarry","3105 Harrison Ave., Elkins WV 26241",67.56,67.069999999999993,73.03,73.03,73.03,77.25,73.06,82.38,83.19,78.900000000000006,83.2,91.7,93.47,93.5,97.42,80.75,82.75,32,2000,3,0.3,4.75,4.75,12.5,2,5,3,0.3,111,44,20,10.5,2000,10000,7.25,4.5,3.5,2.5,21,16,6.5,4,21,16,6.5,4,4,13,5,29.75,16.100000000000001,10.4,5,3.95,2.5,29.6,15,8.5,4,3.1,2,4250,0,0.75,300,0,5,0,0,29.9,19.75,12.85,8.1,6.75,3,29.9,19.75,12.7,8.1,5,2.5,0.5,4250,6.25,0.01,850,1.55,65,41,3500,1500,46,31,1950,17,2450,10.050000000000001,8.5,7.5,5.5,5.5,4750]
["Taylor",{"$f":"VLOOKUP(A202,tables!$A$2:$C$56,2,0)","v":46},4027,{"$f":"VLOOKUP(A202,tables!$A$2:$C$56,3,0)","v":"04"},"JF Allen Company, Elkins Plant","3105 Harrison Ave., Elkins, WV 26201","Aggregates Quarry","3105 Harrison Ave., Elkins WV 26241",67.56,67.069999999999993,73.03,73.03,73.03,77.25,73.06,82.38,83.19,78.900000000000006,83.2,91.7,93.47,93.5,97.42,80.75,82.75,32,2000,3,0.3,4.75,4.75,12.5,2,5,3,0.3,111,44,20,10.5,2000,10000,7.25,4.5,3.5,2.5,21,16,6.5,4,21,16,6.5,4,4,13,5,29.75,16.100000000000001,10.4,5,3.95,2.5,29.6,15,8.5,4,3.1,2,4250,0,0.75,300,0,5,0,0,29.9,19.75,12.85,8.1,6.75,3,29.9,19.75,12.7,8.1,5,2.5,0.5,4250,6.25,0.01,850,1.55,65,41,3500,1500,46,31,1950,17,2450,10.050000000000001,8.5,7.5,5.5,5.5,4750]
["Doddridge",{"$f":"VLOOKUP(A203,tables!$A$2:$C$56,2,0)","v":9},4028,{"$f":"VLOOKUP(A203,tables!$A$2:$C$56,3,0)","v":"04"},"JF Allen Company, Saltwell Plant","5856 Saltwell Rd., Bridgeport, WV 26330","Aggregates Quarry","3105 Harrison Ave., Elkins WV 26241",74.430000000000007,78.36,78.3,78.3,78.36,82.35,78.33,83.3,88.54,83.31,88.7,112.17,115.06,110.28,111.37,93.09,95.88,32,2000,3,0.3,4.75,4.75,12.5,2,5,3,0.3,111,44,20,10.5,2000,10000,7.25,4.5,3.5,2.5,21,16,6.5,4,21,16,6.5,4,4,13,5,29.75,16.100000000000001,10.4,5,3.95,2.5,29.6,15,8.5,4,3.1,2,4250,0,0.75,300,0,5,0,0,29.9,19.75,12.85,8.1,6.75,3,29.9,19.75,12.7,8.1,5,2.5,0.5,4250,6.25,0.01,850,1.55,65,41,3500,1500,46,31,1950,17,2450,10.050000000000001,8.5,7.5,5.5,5.5,4750]
["Harrison",{"$f":"VLOOKUP(A204,tables!$A$2:$C$56,2,0)","v":17},4029,{"$f":"VLOOKUP(A204,tables!$A$2:$C$56,3,0)","v":"04"},"JF Allen Company, Saltwell Plant","5856 Saltwell Rd., Bridgeport, WV 26330","Aggregates Quarry","3105 Harrison Ave., Elkins WV 26241",74.430000000000007,78.36,78.3,78.3,78.36,82.35,78.33,83.3,88.54,83.31,88.7,112.17,115.06,110.28,111.37,93.09,95.88,32,2000,3,0.3,4.75,4.75,12.5,2,5,3,0.3,111,44,20,10.5,2000,10000,7.25,4.5,3.5,2.5,21,16,6.5,4,21,16,6.5,4,4,13,5,29.75,16.100000000000001,10.4,5,3.95,2.5,29.6,15,8.5,4,3.1,2,4250,0,0.75,300,0,5,0,0,29.9,19.75,12.85,8.1,6.75,3,29.9,19.75,12.7,8.1,5,2.5,0.5,4250,6.25,0.01,850,1.55,65,41,3500,1500,46,31,1950,17,2450,10.050000000000001,8.5,7.5,5.5,5.5,4750]
["Marion",{"$f":"VLOOKUP(A205,tables!$A$2:$C$56,2,0)","v":25},4030,{"$f":"VLOOKUP(A205,tables!$A$2:$C$56,3,0)","v":"04"},"JF Allen Company, Saltwell Plant","5856 Saltwell Rd., Bridgeport, WV 26330","Aggregates Quarry","3105 Harrison Ave., Elkins WV 26241",74.430000000000007,78.36,78.3,78.3,78.36,82.35,78.33,83.3,88.54,83.31,88.7,112.17,115.06,110.28,111.37,93.09,95.88,32,2000,3,0.3,4.75,4.75,12.5,2,5,3,0.3,111,44,20,10.5,2000,10000,7.25,4.5,3.5,2.5,21,16,6.5,4,21,16,6.5,4,4,13,5,29.75,16.100000000000001,10.4,5,3.95,2.5,29.6,15,8.5,4,3.1,2,4250,0,0.75,300,0,5,0,0,29.9,19.75,12.85,8.1,6.75,3,29.9,19.75,12.7,8.1,5,2.5,0.5,4250,6.25,0.01,850,1.55,65,41,3500,1500,46,31,1950,17,2450,10.050000000000001,8.5,7.5,5.5,5.5,4750]
["Monongalia",{"$f":"VLOOKUP(A206,tables!$A$2:$C$56,2,0)","v":31},4031,{"$f":"VLOOKUP(A206,tables!$A$2:$C$56,3,0)","v":"04"},"JF Allen Company, Saltwell Plant","5856 Saltwell Rd., Bridgeport, WV 26330","Aggregates Quarry","3105 Harrison Ave., Elkins WV 26241",74.430000000000007,78.36,78.3,78.3,78.36,82.35,78.33,83.3,88.54,83.31,88.7,112.17,115.06,110.28,111.37,93.09,95.88,32,2000,3,0.3,4.75,4.75,12.5,2,5,3,0.3,111,44,20,10.5,2000,10000,7.25,4.5,3.5,2.5,21,16,6.5,4,21,16,6.5,4,4,13,5,29.75,16.100000000000001,10.4,5,3.95,2.5,29.6,15,8.5,4,3.1,2,4250,0,0.75,300,0,5,0,0,29.9,19.75,12.85,8.1,6.75,3,29.9,19.75,12.7,8.1,5,2.5,0.5,4250,6.25,0.01,850,1.55,65,41,3500,1500,46,31,1950,17,2450,10.050000000000001,8.5,7.5,5.5,5.5,4750]
["Preston",{"$f":"VLOOKUP(A207,tables!$A$2:$C$56,2,0)","v":39},4032,{"$f":"VLOOKUP(A207,tables!$A$2:$C$56,3,0)","v":"04"},"JF Allen Company, Saltwell Plant","5856 Saltwell Rd., Bridgeport, WV 26330","Aggregates Quarry","3105 Harrison Ave., Elkins WV 26241",74.430000000000007,78.36,78.3,78.3,78.36,82.35,78.33,83.3,88.54,83.31,88.7,112.17,115.06,110.28,111.37,93.09,95.88,32,2000,3,0.3,4.75,4.75,12.5,2,5,3,0.3,111,44,20,10.5,2000,10000,7.25,4.5,3.5,2.5,21,16,6.5,4,21,16,6.5,4,4,13,5,29.75,16.100000000000001,10.4,5,3.95,2.5,29.6,15,8.5,4,3.1,2,4250,0,0.75,300,0,5,0,0,29.9,19.75,12.85,8.1,6.75,3,29.9,19.75,12.7,8.1,5,2.5,0.5,4250,6.25,0.01,850,1.55,65,41,3500,1500,46,31,1950,17,2450,10.050000000000001,8.5,7.5,5.5,5.5,4750]
["Taylor",{"$f":"VLOOKUP(A208,tables!$A$2:$C$56,2,0)","v":46},4033,{"$f":"VLOOKUP(A208,tables!$A$2:$C$56,3,0)","v":"04"},"JF Allen Company, Saltwell Plant","5856 Saltwell Rd., Bridgeport, WV 26330","Aggregates Quarry","3105 Harrison Ave., Elkins WV 26241",74.430000000000007,78.36,78.3,78.3,78.36,82.35,78.33,83.3,88.54,83.31,88.7,112.17,115.06,110.28,111.37,93.09,95.88,32,2000,3,0.3,4.75,4.75,12.5,2,5,3,0.3,111,44,20,10.5,2000,10000,7.25,4.5,3.5,2.5,21,16,6.5,4,21,16,6.5,4,4,13,5,29.75,16.100000000000001,10.4,5,3.95,2.5,29.6,15,8.5,4,3.1,2,4250,0,0.75,300,0,5,0,0,29.9,19.75,12.85,8.1,6.75,3,29.9,19.75,12.7,8.1,5,2.5,0.5,4250,6.25,0.01,850,1.55,65,41,3500,1500,46,31,1950,17,2450,10.050000000000001,8.5,7.5,5.5,5.5,4750]
["Doddridge",{"$f":"VLOOKUP(A209,tables!$A$2:$C$56,2,0)","v":9},4034,{"$f":"VLOOKUP(A209,tables!$A$2:$C$56,3,0)","v":"04"},"Kelly Paving Camden Materials","202 Hickory St., Parkersburg, WV 26101","Martin Marietta","99 Kanawha St., Parkersburg, WV 26101",85.5,88.75,88,88,89.25,102.75,89.25,92.25,102.75,91.5,101.75,104,104,104,104,94.25,104.75,55,2000,3,0.35,5,5,15,2,4,3,0.35,90,40,15,8,1500,5000,6.5,4,2.5,2,25,15,4,2,25,15,4,2,3.5,10,5,22,18,11,5.5,3.5,2.5,21,17,10,5,3,2,3000,0,0.35,350,122.5,4,50,112.5,24,19,13,7,4.5,3.5,23,18,12,6,4,3,0.5,3000,6.5,0.01,850,1,72,25,2500,500,40,28,1500,8,800,9,8,6,5,6,1000]
["Harrison",{"$f":"VLOOKUP(A210,tables!$A$2:$C$56,2,0)","v":17},4035,{"$f":"VLOOKUP(A210,tables!$A$2:$C$56,3,0)","v":"04"},"Kelly Paving Camden Materials","202 Hickory St., Parkersburg, WV 26101","Martin Marietta","99 Kanawha St., Parkersburg, WV 26101",85.5,88.75,88,88,89.25,102.75,89.25,92.25,102.75,91.5,101.75,104,104,104,104,94.25,104.75,55,2500,3,0.35,5,5,15,2,4,3,0.35,90,40,15,8,2500,6000,6.5,4,2.5,2,25,15,4,2,25,15,4,2,3.5,10,5,22,18,11,5.5,3.5,2.5,21,17,10,5,3,2,3000,0,0.35,350,122.5,4,50,112.5,24,19,13,7,4.5,3.5,23,18,12,6,4,3,0.5,3000,6.5,0.01,850,1,72,25,2500,500,40,28,1500,8,1200,9,8,6,5,6,1500]
["Doddridge",{"$f":"VLOOKUP(A211,tables!$A$2:$C$56,2,0)","v":9},4036,{"$f":"VLOOKUP(A211,tables!$A$2:$C$56,3,0)","v":"04"},"Kelly Paving Inc., Plant #14","123 Dodd Dr., St. Marys, WV 26170","Martin Marietta","195 Wetzel St., New Martinsville, WV 26155",82,88,88,88,88,100,88,92,103,92,100,0,0,102,104,96,102,55,2000,3,0.35,7,6,15,2,4,3,0.35,90,40,15,8,1500,5000,6.5,4,2.5,2,25,15,4,2,25,15,4,2,3.5,10,5,22,18,11,5.5,3.5,2.5,21,17,10,5,3,2,3000,0,0.35,350,0,3.5,0,0,24,19,13,7,4.5,3.5,23,18,12,6,4,3,0.5,3000,6.5,0.01,850,1,72,25,5000,500,40,28,1500,8,800,9,8,6,5,6,1000]
["Harrison",{"$f":"VLOOKUP(A212,tables!$A$2:$C$56,2,0)","v":17},4037,{"$f":"VLOOKUP(A212,tables!$A$2:$C$56,3,0)","v":"04"},"Kelly Paving Inc., Plant #14","123 Dodd Dr., St. Marys, WV 26170","Martin Marietta","195 Wetzel St., New Martinsville, WV 26155",82,88,88,88,88,100,88,92,103,92,100,0,0,102,104,96,102,55,2500,3,0.35,7,6,15,2,4,3,0.35,90,40,15,8,2500,6000,6.5,4,2.5,2,25,15,4,2,25,15,4,2,3.5,10,5,22,18,11,5.5,3.5,2.5,21,17,10,5,3,2,3000,0,0.35,350,0,3.5,0,0,24,19,13,7,4.5,3.5,23,18,12,6,4,3,0.5,3000,6.5,0.01,850,1,72,25,5000,500,40,28,1500,8,1200,9,8,6,5,6,1500]
["Marion",{"$f":"VLOOKUP(A213,tables!$A$2:$C$56,2,0)","v":25},4038,{"$f":"VLOOKUP(A213,tables!$A$2:$C$56,3,0)","v":"04"},"Kelly Paving Inc., Plant #14","123 Dodd Dr., St. Marys, WV 26170","Martin Marietta","195 Wetzel St., New Martinsville, WV 26155",82,88,88,88,88,100,88,92,103,92,100,0,0,102,104,96,102,55,3500,3,0.35,7,6,15,2,4,3,0.35,90,40,15,8,3500,6500,6.5,4,2.5,2,25,15,4,2,25,15,4,2,3.5,10,5,22,18,11,5.5,3.5,2.5,21,17,10,5,3,2,3000,0,0.35,350,0,3.5,0,0,24,19,13,7,4.5,3.5,23,18,12,6,4,3,0.5,3000,6.5,0.01,850,1,72,25,5000,500,40,28,1500,8,2000,9,8,6,5,6,2000]
["Monongalia",{"$f":"VLOOKUP(A214,tables!$A$2:$C$56,2,0)","v":31},4039,{"$f":"VLOOKUP(A214,tables!$A$2:$C$56,3,0)","v":"04"},"Kelly Paving Inc., Plant #14","123 Dodd Dr., St. Marys, WV 26170","Martin Marietta","195 Wetzel St., New Martinsville, WV 26155",82,88,88,88,88,100,88,92,103,92,100,0,0,102,104,96,102,55,3500,3,0.35,7,6,15,2,4,3,0.35,90,40,15,8,3500,6500,6.5,4,2.5,2,25,15,4,2,25,15,4,2,3.5,10,5,22,18,11,5.5,3.5,2.5,21,17,10,5,3,2,3000,0,0.35,350,0,3.5,0,0,24,19,13,7,4.5,3.5,23,18,12,6,4,3,0.5,3000,6.5,0.01,850,1,72,25,5000,500,40,28,1500,8,2000,9,8,6,5,6,2000]
["Doddridge",{"$f":"VLOOKUP(A215,tables!$A$2:$C$56,2,0)","v":9},4040,{"$f":"VLOOKUP(A215,tables!$A$2:$C$56,3,0)","v":"04"},"Kelly Paving Inc., Plant #14","123 Dodd Dr., St. Marys, WV 26170","Kelly Paving Inc.","123 Dodd Dr., St. Marys, WV 26170",82,88,88,88,88,100,88,92,103,92,100,0,0,102,104,96,102,55,2000,3,0.35,7,6,15,2,4,3,0.35,90,40,15,8,1500,5000,6.5,4,2.5,2,25,15,4,2,25,15,4,2,3.5,10,5,22,18,11,5.5,3.5,2.5,21,17,10,5,3,2,3000,0,0.35,350,0,3.5,0,0,24,19,13,7,4.5,3.5,23,18,12,6,4,3,0.5,3000,6.5,0.01,850,1,72,25,5000,500,40,28,1500,8,800,9,8,6,5,6,1000]
["Harrison",17,4041,{"$f":"VLOOKUP(A216,tables!$A$2:$C$56,3,0)","v":"04"},"Kelly Paving Inc., Plant #14","123 Dodd Dr., St. Marys, WV 26170","Kelly Paving Inc.","123 Dodd Dr., St. Marys, WV 26170",82,88,88,88,88,100,88,92,103,92,100,0,0,102,104,96,102,55,2500,3,0.35,7,6,15,2,4,3,0.35,90,40,15,8,2500,6000,6.5,4,2.5,2,25,15,4,2,25,15,4,2,3.5,10,5,22,18,11,5.5,3.5,2.5,21,17,10,5,3,2,3000,0,0.35,350,0,3.5,0,0,24,19,13,7,4.5,3.5,23,18,12,6,4,3,0.5,3000,6.5,0.01,850,1,72,25,5000,500,40,28,1500,8,1200,9,8,6,5,6,1500]
["Marion",25,4042,{"$f":"VLOOKUP(A217,tables!$A$2:$C$56,3,0)","v":"04"},"Kelly Paving Inc., Plant #14","123 Dodd Dr., St. Marys, WV 26170","Kelly Paving Inc.","123 Dodd Dr., St. Marys, WV 26170",82,88,88,88,88,100,88,92,103,92,100,0,0,102,104,96,102,55,3500,3,0.35,7,6,15,2,4,3,0.35,90,40,15,8,3500,6500,6.5,4,2.5,2,25,15,4,2,25,15,4,2,3.5,10,5,22,18,11,5.5,3.5,2.5,21,17,10,5,3,2,3000,0,0.35,350,0,3.5,0,0,24,19,13,7,4.5,3.5,23,18,12,6,4,3,0.5,3000,6.5,0.01,850,1,72,25,5000,500,40,28,1500,8,2000,9,8,6,5,6,2000]
["Monongalia",31,4043,{"$f":"VLOOKUP(A218,tables!$A$2:$C$56,3,0)","v":"04"},"Kelly Paving Inc., Plant #14","123 Dodd Dr., St. Marys, WV 26170","Kelly Paving Inc.","123 Dodd Dr., St. Marys, WV 26170",82,88,88,88,88,100,88,92,103,92,100,0,0,102,104,96,102,55,3500,3,0.35,7,6,15,2,4,3,0.35,90,40,15,8,3500,6500,6.5,4,2.5,2,25,15,4,2,25,15,4,2,3.5,10,5,22,18,11,5.5,3.5,2.5,21,17,10,5,3,2,3000,0,0.35,350,0,3.5,0,0,24,19,13,7,4.5,3.5,23,18,12,6,4,3,0.5,3000,6.5,0.01,850,1,72,25,5000,500,40,28,1500,8,2000,9,8,6,5,6,2000]
["Marion",25,4044,{"$f":"VLOOKUP(A219,tables!$A$2:$C$56,3,0)","v":"04"},"Kelly Paving Inc., Plant #14","123 Dodd Dr., St. Marys, WV 26170","Martin Marietta","619 Sand Hill Way, Petroleum, WV 26161",82,88,88,88,88,100,88,92,103,92,100,0,0,102,104,96,102,55,3500,3,0.35,7,6,15,2,4,3,0.35,90,40,15,8,3500,6500,6.5,4,2.5,2,25,15,4,2,25,15,4,2,3.5,10,5,22,18,11,5.5,3.5,2.5,21,17,10,5,3,2,3000,0,0.35,350,0,3.5,0,0,24,19,13,7,4.5,3.5,23,18,12,6,4,3,0.5,3000,6.5,0.01,850,1,72,25,5000,500,40,28,1500,8,2000,9,8,6,5,6,2000]
["Monongalia",31,4045,{"$f":"VLOOKUP(A220,tables!$A$2:$C$56,3,0)","v":"04"},"Kelly Paving Inc., Plant #14","123 Dodd Dr., St. Marys, WV 26170","Martin Marietta","619 Sand Hill Way, Petroleum, WV 26161",82,88,88,88,88,100,88,92,103,92,100,0,0,102,104,96,102,55,3500,3,0.35,7,6,15,2,4,3,0.35,90,40,15,8,3500,6500,6.5,4,2.5,2,25,15,4,2,25,15,4,2,3.5,10,5,22,18,11,5.5,3.5,2.5,21,17,10,5,3,2,3000,0,0.35,350,0,3.5,0,0,24,19,13,7,4.5,3.5,23,18,12,6,4,3,0.5,3000,6.5,0.01,850,1,72,25,5000,500,40,28,1500,8,2000,9,8,6,5,6,2000]
["Doddridge",{"$f":"VLOOKUP(A221,tables!$A$2:$C$56,2,0)","v":9},4046,{"$f":"VLOOKUP(A221,tables!$A$2:$C$56,3,0)","v":"04"},"Kelly Paving Inc., Plant #14","123 Dodd Dr., St. Marys, WV 26170","Martin Marietta","619 Sand Hill Way, Petroleum, WV 26161",82,88,88,88,88,100,88,92,103,92,100,0,0,102,104,96,102,55,2000,3,0.35,7,6,15,2,4,3,0.35,90,40,15,8,1500,5000,6.5,4,2.5,2,25,15,4,2,25,15,4,2,3.5,10,5,22,18,11,5.5,3.5,2.5,21,17,10,5,3,2,3000,0,0.35,350,0,3.5,0,0,24,19,13,7,4.5,3.5,23,18,12,6,4,3,0.5,3000,6.5,0.01,850,1,72,25,5000,500,40,28,1500,8,800,9,8,6,5,6,1000]
["Harrison",{"$f":"VLOOKUP(A222,tables!$A$2:$C$56,2,0)","v":17},4047,{"$f":"VLOOKUP(A222,tables!$A$2:$C$56,3,0)","v":"04"},"Kelly Paving Inc., Plant #14","123 Dodd Dr., St. Marys, WV 26170","Martin Marietta","619 Sand Hill Way, Petroleum, WV 26161",82,88,88,88,88,100,88,92,103,92,100,0,0,102,104,96,102,55,2500,3,0.35,7,6,15,2,4,3,0.35,90,40,15,8,2500,6000,6.5,4,2.5,2,25,15,4,2,25,15,4,2,3.5,10,5,22,18,11,5.5,3.5,2.5,21,17,10,5,3,2,3000,0,0.35,350,0,3.5,0,0,24,19,13,7,4.5,3.5,23,18,12,6,4,3,0.5,3000,6.5,0.01,850,1,72,25,5000,500,40,28,1500,8,1200,9,8,6,5,6,1500]
["Doddridge",{"$f":"VLOOKUP(A223,tables!$A$2:$C$56,2,0)","v":9},4048,{"$f":"VLOOKUP(A223,tables!$A$2:$C$56,3,0)","v":"04"},"Stone Asphalt, LLC","164 V.I.P. Drive Masontown, WV 26542","Stone Asphalt LLC","164 V.I.P. Drive Masontown, WV 26542",59.2,62.25,61.65,61.65,60.8,64.25,66.400000000000006,69.45,72.2,69.45,71.3,98,100,83.05,85.55,69.099999999999994,71.3,31.6,1000,2.5,0.31,6.05,6.5,10.6,0,0,2.5,0.31,98.2,42.15,15.05,7.3,1000,10000,14,13,6,4,18,16,7,5,18,16,7,5,4.37,12.25,3.05,24,17.5,11.25,6.1,3,2.15,22,15,8.25,4.5,2.2999999999999998,1.75,2500,0,0.5,215,0,0,0,0,24.5,17.75,11.3,6.15,3.75,2.15,22,13.5,9.0500000000000007,5.25,3,1.75,4,3500,6,0.05,605,0.95,56.25,55,3000,2500,65.25,47.5,2500,15,2500,8.35,7.8,6.4,4.8,6.15,2550]
["Harrison",{"$f":"VLOOKUP(A224,tables!$A$2:$C$56,2,0)","v":17},4049,{"$f":"VLOOKUP(A224,tables!$A$2:$C$56,3,0)","v":"04"},"Stone Asphalt, LLC","164 V.I.P. Drive Masontown, WV 26542","Stone Asphalt LLC","164 V.I.P. Drive Masontown, WV 26542",59.2,62.25,61.65,61.65,60.8,64.25,66.400000000000006,69.45,72.2,69.45,71.3,98,100,83.05,85.55,69.099999999999994,71.3,31.6,1000,2.5,0.31,6.05,6.5,10.6,0,0,2.5,0.31,98.2,42.15,15.05,7.3,1000,10000,14,13,6,4,18,16,7,5,18,16,7,5,4.37,12.25,3.05,24,17.5,11.25,6.1,3,2.15,22,15,8.25,4.5,2.2999999999999998,1.75,2500,0,0.5,215,0,0,0,0,24.5,17.75,11.3,6.15,3.75,2.15,22,13.5,9.0500000000000007,5.25,3,1.75,4,3500,6,0.05,605,0.95,56.25,55,3000,2500,65.25,47.5,2500,15,2500,8.35,7.8,6.4,4.8,6.15,2550]
["Marion",{"$f":"VLOOKUP(A225,tables!$A$2:$C$56,2,0)","v":25},4050,{"$f":"VLOOKUP(A225,tables!$A$2:$C$56,3,0)","v":"04"},"Stone Asphalt, LLC","164 V.I.P. Drive Masontown, WV 26542","Stone Asphalt LLC","164 V.I.P. Drive Masontown, WV 26542",59.2,62.25,61.65,61.65,60.8,64.25,66.400000000000006,69.45,72.2,69.45,71.3,98,100,83.05,85.55,69.099999999999994,71.3,31.6,1000,2.5,0.31,6.05,6.5,10.6,0,0,2.5,0.31,98.2,42.15,15.05,7.3,1000,10000,14,13,6,4,18,16,7,5,18,16,7,5,4.37,12.25,3.05,24,17.5,11.25,6.1,3,2.15,22,15,8.25,4.5,2.2999999999999998,1.75,2500,0,0.5,215,0,0,0,0,24.5,17.75,11.3,6.15,3.75,2.15,22,13.5,9.0500000000000007,5.25,3,1.75,4,3500,6,0.05,605,0.95,56.25,55,3000,2500,65.25,47.5,2500,15,2500,8.35,7.8,6.4,4.8,6.15,2550]
["Monongalia",{"$f":"VLOOKUP(A226,tables!$A$2:$C$56,2,0)","v":31},4051,{"$f":"VLOOKUP(A226,tables!$A$2:$C$56,3,0)","v":"04"},"Stone Asphalt, LLC","164 V.I.P. Drive Masontown, WV 26542","Stone Asphalt LLC","164 V.I.P. Drive Masontown, WV 26542",59.2,62.25,61.65,61.65,60.8,64.25,66.400000000000006,69.45,72.2,69.45,71.3,98,100,83.05,85.55,69.099999999999994,71.3,31.6,1000,2.5,0.31,6.05,6.5,10.6,0,0,2.5,0.31,98.2,42.15,15.05,7.3,1000,10000,14,13,6,4,18,16,7,5,18,16,7,5,4.37,12.25,3.05,24,17.5,11.25,6.1,3,2.15,22,15,8.25,4.5,2.2999999999999998,1.75,2500,0,0.5,215,0,0,0,0,24.5,17.75,11.3,6.15,3.75,2.15,22,13.5,9.0500000000000007,5.25,3,1.75,4,3500,6,0.05,605,0.95,56.25,55,3000,2500,65.25,47.5,2500,15,2500,8.35,7.8,6.4,4.8,6.15,2550]
["Preston",{"$f":"VLOOKUP(A227,tables!$A$2:$C$56,2,0)","v":39},4052,{"$f":"VLOOKUP(A227,tables!$A$2:$C$56,3,0)","v":"04"},"Stone Asphalt, LLC","164 V.I.P. Drive Masontown, WV 26542","Stone Asphalt LLC","164 V.I.P. Drive Masontown, WV 26542",59.2,62.25,61.65,61.65,60.8,64.25,66.400000000000006,69.45,72.2,69.45,71.3,98,100,83.05,85.55,69.099999999999994,71.3,31.6,1000,2.5,0.31,6.05,6.5,10.6,0,0,2.5,0.31,98.2,42.15,15.05,7.3,1000,10000,14,13,6,4,18,16,7,5,18,16,7,5,4.37,12.25,3.05,24,17.5,11.25,6.1,3,2.15,22,15,8.25,4.5,2.2999999999999998,1.75,2500,0,0.5,215,0,0,0,0,24.5,17.75,11.3,6.15,3.75,2.15,22,13.5,9.0500000000000007,5.25,3,1.75,4,3500,6,0.05,605,0.95,56.25,55,3000,2500,65.25,47.5,2500,15,2500,8.35,7.8,6.4,4.8,6.15,2550]
["Taylor",{"$f":"VLOOKUP(A228,tables!$A$2:$C$56,2,0)","v":46},4053,{"$f":"VLOOKUP(A228,tables!$A$2:$C$56,3,0)","v":"04"},"Stone Asphalt, LLC","164 V.I.P. Drive Masontown, WV 26542","Stone Asphalt LLC","164 V.I.P. Drive Masontown, WV 26542",59.2,62.25,61.65,61.65,60.8,64.25,66.400000000000006,69.45,72.2,69.45,71.3,98,100,83.05,85.55,69.099999999999994,71.3,31.6,1000,2.5,0.31,6.05,6.5,10.6,0,0,2.5,0.31,98.2,42.15,15.05,7.3,1000,10000,14,13,6,4,18,16,7,5,18,16,7,5,4.37,12.25,3.05,24,17.5,11.25,6.1,3,2.15,22,15,8.25,4.5,2.2999999999999998,1.75,2500,0,0.5,215,0,0,0,0,24.5,17.75,11.3,6.15,3.75,2.15,22,13.5,9.0500000000000007,5.25,3,1.75,4,3500,6,0.05,605,0.95,56.25,55,3000,2500,65.25,47.5,2500,15,2500,8.35,7.8,6.4,4.8,6.15,2550]
["Doddridge",{"$f":"VLOOKUP(A229,tables!$A$2:$C$56,2,0)","v":9},4054,{"$f":"VLOOKUP(A229,tables!$A$2:$C$56,3,0)","v":"04"},"Stone Asphalt, LLC","164 V.I.P. Drive Masontown, WV 26542","Keystone Lime Co","897 Reckart Mill Rd., Terra Alta WV 26764",59.2,62.25,61.65,61.65,60.8,64.25,66.400000000000006,69.45,72.2,69.45,71.3,98,100,83.05,85.55,69.099999999999994,71.3,31.6,1000,2.5,0.31,6.05,6.5,10.6,0,0,2.5,0.31,98.2,42.15,15.05,7.3,1000,10000,14,13,6,4,18,16,7,5,18,16,7,5,4.37,12.25,3.05,24,17.5,11.25,6.1,3,2.15,22,15,8.25,4.5,2.2999999999999998,1.75,2500,0,0.5,215,0,0,0,0,24.5,17.75,11.3,6.15,3.75,2.15,22,13.5,9.0500000000000007,5.25,3,1.75,4,3500,6,0.05,605,0.95,56.25,55,3000,2500,65.25,47.5,2500,15,2500,8.35,7.8,6.4,4.8,6.15,2550]
["Harrison",{"$f":"VLOOKUP(A230,tables!$A$2:$C$56,2,0)","v":17},4055,{"$f":"VLOOKUP(A230,tables!$A$2:$C$56,3,0)","v":"04"},"Stone Asphalt, LLC","164 V.I.P. Drive Masontown, WV 26542","Keystone Lime Co","897 Reckart Mill Rd., Terra Alta WV 26764",59.2,62.25,61.65,61.65,60.8,64.25,66.400000000000006,69.45,72.2,69.45,71.3,98,100,83.05,85.55,69.099999999999994,71.3,31.6,1000,2.5,0.31,6.05,6.5,10.6,0,0,2.5,0.31,98.2,42.15,15.05,7.3,1000,10000,14,13,6,4,18,16,7,5,18,16,7,5,4.37,12.25,3.05,24,17.5,11.25,6.1,3,2.15,22,15,8.25,4.5,2.2999999999999998,1.75,2500,0,0.5,215,0,0,0,0,24.5,17.75,11.3,6.15,3.75,2.15,22,13.5,9.0500000000000007,5.25,3,1.75,4,3500,6,0.05,605,0.95,56.25,55,3000,2500,65.25,47.5,2500,15,2500,8.35,7.8,6.4,4.8,6.15,2550]
["Marion",{"$f":"VLOOKUP(A231,tables!$A$2:$C$56,2,0)","v":25},4056,{"$f":"VLOOKUP(A231,tables!$A$2:$C$56,3,0)","v":"04"},"Stone Asphalt, LLC","164 V.I.P. Drive Masontown, WV 26542","Keystone Lime Co","897 Reckart Mill Rd., Terra Alta WV 26764",59.2,62.25,61.65,61.65,60.8,64.25,66.400000000000006,69.45,72.2,69.45,71.3,98,100,83.05,85.55,69.099999999999994,71.3,31.6,1000,2.5,0.31,6.05,6.5,10.6,0,0,2.5,0.31,98.2,42.15,15.05,7.3,1000,10000,14,13,6,4,18,16,7,5,18,16,7,5,4.37,12.25,3.05,24,17.5,11.25,6.1,3,2.15,22,15,8.25,4.5,2.2999999999999998,1.75,2500,0,0.5,215,0,0,0,0,24.5,17.75,11.3,6.15,3.75,2.15,22,13.5,9.0500000000000007,5.25,3,1.75,4,3500,6,0.05,605,0.95,56.25,55,3000,2500,65.25,47.5,2500,15,2500,8.35,7.8,6.4,4.8,6.15,2550]
["Monongalia",{"$f":"VLOOKUP(A232,tables!$A$2:$C$56,2,0)","v":31},4057,{"$f":"VLOOKUP(A232,tables!$A$2:$C$56,3,0)","v":"04"},"Stone Asphalt, LLC","164 V.I.P. Drive Masontown, WV 26542","Keystone Lime Co","897 Reckart Mill Rd., Terra Alta WV 26764",59.2,62.25,61.65,61.65,60.8,64.25,66.400000000000006,69.45,72.2,69.45,71.3,98,100,83.05,85.55,69.099999999999994,71.3,31.6,1000,2.5,0.31,6.05,6.5,10.6,0,0,2.5,0.31,98.2,42.15,15.05,7.3,1000,10000,14,13,6,4,18,16,7,5,18,16,7,5,4.37,12.25,3.05,24,17.5,11.25,6.1,3,2.15,22,15,8.25,4.5,2.2999999999999998,1.75,2500,0,0.5,215,0,0,0,0,24.5,17.75,11.3,6.15,3.75,2.15,22,13.5,9.0500000000000007,5.25,3,1.75,4,3500,6,0.05,605,0.95,56.25,55,3000,2500,65.25,47.5,2500,15,2500,8.35,7.8,6.4,4.8,6.15,2550]
["Preston",{"$f":"VLOOKUP(A233,tables!$A$2:$C$56,2,0)","v":39},4058,{"$f":"VLOOKUP(A233,tables!$A$2:$C$56,3,0)","v":"04"},"Stone Asphalt, LLC","164 V.I.P. Drive Masontown, WV 26542","Keystone Lime Co","897 Reckart Mill Rd., Terra Alta WV 26764",59.2,62.25,61.65,61.65,60.8,64.25,66.400000000000006,69.45,72.2,69.45,71.3,98,100,83.05,85.55,69.099999999999994,71.3,31.6,1000,2.5,0.31,6.05,6.5,10.6,0,0,2.5,0.31,98.2,42.15,15.05,7.3,1000,10000,14,13,6,4,18,16,7,5,18,16,7,5,4.37,12.25,3.05,24,17.5,11.25,6.1,3,2.15,22,15,8.25,4.5,2.2999999999999998,1.75,2500,0,0.5,215,0,0,0,0,24.5,17.75,11.3,6.15,3.75,2.15,22,13.5,9.0500000000000007,5.25,3,1.75,4,3500,6,0.05,605,0.95,56.25,55,3000,2500,65.25,47.5,2500,15,2500,8.35,7.8,6.4,4.8,6.15,2550]
["Taylor",{"$f":"VLOOKUP(A234,tables!$A$2:$C$56,2,0)","v":46},4059,{"$f":"VLOOKUP(A234,tables!$A$2:$C$56,3,0)","v":"04"},"Stone Asphalt, LLC","164 V.I.P. Drive Masontown, WV 26542","Keystone Lime Co","897 Reckart Mill Rd., Terra Alta WV 26764",59.2,62.25,61.65,61.65,60.8,64.25,66.400000000000006,69.45,72.2,69.45,71.3,98,100,83.05,85.55,69.099999999999994,71.3,31.6,1000,2.5,0.31,6.05,6.5,10.6,0,0,2.5,0.31,98.2,42.15,15.05,7.3,1000,10000,14,13,6,4,18,16,7,5,18,16,7,5,4.37,12.25,3.05,24,17.5,11.25,6.1,3,2.15,22,15,8.25,4.5,2.2999999999999998,1.75,2500,0,0.5,215,0,0,0,0,24.5,17.75,11.3,6.15,3.75,2.15,22,13.5,9.0500000000000007,5.25,3,1.75,4,3500,6,0.05,605,0.95,56.25,55,3000,2500,65.25,47.5,2500,15,2500,8.35,7.8,6.4,4.8,6.15,2550]
["Doddridge",{"$f":"VLOOKUP(A235,tables!$A$2:$C$56,2,0)","v":9},4060,{"$f":"VLOOKUP(A235,tables!$A$2:$C$56,3,0)","v":"04"},"Stone Asphalt, LLC","164 V.I.P. Drive Masontown, WV 26542","Arcosa Aggregates","2480 Springhill Furnace Rd., Lake Lynn PA 15451",59.2,62.25,61.65,61.65,60.8,64.25,66.400000000000006,69.45,72.2,69.45,71.3,98,100,83.05,85.55,69.099999999999994,71.3,31.6,1000,2.5,0.31,6.05,6.5,10.6,0,0,2.5,0.31,98.2,42.15,15.05,7.3,1000,10000,14,13,6,4,18,16,7,5,18,16,7,5,4.37,12.25,3.05,24,17.5,11.25,6.1,3,2.15,22,15,8.25,4.5,2.2999999999999998,1.75,2500,0,0.5,215,0,0,0,0,24.5,17.75,11.3,6.15,3.75,2.15,22,13.5,9.0500000000000007,5.25,3,1.75,4,3500,6,0.05,605,0.95,56.25,55,3000,2500,65.25,47.5,2500,15,2500,8.35,7.8,6.4,4.8,6.15,2550]
["Harrison",{"$f":"VLOOKUP(A236,tables!$A$2:$C$56,2,0)","v":17},4061,{"$f":"VLOOKUP(A236,tables!$A$2:$C$56,3,0)","v":"04"},"Stone Asphalt, LLC","164 V.I.P. Drive Masontown, WV 26542","Arcosa Aggregates","2480 Springhill Furnace Rd., Lake Lynn PA 15451",59.2,62.25,61.65,61.65,60.8,64.25,66.400000000000006,69.45,72.2,69.45,71.3,98,100,83.05,85.55,69.099999999999994,71.3,31.6,1000,2.5,0.31,6.05,6.5,10.6,0,0,2.5,0.31,98.2,42.15,15.05,7.3,1000,10000,14,13,6,4,18,16,7,5,18,16,7,5,4.37,12.25,3.05,24,17.5,11.25,6.1,3,2.15,22,15,8.25,4.5,2.2999999999999998,1.75,2500,0,0.5,215,0,0,0,0,24.5,17.75,11.3,6.15,3.75,2.15,22,13.5,9.0500000000000007,5.25,3,1.75,4,3500,6,0.05,605,0.95,56.25,55,3000,2500,65.25,47.5,2500,15,2500,8.35,7.8,6.4,4.8,6.15,2550]
["Marion",{"$f":"VLOOKUP(A237,tables!$A$2:$C$56,2,0)","v":25},4062,{"$f":"VLOOKUP(A237,tables!$A$2:$C$56,3,0)","v":"04"},"Stone Asphalt, LLC","164 V.I.P. Drive Masontown, WV 26542","Arcosa Aggregates","2480 Springhill Furnace Rd., Lake Lynn PA 15451",59.2,62.25,61.65,61.65,60.8,64.25,66.400000000000006,69.45,72.2,69.45,71.3,98,100,83.05,85.55,69.099999999999994,71.3,31.6,1000,2.5,0.31,6.05,6.5,10.6,0,0,2.5,0.31,98.2,42.15,15.05,7.3,1000,10000,14,13,6,4,18,16,7,5,18,16,7,5,4.37,12.25,3.05,24,17.5,11.25,6.1,3,2.15,22,15,8.25,4.5,2.2999999999999998,1.75,2500,0,0.5,215,0,0,0,0,24.5,17.75,11.3,6.15,3.75,2.15,22,13.5,9.0500000000000007,5.25,3,1.75,4,3500,6,0.05,605,0.95,56.25,55,3000,2500,65.25,47.5,2500,15,2500,8.35,7.8,6.4,4.8,6.15,2550]
["Monongalia",{"$f":"VLOOKUP(A238,tables!$A$2:$C$56,2,0)","v":31},4063,{"$f":"VLOOKUP(A238,tables!$A$2:$C$56,3,0)","v":"04"},"Stone Asphalt, LLC","164 V.I.P. Drive Masontown, WV 26542","Arcosa Aggregates","2480 Springhill Furnace Rd., Lake Lynn PA 15451",59.2,62.25,61.65,61.65,60.8,64.25,66.400000000000006,69.45,72.2,69.45,71.3,98,100,83.05,85.55,69.099999999999994,71.3,31.6,1000,2.5,0.31,6.05,6.5,10.6,0,0,2.5,0.31,98.2,42.15,15.05,7.3,1000,10000,14,13,6,4,18,16,7,5,18,16,7,5,4.37,12.25,3.05,24,17.5,11.25,6.1,3,2.15,22,15,8.25,4.5,2.2999999999999998,1.75,2500,0,0.5,215,0,0,0,0,24.5,17.75,11.3,6.15,3.75,2.15,22,13.5,9.0500000000000007,5.25,3,1.75,4,3500,6,0.05,605,0.95,56.25,55,3000,2500,65.25,47.5,2500,15,2500,8.35,7.8,6.4,4.8,6.15,2550]
["Preston",{"$f":"VLOOKUP(A239,tables!$A$2:$C$56,2,0)","v":39},4064,{"$f":"VLOOKUP(A239,tables!$A$2:$C$56,3,0)","v":"04"},"Stone Asphalt, LLC","164 V.I.P. Drive Masontown, WV 26542","Arcosa Aggregates","2480 Springhill Furnace Rd., Lake Lynn PA 15451",59.2,62.25,61.65,61.65,60.8,64.25,66.400000000000006,69.45,72.2,69.45,71.3,98,100,83.05,85.55,69.099999999999994,71.3,31.6,1000,2.5,0.31,6.05,6.5,10.6,0,0,2.5,0.31,98.2,42.15,15.05,7.3,1000,10000,14,13,6,4,18,16,7,5,18,16,7,5,4.37,12.25,3.05,24,17.5,11.25,6.1,3,2.15,22,15,8.25,4.5,2.2999999999999998,1.75,2500,0,0.5,215,0,0,0,0,24.5,17.75,11.3,6.15,3.75,2.15,22,13.5,9.0500000000000007,5.25,3,1.75,4,3500,6,0.05,605,0.95,56.25,55,3000,2500,65.25,47.5,2500,15,2500,8.35,7.8,6.4,4.8,6.15,2550]
["Taylor",{"$f":"VLOOKUP(A240,tables!$A$2:$C$56,2,0)","v":46},4065,{"$f":"VLOOKUP(A240,tables!$A$2:$C$56,3,0)","v":"04"},"Stone Asphalt, LLC","164 V.I.P. Drive Masontown, WV 26542","Arcosa Aggregates","2480 Springhill Furnace Rd., Lake Lynn PA 15451",59.2,62.25,61.65,61.65,60.8,64.25,66.400000000000006,69.45,72.2,69.45,71.3,98,100,83.05,85.55,69.099999999999994,71.3,31.6,1000,2.5,0.31,6.05,6.5,10.6,0,0,2.5,0.31,98.2,42.15,15.05,7.3,1000,10000,14,13,6,4,18,16,7,5,18,16,7,5,4.37,12.25,3.05,24,17.5,11.25,6.1,3,2.15,22,15,8.25,4.5,2.2999999999999998,1.75,2500,0,0.5,215,0,0,0,0,24.5,17.75,11.3,6.15,3.75,2.15,22,13.5,9.0500000000000007,5.25,3,1.75,4,3500,6,0.05,605,0.95,56.25,55,3000,2500,65.25,47.5,2500,15,2500,8.35,7.8,6.4,4.8,6.15,2550]
["Preston",{"$f":"VLOOKUP(A241,tables!$A$2:$C$56,2,0)","v":39},4066,{"$f":"VLOOKUP(A241,tables!$A$2:$C$56,3,0)","v":"04"},"West Virginia Paving, Inc., Elkins Plant","Rt. 33 Kelly Mountain Rd., Elkins, WV","Appalachian Aggregates","Rt. 33 Kelly Mountain Rd., Elkins, WV 26241",68.25,68.25,74.25,74.25,74.25,80.5,75.5,81,83.5,81,83.5,0,0,101.5,0,79,79,65,2000,2.75,0.33,15,4,12,2,5,2.7850000000000001,0.28000000000000003,85,30,20,10,2000,15000,6.75,4.75,3.75,2.75,20.75,15.75,4.75,2.75,20.75,15.75,4.75,2.75,3.5,14,6,22.25,17.5,12.5,6.75,4.8499999999999996,3.75,21.5,16.5,11.5,5.75,3.85,2.75,3500,0,0.28000000000000003,350,0,5,0,0,24.9,19.899999999999999,14.9,8,6.15,4.3499999999999996,23.9,18.899999999999999,13.9,7,5.15,3.35,0.5,4500,8,0.01,900,1,65,40,5000,2000,76,35,2000,13,2000,8.5,8,6.5,5,6,5000]
["Grant",{"$f":"VLOOKUP(A242,tables!$A$2:$C$56,2,0)","v":12},5001,{"$f":"VLOOKUP(A242,tables!$A$2:$C$56,3,0)","v":"05"},"Belt Paving","11269 Waxler Road, Keyser, WV 26726","Allegany Aggregates Short Gap Quarry","10676 Waxler Road, Keyser, WV 26726",61.5,66.5,66,66,67,78,67,71.5,81,70.5,81,84,98,83,100,80,83.5,33,1800,4.2,0.28999999999999998,3.5,4.75,14.5,1.5,2,4.2,0.28999999999999998,133.5,44.5,19,12.8,1975,4200,10.35,4.5999999999999996,3.4,2.85,42,14,5.5,2.75,35,13.5,5.5,2.75,5.8,3.5,2.9,35,11.6,10.5,5.5,3.65,2.95,35,11.6,10.5,5.5,3.65,2.95,2600,0,0.43,75,110,5.8,67.5,165,58.5,36,20,12.5,6.1,3.3,60,36,20,12.5,6.1,3.3,7,5800,7,0.03,905,1,64,30,6700,4000,70,50,3850,21,765,8,7.5,6,4.75,4,2400]
["Hampshire",{"$f":"VLOOKUP(A243,tables!$A$2:$C$56,2,0)","v":14},5002,{"$f":"VLOOKUP(A243,tables!$A$2:$C$56,3,0)","v":"05"},"Belt Paving","11269 Waxler Road, Keyser, WV 26726","Allegany Aggregates Short Gap Quarry","10676 Waxler Road, Keyser, WV 26726",61.5,66.5,66,66,67,78,67,71.5,81,70.5,81,84,98,83,100,80,83.5,33,1800,4.2,0.28999999999999998,3.5,4.75,14.5,1.5,2,4.2,0.28999999999999998,133.5,44.5,19,12.8,1975,4200,10.35,4.5999999999999996,3.4,2.85,42,14,5.5,2.75,35,13.5,5.5,2.75,5.8,3.5,2.9,35,11.6,10.5,5.5,3.65,2.95,35,11.6,10.5,5.5,3.65,2.95,2600,0,0.43,75,110,5.8,67.5,165,58.5,36,20,12.5,6.1,3.3,60,36,20,12.5,6.1,3.3,7,5800,7,0.03,905,1,64,30,6700,4000,70,50,3850,21,765,8,7.5,6,4.75,4,2400]
["Hardy",{"$f":"VLOOKUP(A244,tables!$A$2:$C$56,2,0)","v":16},5003,{"$f":"VLOOKUP(A244,tables!$A$2:$C$56,3,0)","v":"05"},"Belt Paving","11269 Waxler Road, Keyser, WV 26726","Allegany Aggregates Short Gap Quarry","10676 Waxler Road, Keyser, WV 26726",61.5,66.5,66,66,67,78,67,71.5,81,70.5,81,84,98,83,100,80,83.5,33,1800,4.2,0.28999999999999998,3.5,4.75,14.5,1.5,2,4.2,0.28999999999999998,133.5,44.5,19,12.8,1975,4200,10.35,4.5999999999999996,3.4,2.85,42,14,5.5,2.75,35,13.5,5.5,2.75,5.8,3.5,2.9,35,11.6,10.5,5.5,3.65,2.95,35,11.6,10.5,5.5,3.65,2.95,2600,0,0.43,75,110,5.8,67.5,165,58.5,36,20,12.5,6.1,3.3,60,36,20,12.5,6.1,3.3,7,5800,7,0.03,905,1,64,30,6700,4000,70,50,3850,21,765,8,7.5,6,4.75,4,2400]
["Mineral",{"$f":"VLOOKUP(A245,tables!$A$2:$C$56,2,0)","v":29},5004,{"$f":"VLOOKUP(A245,tables!$A$2:$C$56,3,0)","v":"05"},"Belt Paving","11269 Waxler Road, Keyser, WV 26726","Allegany Aggregates Short Gap Quarry","10676 Waxler Road, Keyser, WV 26726",61.5,66.5,66,66,67,78,67,71.5,81,70.5,81,84,98,83,100,80,83.5,33,1800,4.2,0.28999999999999998,3.5,4.75,14.5,1.5,2,4.2,0.28999999999999998,133.5,44.5,19,12.8,1975,4200,10.35,4.5999999999999996,3.4,2.85,42,14,5.5,2.75,35,13.5,5.5,2.75,5.8,3.5,2.9,35,11.6,10.5,5.5,3.65,2.95,35,11.6,10.5,5.5,3.65,2.95,2600,0,0.43,75,110,5.8,67.5,165,58.5,36,20,12.5,6.1,3.3,60,36,20,12.5,6.1,3.3,7,5800,7,0.03,905,1,64,30,6700,4000,70,50,3850,21,765,8,7.5,6,4.75,4,2400]
["Morgan",{"$f":"VLOOKUP(A246,tables!$A$2:$C$56,2,0)","v":33},5005,{"$f":"VLOOKUP(A246,tables!$A$2:$C$56,3,0)","v":"05"},"Belt Paving","11269 Waxler Road, Keyser, WV 26726","Allegany Aggregates Short Gap Quarry","10676 Waxler Road, Keyser, WV 26726",61.5,66.5,66,66,67,78,67,71.5,81,70.5,81,84,98,83,100,80,83.5,33,1800,4.2,0.28999999999999998,3.5,4.75,14.5,1.5,2,4.2,0.28999999999999998,133.5,44.5,19,12.8,1975,4200,10.35,4.5999999999999996,3.4,2.85,42,14,5.5,2.75,35,13.5,5.5,2.75,5.8,3.5,2.9,35,11.6,10.5,5.5,3.65,2.95,35,11.6,10.5,5.5,3.65,2.95,2600,0,0.43,75,110,5.8,67.5,165,58.5,36,20,12.5,6.1,3.3,60,36,20,12.5,6.1,3.3,7,5800,7,0.03,905,1,64,30,6700,4000,70,50,3850,21,765,8,7.5,6,4.75,4,2400]
["Berkeley",{"$f":"VLOOKUP(A247,tables!$A$2:$C$56,2,0)","v":2},5006,{"$f":"VLOOKUP(A247,tables!$A$2:$C$56,3,0)","v":"05"},"C William Hetzer","10104 Mapleville Rd., Hagerstown MD 21740","Beaver Creek Quarry","10101 Mapleville Rd., Hagerstown MD 21740",54,60.5,61.7,61.7,61.7,64.8,61.7,69.2,72.900000000000006,69.2,72.900000000000006,76.599999999999994,80.5,76.599999999999994,80.5,65.8,68.2,20,1000,8,0.25,2.5,2.5,7.5,2.5,5,8,0.25,40,30,16,10,1500,1500,3,2.5,2.5,2.5,10,5,3,2.5,10,5,3,2.5,3,20,5,22,16.5,9,6.5,4.5,3.5,20,15,8,6,4,3,1000,0,0.35,25,200,5,25,200,22,16.5,9,6.5,4.5,3.5,20,15,8,6,4,3,2,5000,10,0.5,750,1.5,55,25,5000,1500,50,50,1000,2.5,500,9,8,7,6,2.5,3000]
["Berkeley",{"$f":"VLOOKUP(A248,tables!$A$2:$C$56,2,0)","v":2},5007,{"$f":"VLOOKUP(A248,tables!$A$2:$C$56,3,0)","v":"05"},"C William Hetzer","10104 Mapleville Rd., Hagerstown MD 21740","Inwood Quarry","9171 Winchester Ave., Inwood, WV 25248",54,60.5,61.7,61.7,61.7,64.8,61.7,69.2,72.900000000000006,69.2,72.900000000000006,76.599999999999994,80.5,76.599999999999994,80.5,65.8,68.2,20,1000,8,0.25,2.5,2.5,7.5,2.5,5,8,0.25,40,30,16,10,1500,1500,3,2.5,2.5,2.5,10,5,3,2.5,10,5,3,2.5,3,20,5,22,16.5,9,6.5,4.5,3.5,20,15,8,6,4,3,1000,0,0.35,25,200,5,25,200,22,16.5,9,6.5,4.5,3.5,20,15,8,6,4,3,2,5000,10,0.5,750,1.5,55,25,5000,1500,50,50,1000,2.5,500,9,8,7,6,2.5,3000]
["Hampshire",{"$f":"VLOOKUP(A249,tables!$A$2:$C$56,2,0)","v":14},5008,{"$f":"VLOOKUP(A249,tables!$A$2:$C$56,3,0)","v":"05"},"C William Hetzer","10104 Mapleville Rd., Hagerstown MD 21740","Inwood Quarry","9171 Winchester Ave., Inwood, WV 25248",54,60.5,61.7,61.7,61.7,64.8,61.7,69.2,72.900000000000006,69.2,72.900000000000006,76.599999999999994,80.5,76.599999999999994,80.5,65.8,68.2,20,2000,8,0.25,2.5,2.5,7.5,2.5,5,8,0.25,40,30,16,10,2500,2500,3,2.5,2.5,2.5,10,5,3,2.5,10,5,3,2.5,3,20,5,22,16.5,9,6.5,4.5,3.5,20,15,8,6,4,3,2000,0,0.35,25,200,5,25,200,22,16.5,9,6.5,4.5,3.5,20,15,8,6,4,3,2,5000,10,0.5,750,1.5,55,25,5000,1500,50,50,1000,2.5,500,9,8,7,6,2.5,3000]
["Jefferson",{"$f":"VLOOKUP(A250,tables!$A$2:$C$56,2,0)","v":19},5009,{"$f":"VLOOKUP(A250,tables!$A$2:$C$56,3,0)","v":"05"},"C William Hetzer","10104 Mapleville Rd., Hagerstown MD 21740","Beaver Creek Quarry","10101 Mapleville Rd., Hagerstown MD 21740",54,60.5,61.7,61.7,61.7,64.8,61.7,69.2,72.900000000000006,69.2,72.900000000000006,76.599999999999994,80.5,76.599999999999994,80.5,65.8,68.2,20,1000,8,0.25,2.5,2.5,7.5,2.5,5,8,0.25,40,30,16,10,1500,1500,3,2.5,2.5,2.5,10,5,3,2.5,10,5,3,2.5,3,20,5,22,16.5,9,6.5,4.5,3.5,20,15,8,6,4,3,1000,0,0.35,25,200,5,25,200,22,16.5,9,6.5,4.5,3.5,20,15,8,6,4,3,2,5000,10,0.5,750,1.5,55,25,5000,1500,50,50,1000,2.5,500,9,8,7,6,2.5,3000]
["Jefferson",{"$f":"VLOOKUP(A251,tables!$A$2:$C$56,2,0)","v":19},5010,{"$f":"VLOOKUP(A251,tables!$A$2:$C$56,3,0)","v":"05"},"C William Hetzer","10104 Mapleville Rd., Hagerstown MD 21740","Inwood Quarry","9171 Winchester Ave., Inwood, WV 25248",54,60.5,61.7,61.7,61.7,64.8,61.7,69.2,72.900000000000006,69.2,72.900000000000006,76.599999999999994,80.5,76.599999999999994,80.5,65.8,68.2,20,1000,8,0.25,2.5,2.5,7.5,2.5,5,8,0.25,40,30,16,10,1500,1500,3,2.5,2.5,2.5,10,5,3,2.5,10,5,3,2.5,3,20,5,22,16.5,9,6.5,4.5,3.5,20,15,8,6,4,3,1000,0,0.35,25,200,5,25,200,22,16.5,9,6.5,4.5,3.5,20,15,8,6,4,3,2,5000,10,0.5,750,1.5,55,25,5000,1500,50,50,1000,2.5,500,9,8,7,6,2.5,3000]
["Morgan",{"$f":"VLOOKUP(A252,tables!$A$2:$C$56,2,0)","v":33},5011,{"$f":"VLOOKUP(A252,tables!$A$2:$C$56,3,0)","v":"05"},"C William Hetzer","10104 Mapleville Rd., Hagerstown MD 21740",null,null,54,60.5,61.7,61.7,61.7,64.8,61.7,69.2,72.900000000000006,69.2,72.900000000000006,76.599999999999994,80.5,76.599999999999994,80.5,65.8,68.2,20,1500,8,0.25,2.5,2.5,7.5,2.5,5,8,0.25,40,30,16,10,2000,2000,3,2.5,2.5,2.5,10,5,3,2.5,10,5,3,2.5,3,20,5,22,16.5,9,6.5,4.5,3.5,20,15,8,6,4,3,1500,0,0.35,25,200,5,25,200,22,16.5,9,6.5,4.5,3.5,20,15,8,6,4,3,2,5000,10,0.5,750,1.5,55,25,5000,1500,50,50,1000,2.5,500,9,8,7,6,2.5,3000]
["Grant",{"$f":"VLOOKUP(A253,tables!$A$2:$C$56,2,0)","v":12},5012,{"$f":"VLOOKUP(A253,tables!$A$2:$C$56,3,0)","v":"05"},"Greer Industries Inc., Greer Asphalt Co.","8410 Veterans Memorial Hwy., Masontown, WV 26542","Greer Limestone Co","5630 Earl L. Core Road Rt 7, Morgantown, WV 26508",55,57.25,57.75,57.75,58.5,62,61,67,70.650000000000006,67,67.8,100,103,77.8,80,67.25,69.2,26,1000,3,0.3,6,6,11,0,0,3,0.3,100,42,15,8,1000,1250,14,13,6,4,18,16,7,5,18,16,7,5,4.5,12.5,3,24,17,10.1,6.1,3,2.0699999999999998,22,13.5,8.25,4.5,2.25,1.55,2250,0,0.5,250,200,10,85,100,24,17.5,11.25,6.1,3,2.0699999999999998,22,13.5,8.25,4.5,2.2999999999999998,1.55,3,3000,5,7.0000000000000007E-2,700,1.1000000000000001,60,55,3000,1500,60,60,3000,25,2000,9,8,6,5,8.5,2500]
["Grant",{"$f":"VLOOKUP(A254,tables!$A$2:$C$56,2,0)","v":12},5013,{"$f":"VLOOKUP(A254,tables!$A$2:$C$56,3,0)","v":"05"},"Greer Industries Inc., Buckeye Asphalt Co.","442 Blaney Hollow Rd., Morgantown, WV 26508","Greer Limestone Co","5630 Earl L. Core Road Rt 7, Morgantown, WV 26508",55,57.25,57.75,57.75,58.5,62,61,67,70.650000000000006,67,67.8,100,103,77.8,80,67.25,69.2,26,1000,3,0.3,6,6,11,0,0,3,0.3,100,42,15,8,1000,1250,14,13,6,4,18,16,7,5,18,16,7,5,4.5,12.5,3,24,17,10.1,6.1,3,2.0699999999999998,22,13.5,8.25,4.5,2.25,1.55,2250,0,0.5,250,200,10,85,100,24,17.5,11.25,6.1,3,2.0699999999999998,22,13.5,8.25,4.5,2.2999999999999998,1.55,3,3000,5,7.0000000000000007E-2,700,1.1000000000000001,60,55,3000,1500,60,60,3000,25,2000,9,8,6,5,8.5,2500]
["Grant",{"$f":"VLOOKUP(A255,tables!$A$2:$C$56,2,0)","v":12},5014,{"$f":"VLOOKUP(A255,tables!$A$2:$C$56,3,0)","v":"05"},"Greer Industries Inc., Clarksburg Asphalt Co.","2399 Benedum Dr. Rt. 131, Bridgeport,WV 26330","Greer Limestone Co","5630 Earl L. Core Road Rt 7, Morgantown, WV 26508",65.5,69,68,68,69,74,71.8,76,80.3,76,78,104,107,93,97,81.400000000000006,81.400000000000006,28,1000,3,0.3,6,6,11,0,0,3,0.3,100,42,15,8,1000,1250,14,13,6,4,18,16,7,5,18,16,7,5,4.5,12.5,3,24,17,10.1,6.1,3,2.1,22,13.5,8.25,4.5,2.25,1.65,2250,0,0.5,250,215,10,85,105,24,17.5,11.25,6.1,3,2.1,22,13.5,8.25,4.5,2.2999999999999998,1.65,3,3000,5,7.0000000000000007E-2,700,1.1000000000000001,60,55,3000,1500,60,60,3000,25,2000,9,8,6,5,8.5,2500]
["Hardy",{"$f":"VLOOKUP(A256,tables!$A$2:$C$56,2,0)","v":16},5015,{"$f":"VLOOKUP(A256,tables!$A$2:$C$56,3,0)","v":"05"},"JF Allen Company, Elkins Plant","3105 Harrison Ave., Elkins, WV 26201","Aggregates Quarry","3105 Harrison Ave., Elkins WV 26241",67.56,67.069999999999993,73.03,73.03,73.03,77.25,73.06,82.38,83.19,78.900000000000006,83.2,91.7,93.47,93.5,97.42,80.75,82.75,32,2000,3,0.3,4.75,4.75,12.5,2,5,3,0.3,111,44,20,10.5,2000,10000,7.25,4.5,3.5,2.5,21,16,6.5,4,21,16,6.5,4,4,13,5,29.75,16.100000000000001,10.4,5,3.95,2.5,29.6,15,8.5,4,3.1,2,4250,0,0.75,300,0,5,0,0,29.9,19.75,12.85,8.1,6.75,3,29.9,19.75,12.7,8.1,5,2.5,0.5,4250,6.25,0.01,850,1.55,65,41,3500,1500,46,31,1950,17,2450,10.050000000000001,8.5,7.5,5.5,5.5,4750]
["Berkeley",{"$f":"VLOOKUP(A257,tables!$A$2:$C$56,2,0)","v":2},5016,{"$f":"VLOOKUP(A257,tables!$A$2:$C$56,3,0)","v":"05"},"New Enterprise Stone & Lime Co Inc., Chambersburg Plant","2921 Stone Quarry Rd., Chambersburg, PA 17202","Chambersburg Quarry","2921 Stone Quarry Rd., Chambersburg PA 17202",70,70,75,75,90,100,80,90,90,90,100,105,115,115,125,90,100,0,5000," ",0,10,10,10,0,0,5,0.5,85,45,22,14,5000,9000,19,9.5,5.5,4.5,20,10,6.5,5,20,10,6.5,5,6.5,19,5.5,50,25,12.5,10,5.5,4.5,50,25,12.5,10,5.5,4.5,7000,0,0.5,550,155,8.5,35,110,50,25,12.5,10,5.5,4.5,50,25,12.5,10,5.5,4.5,6.5,5000,10,0.5,1250,7,105,80,8000,4000,75,75,5000,750,5000,12,10,8,6,7,5000]
["Berkeley",{"$f":"VLOOKUP(A258,tables!$A$2:$C$56,2,0)","v":2},5017,{"$f":"VLOOKUP(A258,tables!$A$2:$C$56,3,0)","v":"05"},"New Enterprise Stone & Lime Co Inc., Ashcom Plant","526 Ashcom Rd., Everett, PA 15537","Ashcom Quarry","526 Ashcom Rd., Everett, PA 15537",70,70,75,75,90,100,80,90,90,90,100,105,115,115,125,90,100,0,5000," ",0,10,10,10,0,0,5,0.5,85,45,22,14,5000,9000,19,9.5,5.5,4.5,20,10,6.5,5,20,10,6.5,5,6.5,19,5.5,50,25,12.5,10,5.5,4.5,50,25,12.5,10,5.5,4.5,7000,0,0.5,550,155,8.5,35,110,50,25,12.5,10,5.5,4.5,50,25,12.5,10,5.5,4.5,6.5,5000,10,0.5,1250,7,105,80,8000,4000,75,75,5000,750,5000,12,10,8,6,7,5000]
["Hampshire",{"$f":"VLOOKUP(A259,tables!$A$2:$C$56,2,0)","v":14},5018,{"$f":"VLOOKUP(A259,tables!$A$2:$C$56,3,0)","v":"05"},"New Enterprise Stone & Lime Co Inc., Ashcom Plant","526 Ashcom Rd., Everett, PA 15537","Ashcom Quarry","526 Ashcom Rd., Everett, PA 15537",70,70,75,75,90,100,80,90,90,90,100,105,115,115,125,90,100,0,5000," ",0,10,10,10,0,0,5,0.5,85,45,22,14,5000,9000,19,9.5,5.5,4.5,20,10,6.5,5,20,10,6.5,5,6.5,19,5.5,50,25,12.5,10,5.5,4.5,50,25,12.5,10,5.5,4.5,7000,0,0.5,550,155,8.5,35,110,50,25,12.5,10,5.5,4.5,50,25,12.5,10,5.5,4.5,6.5,5000,10,0.5,1250,7,105,80,8000,4000,75,75,5000,750,5000,12,10,8,6,7,5000]
["Jefferson",{"$f":"VLOOKUP(A260,tables!$A$2:$C$56,2,0)","v":19},5019,{"$f":"VLOOKUP(A260,tables!$A$2:$C$56,3,0)","v":"05"},"New Enterprise Stone & Lime Co Inc., Chambersburg Plant","2921 Stone Quarry Rd., Chambersburg, PA 17202","Chambersburg Quarry","2921 Stone Quarry Rd., Chambersburg PA 17202",70,70,75,75,90,100,80,90,90,90,100,105,115,115,125,90,100,0,5000," ",0,10,10,10,0,0,5,0.5,85,45,22,14,5000,9000,19,9.5,5.5,4.5,20,10,6.5,5,20,10,6.5,5,6.5,19,5.5,50,25,12.5,10,5.5,4.5,50,25,12.5,10,5.5,4.5,7000,0,0.5,550,155,8.5,35,110,50,25,12.5,10,5.5,4.5,50,25,12.5,10,5.5,4.5,6.5,5000,10,0.5,1250,7,105,80,8000,4000,75,75,5000,750,5000,12,10,8,6,7,5000]
["Mineral",{"$f":"VLOOKUP(A261,tables!$A$2:$C$56,2,0)","v":29},5020,{"$f":"VLOOKUP(A261,tables!$A$2:$C$56,3,0)","v":"05"},"New Enterprise Stone & Lime Co Inc., Ashcom Plant","526 Ashcom Rd., Everett, PA 15537","Ashcom Quarry","526 Ashcom Rd., Everett, PA 15537",70,70,75,75,90,100,80,90,90,90,100,105,115,115,125,90,100,0,5000," ",0,10,10,10,0,0,5,0.5,85,45,22,14,5000,9000,19,9.5,5.5,4.5,20,10,6.5,5,20,10,6.5,5,6.5,19,5.5,50,25,12.5,10,5.5,4.5,50,25,12.5,10,5.5,4.5,7000,0,0.5,550,155,8.5,35,110,50,25,12.5,10,5.5,4.5,50,25,12.5,10,5.5,4.5,6.5,5000,10,0.5,1250,7,105,80,8000,4000,75,75,5000,750,5000,12,10,8,6,7,5000]
["Morgan",{"$f":"VLOOKUP(A262,tables!$A$2:$C$56,2,0)","v":33},5021,{"$f":"VLOOKUP(A262,tables!$A$2:$C$56,3,0)","v":"05"},"New Enterprise Stone & Lime Co Inc., Ashcom Plant","526 Ashcom Rd., Everett, PA 15537","Ashcom Quarry","526 Ashcom Rd., Everett, PA 15537",70,70,75,75,90,100,80,90,90,90,100,105,115,115,125,90,100,0,5000," ",0,10,10,10,0,0,5,0.5,85,45,22,14,5000,9000,19,9.5,5.5,4.5,20,10,6.5,5,20,10,6.5,5,6.5,19,5.5,50,25,12.5,10,5.5,4.5,50,25,12.5,10,5.5,4.5,7000,0,0.5,550,155,8.5,35,110,50,25,12.5,10,5.5,4.5,50,25,12.5,10,5.5,4.5,6.5,5000,10,0.5,1250,7,105,80,8000,4000,75,75,5000,750,5000,12,10,8,6,7,5000]
["Morgan",{"$f":"VLOOKUP(A263,tables!$A$2:$C$56,2,0)","v":33},5022,{"$f":"VLOOKUP(A263,tables!$A$2:$C$56,3,0)","v":"05"},"New Enterprise Stone & Lime Co Inc., Chambersburg Plant","2921 Stone Quarry Rd., Chambersburg, PA 17202","Chambersburg Quarry","2921 Stone Quarry Rd., Chambersburg PA 17202",70,70,75,75,90,100,80,90,90,90,100,105,115,115,125,90,100,0,5000," ",0,10,10,10,0,0,5,0.5,85,45,22,14,5000,9000,19,9.5,5.5,4.5,20,10,6.5,5,20,10,6.5,5,6.5,19,5.5,50,25,12.5,10,5.5,4.5,50,25,12.5,10,5.5,4.5,7000,0,0.5,550,155,8.5,35,110,50,25,12.5,10,5.5,4.5,50,25,12.5,10,5.5,4.5,6.5,5000,10,0.5,1250,7,105,80,8000,4000,75,75,5000,750,5000,12,10,8,6,7,5000]
["Berkeley",{"$f":"VLOOKUP(A264,tables!$A$2:$C$56,2,0)","v":2},5023,{"$f":"VLOOKUP(A264,tables!$A$2:$C$56,3,0)","v":"05"},"P & W EXCAVATING","882 Pigeon Cove Rd., Warfordsburg, PA 17267","US Silica ","2496 Hancoc Rd., Berkeley Springs, WV 25411",67.47,63.58,66.88,66.88,66.88,74.790000000000006,66.760000000000005,73.400000000000006,0,73.400000000000006,80.650000000000006,0,0,0,0,0,77.540000000000006,23.5,1200,2.75,0.45,0,5,15,5,15,2.75,0.45,25,15,8.25,6.25,3500,4000,8,4.1500000000000004,2.5,2,5,3.25,2.5,1.75,5,3.25,2.5,1.75,3.9,10,4,34.65,22.45,13,7.4,3.65,2.4,34.65,22.45,13,7.4,3.65,2.4,3300,0,0.45,40.35,0,4.25,0,0,38.15,27.3,15,8.3000000000000007,4.3,2.6,38.15,27.3,15,8.3000000000000007,4.3,2.6,4.9000000000000004,5500,4.5,0.15,600,1.25,58,25,9500,3500,74.75,51.75,3850,15,3850,8.35,7.75,6.35,4.75,4.25,2475]
["Hampshire",{"$f":"VLOOKUP(A265,tables!$A$2:$C$56,2,0)","v":14},5024,{"$f":"VLOOKUP(A265,tables!$A$2:$C$56,3,0)","v":"05"},"P & W EXCAVATING","882 Pigeon Cove Rd., Warfordsburg, PA 17267","US Silica ","2496 Hancoc Rd., Berkeley Springs, WV 25411",67.47,63.58,66.88,66.88,66.88,74.790000000000006,66.760000000000005,73.400000000000006,0,73.400000000000006,80.650000000000006,0,0,0,0,0,77.540000000000006,23.5,1200,2.75,0.45,0,5,15,5,15,2.75,0.45,25,15,8.25,6.25,3500,4000,8,4.1500000000000004,2.5,2,5,3.25,2.5,1.75,5,3.25,2.5,1.75,3.9,10,4,34.65,22.45,13,7.4,3.65,2.4,34.65,22.45,13,7.4,3.65,2.4,3300,0,0.45,40.35,0,4.25,0,0,38.15,27.3,15,8.3000000000000007,4.3,2.6,38.15,27.3,15,8.3000000000000007,4.3,2.6,4.9000000000000004,5500,4.5,0.15,600,1.25,58,25,9500,3500,74.75,51.75,3850,15,3850,8.35,7.75,6.35,4.75,4.25,2475]
["Morgan",{"$f":"VLOOKUP(A266,tables!$A$2:$C$56,2,0)","v":33},5025,{"$f":"VLOOKUP(A266,tables!$A$2:$C$56,3,0)","v":"05"},"P & W EXCAVATING","882 Pigeon Cove Rd., Warfordsburg, PA 17267","US Silica ","2496 Hancoc Rd., Berkeley Springs, WV 25411",67.47,63.58,66.88,66.88,66.88,74.790000000000006,66.760000000000005,73.400000000000006,0,73.400000000000006,80.650000000000006,0,0,0,0,0,77.540000000000006,23.5,1200,2.75,0.45,0,5,15,5,15,2.75,0.45,25,15,8.25,6.25,3500,4000,8,4.1500000000000004,2.5,2,5,3.25,2.5,1.75,5,3.25,2.5,1.75,3.9,10,4,34.65,22.45,13,7.4,3.65,2.4,34.65,22.45,13,7.4,3.65,2.4,3300,0,0.45,40.35,0,4.25,0,0,38.15,27.3,15,8.3000000000000007,4.3,2.6,38.15,27.3,15,8.3000000000000007,4.3,2.6,4.9000000000000004,5500,4.5,0.15,600,1.25,58,25,9500,3500,74.75,51.75,3850,15,3850,8.35,7.75,6.35,4.75,4.25,2475]
["Berkeley",{"$f":"VLOOKUP(A267,tables!$A$2:$C$56,2,0)","v":2},5026,{"$f":"VLOOKUP(A267,tables!$A$2:$C$56,3,0)","v":"05"},"W-L Construction","660 Quarry Lane, Clearbrook, VA 22624","W-L Construction","508 Quarry Lane, Clearbrook, VA 22624",66.86,80.650000000000006,73.3,73.3,73.3,80.56,81.75,82.03,102,82.03,89.2,0,0,0,0,92.64,100.56,60,3200,3.3,0.35,0,5,12,4,10,4,0.35,90,32,22,9.32,3200,3200,7.5,4.75,3.7,2.7,23,16.5,5.4,2.7,23,16.5,5.4,2.7,3.3,15,5,27,19,12.1,7.25,3.85,3.85,24,17.5,11.6,6.5,3.5,3,3200,0,5.8,105,0,5.5,0,0,33,22,15.5,8.5,6.5,4.5,25,20,14.5,7.5,5.5,3.5,2,3200,8.5,0.2,1000,1.2,70,35,5000,1500,80,60,3200,6,3200,8,7.4,6,4.5999999999999996,1.9,6000]
["Hampshire",{"$f":"VLOOKUP(A268,tables!$A$2:$C$56,2,0)","v":14},5027,{"$f":"VLOOKUP(A268,tables!$A$2:$C$56,3,0)","v":"05"},"W-L Construction","660 Quarry Lane, Clearbrook, VA 22624","W-L Construction","508 Quarry Lane, Clearbrook, VA 22624",66.86,80.650000000000006,73.3,73.3,73.3,80.56,81.75,82.03,102,82.03,89.2,0,0,0,0,92.64,100.56,60,3200,3.3,0.35,0,5,12,4,10,4,0.35,90,32,22,9.32,3200,3200,7.5,4.75,3.7,2.7,23,16.5,5.4,2.7,23,16.5,5.4,2.7,3.3,15,5,27,19,12.1,7.25,3.85,3.85,24,17.5,11.6,6.5,3.5,3,3200,0,5.8,105,0,5.5,0,0,33,22,15.5,8.5,6.5,4.5,25,20,14.5,7.5,5.5,3.5,2,3200,8.5,0.2,1000,1.2,70,35,5000,1500,80,60,3200,6,3200,8,7.4,6,4.5999999999999996,1.9,6000]
["Hardy",{"$f":"VLOOKUP(A269,tables!$A$2:$C$56,2,0)","v":16},5028,{"$f":"VLOOKUP(A269,tables!$A$2:$C$56,3,0)","v":"05"},"W-L Construction","660 Quarry Lane, Clearbrook, VA 22624","W-L Construction","508 Quarry Lane, Clearbrook, VA 22624",66.86,80.650000000000006,73.3,73.3,73.3,80.56,81.75,82.03,102,82.03,89.2,0,0,0,0,92.64,100.56,60,3200,3.3,0.35,0,5,12,4,10,4,0.35,90,32,22,9.32,3200,3200,7.5,4.75,3.7,2.7,23,16.5,5.4,2.7,23,16.5,5.4,2.7,3.3,15,5,27,19,12.1,7.25,3.85,3.85,24,17.5,11.6,6.5,3.5,3,3200,0,5.8,105,0,5.5,0,0,33,22,15.5,8.5,6.5,4.5,25,20,14.5,7.5,5.5,3.5,2,3200,8.5,0.2,1000,1.2,70,35,5000,1500,80,60,3200,6,3200,8,7.4,6,4.5999999999999996,1.9,6000]
["Jefferson",{"$f":"VLOOKUP(A270,tables!$A$2:$C$56,2,0)","v":19},5029,{"$f":"VLOOKUP(A270,tables!$A$2:$C$56,3,0)","v":"05"},"W-L Construction","660 Quarry Lane, Clearbrook, VA 22624","W-L Construction","508 Quarry Lane, Clearbrook, VA 22624",66.86,80.650000000000006,73.3,73.3,73.3,80.56,81.75,82.03,102,82.03,89.2,0,0,0,0,92.64,100.56,60,3200,3.3,0.35,0,5,12,4,10,4,0.35,90,32,22,9.32,3200,3200,7.5,4.75,3.7,2.7,23,16.5,5.4,2.7,23,16.5,5.4,2.7,3.3,15,5,27,19,12.1,7.25,3.85,3.85,24,17.5,11.6,6.5,3.5,3,3200,0,5.8,105,0,5.5,0,0,33,22,15.5,8.5,6.5,4.5,25,20,14.5,7.5,5.5,3.5,2,3200,8.5,0.2,1000,1.2,70,35,5000,1500,80,60,3200,6,3200,8,7.4,6,4.5999999999999996,1.9,6000]
["Morgan",{"$f":"VLOOKUP(A271,tables!$A$2:$C$56,2,0)","v":33},5030,{"$f":"VLOOKUP(A271,tables!$A$2:$C$56,3,0)","v":"05"},"W-L Construction","660 Quarry Lane, Clearbrook, VA 22624","W-L Construction","508 Quarry Lane, Clearbrook, VA 22624",66.86,80.650000000000006,73.3,73.3,73.3,80.56,81.75,82.03,102,82.03,89.2,0,0,0,0,92.64,100.56,60,3200,3.3,0.35,0,5,12,4,10,4,0.35,90,32,22,9.32,3200,3200,7.5,4.75,3.7,2.7,23,16.5,5.4,2.7,23,16.5,5.4,2.7,3.3,15,5,27,19,12.1,7.25,3.85,3.85,24,17.5,11.6,6.5,3.5,3,3200,0,5.8,105,0,5.5,0,0,33,22,15.5,8.5,6.5,4.5,25,20,14.5,7.5,5.5,3.5,2,3200,8.5,0.2,1000,1.2,70,35,5000,1500,80,60,3200,6,3200,8,7.4,6,4.5999999999999996,1.9,6000]
["Berkeley",{"$f":"VLOOKUP(A272,tables!$A$2:$C$56,2,0)","v":2},5031,{"$f":"VLOOKUP(A272,tables!$A$2:$C$56,3,0)","v":"05"},"W-L Construction","866 Oranda Road, Strasburg, VA","W-L Construction","1696 Oranda Road, Strasburg, VA",66.86,80.650000000000006,73.3,73.3,73.3,80.56,81.75,82.03,102,82.03,89.2,0,0,0,0,92.64,100.56,60,3200,3.3,0.35,0,5,12,4,10,4,0.35,90,32,22,9.32,3200,3200,7.5,4.75,3.7,2.7,23,16.5,5.4,2.7,23,16.5,5.4,2.7,3.3,15,5,27,19,12.1,7.25,3.85,3.85,24,17.5,11.6,6.5,3.5,3,3200,0,5.8,105,0,5.5,0,0,33,22,15.5,8.5,6.5,4.5,25,20,14.5,7.5,5.5,3.5,2,3200,8.5,0.2,1000,1.2,70,35,5000,1500,80,60,3200,6,3200,8,7.4,6,4.5999999999999996,1.9,6000]
["Hampshire",{"$f":"VLOOKUP(A273,tables!$A$2:$C$56,2,0)","v":14},5032,{"$f":"VLOOKUP(A273,tables!$A$2:$C$56,3,0)","v":"05"},"W-L Construction","866 Oranda Road, Strasburg, VA","W-L Construction","1696 Oranda Road, Strasburg, VA",66.86,80.650000000000006,73.3,73.3,73.3,80.56,81.75,82.03,102,82.03,89.2,0,0,0,0,92.64,100.56,60,3200,3.3,0.35,0,5,12,4,10,4,0.35,90,32,22,9.32,3200,3200,7.5,4.75,3.7,2.7,23,16.5,5.4,2.7,23,16.5,5.4,2.7,3.3,15,5,27,19,12.1,7.25,3.85,3.85,24,17.5,11.6,6.5,3.5,3,3200,0,5.8,105,0,5.5,0,0,33,22,15.5,8.5,6.5,4.5,25,20,14.5,7.5,5.5,3.5,2,3200,8.5,0.2,1000,1.2,70,35,5000,1500,80,60,3200,6,3200,8,7.4,6,4.5999999999999996,1.9,6000]
["Hardy",{"$f":"VLOOKUP(A274,tables!$A$2:$C$56,2,0)","v":16},5033,{"$f":"VLOOKUP(A274,tables!$A$2:$C$56,3,0)","v":"05"},"W-L Construction","866 Oranda Road, Strasburg, VA","W-L Construction","1696 Oranda Road, Strasburg, VA",66.86,80.650000000000006,73.3,73.3,73.3,80.56,81.75,82.03,102,82.03,89.2,0,0,0,0,92.64,100.56,60,3200,3.3,0.35,0,5,12,4,10,4,0.35,90,32,22,9.32,3200,3200,7.5,4.75,3.7,2.7,23,16.5,5.4,2.7,23,16.5,5.4,2.7,3.3,15,5,27,19,12.1,7.25,3.85,3.85,24,17.5,11.6,6.5,3.5,3,3200,0,5.8,105,0,5.5,0,0,33,22,15.5,8.5,6.5,4.5,25,20,14.5,7.5,5.5,3.5,2,3200,8.5,0.2,1000,1.2,70,35,5000,1500,80,60,3200,6,3200,8,7.4,6,4.5999999999999996,1.9,6000]
["Jefferson",{"$f":"VLOOKUP(A275,tables!$A$2:$C$56,2,0)","v":19},5034,{"$f":"VLOOKUP(A275,tables!$A$2:$C$56,3,0)","v":"05"},"W-L Construction","866 Oranda Road, Strasburg, VA","W-L Construction","1696 Oranda Road, Strasburg, VA",66.86,80.650000000000006,73.3,73.3,73.3,80.56,81.75,82.03,102,82.03,89.2,0,0,0,0,92.64,100.56,60,3200,3.3,0.35,0,5,12,4,10,4,0.35,90,32,22,9.32,3200,3200,7.5,4.75,3.7,2.7,23,16.5,5.4,2.7,23,16.5,5.4,2.7,3.3,15,5,27,19,12.1,7.25,3.85,3.85,24,17.5,11.6,6.5,3.5,3,3200,0,5.8,105,0,5.5,0,0,33,22,15.5,8.5,6.5,4.5,25,20,14.5,7.5,5.5,3.5,2,3200,8.5,0.2,1000,1.2,70,35,5000,1500,80,60,3200,6,3200,8,7.4,6,4.5999999999999996,1.9,6000]
["Morgan",{"$f":"VLOOKUP(A276,tables!$A$2:$C$56,2,0)","v":33},5035,{"$f":"VLOOKUP(A276,tables!$A$2:$C$56,3,0)","v":"05"},"W-L Construction","866 Oranda Road, Strasburg, VA","W-L Construction","1696 Oranda Road, Strasburg, VA",66.86,80.650000000000006,73.3,73.3,73.3,80.56,81.75,82.03,102,82.03,89.2,0,0,0,0,92.64,100.56,60,3200,3.3,0.35,0,5,12,4,10,4,0.35,90,32,22,9.32,3200,3200,7.5,4.75,3.7,2.7,23,16.5,5.4,2.7,23,16.5,5.4,2.7,3.3,15,5,27,19,12.1,7.25,3.85,3.85,24,17.5,11.6,6.5,3.5,3,3200,0,5.8,105,0,5.5,0,0,33,22,15.5,8.5,6.5,4.5,25,20,14.5,7.5,5.5,3.5,2,3200,8.5,0.2,1000,1.2,70,35,5000,1500,80,60,3200,6,3200,8,7.4,6,4.5999999999999996,1.9,6000]
["Berkeley",{"$f":"VLOOKUP(A277,tables!$A$2:$C$56,2,0)","v":2},5036,{"$f":"VLOOKUP(A277,tables!$A$2:$C$56,3,0)","v":"05"},"W-L Construction","390 Pedal Car Drive, Inwood, WV 25248","W-L Construction","9171 Winchester Ave., Inwood, WV 25248",67,75.7,73.3,73.3,73.3,79.5,78.95,81.95,97.85,81.95,86.5,0,0,0,0,87.17,88.28,60,3200,3.3,0.35,0,5,12,4,10,4,0.35,90,32,22,9.32,3200,3200,7.5,4.75,3.7,2.7,23,16.5,5.4,2.7,23,16.5,5.4,2.7,3.3,15,5,27,19,12.1,7.25,3.85,3.85,24,17.5,11.6,6.5,3.5,3,3200,0,5.8,105,0,5.5,0,0,33,22,15.5,8.5,6.5,4.5,25,20,14.5,7.5,5.5,3.5,2,3200,8.5,0.2,1000,1.2,70,35,5000,1500,80,60,3200,6,3200,8,7.4,6,4.5999999999999996,1.9,6000]
["Hampshire",{"$f":"VLOOKUP(A278,tables!$A$2:$C$56,2,0)","v":14},5037,{"$f":"VLOOKUP(A278,tables!$A$2:$C$56,3,0)","v":"05"},"W-L Construction","390 Pedal Car Drive, Inwood, WV 25248",null,null,67,75.7,73.3,73.3,73.3,79.5,78.95,81.95,97.85,81.95,86.5,0,0,0,0,87.17,88.28,60,3200,3.3,0.35,0,5,12,4,10,4,0.35,90,32,22,9.32,3200,3200,7.5,4.75,3.7,2.7,23,16.5,5.4,2.7,23,16.5,5.4,2.7,3.3,15,5,27,19,12.1,7.25,3.85,3.85,24,17.5,11.6,6.5,3.5,3,3200,0,5.8,105,0,5.5,0,0,33,22,15.5,8.5,6.5,4.5,25,20,14.5,7.5,5.5,3.5,2,3200,8.5,0.2,1000,1.2,70,35,5000,1500,80,60,3200,6,3200,8,7.4,6,4.5999999999999996,1.9,6000]
["Jefferson",{"$f":"VLOOKUP(A279,tables!$A$2:$C$56,2,0)","v":19},5038,{"$f":"VLOOKUP(A279,tables!$A$2:$C$56,3,0)","v":"05"},"W-L Construction","390 Pedal Car Drive, Inwood, WV 25248","W-L Construction","9171 Winchester Ave., Inwood, WV 25248",67,75.7,73.3,73.3,73.3,79.5,78.95,81.95,97.85,81.95,86.5,0,0,0,0,87.17,88.28,60,3200,3.3,0.35,0,5,12,4,10,4,0.35,90,32,22,9.32,3200,3200,7.5,4.75,3.7,2.7,23,16.5,5.4,2.7,23,16.5,5.4,2.7,3.3,15,5,27,19,12.1,7.25,3.85,3.85,24,17.5,11.6,6.5,3.5,3,3200,0,5.8,105,0,5.5,0,0,33,22,15.5,8.5,6.5,4.5,25,20,14.5,7.5,5.5,3.5,2,3200,8.5,0.2,1000,1.2,70,35,5000,1500,80,60,3200,6,3200,8,7.4,6,4.5999999999999996,1.9,6000]
["Morgan",{"$f":"VLOOKUP(A280,tables!$A$2:$C$56,2,0)","v":33},5039,{"$f":"VLOOKUP(A280,tables!$A$2:$C$56,3,0)","v":"05"},"W-L Construction","390 Pedal Car Drive, Inwood, WV 25248","W-L Construction","9171 Winchester Ave., Inwood, WV 25248",67,75.7,73.3,73.3,73.3,79.5,78.95,81.95,97.85,81.95,86.5,0,0,0,0,87.17,88.28,60,3200,3.3,0.35,0,5,12,4,10,4,0.35,90,32,22,9.32,3200,3200,7.5,4.75,3.7,2.7,23,16.5,5.4,2.7,23,16.5,5.4,2.7,3.3,15,5,27,19,12.1,7.25,3.85,3.85,24,17.5,11.6,6.5,3.5,3,3200,0,5.8,105,0,5.5,0,0,33,22,15.5,8.5,6.5,4.5,25,20,14.5,7.5,5.5,3.5,2,3200,8.5,0.2,1000,1.2,70,35,5000,1500,80,60,3200,6,3200,8,7.4,6,4.5999999999999996,1.9,6000]
["Berkeley",{"$f":"VLOOKUP(A281,tables!$A$2:$C$56,2,0)","v":2},5040,{"$f":"VLOOKUP(A281,tables!$A$2:$C$56,3,0)","v":"05"},"W-L Construction","57 Blair Rd., Harpers Ferry, WV 25425","W-L Construction","57 Blair Rd., Harpers Ferry, WV 25425",69,76.849999999999994,74.5,74.5,74.5,81.650000000000006,80.38,83.15,99.05,83.15,88.25,0,0,0,0,88.55,90.25,60,3200,3.3,0.35,0,5,12,4,10,4,0.35,90,32,22,9.32,3200,3200,7.5,4.75,3.7,2.7,23,16.5,5.4,2.7,23,16.5,5.4,2.7,3.3,15,5,27,19,12.1,7.25,3.85,3.85,24,17.5,11.6,6.5,3.5,3,3200,0,5.8,105,0,5.5,0,0,33,22,15.5,8.5,6.5,4.5,25,20,14.5,7.5,5.5,3.5,2,3200,8.5,0.2,1000,1.2,70,35,5000,1500,80,60,3200,6,3200,8,7.4,6,4.5999999999999996,1.9,6000]
["Jefferson",{"$f":"VLOOKUP(A282,tables!$A$2:$C$56,2,0)","v":19},5041,{"$f":"VLOOKUP(A282,tables!$A$2:$C$56,3,0)","v":"05"},"W-L Construction","57 Blair Rd., Harpers Ferry, WV 25425","W-L Construction","57 Blair Rd., Harpers Ferry, WV 25425",69,76.849999999999994,74.5,74.5,74.5,81.650000000000006,80.38,83.15,99.05,83.15,88.25,0,0,0,0,88.55,90.25,60,3200,3.3,0.35,0,5,12,4,10,4,0.35,90,32,22,9.32,3200,3200,7.5,4.75,3.7,2.7,23,16.5,5.4,2.7,23,16.5,5.4,2.7,3.3,15,5,27,19,12.1,7.25,3.85,3.85,24,17.5,11.6,6.5,3.5,3,3200,0,5.8,105,0,5.5,0,0,33,22,15.5,8.5,6.5,4.5,25,20,14.5,7.5,5.5,3.5,2,3200,8.5,0.2,1000,1.2,70,35,5000,1500,80,60,3200,6,3200,8,7.4,6,4.5999999999999996,1.9,6000]
["Grant",{"$f":"VLOOKUP(A283,tables!$A$2:$C$56,2,0)","v":12},5042,{"$f":"VLOOKUP(A283,tables!$A$2:$C$56,3,0)","v":"05"},"West Virginia Paving, Inc., Scherr Plant","Greenland Gap Rd., Scherr, WV 26726","Fairfax Materials","Greenland Gap Rd., Scherr, WV 26726",71.5,71.5,77,77,77,93,79,84,97,82,97,0,0,104,0,99,99,65,2000,2.75,0.33,15,4,12,2,5,2.75,0.28000000000000003,85,30,20,10,2000,15000,6.7539999999999996,4.75,3.75,2.75,20.75,15.75,4.75,2.75,20.75,15.75,4.75,2.75,3.5,14,6,22.25,17.5,12.5,6.75,4.8499999999999996,3.75,21.5,16.5,11.5,5.75,3.85,2.75,3500,0,0.28000000000000003,350,0,5,0,0,24.9,19.899999999999999,14.9,8,6.15,4.3499999999999996,23.9,18.899999999999999,13.9,7,5.15,3.35,0.5,4500,8,0.01,900,1,65,40,5000,2000,76,35,2000,13,2000,8.5,8,6.5,5,6,5000]
["Hampshire",{"$f":"VLOOKUP(A284,tables!$A$2:$C$56,2,0)","v":14},5043,{"$f":"VLOOKUP(A284,tables!$A$2:$C$56,3,0)","v":"05"},"West Virginia Paving, Inc., Scherr Plant","Greenland Gap Rd., Scherr, WV 26726","Fairfax Materials","Greenland Gap Rd., Scherr, WV 26726",71.5,71.5,77,77,77,93,79,84,97,82,97,0,0,104,0,99,99,65,2000,2.75,0.33,15,4,12,2,5,2.75,0.28000000000000003,85,30,20,10,2000,15000,6.7539999999999996,4.75,3.75,2.75,20.75,15.75,4.75,2.75,20.75,15.75,4.75,2.75,3.5,14,6,22.25,17.5,12.5,6.75,4.8499999999999996,3.75,21.5,16.5,11.5,5.75,3.85,2.75,3500,0,0.28000000000000003,350,0,5,0,0,24.9,19.899999999999999,14.9,8,6.15,4.3499999999999996,23.9,18.899999999999999,13.9,7,5.15,3.35,0.5,4500,8,0.01,900,1,65,40,5000,2000,76,35,2000,13,2000,8.5,8,6.5,5,6,5000]
["Hardy",{"$f":"VLOOKUP(A285,tables!$A$2:$C$56,2,0)","v":16},5044,{"$f":"VLOOKUP(A285,tables!$A$2:$C$56,3,0)","v":"05"},"West Virginia Paving, Inc., Scherr Plant","Greenland Gap Rd., Scherr, WV 26726","Fairfax Materials","Greenland Gap Rd., Scherr, WV 26726",71.5,71.5,77,77,77,93,79,84,97,82,97,0,0,104,0,99,99,65,2000,2.75,0.33,15,4,12,2,5,2.75,0.28000000000000003,85,30,20,10,2000,15000,6.7539999999999996,4.75,3.75,2.75,20.75,15.75,4.75,2.75,20.75,15.75,4.75,2.75,3.5,14,6,22.25,17.5,12.5,6.75,4.8499999999999996,3.75,21.5,16.5,11.5,5.75,3.85,2.75,3500,0,0.28000000000000003,350,0,5,0,0,24.9,19.899999999999999,14.9,8,6.15,4.3499999999999996,23.9,18.899999999999999,13.9,7,5.15,3.35,0.5,4500,8,0.01,900,1,65,40,5000,2000,76,35,2000,13,2000,8.5,8,6.5,5,6,5000]
["Mineral",{"$f":"VLOOKUP(A286,tables!$A$2:$C$56,2,0)","v":29},5045,{"$f":"VLOOKUP(A286,tables!$A$2:$C$56,3,0)","v":"05"},"West Virginia Paving, Inc., Scherr Plant","Greenland Gap Rd., Scherr, WV 26726","Fairfax Materials","Greenland Gap Rd., Scherr, WV 26726",71.5,71.5,77,77,77,93,79,84,97,82,97,0,0,104,0,99,99,65,2000,2.75,0.33,15,4,12,2,5,2.75,0.28000000000000003,85,30,20,10,2000,15000,6.7539999999999996,4.75,3.75,2.75,20.75,15.75,4.75,2.75,20.75,15.75,4.75,2.75,3.5,14,6,22.25,17.5,12.5,6.75,4.8499999999999996,3.75,21.5,16.5,11.5,5.75,3.85,2.75,3500,0,0.28000000000000003,350,0,5,0,0,24.9,19.899999999999999,14.9,8,6.15,4.3499999999999996,23.9,18.899999999999999,13.9,7,5.15,3.35,0.5,4500,8,0.01,900,1,65,40,5000,2000,76,35,2000,13,2000,8.5,8,6.5,5,6,5000]
["Brooke",{"$f":"VLOOKUP(A287,tables!$A$2:$C$56,2,0)","v":5},6001,{"$f":"VLOOKUP(A287,tables!$A$2:$C$56,3,0)","v":"06"},"Cast & Baker Co.","Plant No. 1, 102 Center Street, Martins Ferry, OH 43950",null,null,67,67,65,67,67,85,75,72,78,70,88,99,105,92,98,85,98,58,1500,2.5,0.6,0,0,0,25,25,2.25,0.4,230,105,25,9.5,2850,3500,9,7,5,4,14,12,11,10,14,12,11,10,3.5,17,12,10,7,5,4,3,2.75,10,7,5,4,3,2.75,5000,0,0.8,525,0,3.5,0,0,45,35,28,17,8,7,45,35,28,17,8,7,6.5,5600,10,0.12,1220,1.25,75,28,6500,1500,45,28,1400,5.5,1600,20,15,8,7,6,6500]
["Hancock",{"$f":"VLOOKUP(A288,tables!$A$2:$C$56,2,0)","v":15},6002,{"$f":"VLOOKUP(A288,tables!$A$2:$C$56,3,0)","v":"06"},"Cast & Baker Co.","Plant No. 1, 102 Center Street, Martins Ferry, OH 43950",null,null,67,67,65,67,67,85,75,72,78,70,88,99,105,92,98,85,98,58,1500,2.5,0.6,0,0,0,25,25,2.25,0.4,230,105,25,9.5,2850,3500,9,7,5,4,14,12,11,10,14,12,11,10,3.5,17,12,10,7,5,4,3,2.75,10,7,5,4,3,2.75,5000,0,0.8,525,0,3.5,0,0,45,35,28,17,8,7,45,35,28,17,8,7,6.5,5600,10,0.12,1220,1.25,75,28,6500,1500,45,28,1400,5.5,1600,20,15,8,7,6,6500]
["Marshall",26,6003,{"$f":"VLOOKUP(A289,tables!$A$2:$C$56,3,0)","v":"06"},"Cast & Baker Co.","Plant No. 1, 102 Center Street, Martins Ferry, OH 43950","Yeager Materials","1601 Layfayette Ave., Moundsville, WV 26041",67,67,65,67,67,85,75,72,78,70,88,99,105,92,98,85,98,58,1500,2.5,0.6,0,0,0,25,25,2.25,0.4,230,105,25,9.5,2850,3500,9,7,5,4,14,12,11,10,14,12,11,10,3.5,17,12,10,7,5,4,3,2.75,10,7,5,4,3,2.75,5000,0,0.8,525,0,3.5,0,0,45,35,28,17,8,7,45,35,28,17,8,7,6.5,5600,10,0.12,1220,1.25,75,28,6500,1500,45,28,1400,5.5,1600,20,15,8,7,6,6500]
["Marshall",26,6004,{"$f":"VLOOKUP(A290,tables!$A$2:$C$56,3,0)","v":"06"},"Cast & Baker Co.","Plant No. 1, 102 Center Street, Martins Ferry, OH 43950","Martin Marietta","195 Wetzel St., New Martinsville, WV 26155",67,67,65,67,67,85,75,72,78,70,88,99,105,92,98,85,98,58,1500,2.5,0.6,0,0,0,25,25,2.25,0.4,230,105,25,9.5,2850,3500,9,7,5,4,14,12,11,10,14,12,11,10,3.5,17,12,10,7,5,4,3,2.75,10,7,5,4,3,2.75,5000,0,0.8,525,0,3.5,0,0,45,35,28,17,8,7,45,35,28,17,8,7,6.5,5600,10,0.12,1220,1.25,75,28,6500,1500,45,28,1400,5.5,1600,20,15,8,7,6,6500]
["Ohio",{"$f":"VLOOKUP(A291,tables!$A$2:$C$56,2,0)","v":35},6005,{"$f":"VLOOKUP(A291,tables!$A$2:$C$56,3,0)","v":"06"},"Cast & Baker Co.","Plant No. 1, 102 Center Street, Martins Ferry, OH 43950","Yeager Materials","1601 Layfayette Ave., Moundsville, WV 26041",67,67,65,67,67,85,75,72,78,70,88,99,105,92,98,85,98,58,1500,2.5,0.6,0,0,0,25,25,2.25,0.4,230,105,25,9.5,2850,3500,9,7,5,4,14,12,11,10,14,12,11,10,3.5,17,12,10,7,5,4,3,2.75,10,7,5,4,3,2.75,5000,0,0.8,525,0,3.5,0,0,45,35,28,17,8,7,45,35,28,17,8,7,6.5,5600,10,0.12,1220,1.25,75,28,6500,1500,45,28,1400,5.5,1600,20,15,8,7,6,6500]
["Tyler",{"$f":"VLOOKUP(A292,tables!$A$2:$C$56,2,0)","v":48},6006,{"$f":"VLOOKUP(A292,tables!$A$2:$C$56,3,0)","v":"06"},"Cast & Baker Co.","Plant No. 1, 102 Center Street, Martins Ferry, OH 43950","Martin Marietta","195 Wetzel St., New Martinsville, WV 26155",67,67,65,67,67,85,75,72,78,70,88,99,105,92,98,85,98,58,1500,2.5,0.6,0,0,0,25,25,2.25,0.4,230,105,25,9.5,2850,3500,9,7,5,4,14,12,11,10,14,12,11,10,3.5,17,12,10,7,5,4,3,2.75,10,7,5,4,3,2.75,5000,0,0.8,525,0,3.5,0,0,45,35,28,17,8,7,45,35,28,17,8,7,6.5,5600,10,0.12,1220,1.25,75,28,6500,1500,45,28,1400,5.5,1600,20,15,8,7,6,6500]
["Wetzel",{"$f":"VLOOKUP(A293,tables!$A$2:$C$56,2,0)","v":52},6007,{"$f":"VLOOKUP(A293,tables!$A$2:$C$56,3,0)","v":"06"},"Cast & Baker Co.","Plant No. 1, 102 Center Street, Martins Ferry, OH 43950","Yeager Materials","1601 Layfayette Ave., Moundsville, WV 26041",67,67,65,67,67,85,75,72,78,70,88,99,105,92,98,85,98,58,1500,2.5,0.6,0,0,0,25,25,2.25,0.4,230,105,25,9.5,2850,3500,9,7,5,4,14,12,11,10,14,12,11,10,3.5,17,12,10,7,5,4,3,2.75,10,7,5,4,3,2.75,5000,0,0.8,525,0,3.5,0,0,45,35,28,17,8,7,45,35,28,17,8,7,6.5,5600,10,0.12,1220,1.25,75,28,6500,1500,45,28,1400,5.5,1600,20,15,8,7,6,6500]
["Wetzel",{"$f":"VLOOKUP(A294,tables!$A$2:$C$56,2,0)","v":52},6008,{"$f":"VLOOKUP(A294,tables!$A$2:$C$56,3,0)","v":"06"},"Cast & Baker Co.","Plant No. 1, 102 Center Street, Martins Ferry, OH 43950","Martin Marietta","195 Wetzel St., New Martinsville, WV 26155",67,67,65,67,67,85,75,72,78,70,88,99,105,92,98,85,98,58,1500,2.5,0.6,0,0,0,25,25,2.25,0.4,230,105,25,9.5,2850,3500,9,7,5,4,14,12,11,10,14,12,11,10,3.5,17,12,10,7,5,4,3,2.75,10,7,5,4,3,2.75,5000,0,0.8,525,0,3.5,0,0,45,35,28,17,8,7,45,35,28,17,8,7,6.5,5600,10,0.12,1220,1.25,75,28,6500,1500,45,28,1400,5.5,1600,20,15,8,7,6,6500]
["Marshall",{"$f":"VLOOKUP(A295,tables!$A$2:$C$56,2,0)","v":26},6009,{"$f":"VLOOKUP(A295,tables!$A$2:$C$56,3,0)","v":"06"},"Greer Industries Inc., Greer Asphalt Co.","8410 Veterans Memorial Hwy., Masontown, WV 26542","Greer Limestone Co","5630 Earl L. Core Road Rt 7, Morgantown, WV 26508",55,57.25,57.75,57.75,58.5,62,61,67,70.650000000000006,67,67.8,100,103,77.8,80,67.25,69.2,26,1000,3,0.3,6,6,11,0,0,3,0.3,100,42,15,8,1000,1250,14,13,6,4,18,16,7,5,18,16,7,5,4.5,12.5,3,24,17,10.1,6.1,3,2.0699999999999998,22,13.5,8.25,4.5,2.25,1.55,2250,0,0.5,250,200,10,85,100,24,17.5,11.25,6.1,3,2.0699999999999998,22,13.5,8.25,4.5,2.2999999999999998,1.55,3,3000,5,7.0000000000000007E-2,700,1.1000000000000001,60,55,3000,1500,60,60,3000,25,2000,9,8,6,5,8.5,2500]
["Tyler",{"$f":"VLOOKUP(A296,tables!$A$2:$C$56,2,0)","v":48},6010,{"$f":"VLOOKUP(A296,tables!$A$2:$C$56,3,0)","v":"06"},"Greer Industries Inc., Greer Asphalt Co.","8410 Veterans Memorial Hwy., Masontown, WV 26542","Greer Limestone Co","5630 Earl L. Core Road Rt 7, Morgantown, WV 26508",55,57.25,57.75,57.75,58.5,62,61,67,70.650000000000006,67,67.8,100,103,77.8,80,67.25,69.2,26,1000,3,0.3,6,6,11,0,0,3,0.3,100,42,15,8,1000,1250,14,13,6,4,18,16,7,5,18,16,7,5,4.5,12.5,3,24,17,10.1,6.1,3,2.0699999999999998,22,13.5,8.25,4.5,2.25,1.55,2250,0,0.5,250,200,10,85,100,24,17.5,11.25,6.1,3,2.0699999999999998,22,13.5,8.25,4.5,2.2999999999999998,1.55,3,3000,5,7.0000000000000007E-2,700,1.1000000000000001,60,55,3000,1500,60,60,3000,25,2000,9,8,6,5,8.5,2500]
["Wetzel",{"$f":"VLOOKUP(A297,tables!$A$2:$C$56,2,0)","v":52},6011,{"$f":"VLOOKUP(A297,tables!$A$2:$C$56,3,0)","v":"06"},"Greer Industries Inc., Greer Asphalt Co.","8410 Veterans Memorial Hwy., Masontown, WV 26542","Greer Limestone Co","5630 Earl L. Core Road Rt 7, Morgantown, WV 26508",55,57.25,57.75,57.75,58.5,62,61,67,70.650000000000006,67,67.8,100,103,77.8,80,67.25,69.2,26,1000,3,0.3,6,6,11,0,0,3,0.3,100,42,15,8,1000,1250,14,13,6,4,18,16,7,5,18,16,7,5,4.5,12.5,3,24,17,10.1,6.1,3,2.0699999999999998,22,13.5,8.25,4.5,2.25,1.55,2250,0,0.5,250,200,10,85,100,24,17.5,11.25,6.1,3,2.0699999999999998,22,13.5,8.25,4.5,2.2999999999999998,1.55,3,3000,5,7.0000000000000007E-2,700,1.1000000000000001,60,55,3000,1500,60,60,3000,25,2000,9,8,6,5,8.5,2500]
["Marshall",{"$f":"VLOOKUP(A298,tables!$A$2:$C$56,2,0)","v":26},6012,{"$f":"VLOOKUP(A298,tables!$A$2:$C$56,3,0)","v":"06"},"Greer Industries Inc., Buckeye Asphalt Co.","442 Blaney Hollow Rd., Morgantown, WV 26508","Greer Limestone Co","5630 Earl L. Core Road Rt 7, Morgantown, WV 26508",55,57.25,57.75,57.75,58.5,62,61,67,70.650000000000006,67,67.8,100,103,77.8,80,67.25,69.2,26,1000,3,0.3,6,6,11,0,0,3,0.3,100,42,15,8,1000,1250,14,13,6,4,18,16,7,5,18,16,7,5,4.5,12.5,3,24,17,10.1,6.1,3,2.0699999999999998,22,13.5,8.25,4.5,2.25,1.55,2250,0,0.5,250,200,10,85,100,24,17.5,11.25,6.1,3,2.0699999999999998,22,13.5,8.25,4.5,2.2999999999999998,1.55,3,3000,5,7.0000000000000007E-2,700,1.1000000000000001,60,55,3000,1500,60,60,3000,25,2000,9,8,6,5,8.5,2500]
["Tyler",{"$f":"VLOOKUP(A299,tables!$A$2:$C$56,2,0)","v":48},6013,{"$f":"VLOOKUP(A299,tables!$A$2:$C$56,3,0)","v":"06"},"Greer Industries Inc., Buckeye Asphalt Co.","442 Blaney Hollow Rd., Morgantown, WV 26508","Greer Limestone Co","5630 Earl L. Core Road Rt 7, Morgantown, WV 26508",55,57.25,57.75,57.75,58.5,62,61,67,70.650000000000006,67,67.8,100,103,77.8,80,67.25,69.2,26,1000,3,0.3,6,6,11,0,0,3,0.3,100,42,15,8,1000,1250,14,13,6,4,18,16,7,5,18,16,7,5,4.5,12.5,3,24,17,10.1,6.1,3,2.0699999999999998,22,13.5,8.25,4.5,2.25,1.55,2250,0,0.5,250,200,10,85,100,24,17.5,11.25,6.1,3,2.0699999999999998,22,13.5,8.25,4.5,2.2999999999999998,1.55,3,3000,5,7.0000000000000007E-2,700,1.1000000000000001,60,55,3000,1500,60,60,3000,25,2000,9,8,6,5,8.5,2500]
["Wetzel",{"$f":"VLOOKUP(A300,tables!$A$2:$C$56,2,0)","v":52},6014,{"$f":"VLOOKUP(A300,tables!$A$2:$C$56,3,0)","v":"06"},"Greer Industries Inc., Buckeye Asphalt Co.","442 Blaney Hollow Rd., Morgantown, WV 26508","Greer Limestone Co","5630 Earl L. Core Road Rt 7, Morgantown, WV 26508",55,57.25,57.75,57.75,58.5,62,61,67,70.650000000000006,67,67.8,100,103,77.8,80,67.25,69.2,26,1000,3,0.3,6,6,11,0,0,3,0.3,100,42,15,8,1000,1250,14,13,6,4,18,16,7,5,18,16,7,5,4.5,12.5,3,24,17,10.1,6.1,3,2.0699999999999998,22,13.5,8.25,4.5,2.25,1.55,2250,0,0.5,250,200,10,85,100,24,17.5,11.25,6.1,3,2.0699999999999998,22,13.5,8.25,4.5,2.2999999999999998,1.55,3,3000,5,7.0000000000000007E-2,700,1.1000000000000001,60,55,3000,1500,60,60,3000,25,2000,9,8,6,5,8.5,2500]
["Marshall",{"$f":"VLOOKUP(A301,tables!$A$2:$C$56,2,0)","v":26},6015,{"$f":"VLOOKUP(A301,tables!$A$2:$C$56,3,0)","v":"06"},"Greer Industries Inc., Clarksburg Asphalt Co.","2399 Benedum Dr. Rt. 131, Bridgeport,WV 26330","Greer Limestone Co","5630 Earl L. Core Road Rt 7, Morgantown, WV 26508",65.5,69,68,68,69,74,71.8,76,80.3,76,78,104,107,93,97,81.400000000000006,81.400000000000006,28,1000,3,0.3,6,6,11,0,0,3,0.3,100,42,15,8,1000,1250,14,13,6,4,18,16,7,5,18,16,7,5,4.5,12.5,3,24,17,10.1,6.1,3,2.1,22,13.5,8.25,4.5,2.25,1.65,2250,0,0.5,250,215,10,85,105,24,17.5,11.25,6.1,3,2.1,22,13.5,8.25,4.5,2.2999999999999998,1.65,3,3000,5,7.0000000000000007E-2,700,1.1000000000000001,60,55,3000,1500,60,60,3000,25,2000,9,8,6,5,8.5,2500]
["Tyler",{"$f":"VLOOKUP(A302,tables!$A$2:$C$56,2,0)","v":48},6016,{"$f":"VLOOKUP(A302,tables!$A$2:$C$56,3,0)","v":"06"},"Greer Industries Inc., Clarksburg Asphalt Co.","2399 Benedum Dr. Rt. 131, Bridgeport,WV 26330","Greer Limestone Co","5630 Earl L. Core Road Rt 7, Morgantown, WV 26508",65.5,69,68,68,69,74,71.8,76,80.3,76,78,104,107,93,97,81.400000000000006,81.400000000000006,28,1000,3,0.3,6,6,11,0,0,3,0.3,100,42,15,8,1000,1250,14,13,6,4,18,16,7,5,18,16,7,5,4.5,12.5,3,24,17,10.1,6.1,3,2.1,22,13.5,8.25,4.5,2.25,1.65,2250,0,0.5,250,215,10,85,105,24,17.5,11.25,6.1,3,2.1,22,13.5,8.25,4.5,2.2999999999999998,1.65,3,3000,5,7.0000000000000007E-2,700,1.1000000000000001,60,55,3000,1500,60,60,3000,25,2000,9,8,6,5,8.5,2500]
["Wetzel",{"$f":"VLOOKUP(A303,tables!$A$2:$C$56,2,0)","v":52},6017,{"$f":"VLOOKUP(A303,tables!$A$2:$C$56,3,0)","v":"06"},"Greer Industries Inc., Clarksburg Asphalt Co.","2399 Benedum Dr. Rt. 131, Bridgeport,WV 26330","Greer Limestone Co","5630 Earl L. Core Road Rt 7, Morgantown, WV 26508",65.5,69,68,68,69,74,71.8,76,80.3,76,78,104,107,93,97,81.400000000000006,81.400000000000006,28,1000,3,0.3,6,6,11,0,0,3,0.3,100,42,15,8,1000,1250,14,13,6,4,18,16,7,5,18,16,7,5,4.5,12.5,3,24,17,10.1,6.1,3,2.1,22,13.5,8.25,4.5,2.25,1.65,2250,0,0.5,250,215,10,85,105,24,17.5,11.25,6.1,3,2.1,22,13.5,8.25,4.5,2.2999999999999998,1.65,3,3000,5,7.0000000000000007E-2,700,1.1000000000000001,60,55,3000,1500,60,60,3000,25,2000,9,8,6,5,8.5,2500]
["Tyler",{"$f":"VLOOKUP(A304,tables!$A$2:$C$56,2,0)","v":48},6018,{"$f":"VLOOKUP(A304,tables!$A$2:$C$56,3,0)","v":"06"},"JF Allen Company, Buckhannon Plant","320 Alcon Rd., Buckhannon, WV 26201","Aggregates Quarry","3105 Harrison Ave., Elkins WV 26241",73.69,77.88,78.16,78.16,78.36,82.35,78.19,83.3,88.54,83.31,88.7,104.61,107.35,100.87,104.33,89.45,92.33,32,2000,3,0.3,4.75,4.75,12.5,2,5,3,0.3,111,44,20,10.5,2000,10000,7.25,4.5,3.5,2.5,21,16,6.5,4,21,16,6.5,4,4,13,5,29.75,16.100000000000001,10.4,5,3.95,2.5,29.6,15,8.5,4,3.1,2,4250,0,0.75,300,0,5,0,0,29.9,19.75,12.85,8.1,6.75,3,29.9,19.75,12.7,8.1,5,2.5,0.5,4250,6.25,0.01,850,1.55,65,41,3500,1500,46,31,1950,17,2450,10.050000000000001,8.5,7.5,5.5,5.5,4750]
["Wetzel",{"$f":"VLOOKUP(A305,tables!$A$2:$C$56,2,0)","v":52},6019,{"$f":"VLOOKUP(A305,tables!$A$2:$C$56,3,0)","v":"06"},"JF Allen Company, Buckhannon Plant","320 Alcon Rd., Buckhannon, WV 26201","Aggregates Quarry","3105 Harrison Ave., Elkins WV 26241",73.69,77.88,78.16,78.16,78.36,82.35,78.19,83.3,88.54,83.31,88.7,104.61,107.35,100.87,104.33,89.45,92.33,32,2000,3,0.3,4.75,4.75,12.5,2,5,3,0.3,111,44,20,10.5,2000,10000,7.25,4.5,3.5,2.5,21,16,6.5,4,21,16,6.5,4,4,13,5,29.75,16.100000000000001,10.4,5,3.95,2.5,29.6,15,8.5,4,3.1,2,4250,0,0.75,300,0,5,0,0,29.9,19.75,12.85,8.1,6.75,3,29.9,19.75,12.7,8.1,5,2.5,0.5,4250,6.25,0.01,850,1.55,65,41,3500,1500,46,31,1950,17,2450,10.050000000000001,8.5,7.5,5.5,5.5,4750]
["Tyler",{"$f":"VLOOKUP(A306,tables!$A$2:$C$56,2,0)","v":48},6020,{"$f":"VLOOKUP(A306,tables!$A$2:$C$56,3,0)","v":"06"},"JF Allen Company, Saltwell Plant","5856 Saltwell Rd., Bridgeport, WV 26330","Aggregates Quarry","3105 Harrison Ave., Elkins WV 26241",74.430000000000007,78.36,78.3,78.3,78.36,82.35,78.33,83.3,88.54,83.31,88.7,112.17,115.06,110.28,111.37,93.09,95.88,32,2000,3,0.3,4.75,4.75,12.5,2,5,3,0.3,111,44,20,10.5,2000,10000,7.25,4.5,3.5,2.5,21,16,6.5,4,21,16,6.5,4,4,13,5,29.75,16.100000000000001,10.4,5,3.95,2.5,29.6,15,8.5,4,3.1,2,4250,0,0.75,300,0,5,0,0,29.9,19.75,12.85,8.1,6.75,3,29.9,19.75,12.7,8.1,5,2.5,0.5,4250,6.25,0.01,850,1.55,65,41,3500,1500,46,31,1950,17,2450,10.050000000000001,8.5,7.5,5.5,5.5,4750]
["Wetzel",{"$f":"VLOOKUP(A307,tables!$A$2:$C$56,2,0)","v":52},6021,{"$f":"VLOOKUP(A307,tables!$A$2:$C$56,3,0)","v":"06"},"JF Allen Company, Saltwell Plant","5856 Saltwell Rd., Bridgeport, WV 26330","Aggregates Quarry","3105 Harrison Ave., Elkins WV 26241",74.430000000000007,78.36,78.3,78.3,78.36,82.35,78.33,83.3,88.54,83.31,88.7,112.17,115.06,110.28,111.37,93.09,95.88,32,2000,3,0.3,4.75,4.75,12.5,2,5,3,0.3,111,44,20,10.5,2000,10000,7.25,4.5,3.5,2.5,21,16,6.5,4,21,16,6.5,4,4,13,5,29.75,16.100000000000001,10.4,5,3.95,2.5,29.6,15,8.5,4,3.1,2,4250,0,0.75,300,0,5,0,0,29.9,19.75,12.85,8.1,6.75,3,29.9,19.75,12.7,8.1,5,2.5,0.5,4250,6.25,0.01,850,1.55,65,41,3500,1500,46,31,1950,17,2450,10.050000000000001,8.5,7.5,5.5,5.5,4750]
["Brooke",{"$f":"VLOOKUP(A308,tables!$A$2:$C$56,2,0)","v":5},6022,{"$f":"VLOOKUP(A308,tables!$A$2:$C$56,3,0)","v":"06"},"Kelly Paving Inc., Plant #8, Benwood Facility","#1 Industrial Park Dr., Benwood, WV 26031","Yeager Materials","1 Industrial Park Dr., Benwood, WV 26031",72,74,70,72,73,76,73,77,83,75,82,0,0,97,0,78,85,60,1750,2.5,0.65,5,10,12,1,2,2.5,0.65,145,55,22,9.5,2000,2750,11,9,8,6,16,11,9,7,15,13,8,7,3.5,13,6,28,20,12,9.5,4.25,3.25,28,20,12,8,4,2.5,3500,0,0.65,350,0,0,0,0,30,26,15,11,5.75,3.75,30,26,15,11,5.75,3.75,1.25,3500,6,0.12,800,1.5,68,30,6000,1200,39,26,1300,8,1000,9.5,8.5,7.5,5.5,5.5,2750]
["Hancock",{"$f":"VLOOKUP(A309,tables!$A$2:$C$56,2,0)","v":15},6023,{"$f":"VLOOKUP(A309,tables!$A$2:$C$56,3,0)","v":"06"},"Kelly Paving Inc., Plant #8, Benwood Facility","#1 Industrial Park Dr., Benwood, WV 26031","Yeager Materials","1 Industrial Park Dr., Benwood, WV 26031",72,74,70,72,73,76,73,77,83,75,82,0,0,97,0,78,85,60,1750,2.5,0.65,5,10,12,1,2,2.5,0.65,145,55,22,9.5,2000,2750,11,9,8,6,16,11,9,7,15,13,8,7,3.5,13,6,28,20,12,9.5,4.25,3.25,28,20,12,8,4,2.5,3500,0,0.65,350,0,0,0,0,30,26,15,11,5.75,3.75,30,26,15,11,5.75,3.75,1.25,3500,6,0.12,800,1.5,68,30,6000,1200,39,26,1300,8,1000,9.5,8.5,7.5,5.5,5.5,2750]
["Marshall",{"$f":"VLOOKUP(A310,tables!$A$2:$C$56,2,0)","v":26},6024,{"$f":"VLOOKUP(A310,tables!$A$2:$C$56,3,0)","v":"06"},"Kelly Paving Inc., Plant #8, Benwood Facility","#1 Industrial Park Dr., Benwood, WV 26031","Yeager Materials","1 Industrial Park Dr., Benwood, WV 26031",72,74,70,72,73,76,73,77,83,75,82,0,0,97,0,78,85,60,1750,2.5,0.65,5,10,12,1,2,2.5,0.65,145,55,22,9.5,2000,2750,11,9,8,6,16,11,9,7,15,13,8,7,3.5,13,6,28,20,12,9.5,4.25,3.25,28,20,12,8,4,2.5,3500,0,0.65,350,0,0,0,0,30,26,15,11,5.75,3.75,30,26,15,11,5.75,3.75,1.25,3500,6,0.12,800,1.5,68,30,6000,1200,39,26,1300,8,1000,9.5,8.5,7.5,5.5,5.5,2750]
["Ohio",{"$f":"VLOOKUP(A311,tables!$A$2:$C$56,2,0)","v":35},6025,{"$f":"VLOOKUP(A311,tables!$A$2:$C$56,3,0)","v":"06"},"Kelly Paving Inc., Plant #8, Benwood Facility","#1 Industrial Park Dr., Benwood, WV 26031","Yeager Materials","1 Industrial Park Dr., Benwood, WV 26031",72,74,70,72,73,76,73,77,83,75,82,0,0,97,0,78,85,60,1750,2.5,0.65,5,10,12,1,2,2.5,0.65,145,55,22,9.5,2000,2750,11,9,8,6,16,11,9,7,15,13,8,7,3.5,13,6,28,20,12,9.5,4.25,3.25,28,20,12,8,4,2.5,3500,0,0.65,350,0,0,0,0,30,26,15,11,5.75,3.75,30,26,15,11,5.75,3.75,1.25,3500,6,0.12,800,1.5,68,30,6000,1200,39,26,1300,8,1000,9.5,8.5,7.5,5.5,5.5,2750]
["Tyler",{"$f":"VLOOKUP(A312,tables!$A$2:$C$56,2,0)","v":48},6026,{"$f":"VLOOKUP(A312,tables!$A$2:$C$56,3,0)","v":"06"},"Kelly Paving Inc., Plant #8, Benwood Facility","#1 Industrial Park Dr., Benwood, WV 26031","Yeager Materials","1 Industrial Park Dr., Benwood, WV 26031",72,74,70,72,73,76,73,77,83,75,82,0,0,97,0,78,85,60,3750,2.5,0.65,5,10,12,1,2,2.5,0.65,145,55,22,9.5,4000,4750,11,9,8,6,16,11,9,7,15,13,8,7,3.5,13,6,28,20,12,9.5,4.25,3.25,28,20,12,8,4,2.5,5500,0,0.65,350,0,0,0,0,30,26,15,11,5.75,3.75,30,26,15,11,5.75,3.75,1.25,5500,6,0.12,800,1.5,68,30,6000,1200,39,26,3300,8,3000,9.5,8.5,7.5,5.5,5.5,4750]
["Wetzel",{"$f":"VLOOKUP(A313,tables!$A$2:$C$56,2,0)","v":52},6027,{"$f":"VLOOKUP(A313,tables!$A$2:$C$56,3,0)","v":"06"},"Kelly Paving Inc., Plant #8, Benwood Facility","#1 Industrial Park Dr., Benwood, WV 26031","Yeager Materials","1 Industrial Park Dr., Benwood, WV 26031",72,74,70,72,73,76,73,77,83,75,82,0,0,97,0,78,85,60,1750,2.5,0.65,5,10,12,1,2,2.5,0.65,145,55,22,9.5,2000,2750,11,9,8,6,16,11,9,7,15,13,8,7,3.5,13,6,28,20,12,9.5,4.25,3.25,28,20,12,8,4,2.5,3500,0,0.65,350,0,0,0,0,30,26,15,11,5.75,3.75,30,26,15,11,5.75,3.75,1.25,3500,6,0.12,800,1.5,68,30,6000,1200,39,26,1300,8,1000,9.5,8.5,7.5,5.5,5.5,2750]
["Brooke",{"$f":"VLOOKUP(A314,tables!$A$2:$C$56,2,0)","v":5},6028,{"$f":"VLOOKUP(A314,tables!$A$2:$C$56,3,0)","v":"06"},"Kelly Paving Inc., Plant #23 Weirton Facility","4260 Freedom Way, Weirton, WV 26062","Yeager Materials","4260 Freedom Way, Weirton, WV 26062",77,78,77,78,77,86,80,84,89,84,89,0,0,102,0,84,91,60,1750,2.5,0.65,5,10,12,1,2,2.5,0.65,145,55,22,9.5,2000,2750,11,9,8,6,16,11,9,7,15,13,8,7,3.5,13,6,28,20,12,9.5,4.25,3.25,28,20,12,8,4,2.5,3500,0,0.65,350,0,0,0,0,30,26,15,11,5.75,3.75,30,26,15,11,5.75,3.75,1.25,3500,6,0.12,800,1.5,68,30,6000,1200,39,26,1300,8,1000,9.5,8.5,7.5,5.5,5.5,2750]
["Hancock",{"$f":"VLOOKUP(A315,tables!$A$2:$C$56,2,0)","v":15},6029,{"$f":"VLOOKUP(A315,tables!$A$2:$C$56,3,0)","v":"06"},"Kelly Paving Inc., Plant #23 Weirton Facility","4260 Freedom Way, Weirton, WV 26062","Yeager Materials","4260 Freedom Way, Weirton, WV 26062",77,78,77,78,77,86,80,84,89,84,89,0,0,102,0,84,91,60,1750,2.5,0.65,5,10,12,1,2,2.5,0.65,145,55,22,9.5,2000,2750,11,9,8,6,16,11,9,7,15,13,8,7,3.5,13,6,28,20,12,9.5,4.25,3.25,28,20,12,8,4,2.5,3500,0,0.65,350,0,0,0,0,30,26,15,11,5.75,3.75,30,26,15,11,5.75,3.75,1.25,3500,6,0.12,800,1.5,68,30,6000,1200,39,26,1300,8,1000,9.5,8.5,7.5,5.5,5.5,2750]
["Marshall",{"$f":"VLOOKUP(A316,tables!$A$2:$C$56,2,0)","v":26},6030,{"$f":"VLOOKUP(A316,tables!$A$2:$C$56,3,0)","v":"06"},"Kelly Paving Inc., Plant #23 Weirton Facility","4260 Freedom Way, Weirton, WV 26062","Yeager Materials","4260 Freedom Way, Weirton, WV 26062",77,78,77,78,77,86,80,84,89,84,89,0,0,102,0,84,91,60,1750,2.5,0.65,5,10,12,1,2,2.5,0.65,145,55,22,9.5,2000,2750,11,9,8,6,16,11,9,7,15,13,8,7,3.5,13,6,28,20,12,9.5,4.25,3.25,28,20,12,8,4,2.5,3500,0,0.65,350,0,0,0,0,30,26,15,11,5.75,3.75,30,26,15,11,5.75,3.75,1.25,3500,6,0.12,800,1.5,68,30,6000,1200,39,26,1300,8,1000,9.5,8.5,7.5,5.5,5.5,2750]
["Ohio",{"$f":"VLOOKUP(A317,tables!$A$2:$C$56,2,0)","v":35},6031,{"$f":"VLOOKUP(A317,tables!$A$2:$C$56,3,0)","v":"06"},"Kelly Paving Inc., Plant #23 Weirton Facility","4260 Freedom Way, Weirton, WV 26062","Yeager Materials","4260 Freedom Way, Weirton, WV 26062",77,78,77,78,77,86,80,84,89,84,89,0,0,102,0,84,91,60,1750,2.5,0.65,5,10,12,1,2,2.5,0.65,145,55,22,9.5,2000,2750,11,9,8,6,16,11,9,7,15,13,8,7,3.5,13,6,28,20,12,9.5,4.25,3.25,28,20,12,8,4,2.5,3500,0,0.65,350,0,0,0,0,30,26,15,11,5.75,3.75,30,26,15,11,5.75,3.75,1.25,3500,6,0.12,800,1.5,68,30,6000,1200,39,26,1300,8,1000,9.5,8.5,7.5,5.5,5.5,2750]
["Tyler",{"$f":"VLOOKUP(A318,tables!$A$2:$C$56,2,0)","v":48},6032,{"$f":"VLOOKUP(A318,tables!$A$2:$C$56,3,0)","v":"06"},"Kelly Paving Inc., Plant #23 Weirton Facility","4260 Freedom Way, Weirton, WV 26062","Yeager Materials","4260 Freedom Way, Weirton, WV 26062",77,78,77,78,77,86,80,84,89,84,89,0,0,102,0,84,91,60,3750,2.5,0.65,5,10,12,1,2,2.5,0.65,145,55,22,9.5,4000,4750,11,9,8,6,16,11,9,7,15,13,8,7,3.5,13,6,28,20,12,9.5,4.25,3.25,28,20,12,8,4,2.5,5500,0,0.65,350,0,0,0,0,30,26,15,11,5.75,3.75,30,26,15,11,5.75,3.75,1.25,5500,6,0.12,800,1.5,68,30,6000,1200,39,26,3300,8,3000,9.5,8.5,7.5,5.5,5.5,4750]
["Wetzel",{"$f":"VLOOKUP(A319,tables!$A$2:$C$56,2,0)","v":52},6033,{"$f":"VLOOKUP(A319,tables!$A$2:$C$56,3,0)","v":"06"},"Kelly Paving Inc., Plant #23 Weirton Facility","4260 Freedom Way, Weirton, WV 26062","Yeager Materials","4260 Freedom Way, Weirton, WV 26062",77,78,77,78,77,86,80,84,89,84,89,0,0,102,0,84,91,60,1750,2.5,0.65,5,10,12,1,2,2.5,0.65,145,55,22,9.5,2000,2750,11,9,8,6,16,11,9,7,15,13,8,7,3.5,13,6,28,20,12,9.5,4.25,3.25,28,20,12,8,4,2.5,3500,0,0.65,350,0,0,0,0,30,26,15,11,5.75,3.75,30,26,15,11,5.75,3.75,1.25,3500,6,0.12,800,1.5,68,30,6000,1200,39,26,1300,8,1000,9.5,8.5,7.5,5.5,5.5,2750]
["Tyler",{"$f":"VLOOKUP(A320,tables!$A$2:$C$56,2,0)","v":48},6034,{"$f":"VLOOKUP(A320,tables!$A$2:$C$56,3,0)","v":"06"},"Kelly Paving Camden Materials","202 Hickory St., Parkersburg, WV 26101","Martin Marietta","99 Kanawha St., Parkersburg, WV 26101",85.5,88.75,88,88,89.25,102.75,89.25,92.25,102.75,91.5,101.75,104,104,104,104,94.25,104.75,55,1500,3,0.35,5,5,15,2,4,3,0.35,90,40,15,8,1000,5000,6.5,4,2.5,2,25,15,4,2,25,15,4,2,3.5,10,5,22,18,11,5.5,3.5,2.5,21,17,10,5,3,2,3000,0,0.35,350,122.5,4,50,112.5,24,19,13,7,4.5,3.5,23,18,12,6,4,3,0.5,3000,6.5,0.01,850,1,72,25,2500,500,40,28,1250,8,800,9,8,6,5,6,1000]
["Wetzel",{"$f":"VLOOKUP(A321,tables!$A$2:$C$56,2,0)","v":52},6035,{"$f":"VLOOKUP(A321,tables!$A$2:$C$56,3,0)","v":"06"},"Kelly Paving Camden Materials","202 Hickory St., Parkersburg, WV 26101","Martin Marietta","99 Kanawha St., Parkersburg, WV 26101",85.5,88.75,88,88,89.25,102.75,89.25,92.25,102.75,91.5,101.75,104,104,104,104,94.25,104.75,55,1500,3,0.35,5,5,15,2,4,3,0.35,90,40,15,8,1500,5000,6.5,4,2.5,2,25,15,4,2,25,15,4,2,3.5,10,5,22,18,11,5.5,3.5,2.5,21,17,10,5,3,2,3000,0,0.35,350,122.5,4,50,112.5,24,19,13,7,4.5,3.5,23,18,12,6,4,3,0.5,3000,6.5,0.01,850,1,72,25,2500,500,40,28,1250,8,800,9,8,6,5,6,1000]
["Brooke",{"$f":"VLOOKUP(A322,tables!$A$2:$C$56,2,0)","v":5},6036,{"$f":"VLOOKUP(A322,tables!$A$2:$C$56,3,0)","v":"06"},"Kelly Paving Inc., Plant #14","123 Dodd Dr., St. Marys, WV 26170","Martin Marietta","195 Wetzel St., New Martinsville, WV 26155",82,88,88,88,88,100,88,92,103,92,100,0,0,102,104,96,102,55,2500,3,0.35,7,6,15,2,4,3,0.35,90,40,15,8,1500,5000,6.5,4,2.5,2,25,15,4,2,25,15,4,2,3.5,10,5,22,18,11,5.5,3.5,2.5,21,17,10,5,3,2,3000,0,0.35,350,0,3.5,0,0,24,19,13,7,4.5,3.5,23,18,12,6,4,3,0.5,3000,6.5,0.01,850,1,72,25,5000,500,40,28,1250,8,800,9,8,6,5,6,1000]
["Hancock",{"$f":"VLOOKUP(A323,tables!$A$2:$C$56,2,0)","v":15},6037,{"$f":"VLOOKUP(A323,tables!$A$2:$C$56,3,0)","v":"06"},"Kelly Paving Inc., Plant #14","123 Dodd Dr., St. Marys, WV 26170","Martin Marietta","195 Wetzel St., New Martinsville, WV 26155",82,88,88,88,88,100,88,92,103,92,100,0,0,102,104,96,102,55,2500,3,0.35,7,6,15,2,4,3,0.35,90,40,15,8,1500,5000,6.5,4,2.5,2,25,15,4,2,25,15,4,2,3.5,10,5,22,18,11,5.5,3.5,2.5,21,17,10,5,3,2,3000,0,0.35,350,0,3.5,0,0,24,19,13,7,4.5,3.5,23,18,12,6,4,3,0.5,3000,6.5,0.01,850,1,72,25,5000,500,40,28,1250,8,800,9,8,6,5,6,1000]
["Marshall",{"$f":"VLOOKUP(A324,tables!$A$2:$C$56,2,0)","v":26},6038,{"$f":"VLOOKUP(A324,tables!$A$2:$C$56,3,0)","v":"06"},"Kelly Paving Inc., Plant #14","123 Dodd Dr., St. Marys, WV 26170","Martin Marietta","195 Wetzel St., New Martinsville, WV 26155",82,88,88,88,88,100,88,92,103,92,100,0,0,102,104,96,102,55,2000,3,0.35,7,6,15,2,4,3,0.35,90,40,15,8,1500,5000,6.5,4,2.5,2,25,15,4,2,25,15,4,2,3.5,10,5,22,18,11,5.5,3.5,2.5,21,17,10,5,3,2,3000,0,0.35,350,0,3.5,0,0,24,19,13,7,4.5,3.5,23,18,12,6,4,3,0.5,3000,6.5,0.01,850,1,72,25,5000,500,40,28,1250,8,800,9,8,6,5,6,1000]
["Ohio",{"$f":"VLOOKUP(A325,tables!$A$2:$C$56,2,0)","v":35},6039,{"$f":"VLOOKUP(A325,tables!$A$2:$C$56,3,0)","v":"06"},"Kelly Paving Inc., Plant #14","123 Dodd Dr., St. Marys, WV 26170","Martin Marietta","195 Wetzel St., New Martinsville, WV 26155",82,88,88,88,88,100,88,92,103,92,100,0,0,102,104,96,102,55,2500,3,0.35,7,6,15,2,4,3,0.35,90,40,15,8,1500,5000,6.5,4,2.5,2,25,15,4,2,25,15,4,2,3.5,10,5,22,18,11,5.5,3.5,2.5,21,17,10,5,3,2,3000,0,0.35,350,0,3.5,0,0,24,19,13,7,4.5,3.5,23,18,12,6,4,3,0.5,3000,6.5,0.01,850,1,72,25,5000,500,40,28,1250,8,800,9,8,6,5,6,1000]
["Tyler",{"$f":"VLOOKUP(A326,tables!$A$2:$C$56,2,0)","v":48},6040,{"$f":"VLOOKUP(A326,tables!$A$2:$C$56,3,0)","v":"06"},"Kelly Paving Inc., Plant #14","123 Dodd Dr., St. Marys, WV 26170","Martin Marietta","195 Wetzel St., New Martinsville, WV 26155",82,88,88,88,88,100,88,92,103,92,100,0,0,102,104,96,102,55,1500,3,0.35,7,6,15,2,4,3,0.35,90,40,15,8,1000,5000,6.5,4,2.5,2,25,15,4,2,25,15,4,2,3.5,10,5,22,18,11,5.5,3.5,2.5,21,17,10,5,3,2,3000,0,0.35,350,0,3.5,0,0,24,19,13,7,4.5,3.5,23,18,12,6,4,3,0.5,3000,6.5,0.01,850,1,72,25,5000,500,40,28,1250,8,800,9,8,6,5,6,1000]
["Wetzel",{"$f":"VLOOKUP(A327,tables!$A$2:$C$56,2,0)","v":52},6041,{"$f":"VLOOKUP(A327,tables!$A$2:$C$56,3,0)","v":"06"},"Kelly Paving Inc., Plant #14","123 Dodd Dr., St. Marys, WV 26170","Martin Marietta","195 Wetzel St., New Martinsville, WV 26155",82,88,88,88,88,100,88,92,103,92,100,0,0,102,104,96,102,55,1500,3,0.35,7,6,15,2,4,3,0.35,90,40,15,8,1500,5000,6.5,4,2.5,2,25,15,4,2,25,15,4,2,3.5,10,5,22,18,11,5.5,3.5,2.5,21,17,10,5,3,2,3000,0,0.35,350,0,3.5,0,0,24,19,13,7,4.5,3.5,23,18,12,6,4,3,0.5,3000,6.5,0.01,850,1,72,25,5000,500,40,28,1250,8,800,9,8,6,5,6,1000]
["Tyler",{"$f":"VLOOKUP(A328,tables!$A$2:$C$56,2,0)","v":48},6042,{"$f":"VLOOKUP(A328,tables!$A$2:$C$56,3,0)","v":"06"},"Kelly Paving Inc., Plant #14","123 Dodd Dr., St. Marys, WV 26170","Martin Marietta","619 Sand Hill Way, Petroleum, WV 26161",82,88,88,88,88,100,88,92,103,92,100,0,0,102,104,96,102,55,1500,3,0.35,7,6,15,2,4,3,0.35,90,40,15,8,1000,5000,6.5,4,2.5,2,25,15,4,2,25,15,4,2,3.5,10,5,22,18,11,5.5,3.5,2.5,21,17,10,5,3,2,3000,0,0.35,350,0,3.5,0,0,24,19,13,7,4.5,3.5,23,18,12,6,4,3,0.5,3000,6.5,0.01,850,1,72,25,5000,500,40,28,1250,8,800,9,8,6,5,6,1000]
["Wetzel",{"$f":"VLOOKUP(A329,tables!$A$2:$C$56,2,0)","v":52},6043,{"$f":"VLOOKUP(A329,tables!$A$2:$C$56,3,0)","v":"06"},"Kelly Paving Inc., Plant #14","123 Dodd Dr., St. Marys, WV 26170","Martin Marietta","619 Sand Hill Way, Petroleum, WV 26161",82,88,88,88,88,100,88,92,103,92,100,0,0,102,104,96,102,55,1500,3,0.35,7,6,15,2,4,3,0.35,90,40,15,8,1500,5000,6.5,4,2.5,2,25,15,4,2,25,15,4,2,3.5,10,5,22,18,11,5.5,3.5,2.5,21,17,10,5,3,2,3000,0,0.35,350,0,3.5,0,0,24,19,13,7,4.5,3.5,23,18,12,6,4,3,0.5,3000,6.5,0.01,850,1,72,25,5000,500,40,28,1250,8,800,9,8,6,5,6,1000]
["Tyler",{"$f":"VLOOKUP(A330,tables!$A$2:$C$56,2,0)","v":48},6044,{"$f":"VLOOKUP(A330,tables!$A$2:$C$56,3,0)","v":"06"},"Kelly Paving Inc., Plant #14","123 Dodd Dr., St. Marys, WV 26170","Kelly Paving Inc.","123 Dodd Dr., St. Marys, WV 26170",82,88,88,88,88,100,88,92,103,92,100,0,0,102,104,96,102,55,1500,3,0.35,7,6,15,2,4,3,0.35,90,40,15,8,1000,5000,6.5,4,2.5,2,25,15,4,2,25,15,4,2,3.5,10,5,22,18,11,5.5,3.5,2.5,21,17,10,5,3,2,3000,0,0.35,350,0,3.5,0,0,24,19,13,7,4.5,3.5,23,18,12,6,4,3,0.5,3000,6.5,0.01,850,1,72,25,5000,500,40,28,1250,8,800,9,8,6,5,6,1000]
["Wetzel",{"$f":"VLOOKUP(A331,tables!$A$2:$C$56,2,0)","v":52},6045,{"$f":"VLOOKUP(A331,tables!$A$2:$C$56,3,0)","v":"06"},"Kelly Paving Inc., Plant #14","123 Dodd Dr., St. Marys, WV 26170","Kelly Paving Inc.","123 Dodd Dr., St. Marys, WV 26170",82,88,88,88,88,100,88,92,103,92,100,0,0,102,104,96,102,55,1500,3,0.35,7,6,15,2,4,3,0.35,90,40,15,8,1500,5000,6.5,4,2.5,2,25,15,4,2,25,15,4,2,3.5,10,5,22,18,11,5.5,3.5,2.5,21,17,10,5,3,2,3000,0,0.35,350,0,3.5,0,0,24,19,13,7,4.5,3.5,23,18,12,6,4,3,0.5,3000,6.5,0.01,850,1,72,25,5000,500,40,28,1250,8,800,9,8,6,5,6,1000]
["Marshall",{"$f":"VLOOKUP(A332,tables!$A$2:$C$56,2,0)","v":26},6046,{"$f":"VLOOKUP(A332,tables!$A$2:$C$56,3,0)","v":"06"},"Klug Bros","State Rte 2 South Lafayette Ave., Moundsville WV","Yeager Materials","1601 Layfayette Ave., Moundsville, WV 26041",82.85,0,82.85,82.85,83.25,87.25,0,91.25,0,91.25,98,0,0,108.75,0,0,0,51.5,975,1.95,0.5,0,0,0,0,0,2,0.45,64,44,19.5,8,1475,2050,14,12.5,11.5,9.5,11.75,10,9.25,8.35,11.65,10,9.25,8.35,3.85,10.5,2.0499999999999998,32.9,22.2,12.3,7.65,4.55,3.2,32.1,21.45,11.45,7.1,4.3499999999999996,3,1890,0,0.84,298,0,6.75,0,0,35.1,26.9,17.25,10.7,7.3,4.4000000000000004,34.5,26.65,16.95,10.3,7.25,3.95,4.8,1675,4.45,0.12,600,1.57,57.4,52.25,1400,875,60.3,60.3,5800,0,0,0,0,0,0,0,0]
["Ohio",{"$f":"VLOOKUP(A333,tables!$A$2:$C$56,2,0)","v":35},6047,{"$f":"VLOOKUP(A333,tables!$A$2:$C$56,3,0)","v":"06"},"Klug Bros","State Rte 2 South Lafayette Ave., Moundsville WV","Yeager Materials","1601 Layfayette Ave., Moundsville, WV 26041",82.85,0,82.85,82.85,83.25,87.25,0,91.25,0,91.25,98,0,0,108.75,0,0,0,51.5,975,1.95,0.5,0,0,0,0,0,2,0.45,64,44,19.5,8,1475,2050,14,12.5,11.5,9.5,11.75,10,9.25,8.35,11.65,10,9.25,8.35,3.85,10.5,2.0499999999999998,32.9,22.2,12.3,7.65,4.55,3.2,32.1,21.45,11.45,7.1,4.3499999999999996,3,1890,0,0.84,298,0,6.75,0,0,35.1,26.9,17.25,10.7,7.3,4.4000000000000004,34.5,26.65,16.95,10.3,7.25,3.95,4.8,1675,4.45,0.12,600,1.57,57.4,52.25,1400,875,60.3,60.3,5800,0,0,0,0,0,0,0,0]
["Tyler",{"$f":"VLOOKUP(A334,tables!$A$2:$C$56,2,0)","v":48},6048,{"$f":"VLOOKUP(A334,tables!$A$2:$C$56,3,0)","v":"06"},"Klug Bros","State Rte 2 South Lafayette Ave., Moundsville WV","Yeager Materials","1601 Layfayette Ave., Moundsville, WV 26041",82.85,0,82.85,82.85,83.25,87.25,0,91.25,0,91.25,98,0,0,108.75,0,0,0,51.5,975,1.95,0.5,0,0,0,0,0,2,0.45,64,44,19.5,8,1475,2050,14,12.5,11.5,9.5,11.75,10,9.25,8.35,11.65,10,9.25,8.35,3.85,10.5,2.0499999999999998,32.9,22.2,12.3,7.65,4.55,3.2,32.1,21.45,11.45,7.1,4.3499999999999996,3,1890,0,0.84,298,0,6.75,0,0,35.1,26.9,17.25,10.7,7.3,4.4000000000000004,34.5,26.65,16.95,10.3,7.25,3.95,4.8,1675,4.45,0.12,600,1.57,57.4,52.25,1400,875,60.3,60.3,5800,0,0,0,0,0,0,0,0]
["Wetzel",{"$f":"VLOOKUP(A335,tables!$A$2:$C$56,2,0)","v":52},6049,{"$f":"VLOOKUP(A335,tables!$A$2:$C$56,3,0)","v":"06"},"Klug Bros","State Rte 2 South Lafayette Ave., Moundsville WV","Yeager Materials","1601 Layfayette Ave., Moundsville, WV 26041",82.85,0,82.85,82.85,83.25,87.25,0,91.25,0,91.25,98,0,0,108.75,0,0,0,51.5,975,1.95,0.5,0,0,0,0,0,2,0.45,64,44,19.5,8,1475,2050,14,12.5,11.5,9.5,11.75,10,9.25,8.35,11.65,10,9.25,8.35,3.85,10.5,2.0499999999999998,32.9,22.2,12.3,7.65,4.55,3.2,32.1,21.45,11.45,7.1,4.3499999999999996,3,1890,0,0.84,298,0,6.75,0,0,35.1,26.9,17.25,10.7,7.3,4.4000000000000004,34.5,26.65,16.95,10.3,7.25,3.95,4.8,1675,4.45,0.12,600,1.57,57.4,52.25,1400,875,60.3,60.3,5800,0,0,0,0,0,0,0,0]
["Marshall",{"$f":"VLOOKUP(A336,tables!$A$2:$C$56,2,0)","v":26},6050,{"$f":"VLOOKUP(A336,tables!$A$2:$C$56,3,0)","v":"06"},"Klug Bros","Foot of Wetzel St., New Martinsville WV","Martin Marietta","Foot of Wetzel St., New Martinsville WV",82.85,0,82.85,82.85,83.25,87.25,0,91.25,0,91.25,98,0,0,108.75,0,0,0,51.5,975,1.95,0.5,0,0,0,0,0,2,0.45,64,44,19.5,8,1475,2050,14,12.5,11.5,9.5,11.75,10,9.25,8.35,11.65,10,9.25,8.35,3.85,10.5,2.0499999999999998,32.9,22.2,12.3,7.65,4.55,3.2,32.1,21.45,11.45,7.1,4.3499999999999996,3,1890,0,0.84,298,0,6.75,0,0,35.1,26.9,17.25,10.7,7.3,4.4000000000000004,34.5,26.65,16.95,10.3,7.25,3.95,4.8,1675,4.45,0.12,600,1.57,57.4,52.25,1400,875,60.3,60.3,5800,0,0,0,0,0,0,0,0]
["Ohio",{"$f":"VLOOKUP(A337,tables!$A$2:$C$56,2,0)","v":35},6051,{"$f":"VLOOKUP(A337,tables!$A$2:$C$56,3,0)","v":"06"},"Klug Bros","Foot of Wetzel St., New Martinsville WV","Martin Marietta","Foot of Wetzel St., New Martinsville WV",82.85,0,82.85,82.85,83.25,87.25,0,91.25,0,91.25,98,0,0,108.75,0,0,0,51.5,975,1.95,0.5,0,0,0,0,0,2,0.45,64,44,19.5,8,1475,2050,14,12.5,11.5,9.5,11.75,10,9.25,8.35,11.65,10,9.25,8.35,3.85,10.5,2.0499999999999998,32.9,22.2,12.3,7.65,4.55,3.2,32.1,21.45,11.45,7.1,4.3499999999999996,3,1890,0,0.84,298,0,6.75,0,0,35.1,26.9,17.25,10.7,7.3,4.4000000000000004,34.5,26.65,16.95,10.3,7.25,3.95,4.8,1675,4.45,0.12,600,1.57,57.4,52.25,1400,875,60.3,60.3,5800,0,0,0,0,0,0,0,0]
["Tyler",{"$f":"VLOOKUP(A338,tables!$A$2:$C$56,2,0)","v":48},6052,{"$f":"VLOOKUP(A338,tables!$A$2:$C$56,3,0)","v":"06"},"Klug Bros","Foot of Wetzel St., New Martinsville WV","Martin Marietta","Foot of Wetzel St., New Martinsville WV",82.85,0,82.85,82.85,83.25,87.25,0,91.25,0,91.25,98,0,0,108.75,0,0,0,51.5,975,1.95,0.5,0,0,0,0,0,2,0.45,64,44,19.5,8,1475,2050,14,12.5,11.5,9.5,11.75,10,9.25,8.35,11.65,10,9.25,8.35,3.85,10.5,2.0499999999999998,32.9,22.2,12.3,7.65,4.55,3.2,32.1,21.45,11.45,7.1,4.3499999999999996,3,1890,0,0.84,298,0,6.75,0,0,35.1,26.9,17.25,10.7,7.3,4.4000000000000004,34.5,26.65,16.95,10.3,7.25,3.95,4.8,1675,4.45,0.12,600,1.57,57.4,52.25,1400,875,60.3,60.3,5800,0,0,0,0,0,0,0,0]
["Wetzel",{"$f":"VLOOKUP(A339,tables!$A$2:$C$56,2,0)","v":52},6053,{"$f":"VLOOKUP(A339,tables!$A$2:$C$56,3,0)","v":"06"},"Klug Bros","Foot of Wetzel St., New Martinsville WV","Martin Marietta","Foot of Wetzel St., New Martinsville WV",82.85,0,82.85,82.85,83.25,87.25,0,91.25,0,91.25,98,0,0,108.75,0,0,0,51.5,975,1.95,0.5,0,0,0,0,0,2,0.45,64,44,19.5,8,1475,2050,14,12.5,11.5,9.5,11.75,10,9.25,8.35,11.65,10,9.25,8.35,3.85,10.5,2.0499999999999998,32.9,22.2,12.3,7.65,4.55,3.2,32.1,21.45,11.45,7.1,4.3499999999999996,3,1890,0,0.84,298,0,6.75,0,0,35.1,26.9,17.25,10.7,7.3,4.4000000000000004,34.5,26.65,16.95,10.3,7.25,3.95,4.8,1675,4.45,0.12,600,1.57,57.4,52.25,1400,875,60.3,60.3,5800,0,0,0,0,0,0,0,0]
["Brooke",{"$f":"VLOOKUP(A340,tables!$A$2:$C$56,2,0)","v":5},6054,{"$f":"VLOOKUP(A340,tables!$A$2:$C$56,3,0)","v":"06"},"NLS Paving Inc., Martins Ferry Plant","1575 North First St., Martins Ferry, OH 43964","National Lime and Stone","1601 North 1st St., Martins Ferry, OH 43935",72,74,74,74,74,77,74,78,81,77,84,105,105,105,105,80,85,60,1800,2.5,0.65,11.5,13,0,1,3,2.5,0.65,150,60,22,9.5,2100,3100,11.5,9.25,8,6,16,12,10,8,16,13,10,9,3.75,13.5,8,28,20,13,8,4,2.4,28,20,13,8,4,2.4,3000,0,0.65,475,0,5.5,0,0,30,26,15,12,5,3.3,30,26,15,12,5,3.3,3,4000,6.5,0.15,850,1.75,71,35,6000,1300,40,27,1500,10,1800,8,7.5,6.25,5.25,5.5,2600]
["Hancock",{"$f":"VLOOKUP(A341,tables!$A$2:$C$56,2,0)","v":15},6055,{"$f":"VLOOKUP(A341,tables!$A$2:$C$56,3,0)","v":"06"},"NLS Paving Inc., Martins Ferry Plant","1575 North First St., Martins Ferry, OH 43964","National Lime and Stone","1601 North 1st St., Martins Ferry, OH 43935",72,74,74,74,74,77,74,78,81,77,84,105,105,105,105,80,85,60,1800,2.5,0.65,11.5,13,0,1,3,2.5,0.65,150,60,22,9.5,2100,3100,11.5,9.25,8,6,16,12,10,8,16,13,10,9,3.75,13.5,8,28,20,13,8,4,2.4,28,20,13,8,4,2.4,3000,0,0.65,475,0,5.5,0,0,30,26,15,12,5,3.3,30,26,15,12,5,3.3,3,4000,6.5,0.15,850,1.75,71,35,6000,1300,40,27,1500,10,1800,8,7.5,6.25,5.25,5.5,2600]
["Marshall",{"$f":"VLOOKUP(A342,tables!$A$2:$C$56,2,0)","v":26},6056,{"$f":"VLOOKUP(A342,tables!$A$2:$C$56,3,0)","v":"06"},"NLS Paving Inc., Martins Ferry Plant","1575 North First St., Martins Ferry, OH 43964","National Lime and Stone","1601 North 1st St., Martins Ferry, OH 43935",72,74,74,74,74,77,74,78,81,77,84,105,105,105,105,80,85,60,1800,2.5,0.65,11.5,13,0,1,3,2.5,0.65,150,60,22,9.5,2100,3100,11.5,9.25,8,6,16,12,10,8,16,13,10,9,3.75,13.5,8,28,20,13,8,4,2.4,28,20,13,8,4,2.4,3000,0,0.65,475,0,5.5,0,0,30,26,15,12,5,3.3,30,26,15,12,5,3.3,3,4000,6.5,0.15,850,1.75,71,35,6000,1300,40,27,1500,10,1800,8,7.5,6.25,5.25,5.5,2600]
["Ohio",{"$f":"VLOOKUP(A343,tables!$A$2:$C$56,2,0)","v":35},6057,{"$f":"VLOOKUP(A343,tables!$A$2:$C$56,3,0)","v":"06"},"NLS Paving Inc., Martins Ferry Plant","1575 North First St., Martins Ferry, OH 43964","National Lime and Stone","1601 North 1st St., Martins Ferry, OH 43935",72,74,74,74,74,77,74,78,81,77,84,105,105,105,105,80,85,60,1800,2.5,0.65,11.5,13,0,1,3,2.5,0.65,150,60,22,9.5,2100,3100,11.5,9.25,8,6,16,12,10,8,16,13,10,9,3.75,13.5,8,28,20,13,8,4,2.4,28,20,13,8,4,2.4,3000,0,0.65,475,0,5.5,0,0,30,26,15,12,5,3.3,30,26,15,12,5,3.3,3,4000,6.5,0.15,850,1.75,71,35,6000,1300,40,27,1500,10,1800,8,7.5,6.25,5.25,5.5,2600]
["Tyler",{"$f":"VLOOKUP(A344,tables!$A$2:$C$56,2,0)","v":48},6058,{"$f":"VLOOKUP(A344,tables!$A$2:$C$56,3,0)","v":"06"},"NLS Paving Inc., Martins Ferry Plant","1575 North First St., Martins Ferry, OH 43964","National Lime and Stone","1601 North 1st St., Martins Ferry, OH 43935",72,74,74,74,74,77,74,78,81,77,84,105,105,105,105,80,85,60,1800,2.5,0.65,11.5,13,0,1,3,2.5,0.65,150,60,22,9.5,2100,3100,11.5,9.25,8,6,16,12,10,8,16,13,10,9,3.75,13.5,8,28,20,13,8,4,2.4,28,20,13,8,4,2.4,3000,0,0.65,475,0,5.5,0,0,30,26,15,12,5,3.3,30,26,15,12,5,3.3,3,4000,6.5,0.15,850,1.75,71,35,6000,1300,40,27,1500,10,1800,8,7.5,6.25,5.25,5.5,2600]
["Wetzel",{"$f":"VLOOKUP(A345,tables!$A$2:$C$56,2,0)","v":52},6059,{"$f":"VLOOKUP(A345,tables!$A$2:$C$56,3,0)","v":"06"},"NLS Paving Inc., Martins Ferry Plant","1575 North First St., Martins Ferry, OH 43964","National Lime and Stone","1601 North 1st St., Martins Ferry, OH 43935",72,74,74,74,74,77,74,78,81,77,84,105,105,105,105,80,85,60,1800,2.5,0.65,11.5,13,0,1,3,2.5,0.65,150,60,22,9.5,2100,3100,11.5,9.25,8,6,16,12,10,8,16,13,10,9,3.75,13.5,8,28,20,13,8,4,2.4,28,20,13,8,4,2.4,3000,0,0.65,475,0,5.5,0,0,30,26,15,12,5,3.3,30,26,15,12,5,3.3,3,4000,6.5,0.15,850,1.75,71,35,6000,1300,40,27,1500,10,1800,8,7.5,6.25,5.25,5.5,2600]
["Brooke",{"$f":"VLOOKUP(A346,tables!$A$2:$C$56,2,0)","v":5},6060,{"$f":"VLOOKUP(A346,tables!$A$2:$C$56,3,0)","v":"06"},"NLS Paving Inc., Empire Plant","1422 Co. HWY 7F, Toronto OH 43964","National Lime and Stone","1422 Co. HWY 7F, Toronto OH 43964",75,76,77,77,78,84,81,85,86,81,91,104,104,104,104,81,90,60,1800,2.5,0.65,11.5,13,0,1,3,2.5,0.65,150,60,22,9.5,2100,3100,11.5,9.25,8,6,16,12,10,8,16,13,10,9,3.75,13.5,8,28,20,13,8,4,2.4,28,20,13,8,4,2.4,3000,0,0.65,475,0,5.5,0,0,30,26,15,12,5,3.3,30,26,15,12,5,3.3,3,4000,6.5,0.15,850,1.75,71,35,6000,1300,40,27,1500,10,1800,8,7.5,6.25,5.25,5.5,2600]
["Hancock",{"$f":"VLOOKUP(A347,tables!$A$2:$C$56,2,0)","v":15},6061,{"$f":"VLOOKUP(A347,tables!$A$2:$C$56,3,0)","v":"06"},"NLS Paving Inc., Empire Plant","1422 Co. HWY 7F, Toronto OH 43964","National Lime and Stone","1422 Co. HWY 7F, Toronto OH 43964",75,76,77,77,78,84,81,85,86,81,91,104,104,104,104,81,90,60,1800,2.5,0.65,11.5,13,0,1,3,2.5,0.65,150,60,22,9.5,2100,3100,11.5,9.25,8,6,16,12,10,8,16,13,10,9,3.75,13.5,8,28,20,13,8,4,2.4,28,20,13,8,4,2.4,3000,0,0.65,475,0,5.5,0,0,30,26,15,12,5,3.3,30,26,15,12,5,3.3,3,4000,6.5,0.15,850,1.75,71,35,6000,1300,40,27,1500,10,1800,8,7.5,6.25,5.25,5.5,2600]
["Marshall",{"$f":"VLOOKUP(A348,tables!$A$2:$C$56,2,0)","v":26},6062,{"$f":"VLOOKUP(A348,tables!$A$2:$C$56,3,0)","v":"06"},"NLS Paving Inc., Empire Plant","1422 Co. HWY 7F, Toronto OH 43964","National Lime and Stone","1422 Co. HWY 7F, Toronto OH 43964",75,76,77,77,78,84,81,85,86,81,91,104,104,104,104,81,90,60,1800,2.5,0.65,11.5,13,0,1,3,2.5,0.65,150,60,22,9.5,2100,3100,11.5,9.25,8,6,16,12,10,8,16,13,10,9,3.75,13.5,8,28,20,13,8,4,2.4,28,20,13,8,4,2.4,3000,0,0.65,475,0,5.5,0,0,30,26,15,12,5,3.3,30,26,15,12,5,3.3,3,4000,6.5,0.15,850,1.75,71,35,6000,1300,40,27,1500,10,1800,8,7.5,6.25,5.25,5.5,2600]
["Ohio",{"$f":"VLOOKUP(A349,tables!$A$2:$C$56,2,0)","v":35},6063,{"$f":"VLOOKUP(A349,tables!$A$2:$C$56,3,0)","v":"06"},"NLS Paving Inc., Empire Plant","1422 Co. HWY 7F, Toronto OH 43964","National Lime and Stone","1422 Co. HWY 7F, Toronto OH 43964",75,76,77,77,78,84,81,85,86,81,91,104,104,104,104,81,90,60,1800,2.5,0.65,11.5,13,0,1,3,2.5,0.65,150,60,22,9.5,2100,3100,11.5,9.25,8,6,16,12,10,8,16,13,10,9,3.75,13.5,8,28,20,13,8,4,2.4,28,20,13,8,4,2.4,3000,0,0.65,475,0,5.5,0,0,30,26,15,12,5,3.3,30,26,15,12,5,3.3,3,4000,6.5,0.15,850,1.75,71,35,6000,1300,40,27,1500,10,1800,8,7.5,6.25,5.25,5.5,2600]
["Tyler",{"$f":"VLOOKUP(A350,tables!$A$2:$C$56,2,0)","v":48},6064,{"$f":"VLOOKUP(A350,tables!$A$2:$C$56,3,0)","v":"06"},"NLS Paving Inc., Empire Plant","1422 Co. HWY 7F, Toronto OH 43964","National Lime and Stone","1422 Co. HWY 7F, Toronto OH 43964",75,76,77,77,78,84,81,85,86,81,91,104,104,104,104,81,90,60,1800,2.5,0.65,11.5,13,0,1,3,2.5,0.65,150,60,22,9.5,2100,3100,11.5,9.25,8,6,16,12,10,8,16,13,10,9,3.75,13.5,8,28,20,13,8,4,2.4,28,20,13,8,4,2.4,3000,0,0.65,475,0,5.5,0,0,30,26,15,12,5,3.3,30,26,15,12,5,3.3,3,4000,6.5,0.15,850,1.75,71,35,6000,1300,40,27,1500,10,1800,8,7.5,6.25,5.25,5.5,2600]
["Wetzel",{"$f":"VLOOKUP(A351,tables!$A$2:$C$56,2,0)","v":52},6065,{"$f":"VLOOKUP(A351,tables!$A$2:$C$56,3,0)","v":"06"},"NLS Paving Inc., Empire Plant","1422 Co. HWY 7F, Toronto OH 43964","National Lime and Stone","1422 Co. HWY 7F, Toronto OH 43964",75,76,77,77,78,84,81,85,86,81,91,104,104,104,104,81,90,60,1800,2.5,0.65,11.5,13,0,1,3,2.5,0.65,150,60,22,9.5,2100,3100,11.5,9.25,8,6,16,12,10,8,16,13,10,9,3.75,13.5,8,28,20,13,8,4,2.4,28,20,13,8,4,2.4,3000,0,0.65,475,0,5.5,0,0,30,26,15,12,5,3.3,30,26,15,12,5,3.3,3,4000,6.5,0.15,850,1.75,71,35,6000,1300,40,27,1500,10,1800,8,7.5,6.25,5.25,5.5,2600]
["Tyler",{"$f":"VLOOKUP(A352,tables!$A$2:$C$56,2,0)","v":48},6066,{"$f":"VLOOKUP(A352,tables!$A$2:$C$56,3,0)","v":"06"},"Stone Asphalt, LLC","164 V.I.P. Drive Masontown, WV 26542","Arcosa Aggregates","2480 Springhill Furnace Rd., Lake Lynn PA 15451",59.2,62.25,61.65,61.65,60.8,64.25,66.400000000000006,69.45,72.2,69.45,71.3,98,100,83.05,85.55,69.099999999999994,71.3,31.6,2000,2.5,0.31,6.05,6.5,10.6,0,0,2.5,0.31,98.2,42.15,15.05,7.3,2500,10000,14,13,6,4,18,16,7,5,18,16,7,5,4.37,12.25,3.05,24,17.5,11.25,6.1,3,2.15,22,15,8.25,4.5,2.2999999999999998,1.75,2500,0,0.5,215,0,0,0,0,24.5,17.75,11.3,6.15,3.75,2.15,22,13.5,9.0500000000000007,5.25,3,1.75,4,3500,6,0.05,605,0.95,56.25,55,3000,2500,65.25,47.5,2500,15,2500,8.35,7.8,6.4,4.8,6.15,2750]
["Tyler",{"$f":"VLOOKUP(A353,tables!$A$2:$C$56,2,0)","v":48},6067,{"$f":"VLOOKUP(A353,tables!$A$2:$C$56,3,0)","v":"06"},"Stone Asphalt, LLC","164 V.I.P. Drive Masontown, WV 26542","Stone Asphalt LLC","164 V.I.P. Drive Masontown, WV 26542",59.2,62.25,61.65,61.65,60.8,64.25,66.400000000000006,69.45,72.2,69.45,71.3,98,100,83.05,85.55,69.099999999999994,71.3,31.6,2000,2.5,0.31,6.05,6.5,10.6,0,0,2.5,0.31,98.2,42.15,15.05,7.3,2500,10000,14,13,6,4,18,16,7,5,18,16,7,5,4.37,12.25,3.05,24,17.5,11.25,6.1,3,2.15,22,15,8.25,4.5,2.2999999999999998,1.75,2500,0,0.5,215,0,0,0,0,24.5,17.75,11.3,6.15,3.75,2.15,22,13.5,9.0500000000000007,5.25,3,1.75,4,3500,6,0.05,605,0.95,56.25,55,3000,2500,65.25,47.5,2500,15,2500,8.35,7.8,6.4,4.8,6.15,2750]
["Tyler",{"$f":"VLOOKUP(A354,tables!$A$2:$C$56,2,0)","v":48},6068,{"$f":"VLOOKUP(A354,tables!$A$2:$C$56,3,0)","v":"06"},"Stone Asphalt, LLC","164 V.I.P. Drive Masontown, WV 26542","Keystone Lime Co","897 Reckart Mill Rd., Terra Alta WV 26764",59.2,62.25,61.65,61.65,60.8,64.25,66.400000000000006,69.45,72.2,69.45,71.3,98,100,83.05,85.55,69.099999999999994,71.3,31.6,2000,2.5,0.31,6.05,6.5,10.6,0,0,2.5,0.31,98.2,42.15,15.05,7.3,2500,10000,14,13,6,4,18,16,7,5,18,16,7,5,4.37,12.25,3.05,24,17.5,11.25,6.1,3,2.15,22,15,8.25,4.5,2.2999999999999998,1.75,2500,0,0.5,215,0,0,0,0,24.5,17.75,11.3,6.15,3.75,2.15,22,13.5,9.0500000000000007,5.25,3,1.75,4,3500,6,0.05,605,0.95,56.25,55,3000,2500,65.25,47.5,2500,15,2500,8.35,7.8,6.4,4.8,6.15,2750]
["Wetzel",{"$f":"VLOOKUP(A355,tables!$A$2:$C$56,2,0)","v":52},6069,{"$f":"VLOOKUP(A355,tables!$A$2:$C$56,3,0)","v":"06"},"Stone Asphalt, LLC","164 V.I.P. Drive Masontown, WV 26542","Arcosa Aggregates","2480 Springhill Furnace Rd., Lake Lynn PA 15451",59.2,62.25,61.65,61.65,60.8,64.25,66.400000000000006,69.45,72.2,69.45,71.3,98,100,83.05,85.55,69.099999999999994,71.3,31.6,2000,2.5,0.31,6.05,6.5,10.6,0,0,2.5,0.31,98.2,42.15,15.05,7.3,2500,10000,14,13,6,4,18,16,7,5,18,16,7,5,4.37,12.25,3.05,24,17.5,11.25,6.1,3,2.15,22,15,8.25,4.5,2.2999999999999998,1.75,2500,0,0.5,215,0,0,0,0,24.5,17.75,11.3,6.15,3.75,2.15,22,13.5,9.0500000000000007,5.25,3,1.75,4,3500,6,0.05,605,0.95,56.25,55,3000,2500,65.25,47.5,2500,15,2500,8.35,7.8,6.4,4.8,6.15,2750]
["Wetzel",{"$f":"VLOOKUP(A356,tables!$A$2:$C$56,2,0)","v":52},6070,{"$f":"VLOOKUP(A356,tables!$A$2:$C$56,3,0)","v":"06"},"Stone Asphalt, LLC","164 V.I.P. Drive Masontown, WV 26542","Stone Asphalt LLC","164 V.I.P. Drive Masontown, WV 26542",59.2,62.25,61.65,61.65,60.8,64.25,66.400000000000006,69.45,72.2,69.45,71.3,98,100,83.05,85.55,69.099999999999994,71.3,31.6,2000,2.5,0.31,6.05,6.5,10.6,0,0,2.5,0.31,98.2,42.15,15.05,7.3,2500,10000,14,13,6,4,18,16,7,5,18,16,7,5,4.37,12.25,3.05,24,17.5,11.25,6.1,3,2.15,22,15,8.25,4.5,2.2999999999999998,1.75,2500,0,0.5,215,0,0,0,0,24.5,17.75,11.3,6.15,3.75,2.15,22,13.5,9.0500000000000007,5.25,3,1.75,4,3500,6,0.05,605,0.95,56.25,55,3000,2500,65.25,47.5,2500,15,2500,8.35,7.8,6.4,4.8,6.15,2750]
["Wetzel",{"$f":"VLOOKUP(A357,tables!$A$2:$C$56,2,0)","v":52},6071,{"$f":"VLOOKUP(A357,tables!$A$2:$C$56,3,0)","v":"06"},"Stone Asphalt, LLC","164 V.I.P. Drive Masontown, WV 26542","Keystone Lime Co","897 Reckart Mill Rd., Terra Alta WV 26764",59.2,62.25,61.65,61.65,60.8,64.25,66.400000000000006,69.45,72.2,69.45,71.3,98,100,83.05,85.55,69.099999999999994,71.3,31.6,2000,2.5,0.31,6.05,6.5,10.6,0,0,2.5,0.31,98.2,42.15,15.05,7.3,2500,10000,14,13,6,4,18,16,7,5,18,16,7,5,4.37,12.25,3.05,24,17.5,11.25,6.1,3,2.15,22,15,8.25,4.5,2.2999999999999998,1.75,2500,0,0.5,215,0,0,0,0,24.5,17.75,11.3,6.15,3.75,2.15,22,13.5,9.0500000000000007,5.25,3,1.75,4,3500,6,0.05,605,0.95,56.25,55,3000,2500,65.25,47.5,2500,15,2500,8.35,7.8,6.4,4.8,6.15,2750]
["Barbour",{"$f":"VLOOKUP(A358,tables!$A$2:$C$56,2,0)","v":1},7001,{"$f":"VLOOKUP(A358,tables!$A$2:$C$56,3,0)","v":7},"Greer Industries Inc., Greer Asphalt Co.","8410 Veterans Memorial Hwy., Masontown, WV 26542","Greer Limestone Co","5630 Earl L. Core Road Rt 7, Morgantown, WV 26508",55,57.25,57.75,57.75,58.5,62,61,67,70.650000000000006,67,67.8,100,103,77.8,80,67.25,69.2,26,1000,3,0.3,6,6,11,0,0,3,0.3,100,42,15,8,1000,1250,14,13,6,4,18,16,7,5,18,16,7,5,4.5,12.5,3,24,17,10.1,6.1,3,2.0699999999999998,22,13.5,8.25,4.5,2.25,1.55,2250,0,0.5,250,200,10,85,100,24,17.5,11.25,6.1,3,2.0699999999999998,22,13.5,8.25,4.5,2.2999999999999998,1.55,3,3000,5,7.0000000000000007E-2,700,1.1000000000000001,60,55,3000,1500,60,60,3000,25,2000,9,8,6,5,8.5,2500]
["Braxton",{"$f":"VLOOKUP(A359,tables!$A$2:$C$56,2,0)","v":4},7002,{"$f":"VLOOKUP(A359,tables!$A$2:$C$56,3,0)","v":"07"},"Greer Industries Inc., Greer Asphalt Co.","8410 Veterans Memorial Hwy., Masontown, WV 26542","Greer Limestone Co","5630 Earl L. Core Road Rt 7, Morgantown, WV 26508",55,57.25,57.75,57.75,58.5,62,61,67,70.650000000000006,67,67.8,100,103,77.8,80,67.25,69.2,26,1000,3,0.3,6,6,11,0,0,3,0.3,100,42,15,8,1000,1250,14,13,6,4,18,16,7,5,18,16,7,5,4.5,12.5,3,24,17,10.1,6.1,3,2.0699999999999998,22,13.5,8.25,4.5,2.25,1.55,2250,0,0.5,250,200,10,85,100,24,17.5,11.25,6.1,3,2.0699999999999998,22,13.5,8.25,4.5,2.2999999999999998,1.55,3,3000,5,7.0000000000000007E-2,700,1.1000000000000001,60,55,3000,1500,60,60,3000,25,2000,9,8,6,5,8.5,2500]
["Gilmer",{"$f":"VLOOKUP(A360,tables!$A$2:$C$56,2,0)","v":11},7003,{"$f":"VLOOKUP(A360,tables!$A$2:$C$56,3,0)","v":"07"},"Greer Industries Inc., Greer Asphalt Co.","8410 Veterans Memorial Hwy., Masontown, WV 26542","Greer Limestone Co","5630 Earl L. Core Road Rt 7, Morgantown, WV 26508",55,57.25,57.75,57.75,58.5,62,61,67,70.650000000000006,67,67.8,100,103,77.8,80,67.25,69.2,26,1000,3,0.3,6,6,11,0,0,3,0.3,100,42,15,8,1000,1250,14,13,6,4,18,16,7,5,18,16,7,5,4.5,12.5,3,24,17,10.1,6.1,3,2.0699999999999998,22,13.5,8.25,4.5,2.25,1.55,2250,0,0.5,250,200,10,85,100,24,17.5,11.25,6.1,3,2.0699999999999998,22,13.5,8.25,4.5,2.2999999999999998,1.55,3,3000,5,7.0000000000000007E-2,700,1.1000000000000001,60,55,3000,1500,60,60,3000,25,2000,9,8,6,5,8.5,2500]
["Lewis",{"$f":"VLOOKUP(A361,tables!$A$2:$C$56,2,0)","v":21},7004,{"$f":"VLOOKUP(A361,tables!$A$2:$C$56,3,0)","v":"07"},"Greer Industries Inc., Greer Asphalt Co.","8410 Veterans Memorial Hwy., Masontown, WV 26542","Greer Limestone Co","5630 Earl L. Core Road Rt 7, Morgantown, WV 26508",55,57.25,57.75,57.75,58.5,62,61,67,70.650000000000006,67,67.8,100,103,77.8,80,67.25,69.2,26,1000,3,0.3,6,6,11,0,0,3,0.3,100,42,15,8,1000,1250,14,13,6,4,18,16,7,5,18,16,7,5,4.5,12.5,3,24,17,10.1,6.1,3,2.0699999999999998,22,13.5,8.25,4.5,2.25,1.55,2250,0,0.5,250,200,10,85,100,24,17.5,11.25,6.1,3,2.0699999999999998,22,13.5,8.25,4.5,2.2999999999999998,1.55,3,3000,5,7.0000000000000007E-2,700,1.1000000000000001,60,55,3000,1500,60,60,3000,25,2000,9,8,6,5,8.5,2500]
["Upshur",{"$f":"VLOOKUP(A362,tables!$A$2:$C$56,2,0)","v":49},7005,{"$f":"VLOOKUP(A362,tables!$A$2:$C$56,3,0)","v":"07"},"Greer Industries Inc., Greer Asphalt Co.","8410 Veterans Memorial Hwy., Masontown, WV 26542","Greer Limestone Co","5630 Earl L. Core Road Rt 7, Morgantown, WV 26508",55,57.25,57.75,57.75,58.5,62,61,67,70.650000000000006,67,67.8,100,103,77.8,80,67.25,69.2,26,1000,3,0.3,6,6,11,0,0,3,0.3,100,42,15,8,1000,1250,14,13,6,4,18,16,7,5,18,16,7,5,4.5,12.5,3,24,17,10.1,6.1,3,2.0699999999999998,22,13.5,8.25,4.5,2.25,1.55,2250,0,0.5,250,200,10,85,100,24,17.5,11.25,6.1,3,2.0699999999999998,22,13.5,8.25,4.5,2.2999999999999998,1.55,3,3000,5,7.0000000000000007E-2,700,1.1000000000000001,60,55,3000,1500,60,60,3000,25,2000,9,8,6,5,8.5,2500]
["Barbour",{"$f":"VLOOKUP(A363,tables!$A$2:$C$56,2,0)","v":1},7006,{"$f":"VLOOKUP(A363,tables!$A$2:$C$56,3,0)","v":7},"Greer Industries Inc., Buckeye Asphalt Co.","442 Blaney Hollow Rd., Morgantown, WV 26508","Greer Limestone Co","5630 Earl L. Core Road Rt 7, Morgantown, WV 26508",55,57.25,57.75,57.75,58.5,62,61,67,70.650000000000006,67,67.8,100,103,77.8,80,67.25,69.2,26,1000,3,0.3,6,6,11,0,0,3,0.3,100,42,15,8,1000,1250,14,13,6,4,18,16,7,5,18,16,7,5,4.5,12.5,3,24,17,10.1,6.1,3,2.0699999999999998,22,13.5,8.25,4.5,2.25,1.55,2250,0,0.5,250,200,10,85,100,24,17.5,11.25,6.1,3,2.0699999999999998,22,13.5,8.25,4.5,2.2999999999999998,1.55,3,3000,5,7.0000000000000007E-2,700,1.1000000000000001,60,55,3000,1500,60,60,3000,25,2000,9,8,6,5,8.5,2500]
["Braxton",{"$f":"VLOOKUP(A364,tables!$A$2:$C$56,2,0)","v":4},7007,{"$f":"VLOOKUP(A364,tables!$A$2:$C$56,3,0)","v":"07"},"Greer Industries Inc., Buckeye Asphalt Co.","442 Blaney Hollow Rd., Morgantown, WV 26508","Greer Limestone Co","5630 Earl L. Core Road Rt 7, Morgantown, WV 26508",55,57.25,57.75,57.75,58.5,62,61,67,70.650000000000006,67,67.8,100,103,77.8,80,67.25,69.2,26,1000,3,0.3,6,6,11,0,0,3,0.3,100,42,15,8,1000,1250,14,13,6,4,18,16,7,5,18,16,7,5,4.5,12.5,3,24,17,10.1,6.1,3,2.0699999999999998,22,13.5,8.25,4.5,2.25,1.55,2250,0,0.5,250,200,10,85,100,24,17.5,11.25,6.1,3,2.0699999999999998,22,13.5,8.25,4.5,2.2999999999999998,1.55,3,3000,5,7.0000000000000007E-2,700,1.1000000000000001,60,55,3000,1500,60,60,3000,25,2000,9,8,6,5,8.5,2500]
["Gilmer",{"$f":"VLOOKUP(A365,tables!$A$2:$C$56,2,0)","v":11},7008,{"$f":"VLOOKUP(A365,tables!$A$2:$C$56,3,0)","v":"07"},"Greer Industries Inc., Buckeye Asphalt Co.","442 Blaney Hollow Rd., Morgantown, WV 26508","Greer Limestone Co","5630 Earl L. Core Road Rt 7, Morgantown, WV 26508",55,57.25,57.75,57.75,58.5,62,61,67,70.650000000000006,67,67.8,100,103,77.8,80,67.25,69.2,26,1000,3,0.3,6,6,11,0,0,3,0.3,100,42,15,8,1000,1250,14,13,6,4,18,16,7,5,18,16,7,5,4.5,12.5,3,24,17,10.1,6.1,3,2.0699999999999998,22,13.5,8.25,4.5,2.25,1.55,2250,0,0.5,250,200,10,85,100,24,17.5,11.25,6.1,3,2.0699999999999998,22,13.5,8.25,4.5,2.2999999999999998,1.55,3,3000,5,7.0000000000000007E-2,700,1.1000000000000001,60,55,3000,1500,60,60,3000,25,2000,9,8,6,5,8.5,2500]
["Lewis",{"$f":"VLOOKUP(A366,tables!$A$2:$C$56,2,0)","v":21},7009,{"$f":"VLOOKUP(A366,tables!$A$2:$C$56,3,0)","v":"07"},"Greer Industries Inc., Buckeye Asphalt Co.","442 Blaney Hollow Rd., Morgantown, WV 26508","Greer Limestone Co","5630 Earl L. Core Road Rt 7, Morgantown, WV 26508",55,57.25,57.75,57.75,58.5,62,61,67,70.650000000000006,67,67.8,100,103,77.8,80,67.25,69.2,26,1000,3,0.3,6,6,11,0,0,3,0.3,100,42,15,8,1000,1250,14,13,6,4,18,16,7,5,18,16,7,5,4.5,12.5,3,24,17,10.1,6.1,3,2.0699999999999998,22,13.5,8.25,4.5,2.25,1.55,2250,0,0.5,250,200,10,85,100,24,17.5,11.25,6.1,3,2.0699999999999998,22,13.5,8.25,4.5,2.2999999999999998,1.55,3,3000,5,7.0000000000000007E-2,700,1.1000000000000001,60,55,3000,1500,60,60,3000,25,2000,9,8,6,5,8.5,2500]
["Upshur",{"$f":"VLOOKUP(A367,tables!$A$2:$C$56,2,0)","v":49},7010,{"$f":"VLOOKUP(A367,tables!$A$2:$C$56,3,0)","v":"07"},"Greer Industries Inc., Buckeye Asphalt Co.","442 Blaney Hollow Rd., Morgantown, WV 26508","Greer Limestone Co","5630 Earl L. Core Road Rt 7, Morgantown, WV 26508",55,57.25,57.75,57.75,58.5,62,61,67,70.650000000000006,67,67.8,100,103,77.8,80,67.25,69.2,26,1000,3,0.3,6,6,11,0,0,3,0.3,100,42,15,8,1000,1250,14,13,6,4,18,16,7,5,18,16,7,5,4.5,12.5,3,24,17,10.1,6.1,3,2.0699999999999998,22,13.5,8.25,4.5,2.25,1.55,2250,0,0.5,250,200,10,85,100,24,17.5,11.25,6.1,3,2.0699999999999998,22,13.5,8.25,4.5,2.2999999999999998,1.55,3,3000,5,7.0000000000000007E-2,700,1.1000000000000001,60,55,3000,1500,60,60,3000,25,2000,9,8,6,5,8.5,2500]
["Barbour",{"$f":"VLOOKUP(A368,tables!$A$2:$C$56,2,0)","v":1},7011,{"$f":"VLOOKUP(A368,tables!$A$2:$C$56,3,0)","v":7},"Greer Industries Inc., Clarksburg Asphalt Co.","2399 Benedum Dr. Rt. 131, Bridgeport,WV 26330","Greer Limestone Co","5630 Earl L. Core Road Rt 7, Morgantown, WV 26508",65.5,69,68,68,69,74,71.8,76,80.3,76,78,104,107,93,97,81.400000000000006,81.400000000000006,28,1000,3,0.3,6,6,11,0,0,3,0.3,100,42,15,8,1000,1250,14,13,6,4,18,16,7,5,18,16,7,5,4.5,12.5,3,24,17,10.1,6.1,3,2.1,22,13.5,8.25,4.5,2.25,1.65,2250,0,0.5,250,215,10,85,105,24,17.5,11.25,6.1,3,2.1,22,13.5,8.25,4.5,2.2999999999999998,1.65,3,3000,5,7.0000000000000007E-2,700,1.1000000000000001,60,55,3000,1500,60,60,3000,25,2000,9,8,6,5,8.5,2500]
["Braxton",{"$f":"VLOOKUP(A369,tables!$A$2:$C$56,2,0)","v":4},7012,{"$f":"VLOOKUP(A369,tables!$A$2:$C$56,3,0)","v":"07"},"Greer Industries Inc., Clarksburg Asphalt Co.","2399 Benedum Dr. Rt. 131, Bridgeport,WV 26330","Greer Limestone Co","5630 Earl L. Core Road Rt 7, Morgantown, WV 26508",65.5,69,68,68,69,74,71.8,76,80.3,76,78,104,107,93,97,81.400000000000006,81.400000000000006,28,1000,3,0.3,6,6,11,0,0,3,0.3,100,42,15,8,1000,1250,14,13,6,4,18,16,7,5,18,16,7,5,4.5,12.5,3,24,17,10.1,6.1,3,2.1,22,13.5,8.25,4.5,2.25,1.65,2250,0,0.5,250,215,10,85,105,24,17.5,11.25,6.1,3,2.1,22,13.5,8.25,4.5,2.2999999999999998,1.65,3,3000,5,7.0000000000000007E-2,700,1.1000000000000001,60,55,3000,1500,60,60,3000,25,2000,9,8,6,5,8.5,2500]
["Gilmer",{"$f":"VLOOKUP(A370,tables!$A$2:$C$56,2,0)","v":11},7013,{"$f":"VLOOKUP(A370,tables!$A$2:$C$56,3,0)","v":"07"},"Greer Industries Inc., Clarksburg Asphalt Co.","2399 Benedum Dr. Rt. 131, Bridgeport,WV 26330","Greer Limestone Co","5630 Earl L. Core Road Rt 7, Morgantown, WV 26508",65.5,69,68,68,69,74,71.8,76,80.3,76,78,104,107,93,97,81.400000000000006,81.400000000000006,28,1000,3,0.3,6,6,11,0,0,3,0.3,100,42,15,8,1000,1250,14,13,6,4,18,16,7,5,18,16,7,5,4.5,12.5,3,24,17,10.1,6.1,3,2.1,22,13.5,8.25,4.5,2.25,1.65,2250,0,0.5,250,215,10,85,105,24,17.5,11.25,6.1,3,2.1,22,13.5,8.25,4.5,2.2999999999999998,1.65,3,3000,5,7.0000000000000007E-2,700,1.1000000000000001,60,55,3000,1500,60,60,3000,25,2000,9,8,6,5,8.5,2500]
["Lewis",{"$f":"VLOOKUP(A371,tables!$A$2:$C$56,2,0)","v":21},7014,{"$f":"VLOOKUP(A371,tables!$A$2:$C$56,3,0)","v":"07"},"Greer Industries Inc., Clarksburg Asphalt Co.","2399 Benedum Dr. Rt. 131, Bridgeport,WV 26330","Greer Limestone Co","5630 Earl L. Core Road Rt 7, Morgantown, WV 26508",65.5,69,68,68,69,74,71.8,76,80.3,76,78,104,107,93,97,81.400000000000006,81.400000000000006,28,1000,3,0.3,6,6,11,0,0,3,0.3,100,42,15,8,1000,1250,14,13,6,4,18,16,7,5,18,16,7,5,4.5,12.5,3,24,17,10.1,6.1,3,2.1,22,13.5,8.25,4.5,2.25,1.65,2250,0,0.5,250,215,10,85,105,24,17.5,11.25,6.1,3,2.1,22,13.5,8.25,4.5,2.2999999999999998,1.65,3,3000,5,7.0000000000000007E-2,700,1.1000000000000001,60,55,3000,1500,60,60,3000,25,2000,9,8,6,5,8.5,2500]
["Upshur",{"$f":"VLOOKUP(A372,tables!$A$2:$C$56,2,0)","v":49},7015,{"$f":"VLOOKUP(A372,tables!$A$2:$C$56,3,0)","v":"07"},"Greer Industries Inc., Clarksburg Asphalt Co.","2399 Benedum Dr. Rt. 131, Bridgeport,WV 26330","Greer Limestone Co","5630 Earl L. Core Road Rt 7, Morgantown, WV 26508",65.5,69,68,68,69,74,71.8,76,80.3,76,78,104,107,93,97,81.400000000000006,81.400000000000006,28,1000,3,0.3,6,6,11,0,0,3,0.3,100,42,15,8,1000,1250,14,13,6,4,18,16,7,5,18,16,7,5,4.5,12.5,3,24,17,10.1,6.1,3,2.1,22,13.5,8.25,4.5,2.25,1.65,2250,0,0.5,250,215,10,85,105,24,17.5,11.25,6.1,3,2.1,22,13.5,8.25,4.5,2.2999999999999998,1.65,3,3000,5,7.0000000000000007E-2,700,1.1000000000000001,60,55,3000,1500,60,60,3000,25,2000,9,8,6,5,8.5,2500]
["Barbour",{"$f":"VLOOKUP(A373,tables!$A$2:$C$56,2,0)","v":1},7016,{"$f":"VLOOKUP(A373,tables!$A$2:$C$56,3,0)","v":7},"JF Allen Company, Buckhannon Plant","320 Alcon Rd., Buckhannon, WV 26201","Mashey Cap Quarry","5254 Chenoweth Creek Rd., Elkins WV 26241",73.69,77.88,78.16,78.16,78.36,82.35,78.19,83.3,88.54,83.31,88.7,104.61,107.35,100.87,104.33,89.45,92.33,32,2000,3,0.3,4.75,4.75,12.5,2,5,3,0.3,111,44,20,10.5,2000,10000,7.25,4.5,3.5,2.5,21,16,6.5,4,21,16,6.5,4,4,13,5,29.75,16.100000000000001,10.4,5,3.95,2.5,29.6,15,8.5,4,3.1,2,4250,0,0.75,300,0,5,0,0,29.9,19.75,12.85,8.1,6.75,3,29.9,19.75,12.7,8.1,5,2.5,0.5,4250,6.25,0.01,850,1.55,65,41,3500,1500,46,31,1950,17,2450,10.050000000000001,8.5,7.5,5.5,5.5,4750]
["Braxton",{"$f":"VLOOKUP(A374,tables!$A$2:$C$56,2,0)","v":4},7017,{"$f":"VLOOKUP(A374,tables!$A$2:$C$56,3,0)","v":"07"},"JF Allen Company, Buckhannon Plant","320 Alcon Rd., Buckhannon, WV 26201","Mashey Cap Quarry","5254 Chenoweth Creek Rd., Elkins WV 26241",73.69,77.88,78.16,78.16,78.36,82.35,78.19,83.3,88.54,83.31,88.7,104.61,107.35,100.87,104.33,89.45,92.33,32,2000,3,0.3,4.75,4.75,12.5,2,5,3,0.3,111,44,20,10.5,2000,10000,7.25,4.5,3.5,2.5,21,16,6.5,4,21,16,6.5,4,4,13,5,29.75,16.100000000000001,10.4,5,3.95,2.5,29.6,15,8.5,4,3.1,2,4250,0,0.75,300,0,5,0,0,29.9,19.75,12.85,8.1,6.75,3,29.9,19.75,12.7,8.1,5,2.5,0.5,4250,6.25,0.01,850,1.55,65,41,3500,1500,46,31,1950,17,2450,10.050000000000001,8.5,7.5,5.5,5.5,4750]
["Gilmer",{"$f":"VLOOKUP(A375,tables!$A$2:$C$56,2,0)","v":11},7018,{"$f":"VLOOKUP(A375,tables!$A$2:$C$56,3,0)","v":"07"},"JF Allen Company, Buckhannon Plant","320 Alcon Rd., Buckhannon, WV 26201","Mashey Cap Quarry","5254 Chenoweth Creek Rd., Elkins WV 26241",73.69,77.88,78.16,78.16,78.36,82.35,78.19,83.3,88.54,83.31,88.7,104.61,107.35,100.87,104.33,89.45,92.33,32,2000,3,0.3,4.75,4.75,12.5,2,5,3,0.3,111,44,20,10.5,2000,10000,7.25,4.5,3.5,2.5,21,16,6.5,4,21,16,6.5,4,4,13,5,29.75,16.100000000000001,10.4,5,3.95,2.5,29.6,15,8.5,4,3.1,2,4250,0,0.75,300,0,5,0,0,29.9,19.75,12.85,8.1,6.75,3,29.9,19.75,12.7,8.1,5,2.5,0.5,4250,6.25,0.01,850,1.55,65,41,3500,1500,46,31,1950,17,2450,10.050000000000001,8.5,7.5,5.5,5.5,4750]
["Lewis",{"$f":"VLOOKUP(A376,tables!$A$2:$C$56,2,0)","v":21},7019,{"$f":"VLOOKUP(A376,tables!$A$2:$C$56,3,0)","v":"07"},"JF Allen Company, Buckhannon Plant","320 Alcon Rd., Buckhannon, WV 26201","Mashey Cap Quarry","5254 Chenoweth Creek Rd., Elkins WV 26241",73.69,77.88,78.16,78.16,78.36,82.35,78.19,83.3,88.54,83.31,88.7,104.61,107.35,100.87,104.33,89.45,92.33,32,2000,3,0.3,4.75,4.75,12.5,2,5,3,0.3,111,44,20,10.5,2000,10000,7.25,4.5,3.5,2.5,21,16,6.5,4,21,16,6.5,4,4,13,5,29.75,16.100000000000001,10.4,5,3.95,2.5,29.6,15,8.5,4,3.1,2,4250,0,0.75,300,0,5,0,0,29.9,19.75,12.85,8.1,6.75,3,29.9,19.75,12.7,8.1,5,2.5,0.5,4250,6.25,0.01,850,1.55,65,41,3500,1500,46,31,1950,17,2450,10.050000000000001,8.5,7.5,5.5,5.5,4750]
["Upshur",{"$f":"VLOOKUP(A377,tables!$A$2:$C$56,2,0)","v":49},7020,{"$f":"VLOOKUP(A377,tables!$A$2:$C$56,3,0)","v":"07"},"JF Allen Company, Buckhannon Plant","320 Alcon Rd., Buckhannon, WV 26201","Mashey Cap Quarry","5254 Chenoweth Creek Rd., Elkins WV 26241",73.69,77.88,78.16,78.16,78.36,82.35,78.19,83.3,88.54,83.31,88.7,104.61,107.35,100.87,104.33,89.45,92.33,32,2000,3,0.3,4.75,4.75,12.5,2,5,3,0.3,111,44,20,10.5,2000,10000,7.25,4.5,3.5,2.5,21,16,6.5,4,21,16,6.5,4,4,13,5,29.75,16.100000000000001,10.4,5,3.95,2.5,29.6,15,8.5,4,3.1,2,4250,0,0.75,300,0,5,0,0,29.9,19.75,12.85,8.1,6.75,3,29.9,19.75,12.7,8.1,5,2.5,0.5,4250,6.25,0.01,850,1.55,65,41,3500,1500,46,31,1950,17,2450,10.050000000000001,8.5,7.5,5.5,5.5,4750]
["Webster",{"$f":"VLOOKUP(A378,tables!$A$2:$C$56,2,0)","v":51},7021,{"$f":"VLOOKUP(A378,tables!$A$2:$C$56,3,0)","v":"07"},"JF Allen Company, Buckhannon Plant","320 Alcon Rd., Buckhannon, WV 26201","Mashey Cap Quarry","5254 Chenoweth Creek Rd., Elkins WV 26241",73.69,77.88,78.16,78.16,78.36,82.35,78.19,83.3,88.54,83.31,88.7,104.61,107.35,100.87,104.33,89.45,92.33,32,2000,3,0.3,4.75,4.75,12.5,2,5,3,0.3,111,44,20,10.5,2000,10000,7.25,4.5,3.5,2.5,21,16,6.5,4,21,16,6.5,4,4,13,5,29.75,16.100000000000001,10.4,5,3.95,2.5,29.6,15,8.5,4,3.1,2,4250,0,0.75,300,0,5,0,0,29.9,19.75,12.85,8.1,6.75,3,29.9,19.75,12.7,8.1,5,2.5,0.5,4250,6.25,0.01,850,1.55,65,41,3500,1500,46,31,1950,17,2450,10.050000000000001,8.5,7.5,5.5,5.5,4750]
["Barbour",{"$f":"VLOOKUP(A379,tables!$A$2:$C$56,2,0)","v":1},7022,{"$f":"VLOOKUP(A379,tables!$A$2:$C$56,3,0)","v":7},"JF Allen Company, Elkins Plant","3105 Harrison Ave., Elkins, WV 26201","Mashey Cap Quarry","5254 Chenoweth Creek Rd., Elkins WV 26241",67.56,67.069999999999993,73.03,73.03,73.03,77.25,73.06,82.38,83.19,78.900000000000006,83.2,91.7,93.47,93.5,97.42,80.75,82.75,32,2000,3,0.3,4.75,4.75,12.5,2,5,3,0.3,111,44,20,10.5,2000,10000,7.25,4.5,3.5,2.5,21,16,6.5,4,21,16,6.5,4,4,13,5,29.75,16.100000000000001,10.4,5,3.95,2.5,29.6,15,8.5,4,3.1,2,4250,0,0.75,300,0,5,0,0,29.9,19.75,12.85,8.1,6.75,3,29.9,19.75,12.7,8.1,5,2.5,0.5,4250,6.25,0.01,850,1.55,65,41,3500,1500,46,31,1950,17,2450,10.050000000000001,8.5,7.5,5.5,5.5,4750]
["Braxton",{"$f":"VLOOKUP(A380,tables!$A$2:$C$56,2,0)","v":4},7023,{"$f":"VLOOKUP(A380,tables!$A$2:$C$56,3,0)","v":"07"},"JF Allen Company, Elkins Plant","3105 Harrison Ave., Elkins, WV 26201","Mashey Cap Quarry","5254 Chenoweth Creek Rd., Elkins WV 26241",67.56,67.069999999999993,73.03,73.03,73.03,77.25,73.06,82.38,83.19,78.900000000000006,83.2,91.7,93.47,93.5,97.42,80.75,82.75,32,2000,3,0.3,4.75,4.75,12.5,2,5,3,0.3,111,44,20,10.5,2000,10000,7.25,4.5,3.5,2.5,21,16,6.5,4,21,16,6.5,4,4,13,5,29.75,16.100000000000001,10.4,5,3.95,2.5,29.6,15,8.5,4,3.1,2,4250,0,0.75,300,0,5,0,0,29.9,19.75,12.85,8.1,6.75,3,29.9,19.75,12.7,8.1,5,2.5,0.5,4250,6.25,0.01,850,1.55,65,41,3500,1500,46,31,1950,17,2450,10.050000000000001,8.5,7.5,5.5,5.5,4750]
["Gilmer",{"$f":"VLOOKUP(A381,tables!$A$2:$C$56,2,0)","v":11},7024,{"$f":"VLOOKUP(A381,tables!$A$2:$C$56,3,0)","v":"07"},"JF Allen Company, Elkins Plant","3105 Harrison Ave., Elkins, WV 26201","Mashey Cap Quarry","5254 Chenoweth Creek Rd., Elkins WV 26241",67.56,67.069999999999993,73.03,73.03,73.03,77.25,73.06,82.38,83.19,78.900000000000006,83.2,91.7,93.47,93.5,97.42,80.75,82.75,32,2000,3,0.3,4.75,4.75,12.5,2,5,3,0.3,111,44,20,10.5,2000,10000,7.25,4.5,3.5,2.5,21,16,6.5,4,21,16,6.5,4,4,13,5,29.75,16.100000000000001,10.4,5,3.95,2.5,29.6,15,8.5,4,3.1,2,4250,0,0.75,300,0,5,0,0,29.9,19.75,12.85,8.1,6.75,3,29.9,19.75,12.7,8.1,5,2.5,0.5,4250,6.25,0.01,850,1.55,65,41,3500,1500,46,31,1950,17,2450,10.050000000000001,8.5,7.5,5.5,5.5,4750]
["Lewis",{"$f":"VLOOKUP(A382,tables!$A$2:$C$56,2,0)","v":21},7025,{"$f":"VLOOKUP(A382,tables!$A$2:$C$56,3,0)","v":"07"},"JF Allen Company, Elkins Plant","3105 Harrison Ave., Elkins, WV 26201","Mashey Cap Quarry","5254 Chenoweth Creek Rd., Elkins WV 26241",67.56,67.069999999999993,73.03,73.03,73.03,77.25,73.06,82.38,83.19,78.900000000000006,83.2,91.7,93.47,93.5,97.42,80.75,82.75,32,2000,3,0.3,4.75,4.75,12.5,2,5,3,0.3,111,44,20,10.5,2000,10000,7.25,4.5,3.5,2.5,21,16,6.5,4,21,16,6.5,4,4,13,5,29.75,16.100000000000001,10.4,5,3.95,2.5,29.6,15,8.5,4,3.1,2,4250,0,0.75,300,0,5,0,0,29.9,19.75,12.85,8.1,6.75,3,29.9,19.75,12.7,8.1,5,2.5,0.5,4250,6.25,0.01,850,1.55,65,41,3500,1500,46,31,1950,17,2450,10.050000000000001,8.5,7.5,5.5,5.5,4750]
["Upshur",{"$f":"VLOOKUP(A383,tables!$A$2:$C$56,2,0)","v":49},7026,{"$f":"VLOOKUP(A383,tables!$A$2:$C$56,3,0)","v":"07"},"JF Allen Company, Elkins Plant","3105 Harrison Ave., Elkins, WV 26201","Mashey Cap Quarry","5254 Chenoweth Creek Rd., Elkins WV 26241",67.56,67.069999999999993,73.03,73.03,73.03,77.25,73.06,82.38,83.19,78.900000000000006,83.2,91.7,93.47,93.5,97.42,80.75,82.75,32,2000,3,0.3,4.75,4.75,12.5,2,5,3,0.3,111,44,20,10.5,2000,10000,7.25,4.5,3.5,2.5,21,16,6.5,4,21,16,6.5,4,4,13,5,29.75,16.100000000000001,10.4,5,3.95,2.5,29.6,15,8.5,4,3.1,2,4250,0,0.75,300,0,5,0,0,29.9,19.75,12.85,8.1,6.75,3,29.9,19.75,12.7,8.1,5,2.5,0.5,4250,6.25,0.01,850,1.55,65,41,3500,1500,46,31,1950,17,2450,10.050000000000001,8.5,7.5,5.5,5.5,4750]
["Webster",{"$f":"VLOOKUP(A384,tables!$A$2:$C$56,2,0)","v":51},7027,{"$f":"VLOOKUP(A384,tables!$A$2:$C$56,3,0)","v":"07"},"JF Allen Company, Elkins Plant","3105 Harrison Ave., Elkins, WV 26201","Mashey Cap Quarry","5254 Chenoweth Creek Rd., Elkins WV 26241",67.56,67.069999999999993,73.03,73.03,73.03,77.25,73.06,82.38,83.19,78.900000000000006,83.2,91.7,93.47,93.5,97.42,80.75,82.75,32,2000,3,0.3,4.75,4.75,12.5,2,5,3,0.3,111,44,20,10.5,2000,10000,7.25,4.5,3.5,2.5,21,16,6.5,4,21,16,6.5,4,4,13,5,29.75,16.100000000000001,10.4,5,3.95,2.5,29.6,15,8.5,4,3.1,2,4250,0,0.75,300,0,5,0,0,29.9,19.75,12.85,8.1,6.75,3,29.9,19.75,12.7,8.1,5,2.5,0.5,4250,6.25,0.01,850,1.55,65,41,3500,1500,46,31,1950,17,2450,10.050000000000001,8.5,7.5,5.5,5.5,4750]
["Barbour",{"$f":"VLOOKUP(A385,tables!$A$2:$C$56,2,0)","v":1},7028,{"$f":"VLOOKUP(A385,tables!$A$2:$C$56,3,0)","v":7},"JF Allen Company, Saltwell Plant","5856 Saltwell Rd., Bridgeport, WV 26330","Mashey Cap Quarry","5254 Chenoweth Creek Rd., Elkins WV 26241",74.430000000000007,78.36,78.3,78.3,78.36,82.35,78.33,83.3,88.54,83.31,88.7,112.17,115.06,110.28,111.37,93.09,95.88,32,2000,3,0.3,4.75,4.75,12.5,2,5,3,0.3,111,44,20,10.5,2000,10000,7.25,4.5,3.5,2.5,21,16,6.5,4,21,16,6.5,4,4,13,5,29.75,16.100000000000001,10.4,5,3.95,2.5,29.6,15,8.5,4,3.1,2,4250,0,0.75,300,0,5,0,0,29.9,19.75,12.85,8.1,6.75,3,29.9,19.75,12.7,8.1,5,2.5,0.5,4250,6.25,0.01,850,1.55,65,41,3500,1500,46,31,1950,17,2450,10.050000000000001,8.5,7.5,5.5,5.5,4750]
["Braxton",{"$f":"VLOOKUP(A386,tables!$A$2:$C$56,2,0)","v":4},7029,{"$f":"VLOOKUP(A386,tables!$A$2:$C$56,3,0)","v":"07"},"JF Allen Company, Saltwell Plant","5856 Saltwell Rd., Bridgeport, WV 26330","Mashey Cap Quarry","5254 Chenoweth Creek Rd., Elkins WV 26241",74.430000000000007,78.36,78.3,78.3,78.36,82.35,78.33,83.3,88.54,83.31,88.7,112.17,115.06,110.28,111.37,93.09,95.88,32,2000,3,0.3,4.75,4.75,12.5,2,5,3,0.3,111,44,20,10.5,2000,10000,7.25,4.5,3.5,2.5,21,16,6.5,4,21,16,6.5,4,4,13,5,29.75,16.100000000000001,10.4,5,3.95,2.5,29.6,15,8.5,4,3.1,2,4250,0,0.75,300,0,5,0,0,29.9,19.75,12.85,8.1,6.75,3,29.9,19.75,12.7,8.1,5,2.5,0.5,4250,6.25,0.01,850,1.55,65,41,3500,1500,46,31,1950,17,2450,10.050000000000001,8.5,7.5,5.5,5.5,4750]
["Gilmer",{"$f":"VLOOKUP(A387,tables!$A$2:$C$56,2,0)","v":11},7030,{"$f":"VLOOKUP(A387,tables!$A$2:$C$56,3,0)","v":"07"},"JF Allen Company, Saltwell Plant","5856 Saltwell Rd., Bridgeport, WV 26330","Mashey Cap Quarry","5254 Chenoweth Creek Rd., Elkins WV 26241",74.430000000000007,78.36,78.3,78.3,78.36,82.35,78.33,83.3,88.54,83.31,88.7,112.17,115.06,110.28,111.37,93.09,95.88,32,2000,3,0.3,4.75,4.75,12.5,2,5,3,0.3,111,44,20,10.5,2000,10000,7.25,4.5,3.5,2.5,21,16,6.5,4,21,16,6.5,4,4,13,5,29.75,16.100000000000001,10.4,5,3.95,2.5,29.6,15,8.5,4,3.1,2,4250,0,0.75,300,0,5,0,0,29.9,19.75,12.85,8.1,6.75,3,29.9,19.75,12.7,8.1,5,2.5,0.5,4250,6.25,0.01,850,1.55,65,41,3500,1500,46,31,1950,17,2450,10.050000000000001,8.5,7.5,5.5,5.5,4750]
["Lewis",{"$f":"VLOOKUP(A388,tables!$A$2:$C$56,2,0)","v":21},7031,{"$f":"VLOOKUP(A388,tables!$A$2:$C$56,3,0)","v":"07"},"JF Allen Company, Saltwell Plant","5856 Saltwell Rd., Bridgeport, WV 26330","Mashey Cap Quarry","5254 Chenoweth Creek Rd., Elkins WV 26241",74.430000000000007,78.36,78.3,78.3,78.36,82.35,78.33,83.3,88.54,83.31,88.7,112.17,115.06,110.28,111.37,93.09,95.88,32,2000,3,0.3,4.75,4.75,12.5,2,5,3,0.3,111,44,20,10.5,2000,10000,7.25,4.5,3.5,2.5,21,16,6.5,4,21,16,6.5,4,4,13,5,29.75,16.100000000000001,10.4,5,3.95,2.5,29.6,15,8.5,4,3.1,2,4250,0,0.75,300,0,5,0,0,29.9,19.75,12.85,8.1,6.75,3,29.9,19.75,12.7,8.1,5,2.5,0.5,4250,6.25,0.01,850,1.55,65,41,3500,1500,46,31,1950,17,2450,10.050000000000001,8.5,7.5,5.5,5.5,4750]
["Upshur",{"$f":"VLOOKUP(A389,tables!$A$2:$C$56,2,0)","v":49},7032,{"$f":"VLOOKUP(A389,tables!$A$2:$C$56,3,0)","v":"07"},"JF Allen Company, Saltwell Plant","5856 Saltwell Rd., Bridgeport, WV 26330","Mashey Cap Quarry","5254 Chenoweth Creek Rd., Elkins WV 26241",74.430000000000007,78.36,78.3,78.3,78.36,82.35,78.33,83.3,88.54,83.31,88.7,112.17,115.06,110.28,111.37,93.09,95.88,32,2000,3,0.3,4.75,4.75,12.5,2,5,3,0.3,111,44,20,10.5,2000,10000,7.25,4.5,3.5,2.5,21,16,6.5,4,21,16,6.5,4,4,13,5,29.75,16.100000000000001,10.4,5,3.95,2.5,29.6,15,8.5,4,3.1,2,4250,0,0.75,300,0,5,0,0,29.9,19.75,12.85,8.1,6.75,3,29.9,19.75,12.7,8.1,5,2.5,0.5,4250,6.25,0.01,850,1.55,65,41,3500,1500,46,31,1950,17,2450,10.050000000000001,8.5,7.5,5.5,5.5,4750]
["Webster",{"$f":"VLOOKUP(A390,tables!$A$2:$C$56,2,0)","v":51},7033,{"$f":"VLOOKUP(A390,tables!$A$2:$C$56,3,0)","v":"07"},"JF Allen Company, Saltwell Plant","5856 Saltwell Rd., Bridgeport, WV 26330","Mashey Cap Quarry","5254 Chenoweth Creek Rd., Elkins WV 26241",74.430000000000007,78.36,78.3,78.3,78.36,82.35,78.33,83.3,88.54,83.31,88.7,112.17,115.06,110.28,111.37,93.09,95.88,32,2000,3,0.3,4.75,4.75,12.5,2,5,3,0.3,111,44,20,10.5,2000,10000,7.25,4.5,3.5,2.5,21,16,6.5,4,21,16,6.5,4,4,13,5,29.75,16.100000000000001,10.4,5,3.95,2.5,29.6,15,8.5,4,3.1,2,4250,0,0.75,300,0,5,0,0,29.9,19.75,12.85,8.1,6.75,3,29.9,19.75,12.7,8.1,5,2.5,0.5,4250,6.25,0.01,850,1.55,65,41,3500,1500,46,31,1950,17,2450,10.050000000000001,8.5,7.5,5.5,5.5,4750]
["Gilmer",{"$f":"VLOOKUP(A391,tables!$A$2:$C$56,2,0)","v":11},7034,{"$f":"VLOOKUP(A391,tables!$A$2:$C$56,3,0)","v":"07"},"Kelly Paving Camden Materials","202 Hickory St., Parkersburg, WV 26101","Martin Marietta","99 Kanawha St., Parkersburg, WV 26101",85.5,88.75,88,88,89.25,102.75,89.25,92.25,102.75,91.5,101.75,104,104,104,104,94.25,104.75,55,2500,3,0.35,5,5,15,2,4,3,0.35,90,40,15,8,1500,5000,6.5,4,2.5,2,25,15,4,2,25,15,4,2,3.5,10,5,22,18,11,5.5,3.5,2.5,21,17,10,5,3,2,3000,0,0.35,350,122.5,4,50,112.5,24,19,13,7,4.5,3.5,23,18,12,6,4,3,0.5,3000,6.5,0.01,850,1,72,25,2500,500,40,28,1500,8,1200,9,8,6,5,6,1500]
["Gilmer",{"$f":"VLOOKUP(A392,tables!$A$2:$C$56,2,0)","v":11},7035,{"$f":"VLOOKUP(A392,tables!$A$2:$C$56,3,0)","v":"07"},"Kelly Paving Inc., Plant #14","123 Dodd Dr., St. Marys, WV 26170","Martin Marietta","619 Sand Hill Way, Petroleum, WV 26161",82,88,88,88,88,100,88,92,103,92,100,0,0,102,104,96,102,55,2500,3,0.35,7,6,15,2,4,3,0.35,90,40,15,8,1500,5000,6.5,4,2.5,2,25,15,4,2,25,15,4,2,3.5,10,5,22,18,11,5.5,3.5,2.5,21,17,10,5,3,2,3000,0,0.35,350,0,3.5,0,0,24,19,13,7,4.5,3.5,23,18,12,6,4,3,0.5,3000,6.5,0.01,850,1,72,25,5000,500,40,28,1500,8,1200,9,8,6,5,6,1500]
["Gilmer",{"$f":"VLOOKUP(A393,tables!$A$2:$C$56,2,0)","v":11},7036,{"$f":"VLOOKUP(A393,tables!$A$2:$C$56,3,0)","v":"07"},"Kelly Paving Inc., Plant #14","123 Dodd Dr., St. Marys, WV 26170","Martin Marietta","99 Kanawha St., Parkersburg, WV 26101",82,88,88,88,88,100,88,92,103,92,100,0,0,102,104,96,102,55,2500,3,0.35,7,6,15,2,4,3,0.35,90,40,15,8,1500,5000,6.5,4,2.5,2,25,15,4,2,25,15,4,2,3.5,10,5,22,18,11,5.5,3.5,2.5,21,17,10,5,3,2,3000,0,0.35,350,0,3.5,0,0,24,19,13,7,4.5,3.5,23,18,12,6,4,3,0.5,3000,6.5,0.01,850,1,72,25,5000,500,40,28,1500,8,1200,9,8,6,5,6,1500]
["Barbour",{"$f":"VLOOKUP(A394,tables!$A$2:$C$56,2,0)","v":1},7037,{"$f":"VLOOKUP(A394,tables!$A$2:$C$56,3,0)","v":7},"Meadows Stone & Paving Inc., Gassaway Stoneyard","661 B&O Railroad Yard, Gassaway, WV 26624","Gassaway Plant","661 B&O Railroad Yard, Gassaway, WV 26624",73,80,78,78,78,93,80,81.5,83.5,81.5,101,113,125,111,122,81,103,42,2000,2.5,0.3,12,8,12,5,10,2.5,0.3,100,35,17,10,1800,3800,7,4.25,3,2,25,16,4.75,2.5,25,16,4.75,2.5,3,14,4.75,34,21,12,6,3.9,2.5499999999999998,30,19,11.5,5.9,3.6,2.4,3400,0,5.25,360,0,0,0,0,44,26.5,14.75,8.1,4.8,3.05,40,25,14.25,8,4.5,2.9,0.6,3500,7,0.02,850,1.25,60,50,3500,1400,70,50,3500,20,1500,24,20,16,11,2.25,4000]
["Braxton",{"$f":"VLOOKUP(A395,tables!$A$2:$C$56,2,0)","v":4},7038,{"$f":"VLOOKUP(A395,tables!$A$2:$C$56,3,0)","v":"07"},"Meadows Stone & Paving Inc., Gassaway Stoneyard","661 B&O Railroad Yard, Gassaway, WV 26624","Gassaway Plant","661 B&O Railroad Yard, Gassaway, WV 26624",73,80,78,78,78,93,80,81.5,83.5,81.5,101,113,125,111,122,81,103,42,2000,2.5,0.3,12,8,12,5,10,2.5,0.3,100,35,17,10,1800,3800,7,4.25,3,2,25,16,4.75,2.5,25,16,4.75,2.5,3,14,4.75,34,21,12,6,3.9,2.5499999999999998,30,19,11.5,5.9,3.6,2.4,3400,0,5.25,360,0,0,0,0,44,26.5,14.75,8.1,4.8,3.05,40,25,14.25,8,4.5,2.9,0.6,3500,7,0.02,850,1.25,60,50,3500,1400,70,50,3500,20,1500,24,20,16,11,2.25,4000]
["Gilmer",{"$f":"VLOOKUP(A396,tables!$A$2:$C$56,2,0)","v":11},7039,{"$f":"VLOOKUP(A396,tables!$A$2:$C$56,3,0)","v":"07"},"Meadows Stone & Paving Inc., Gassaway Stoneyard","661 B&O Railroad Yard, Gassaway, WV 26624","Gassaway Plant","661 B&O Railroad Yard, Gassaway, WV 26624",73,80,78,78,78,93,80,81.5,83.5,81.5,101,113,125,111,122,81,103,42,2000,2.5,0.3,12,8,12,5,10,2.5,0.3,100,35,17,10,1800,3800,7,4.25,3,2,25,16,4.75,2.5,25,16,4.75,2.5,3,14,4.75,34,21,12,6,3.9,2.5499999999999998,30,19,11.5,5.9,3.6,2.4,3400,0,5.25,360,0,0,0,0,44,26.5,14.75,8.1,4.8,3.05,40,25,14.25,8,4.5,2.9,0.6,3500,7,0.02,850,1.25,60,50,3500,1400,70,50,3500,20,1500,24,20,16,11,2.25,4000]
["Lewis",{"$f":"VLOOKUP(A397,tables!$A$2:$C$56,2,0)","v":21},7040,{"$f":"VLOOKUP(A397,tables!$A$2:$C$56,3,0)","v":"07"},"Meadows Stone & Paving Inc., Gassaway Stoneyard","661 B&O Railroad Yard, Gassaway, WV 26624","Gassaway Plant","661 B&O Railroad Yard, Gassaway, WV 26624",73,80,78,78,78,93,80,81.5,83.5,81.5,101,113,125,111,122,81,103,42,2000,2.5,0.3,12,8,12,5,10,2.5,0.3,100,35,17,10,1800,3800,7,4.25,3,2,25,16,4.75,2.5,25,16,4.75,2.5,3,14,4.75,34,21,12,6,3.9,2.5499999999999998,30,19,11.5,5.9,3.6,2.4,3400,0,5.25,360,0,0,0,0,44,26.5,14.75,8.1,4.8,3.05,40,25,14.25,8,4.5,2.9,0.6,3500,7,0.02,850,1.25,60,50,3500,1400,70,50,3500,20,1500,24,20,16,11,2.25,4000]
["Upshur",{"$f":"VLOOKUP(A398,tables!$A$2:$C$56,2,0)","v":49},7041,{"$f":"VLOOKUP(A398,tables!$A$2:$C$56,3,0)","v":"07"},"Meadows Stone & Paving Inc., Gassaway Stoneyard","661 B&O Railroad Yard, Gassaway, WV 26624","Gassaway Plant","661 B&O Railroad Yard, Gassaway, WV 26624",73,80,78,78,78,93,80,81.5,83.5,81.5,101,113,125,111,122,81,103,42,2000,2.5,0.3,12,8,12,5,10,2.5,0.3,100,35,17,10,1800,3800,7,4.25,3,2,25,16,4.75,2.5,25,16,4.75,2.5,3,14,4.75,34,21,12,6,3.9,2.5499999999999998,30,19,11.5,5.9,3.6,2.4,3400,0,5.25,360,0,0,0,0,44,26.5,14.75,8.1,4.8,3.05,40,25,14.25,8,4.5,2.9,0.6,3500,7,0.02,850,1.25,60,50,3500,1400,70,50,3500,20,1500,24,20,16,11,2.25,4000]
["Webster",{"$f":"VLOOKUP(A399,tables!$A$2:$C$56,2,0)","v":51},7042,{"$f":"VLOOKUP(A399,tables!$A$2:$C$56,3,0)","v":"07"},"Meadows Stone & Paving Inc., Gassaway Stoneyard","661 B&O Railroad Yard, Gassaway, WV 26624","Gassaway Plant","661 B&O Railroad Yard, Gassaway, WV 26624",73,80,78,78,78,93,80,81.5,83.5,81.5,101,113,125,111,122,81,103,42,2000,2.5,0.3,12,8,12,5,10,2.5,0.3,100,35,17,10,1800,3800,7,4.25,3,2,25,16,4.75,2.5,25,16,4.75,2.5,3,14,4.75,34,21,12,6,3.9,2.5499999999999998,30,19,11.5,5.9,3.6,2.4,3400,0,5.25,360,0,0,0,0,44,26.5,14.75,8.1,4.8,3.05,40,25,14.25,8,4.5,2.9,0.6,3500,7,0.02,850,1.25,60,50,3500,1400,70,50,3500,20,1500,24,20,16,11,2.25,4000]
["Barbour",{"$f":"VLOOKUP(A400,tables!$A$2:$C$56,2,0)","v":1},7043,{"$f":"VLOOKUP(A400,tables!$A$2:$C$56,3,0)","v":7},"Meadows Stone & Paving Inc., Monterville Quarry","3401 Point Mountain Rd., Valley Head, WV 26294","Monterville Quarry","3401 Point Mountain Rd., Valley Head, WV 26294",62,68,66,66,66,87,69,73.5,75.5,73.5,93,95,116,94,120,73,97,32,2000,2.5,0.3,12,8,12,5,10,2.5,0.3,95,34,16,9,1800,3800,7,4.25,3,2,25,16,4.75,2.5,25,16,4.75,2.5,3,14,4.75,34,21,12,6,3.9,2.5499999999999998,30,19,11.5,5.9,3.6,2.4,3400,0,5.25,300,0,0,0,0,44,26.5,14.75,8.1,4.8,3.05,40,25,14.25,8,4.5,2.9,0.6,3500,7,0.02,850,1.25,60,50,3500,1400,70,50,3500,20,1500,24,20,16,11,2.25,4000]
["Braxton",{"$f":"VLOOKUP(A401,tables!$A$2:$C$56,2,0)","v":4},7044,{"$f":"VLOOKUP(A401,tables!$A$2:$C$56,3,0)","v":"07"},"Meadows Stone & Paving Inc., Monterville Quarry","3401 Point Mountain Rd., Valley Head, WV 26294","Monterville Quarry","3401 Point Mountain Rd., Valley Head, WV 26294",62,68,66,66,66,87,69,73.5,75.5,73.5,93,95,116,94,120,73,97,32,2000,2.5,0.3,12,8,12,5,10,2.5,0.3,95,34,16,9,1800,3800,7,4.25,3,2,25,16,4.75,2.5,25,16,4.75,2.5,3,14,4.75,34,21,12,6,3.9,2.5499999999999998,30,19,11.5,5.9,3.6,2.4,3400,0,5.25,300,0,0,0,0,44,26.5,14.75,8.1,4.8,3.05,40,25,14.25,8,4.5,2.9,0.6,3500,7,0.02,850,1.25,60,50,3500,1400,70,50,3500,20,1500,24,20,16,11,2.25,4000]
["Gilmer",{"$f":"VLOOKUP(A402,tables!$A$2:$C$56,2,0)","v":11},7045,{"$f":"VLOOKUP(A402,tables!$A$2:$C$56,3,0)","v":"07"},"Meadows Stone & Paving Inc., Monterville Quarry","3401 Point Mountain Rd., Valley Head, WV 26294","Monterville Quarry","3401 Point Mountain Rd., Valley Head, WV 26294",62,68,66,66,66,87,69,73.5,75.5,73.5,93,95,116,94,120,73,97,32,2000,2.5,0.3,12,8,12,5,10,2.5,0.3,95,34,16,9,1800,3800,7,4.25,3,2,25,16,4.75,2.5,25,16,4.75,2.5,3,14,4.75,34,21,12,6,3.9,2.5499999999999998,30,19,11.5,5.9,3.6,2.4,3400,0,5.25,300,0,0,0,0,44,26.5,14.75,8.1,4.8,3.05,40,25,14.25,8,4.5,2.9,0.6,3500,7,0.02,850,1.25,60,50,3500,1400,70,50,3500,20,1500,24,20,16,11,2.25,4000]
["Lewis",{"$f":"VLOOKUP(A403,tables!$A$2:$C$56,2,0)","v":21},7046,{"$f":"VLOOKUP(A403,tables!$A$2:$C$56,3,0)","v":"07"},"Meadows Stone & Paving Inc., Monterville Quarry","3401 Point Mountain Rd., Valley Head, WV 26294","Monterville Quarry","3401 Point Mountain Rd., Valley Head, WV 26294",62,68,66,66,66,87,69,73.5,75.5,73.5,93,95,116,94,120,73,97,32,2000,2.5,0.3,12,8,12,5,10,2.5,0.3,95,34,16,9,1800,3800,7,4.25,3,2,25,16,4.75,2.5,25,16,4.75,2.5,3,14,4.75,34,21,12,6,3.9,2.5499999999999998,30,19,11.5,5.9,3.6,2.4,3400,0,5.25,300,0,0,0,0,44,26.5,14.75,8.1,4.8,3.05,40,25,14.25,8,4.5,2.9,0.6,3500,7,0.02,850,1.25,60,50,3500,1400,70,50,3500,20,1500,24,20,16,11,2.25,4000]
["Upshur",{"$f":"VLOOKUP(A404,tables!$A$2:$C$56,2,0)","v":49},7047,{"$f":"VLOOKUP(A404,tables!$A$2:$C$56,3,0)","v":"07"},"Meadows Stone & Paving Inc., Monterville Quarry","3401 Point Mountain Rd., Valley Head, WV 26294","Monterville Quarry","3401 Point Mountain Rd., Valley Head, WV 26294",62,68,66,66,66,87,69,73.5,75.5,73.5,93,95,116,94,120,73,97,32,2000,2.5,0.3,12,8,12,5,10,2.5,0.3,95,34,16,9,1800,3800,7,4.25,3,2,25,16,4.75,2.5,25,16,4.75,2.5,3,14,4.75,34,21,12,6,3.9,2.5499999999999998,30,19,11.5,5.9,3.6,2.4,3400,0,5.25,300,0,0,0,0,44,26.5,14.75,8.1,4.8,3.05,40,25,14.25,8,4.5,2.9,0.6,3500,7,0.02,850,1.25,60,50,3500,1400,70,50,3500,20,1500,24,20,16,11,2.25,4000]
["Webster",{"$f":"VLOOKUP(A405,tables!$A$2:$C$56,2,0)","v":51},7048,{"$f":"VLOOKUP(A405,tables!$A$2:$C$56,3,0)","v":"07"},"Meadows Stone & Paving Inc., Monterville Quarry","3401 Point Mountain Rd., Valley Head, WV 26294","Monterville Quarry","3401 Point Mountain Rd., Valley Head, WV 26294",62,68,66,66,66,87,69,73.5,75.5,73.5,93,95,116,94,120,73,97,32,2000,2.5,0.3,12,8,12,5,10,2.5,0.3,95,34,16,9,1800,3800,7,4.25,3,2,25,16,4.75,2.5,25,16,4.75,2.5,3,14,4.75,34,21,12,6,3.9,2.5499999999999998,30,19,11.5,5.9,3.6,2.4,3400,0,5.25,300,0,0,0,0,44,26.5,14.75,8.1,4.8,3.05,40,25,14.25,8,4.5,2.9,0.6,3500,7,0.02,850,1.25,60,50,3500,1400,70,50,3500,20,1500,24,20,16,11,2.25,4000]
["Barbour",{"$f":"VLOOKUP(A406,tables!$A$2:$C$56,2,0)","v":1},7049,{"$f":"VLOOKUP(A406,tables!$A$2:$C$56,3,0)","v":7},"Stone Asphalt, LLC","164 V.I.P. Drive Masontown, WV 26542","Arcosa Aggregates","2480 Springhill Furnace Rd., Lake Lynn PA 15451",59.2,62.25,61.65,61.65,60.8,64.25,66.400000000000006,69.45,72.2,69.45,71.3,98,100,83.05,85.55,69.099999999999994,71.3,31.6,1250,2.5,0.31,6.05,6.5,10.6,0,0,2.5,0.31,98.2,42.15,15.05,7.3,1500,10000,14,13,6,4,18,16,7,5,18,16,7,5,4.37,12.25,3.05,24,17.5,11.25,6.1,3,2.15,22,15,8.25,4.5,2.2999999999999998,1.75,2500,0,0.5,215,0,0,0,0,24.5,17.75,11.3,6.15,3.75,2.15,22,13.5,9.0500000000000007,5.25,3,1.75,4,3500,6,0.05,605,0.95,56.25,55,3000,2500,65.25,47.5,2500,15,2500,8.35,7.8,6.4,4.8,6.15,2750]
["Barbour",{"$f":"VLOOKUP(A407,tables!$A$2:$C$56,2,0)","v":1},7050,{"$f":"VLOOKUP(A407,tables!$A$2:$C$56,3,0)","v":7},"Stone Asphalt, LLC","164 V.I.P. Drive Masontown, WV 26542","Stone Asphalt LLC","164 V.I.P. Drive Masontown, WV 26542",59.2,62.25,61.65,61.65,60.8,64.25,66.400000000000006,69.45,72.2,69.45,71.3,98,100,83.05,85.55,69.099999999999994,71.3,31.6,1250,2.5,0.31,6.05,6.5,10.6,0,0,2.5,0.31,98.2,42.15,15.05,7.3,1500,10000,14,13,6,4,18,16,7,5,18,16,7,5,4.37,12.25,3.05,24,17.5,11.25,6.1,3,2.15,22,15,8.25,4.5,2.2999999999999998,1.75,2500,0,0.5,215,0,0,0,0,24.5,17.75,11.3,6.15,3.75,2.15,22,13.5,9.0500000000000007,5.25,3,1.75,4,3500,6,0.05,605,0.95,56.25,55,3000,2500,65.25,47.5,2500,15,2500,8.35,7.8,6.4,4.8,6.15,2750]
["Barbour",{"$f":"VLOOKUP(A408,tables!$A$2:$C$56,2,0)","v":1},7051,{"$f":"VLOOKUP(A408,tables!$A$2:$C$56,3,0)","v":7},"Stone Asphalt, LLC","164 V.I.P. Drive Masontown, WV 26542","Keystone Lime Co","897 Reckart Mill Rd., Terra Alta WV 26764",59.2,62.25,61.65,61.65,60.8,64.25,66.400000000000006,69.45,72.2,69.45,71.3,98,100,83.05,85.55,69.099999999999994,71.3,31.6,1250,2.5,0.31,6.05,6.5,10.6,0,0,2.5,0.31,98.2,42.15,15.05,7.3,1500,10000,14,13,6,4,18,16,7,5,18,16,7,5,4.37,12.25,3.05,24,17.5,11.25,6.1,3,2.15,22,15,8.25,4.5,2.2999999999999998,1.75,2500,0,0.5,215,0,0,0,0,24.5,17.75,11.3,6.15,3.75,2.15,22,13.5,9.0500000000000007,5.25,3,1.75,4,3500,6,0.05,605,0.95,56.25,55,3000,2500,65.25,47.5,2500,15,2500,8.35,7.8,6.4,4.8,6.15,2750]
["Barbour",{"$f":"VLOOKUP(A409,tables!$A$2:$C$56,2,0)","v":1},7052,7,"West Virginia Paving, Inc., Elkins Plant","Rt. 33 Kelly Mountain Rd., Elkins, WV","Appalachian Aggregates","Rt. 33 Kelly Mountain Rd., Elkins, WV 26241",68.25,68.25,74.25,74.25,74.25,80.5,75.5,81,83.5,81,83.5,0,0,101.5,0,79,79,65,2000,2.75,0.33,15,4,12,2,5,2.7850000000000001,0.28000000000000003,85,30,20,10,2000,15000,6.75,4.75,3.75,2.75,20.75,15.75,4.75,2.75,20.75,15.75,4.75,2.75,3.5,14,6,22.25,17.5,12.5,6.75,4.8499999999999996,3.75,21.5,16.5,11.5,5.75,3.85,2.75,3500,0,0.28000000000000003,350,0,5,0,0,24.9,19.899999999999999,14.9,8,6.15,4.3499999999999996,23.9,18.899999999999999,13.9,7,5.15,3.35,0.5,4500,8,0.01,900,1,65,40,5000,2000,76,35,2000,13,2000,8.5,8,6.5,5,6,5000]
["Lewis",{"$f":"VLOOKUP(A410,tables!$A$2:$C$56,2,0)","v":21},7053,{"$f":"VLOOKUP(A410,tables!$A$2:$C$56,3,0)","v":"07"},"West Virginia Paving, Inc., Elkins Plant","Rt. 33 Kelly Mountain Rd., Elkins, WV","Appalachian Aggregates","Rt. 33 Kelly Mountain Rd., Elkins, WV 26241",68.25,68.25,74.25,74.25,74.25,80.5,75.5,81,83.5,81,83.5,0,0,101.5,0,79,79,65,2000,2.75,0.33,15,4,12,2,5,2.7850000000000001,0.28000000000000003,85,30,20,10,2000,15000,6.75,4.75,3.75,2.75,20.75,15.75,4.75,2.75,20.75,15.75,4.75,2.75,3.5,14,6,22.25,17.5,12.5,6.75,4.8499999999999996,3.75,21.5,16.5,11.5,5.75,3.85,2.75,3500,0,0.28000000000000003,350,0,5,0,0,24.9,19.899999999999999,14.9,8,6.15,4.3499999999999996,23.9,18.899999999999999,13.9,7,5.15,3.35,0.5,4500,8,0.01,900,1,65,40,5000,2000,76,35,2000,13,2000,8.5,8,6.5,5,6,5000]
["Upshur",{"$f":"VLOOKUP(A411,tables!$A$2:$C$56,2,0)","v":49},7054,{"$f":"VLOOKUP(A411,tables!$A$2:$C$56,3,0)","v":"07"},"West Virginia Paving, Inc., Elkins Plant","Rt. 33 Kelly Mountain Rd., Elkins, WV","Appalachian Aggregates","Rt. 33 Kelly Mountain Rd., Elkins, WV 26241",68.25,68.25,74.25,74.25,74.25,80.5,75.5,81,83.5,81,83.5,0,0,101.5,0,79,79,65,2000,2.75,0.33,15,4,12,2,5,2.7850000000000001,0.28000000000000003,85,30,20,10,2000,15000,6.75,4.75,3.75,2.75,20.75,15.75,4.75,2.75,20.75,15.75,4.75,2.75,3.5,14,6,22.25,17.5,12.5,6.75,4.8499999999999996,3.75,21.5,16.5,11.5,5.75,3.85,2.75,3500,0,0.28000000000000003,350,0,5,0,0,24.9,19.899999999999999,14.9,8,6.15,4.3499999999999996,23.9,18.899999999999999,13.9,7,5.15,3.35,0.5,4500,8,0.01,900,1,65,40,5000,2000,76,35,2000,13,2000,8.5,8,6.5,5,6,5000]
["Braxton",{"$f":"VLOOKUP(A412,tables!$A$2:$C$56,2,0)","v":4},7055,{"$f":"VLOOKUP(A412,tables!$A$2:$C$56,3,0)","v":"07"},"West Virginia Paving, Inc., Summersville, WV","2816 Frontage Rd., Summersville, WV 26651","Appalachian Aggregates","21071 Midland Trail, Lewisburg, WV 24901",95,95,99,99,99,0,98.5,108,110,108,110,0,0,117,0,105,105,65,2000,2.75,0.33,15,4,12,2,5,2.75,0.28000000000000003,85,30,20,10,2000,15000,6.75,4.75,3.75,2.75,20.75,15.75,4.75,2.75,20.75,15.75,4.75,2.75,3.5,14,6,22.25,17.5,12.5,6.75,4.8499999999999996,3.75,21.5,16.5,11.5,5.75,3.85,2.75,3500,0,0.28000000000000003,350,0,5,0,0,24.9,19.899999999999999,14.9,8,6.15,4.3499999999999996,23.9,18.899999999999999,13.9,7,5.15,3.35,0.5,4500,8,0.01,1000,1.5,70,40,5000,2000,76,35,2000,13,2000,8.5,8,6.5,5,6,5000]
["Gilmer",{"$f":"VLOOKUP(A413,tables!$A$2:$C$56,2,0)","v":11},7056,{"$f":"VLOOKUP(A413,tables!$A$2:$C$56,3,0)","v":"07"},"West Virginia Paving, Inc., Summersville, WV","2816 Frontage Rd., Summersville, WV 26651","Appalachian Aggregates","21071 Midland Trail, Lewisburg, WV 24901",95,95,99,99,99,0,98.5,108,110,108,110,0,0,117,0,105,105,65,2000,2.75,0.33,15,4,12,2,5,2.75,0.28000000000000003,85,30,20,10,2000,15000,6.75,4.75,3.75,2.75,20.75,15.75,4.75,2.75,20.75,15.75,4.75,2.75,3.5,14,6,22.25,17.5,12.5,6.75,4.8499999999999996,3.75,21.5,16.5,11.5,5.75,3.85,2.75,3500,0,0.28000000000000003,350,0,5,0,0,24.9,19.899999999999999,14.9,8,6.15,4.3499999999999996,23.9,18.899999999999999,13.9,7,5.15,3.35,0.5,4500,8,0.01,1000,1.5,70,40,5000,2000,76,35,2000,13,2000,8.5,8,6.5,5,6,5000]
["Webster",{"$f":"VLOOKUP(A414,tables!$A$2:$C$56,2,0)","v":51},7057,{"$f":"VLOOKUP(A414,tables!$A$2:$C$56,3,0)","v":"07"},"West Virginia Paving, Inc., Summersville, WV","2816 Frontage Rd., Summersville, WV 26651","Appalachian Aggregates","21071 Midland Trail, Lewisburg, WV 24901",95,95,99,99,99,0,98.5,108,110,108,110,0,0,117,0,105,105,65,2000,2.75,0.33,15,4,12,2,5,2.75,0.28000000000000003,85,30,20,10,2000,15000,6.75,4.75,3.75,2.75,20.75,15.75,4.75,2.75,20.75,15.75,4.75,2.75,3.5,14,6,22.25,17.5,12.5,6.75,4.8499999999999996,3.75,21.5,16.5,11.5,5.75,3.85,2.75,3500,0,0.28000000000000003,350,0,5,0,0,24.9,19.899999999999999,14.9,8,6.15,4.3499999999999996,23.9,18.899999999999999,13.9,7,5.15,3.35,0.5,4500,8,0.01,1000,1.5,70,40,5000,2000,76,35,2000,13,2000,8.5,8,6.5,5,6,5000]
["Pocahontas",{"$f":"VLOOKUP(A415,tables!$A$2:$C$56,2,0)","v":38},8001,{"$f":"VLOOKUP(A415,tables!$A$2:$C$56,3,0)","v":"08"},"Greenbrier Excavating & Paving Inc.","232 Rambler Rd., Lewisburg, WV24901","Appalachian Aggregates","21071 Midland Trail, Lewisburg, WV 24901",65,0,74.5,74.5,78.5,0,0,79.5,0,79.5,85,0,0,0,0,0,0,57,2000,2.6,0.32,0,0,0,2,5,2.6,0.26,85,30,20,9.5,2000,12500,6.5,4.5,3.5,2.5,20.399999999999999,15.4,4.4000000000000004,2.5,20.399999999999999,15.4,4.4000000000000004,2.5,3.1,13,5,21.5,16.5,11.5,6.5,4.5999999999999996,3.5,20.5,15.5,10.5,5.5,3.6,2.5,4000,0,5,350,0,0,0,0,23.9,18.899999999999999,13.9,7.75,5.9,4.0999999999999996,22.9,17.899999999999999,12.9,6.75,4.9000000000000004,3.1,0.5,4500,7.5,0.01,975,1,70,40,3500,1000,0,0,0,0,0,0,0,0,0,0,0]
["Randolph",{"$f":"VLOOKUP(A416,tables!$A$2:$C$56,2,0)","v":42},8002,{"$f":"VLOOKUP(A416,tables!$A$2:$C$56,3,0)","v":"08"},"Greer Industries Inc., Greer Asphalt Co.","8410 Veterans Memorial Hwy., Masontown, WV 26542","Greer Limestone Co","5630 Earl L. Core Road Rt 7, Morgantown, WV 26508",55,57.25,57.75,57.75,58.5,62,61,67,70.650000000000006,67,67.8,100,103,77.8,80,67.25,69.2,26,1000,3,0.3,6,6,11,0,0,3,0.3,100,42,15,8,1000,1250,14,13,6,4,18,16,7,5,18,16,7,5,4.5,12.5,3,24,17,10.1,6.1,3,2.0699999999999998,22,13.5,8.25,4.5,2.25,1.55,2250,0,0.5,250,200,10,85,100,24,17.5,11.25,6.1,3,2.0699999999999998,22,13.5,8.25,4.5,2.2999999999999998,1.55,3,3000,5,7.0000000000000007E-2,700,1.1000000000000001,60,55,3000,1500,60,60,3000,25,2000,9,8,6,5,8.5,2500]
["Randolph",{"$f":"VLOOKUP(A417,tables!$A$2:$C$56,2,0)","v":42},8003,{"$f":"VLOOKUP(A417,tables!$A$2:$C$56,3,0)","v":"08"},"Greer Industries Inc., Buckeye Asphalt Co.","442 Blaney Hollow Rd., Morgantown, WV 26508","Greer Limestone Co","5630 Earl L. Core Road Rt 7, Morgantown, WV 26508",55,57.25,57.75,57.75,58.5,62,61,67,70.650000000000006,67,67.8,100,103,77.8,80,67.25,69.2,26,1000,3,0.3,6,6,11,0,0,3,0.3,100,42,15,8,1000,1250,14,13,6,4,18,16,7,5,18,16,7,5,4.5,12.5,3,24,17,10.1,6.1,3,2.0699999999999998,22,13.5,8.25,4.5,2.25,1.55,2250,0,0.5,250,200,10,85,100,24,17.5,11.25,6.1,3,2.0699999999999998,22,13.5,8.25,4.5,2.2999999999999998,1.55,3,3000,5,7.0000000000000007E-2,700,1.1000000000000001,60,55,3000,1500,60,60,3000,25,2000,9,8,6,5,8.5,2500]
["Randolph",{"$f":"VLOOKUP(A418,tables!$A$2:$C$56,2,0)","v":42},8004,{"$f":"VLOOKUP(A418,tables!$A$2:$C$56,3,0)","v":"08"},"Greer Industries Inc., Clarksburg Asphalt Co.","2399 Benedum Dr. Rt. 131, Bridgeport,WV 26330","Greer Limestone Co","5630 Earl L. Core Road Rt 7, Morgantown, WV 26508",65.5,69,68,68,69,74,71.8,76,80.3,76,78,104,107,93,97,81.400000000000006,81.400000000000006,28,1000,3,0.3,6,6,11,0,0,3,0.3,100,42,15,8,1000,1250,14,13,6,4,18,16,7,5,18,16,7,5,4.5,12.5,3,24,17,10.1,6.1,3,2.1,22,13.5,8.25,4.5,2.25,1.65,2250,0,0.5,250,215,10,85,105,24,17.5,11.25,6.1,3,2.1,22,13.5,8.25,4.5,2.2999999999999998,1.65,3,3000,5,7.0000000000000007E-2,700,1.1000000000000001,60,55,3000,1500,60,60,3000,25,2000,9,8,6,5,8.5,2500]
["Tucker",{"$f":"VLOOKUP(A419,tables!$A$2:$C$56,2,0)","v":47},8005,{"$f":"VLOOKUP(A419,tables!$A$2:$C$56,3,0)","v":"08"},"Greer Industries Inc., Greer Asphalt Co.","8410 Veterans Memorial Hwy., Masontown, WV 26542","Greer Limestone Co","5630 Earl L. Core Road Rt 7, Morgantown, WV 26508",55,57.25,57.75,57.75,58.5,62,61,67,70.650000000000006,67,67.8,100,103,77.8,80,67.25,69.2,26,1000,3,0.3,6,6,11,0,0,3,0.3,100,42,15,8,1000,1250,14,13,6,4,18,16,7,5,18,16,7,5,4.5,12.5,3,24,17,10.1,6.1,3,2.0699999999999998,22,13.5,8.25,4.5,2.25,1.55,2250,0,0.5,250,200,10,85,100,24,17.5,11.25,6.1,3,2.0699999999999998,22,13.5,8.25,4.5,2.2999999999999998,1.55,3,3000,5,7.0000000000000007E-2,700,1.1000000000000001,60,55,3000,1500,60,60,3000,25,2000,9,8,6,5,8.5,2500]
["Tucker",{"$f":"VLOOKUP(A420,tables!$A$2:$C$56,2,0)","v":47},8006,{"$f":"VLOOKUP(A420,tables!$A$2:$C$56,3,0)","v":"08"},"Greer Industries Inc., Buckeye Asphalt Co.","442 Blaney Hollow Rd., Morgantown, WV 26508","Greer Limestone Co","5630 Earl L. Core Road Rt 7, Morgantown, WV 26508",55,57.25,57.75,57.75,58.5,62,61,67,70.650000000000006,67,67.8,100,103,77.8,80,67.25,69.2,26,1000,3,0.3,6,6,11,0,0,3,0.3,100,42,15,8,1000,1250,14,13,6,4,18,16,7,5,18,16,7,5,4.5,12.5,3,24,17,10.1,6.1,3,2.0699999999999998,22,13.5,8.25,4.5,2.25,1.55,2250,0,0.5,250,200,10,85,100,24,17.5,11.25,6.1,3,2.0699999999999998,22,13.5,8.25,4.5,2.2999999999999998,1.55,3,3000,5,7.0000000000000007E-2,700,1.1000000000000001,60,55,3000,1500,60,60,3000,25,2000,9,8,6,5,8.5,2500]
["Tucker",{"$f":"VLOOKUP(A421,tables!$A$2:$C$56,2,0)","v":47},8007,{"$f":"VLOOKUP(A421,tables!$A$2:$C$56,3,0)","v":"08"},"Greer Industries Inc., Clarksburg Asphalt Co.","2399 Benedum Dr. Rt. 131, Bridgeport,WV 26330","Greer Limestone Co","5630 Earl L. Core Road Rt 7, Morgantown, WV 26508",65.5,69,68,68,69,74,71.8,76,80.3,76,78,104,107,93,97,81.400000000000006,81.400000000000006,28,1000,3,0.3,6,6,11,0,0,3,0.3,100,42,15,8,1000,1250,14,13,6,4,18,16,7,5,18,16,7,5,4.5,12.5,3,24,17,10.1,6.1,3,2.1,22,13.5,8.25,4.5,2.25,1.65,2250,0,0.5,250,215,10,85,105,24,17.5,11.25,6.1,3,2.1,22,13.5,8.25,4.5,2.2999999999999998,1.65,3,3000,5,7.0000000000000007E-2,700,1.1000000000000001,60,55,3000,1500,60,60,3000,25,2000,9,8,6,5,8.5,2500]
["Pendleton",{"$f":"VLOOKUP(A422,tables!$A$2:$C$56,2,0)","v":36},8008,{"$f":"VLOOKUP(A422,tables!$A$2:$C$56,3,0)","v":"08"},"JF Allen Company, Buckhannon Plant","320 Alcon Rd., Buckhannon, WV 26201","Mashey Cap Quarry","5254 Chenoweth Creek Rd., Elkins WV 26241",73.69,77.88,78.16,78.16,78.36,82.35,78.19,83.3,88.54,83.31,88.7,104.61,107.35,100.87,104.33,89.45,92.33,32,2000,3,0.3,4.75,4.75,12.5,2,5,3,0.3,111,44,20,10.5,2000,10000,7.25,4.5,3.5,2.5,21,16,6.5,4,21,16,6.5,4,4,13,5,29.75,16.100000000000001,10.4,5,3.95,2.5,29.6,15,8.5,4,3.1,2,4250,0,0.75,300,0,5,0,0,29.9,19.75,12.85,8.1,6.75,3,29.9,19.75,12.7,8.1,5,2.5,0.5,4250,6.25,0.01,850,1.55,65,41,3500,1500,46,31,1950,17,2450,10.050000000000001,8.5,7.5,5.5,5.5,4750]
["Pocahontas",{"$f":"VLOOKUP(A423,tables!$A$2:$C$56,2,0)","v":38},8009,{"$f":"VLOOKUP(A423,tables!$A$2:$C$56,3,0)","v":"08"},"JF Allen Company, Buckhannon Plant","320 Alcon Rd., Buckhannon, WV 26201","Mashey Cap Quarry","5254 Chenoweth Creek Rd., Elkins WV 26241",73.69,77.88,78.16,78.16,78.36,82.35,78.19,83.3,88.54,83.31,88.7,104.61,107.35,100.87,104.33,89.45,92.33,32,2000,3,0.3,4.75,4.75,12.5,2,5,3,0.3,111,44,20,10.5,2000,10000,7.25,4.5,3.5,2.5,21,16,6.5,4,21,16,6.5,4,4,13,5,29.75,16.100000000000001,10.4,5,3.95,2.5,29.6,15,8.5,4,3.1,2,4250,0,0.75,300,0,5,0,0,29.9,19.75,12.85,8.1,6.75,3,29.9,19.75,12.7,8.1,5,2.5,0.5,4250,6.25,0.01,850,1.55,65,41,3500,1500,46,31,1950,17,2450,10.050000000000001,8.5,7.5,5.5,5.5,4750]
["Randolph",{"$f":"VLOOKUP(A424,tables!$A$2:$C$56,2,0)","v":42},8010,{"$f":"VLOOKUP(A424,tables!$A$2:$C$56,3,0)","v":"08"},"JF Allen Company, Buckhannon Plant","320 Alcon Rd., Buckhannon, WV 26201","Mashey Cap Quarry","5254 Chenoweth Creek Rd., Elkins WV 26241",73.69,77.88,78.16,78.16,78.36,82.35,78.19,83.3,88.54,83.31,88.7,104.61,107.35,100.87,104.33,89.45,92.33,32,2000,3,0.3,4.75,4.75,12.5,2,5,3,0.3,111,44,20,10.5,2000,10000,7.25,4.5,3.5,2.5,21,16,6.5,4,21,16,6.5,4,4,13,5,29.75,16.100000000000001,10.4,5,3.95,2.5,29.6,15,8.5,4,3.1,2,4250,0,0.75,300,0,5,0,0,29.9,19.75,12.85,8.1,6.75,3,29.9,19.75,12.7,8.1,5,2.5,0.5,4250,6.25,0.01,850,1.55,65,41,3500,1500,46,31,1950,17,2450,10.050000000000001,8.5,7.5,5.5,5.5,4750]
["Tucker",{"$f":"VLOOKUP(A425,tables!$A$2:$C$56,2,0)","v":47},8011,{"$f":"VLOOKUP(A425,tables!$A$2:$C$56,3,0)","v":"08"},"JF Allen Company, Buckhannon Plant","320 Alcon Rd., Buckhannon, WV 26201","Mashey Cap Quarry","5254 Chenoweth Creek Rd., Elkins WV 26241",73.69,77.88,78.16,78.16,78.36,82.35,78.19,83.3,88.54,83.31,88.7,104.61,107.35,100.87,104.33,89.45,92.33,32,2000,3,0.3,4.75,4.75,12.5,2,5,3,0.3,111,44,20,10.5,2000,10000,7.25,4.5,3.5,2.5,21,16,6.5,4,21,16,6.5,4,4,13,5,29.75,16.100000000000001,10.4,5,3.95,2.5,29.6,15,8.5,4,3.1,2,4250,0,0.75,300,0,5,0,0,29.9,19.75,12.85,8.1,6.75,3,29.9,19.75,12.7,8.1,5,2.5,0.5,4250,6.25,0.01,850,1.55,65,41,3500,1500,46,31,1950,17,2450,10.050000000000001,8.5,7.5,5.5,5.5,4750]
["Pendleton",{"$f":"VLOOKUP(A426,tables!$A$2:$C$56,2,0)","v":36},8012,{"$f":"VLOOKUP(A426,tables!$A$2:$C$56,3,0)","v":"08"},"JF Allen Company, Elkins Plant","3105 Harrison Ave., Elkins, WV 26201","Mashey Cap Quarry","5254 Chenoweth Creek Rd., Elkins WV 26241",67.56,67.069999999999993,73.03,73.03,73.03,77.25,73.06,82.38,83.19,78.900000000000006,83.2,91.7,93.47,93.5,97.42,80.75,82.75,32,2000,3,0.3,4.75,4.75,12.5,2,5,3,0.3,111,44,20,10.5,2000,10000,7.25,4.5,3.5,2.5,21,16,6.5,4,21,16,6.5,4,4,13,5,29.75,16.100000000000001,10.4,5,3.95,2.5,29.6,15,8.5,4,3.1,2,4250,0,0.75,300,0,5,0,0,29.9,19.75,12.85,8.1,6.75,3,29.9,19.75,12.7,8.1,5,2.5,0.5,4250,6.25,0.01,850,1.55,65,41,3500,1500,46,31,1950,17,2450,10.050000000000001,8.5,7.5,5.5,5.5,4750]
["Pocahontas",{"$f":"VLOOKUP(A427,tables!$A$2:$C$56,2,0)","v":38},8013,{"$f":"VLOOKUP(A427,tables!$A$2:$C$56,3,0)","v":"08"},"JF Allen Company, Elkins Plant","3105 Harrison Ave., Elkins, WV 26201","Mashey Cap Quarry","5254 Chenoweth Creek Rd., Elkins WV 26241",67.56,67.069999999999993,73.03,73.03,73.03,77.25,73.06,82.38,83.19,78.900000000000006,83.2,91.7,93.47,93.5,97.42,80.75,82.75,32,2000,3,0.3,4.75,4.75,12.5,2,5,3,0.3,111,44,20,10.5,2000,10000,7.25,4.5,3.5,2.5,21,16,6.5,4,21,16,6.5,4,4,13,5,29.75,16.100000000000001,10.4,5,3.95,2.5,29.6,15,8.5,4,3.1,2,4250,0,0.75,300,0,5,0,0,29.9,19.75,12.85,8.1,6.75,3,29.9,19.75,12.7,8.1,5,2.5,0.5,4250,6.25,0.01,850,1.55,65,41,3500,1500,46,31,1950,17,2450,10.050000000000001,8.5,7.5,5.5,5.5,4750]
["Randolph",{"$f":"VLOOKUP(A428,tables!$A$2:$C$56,2,0)","v":42},8014,{"$f":"VLOOKUP(A428,tables!$A$2:$C$56,3,0)","v":"08"},"JF Allen Company, Elkins Plant","3105 Harrison Ave., Elkins, WV 26201","Mashey Cap Quarry","5254 Chenoweth Creek Rd., Elkins WV 26241",67.56,67.069999999999993,73.03,73.03,73.03,77.25,73.06,82.38,83.19,78.900000000000006,83.2,91.7,93.47,93.5,97.42,80.75,82.75,32,2000,3,0.3,4.75,4.75,12.5,2,5,3,0.3,111,44,20,10.5,2000,10000,7.25,4.5,3.5,2.5,21,16,6.5,4,21,16,6.5,4,4,13,5,29.75,16.100000000000001,10.4,5,3.95,2.5,29.6,15,8.5,4,3.1,2,4250,0,0.75,300,0,5,0,0,29.9,19.75,12.85,8.1,6.75,3,29.9,19.75,12.7,8.1,5,2.5,0.5,4250,6.25,0.01,850,1.55,65,41,3500,1500,46,31,1950,17,2450,10.050000000000001,8.5,7.5,5.5,5.5,4750]
["Tucker",{"$f":"VLOOKUP(A429,tables!$A$2:$C$56,2,0)","v":47},8015,{"$f":"VLOOKUP(A429,tables!$A$2:$C$56,3,0)","v":"08"},"JF Allen Company, Elkins Plant","3105 Harrison Ave., Elkins, WV 26201","Mashey Cap Quarry","5254 Chenoweth Creek Rd., Elkins WV 26241",67.56,67.069999999999993,73.03,73.03,73.03,77.25,73.06,82.38,83.19,78.900000000000006,83.2,91.7,93.47,93.5,97.42,80.75,82.75,32,2000,3,0.3,4.75,4.75,12.5,2,5,3,0.3,111,44,20,10.5,2000,10000,7.25,4.5,3.5,2.5,21,16,6.5,4,21,16,6.5,4,4,13,5,29.75,16.100000000000001,10.4,5,3.95,2.5,29.6,15,8.5,4,3.1,2,4250,0,0.75,300,0,5,0,0,29.9,19.75,12.85,8.1,6.75,3,29.9,19.75,12.7,8.1,5,2.5,0.5,4250,6.25,0.01,850,1.55,65,41,3500,1500,46,31,1950,17,2450,10.050000000000001,8.5,7.5,5.5,5.5,4750]
["Pendleton",{"$f":"VLOOKUP(A430,tables!$A$2:$C$56,2,0)","v":36},8016,{"$f":"VLOOKUP(A430,tables!$A$2:$C$56,3,0)","v":"08"},"JF Allen Company, Saltwell Plant","5856 Saltwell Rd., Bridgeport, WV 26330","Mashey Cap Quarry","5254 Chenoweth Creek Rd., Elkins WV 26241",74.430000000000007,78.36,78.3,78.3,78.36,82.35,78.33,83.3,88.54,83.31,88.7,112.17,115.06,110.28,111.37,93.09,95.88,32,2000,3,0.3,4.75,4.75,12.5,2,5,3,0.3,111,44,20,10.5,2000,10000,7.25,4.5,3.5,2.5,21,16,6.5,4,21,16,6.5,4,4,13,5,29.75,16.100000000000001,10.4,5,3.95,2.5,29.6,15,8.5,4,3.1,2,4250,0,0.75,300,0,5,0,0,29.9,19.75,12.85,8.1,6.75,3,29.9,19.75,12.7,8.1,5,2.5,0.5,4250,6.25,0.01,850,1.55,65,41,3500,1500,46,31,1950,17,2450,10.050000000000001,8.5,7.5,5.5,5.5,4750]
["Pocahontas",{"$f":"VLOOKUP(A431,tables!$A$2:$C$56,2,0)","v":38},8017,{"$f":"VLOOKUP(A431,tables!$A$2:$C$56,3,0)","v":"08"},"JF Allen Company, Saltwell Plant","5856 Saltwell Rd., Bridgeport, WV 26330","Mashey Cap Quarry","5254 Chenoweth Creek Rd., Elkins WV 26241",74.430000000000007,78.36,78.3,78.3,78.36,82.35,78.33,83.3,88.54,83.31,88.7,112.17,115.06,110.28,111.37,93.09,95.88,32,2000,3,0.3,4.75,4.75,12.5,2,5,3,0.3,111,44,20,10.5,2000,10000,7.25,4.5,3.5,2.5,21,16,6.5,4,21,16,6.5,4,4,13,5,29.75,16.100000000000001,10.4,5,3.95,2.5,29.6,15,8.5,4,3.1,2,4250,0,0.75,300,0,5,0,0,29.9,19.75,12.85,8.1,6.75,3,29.9,19.75,12.7,8.1,5,2.5,0.5,4250,6.25,0.01,850,1.55,65,41,3500,1500,46,31,1950,17,2450,10.050000000000001,8.5,7.5,5.5,5.5,4750]
["Randolph",{"$f":"VLOOKUP(A432,tables!$A$2:$C$56,2,0)","v":42},8018,{"$f":"VLOOKUP(A432,tables!$A$2:$C$56,3,0)","v":"08"},"JF Allen Company, Saltwell Plant","5856 Saltwell Rd., Bridgeport, WV 26330","Mashey Cap Quarry","5254 Chenoweth Creek Rd., Elkins WV 26241",74.430000000000007,78.36,78.3,78.3,78.36,82.35,78.33,83.3,88.54,83.31,88.7,112.17,115.06,110.28,111.37,93.09,95.88,32,2000,3,0.3,4.75,4.75,12.5,2,5,3,0.3,111,44,20,10.5,2000,10000,7.25,4.5,3.5,2.5,21,16,6.5,4,21,16,6.5,4,4,13,5,29.75,16.100000000000001,10.4,5,3.95,2.5,29.6,15,8.5,4,3.1,2,4250,0,0.75,300,0,5,0,0,29.9,19.75,12.85,8.1,6.75,3,29.9,19.75,12.7,8.1,5,2.5,0.5,4250,6.25,0.01,850,1.55,65,41,3500,1500,46,31,1950,17,2450,10.050000000000001,8.5,7.5,5.5,5.5,4750]
["Tucker",{"$f":"VLOOKUP(A433,tables!$A$2:$C$56,2,0)","v":47},8019,{"$f":"VLOOKUP(A433,tables!$A$2:$C$56,3,0)","v":"08"},"JF Allen Company, Saltwell Plant","5856 Saltwell Rd., Bridgeport, WV 26330","Mashey Cap Quarry","5254 Chenoweth Creek Rd., Elkins WV 26241",74.430000000000007,78.36,78.3,78.3,78.36,82.35,78.33,83.3,88.54,83.31,88.7,112.17,115.06,110.28,111.37,93.09,95.88,32,2000,3,0.3,4.75,4.75,12.5,2,5,3,0.3,111,44,20,10.5,2000,10000,7.25,4.5,3.5,2.5,21,16,6.5,4,21,16,6.5,4,4,13,5,29.75,16.100000000000001,10.4,5,3.95,2.5,29.6,15,8.5,4,3.1,2,4250,0,0.75,300,0,5,0,0,29.9,19.75,12.85,8.1,6.75,3,29.9,19.75,12.7,8.1,5,2.5,0.5,4250,6.25,0.01,850,1.55,65,41,3500,1500,46,31,1950,17,2450,10.050000000000001,8.5,7.5,5.5,5.5,4750]
["Pocahontas",{"$f":"VLOOKUP(A434,tables!$A$2:$C$56,2,0)","v":38},8021,{"$f":"VLOOKUP(A434,tables!$A$2:$C$56,3,0)","v":"08"},"Meadows Stone & Paving Inc., Monterville Quarry","3401 Point Mountain Rd., Valley Head, WV 26294","Monterville Quarry","3401 Point Mountain Rd., Valley Head, WV 26294",62,68,66,66,66,87,69,73.5,75.5,73.5,93,95,116,94,120,73,97,32,2000,2.5,0.3,12,8,12,5,10,2.5,0.3,95,34,16,9,1800,3800,7,4.25,3,2,25,16,4.75,2.5,25,16,4.75,2.5,3,14,4.75,34,21,12,6,3.9,2.5499999999999998,30,19,11.5,5.9,3.6,2.4,3400,0,5.25,300,0,0,0,0,44,26.5,14.75,8.1,4.8,3.05,40,25,14.25,8,4.5,2.9,0.6,3500,7,0.02,850,1.25,60,50,3500,1400,70,50,3500,20,1500,24,20,16,11,2.25,4000]
["Randolph",{"$f":"VLOOKUP(A435,tables!$A$2:$C$56,2,0)","v":42},8022,{"$f":"VLOOKUP(A435,tables!$A$2:$C$56,3,0)","v":"08"},"Meadows Stone & Paving Inc., Monterville Quarry","3401 Point Mountain Rd., Valley Head, WV 26294","Monterville Quarry","3401 Point Mountain Rd., Valley Head, WV 26294",62,68,66,66,66,87,69,73.5,75.5,73.5,93,95,116,94,120,73,97,32,2000,2.5,0.3,12,8,12,5,10,2.5,0.3,95,34,16,9,1800,3800,7,4.25,3,2,25,16,4.75,2.5,25,16,4.75,2.5,3,14,4.75,34,21,12,6,3.9,2.5499999999999998,30,19,11.5,5.9,3.6,2.4,3400,0,5.25,300,0,0,0,0,44,26.5,14.75,8.1,4.8,3.05,40,25,14.25,8,4.5,2.9,0.6,3500,7,0.02,850,1.25,60,50,3500,1400,70,50,3500,20,1500,24,20,16,11,2.25,4000]
["Randolph",{"$f":"VLOOKUP(A436,tables!$A$2:$C$56,2,0)","v":42},8023,{"$f":"VLOOKUP(A436,tables!$A$2:$C$56,3,0)","v":"08"},"Stone Asphalt, LLC","164 V.I.P. Drive Masontown, WV 26542","Arcosa Aggregates","2480 Springhill Furnace Rd., Lake Lynn PA 15451",59.2,62.25,61.65,61.65,60.8,64.25,66.400000000000006,69.45,72.2,69.45,71.3,98,100,83.05,85.55,69.099999999999994,71.3,31.6,2000,2.5,0.31,6.05,6.5,10.6,0,0,2.5,0.31,98.2,42.15,15.05,7.3,2500,10000,14,13,6,4,18,16,7,5,18,16,7,5,4.37,12.25,3.05,24,17.5,11.25,6.1,3,2.15,22,15,8.25,4.5,2.2999999999999998,1.75,2500,0,0.5,215,0,0,0,0,24.5,17.75,11.3,6.15,3.75,2.15,22,13.5,9.0500000000000007,5.25,3,1.75,4,3500,6,0.05,605,0.95,56.25,55,3000,2500,65.25,47.5,4050,15,2750,8.35,7.8,6.4,4.8,6.15,2850]
["Randolph",{"$f":"VLOOKUP(A437,tables!$A$2:$C$56,2,0)","v":42},8024,{"$f":"VLOOKUP(A437,tables!$A$2:$C$56,3,0)","v":"08"},"Stone Asphalt, LLC","164 V.I.P. Drive Masontown, WV 26542","Stone Asphalt LLC","164 V.I.P. Drive Masontown, WV 26542",59.2,62.25,61.65,61.65,60.8,64.25,66.400000000000006,69.45,72.2,69.45,71.3,98,100,83.05,85.55,69.099999999999994,71.3,31.6,2000,2.5,0.31,6.05,6.5,10.6,0,0,2.5,0.31,98.2,42.15,15.05,7.3,2500,10000,14,13,6,4,18,16,7,5,18,16,7,5,4.37,12.25,3.05,24,17.5,11.25,6.1,3,2.15,22,15,8.25,4.5,2.2999999999999998,1.75,2500,0,0.5,215,0,0,0,0,24.5,17.75,11.3,6.15,3.75,2.15,22,13.5,9.0500000000000007,5.25,3,1.75,4,3500,6,0.05,605,0.95,56.25,55,3000,2500,65.25,47.5,4050,15,2750,8.35,7.8,6.4,4.8,6.15,2850]
["Randolph",{"$f":"VLOOKUP(A438,tables!$A$2:$C$56,2,0)","v":42},8025,{"$f":"VLOOKUP(A438,tables!$A$2:$C$56,3,0)","v":"08"},"Stone Asphalt, LLC","164 V.I.P. Drive Masontown, WV 26542","Keystone Lime Co","897 Reckart Mill Rd., Terra Alta WV 26764",59.2,62.25,61.65,61.65,60.8,64.25,66.400000000000006,69.45,72.2,69.45,71.3,98,100,83.05,85.55,69.099999999999994,71.3,31.6,2000,2.5,0.31,6.05,6.5,10.6,0,0,2.5,0.31,98.2,42.15,15.05,7.3,2500,10000,14,13,6,4,18,16,7,5,18,16,7,5,4.37,12.25,3.05,24,17.5,11.25,6.1,3,2.15,22,15,8.25,4.5,2.2999999999999998,1.75,2500,0,0.5,215,0,0,0,0,24.5,17.75,11.3,6.15,3.75,2.15,22,13.5,9.0500000000000007,5.25,3,1.75,4,3500,6,0.05,605,0.95,56.25,55,3000,2500,65.25,47.5,4050,15,2750,8.35,7.8,6.4,4.8,6.15,2850]
["Tucker",{"$f":"VLOOKUP(A439,tables!$A$2:$C$56,2,0)","v":47},8028,{"$f":"VLOOKUP(A439,tables!$A$2:$C$56,3,0)","v":"08"},"Stone Asphalt, LLC","164 V.I.P. Drive Masontown, WV 26542","Arcosa Aggregates","2480 Springhill Furnace Rd., Lake Lynn PA 15451",59.2,62.25,61.65,61.65,60.8,64.25,66.400000000000006,69.45,72.2,69.45,71.3,98,100,83.05,85.55,69.099999999999994,71.3,31.6,2000,2.5,0.31,6.05,6.5,10.6,0,0,2.5,0.31,98.2,42.15,15.05,7.3,2500,10000,14,13,6,4,18,16,7,5,18,16,7,5,4.37,12.25,3.05,24,17.5,11.25,6.1,3,2.15,22,15,8.25,4.5,2.2999999999999998,1.75,2500,0,0.5,215,0,0,0,0,24.5,17.75,11.3,6.15,3.75,2.15,22,13.5,9.0500000000000007,5.25,3,1.75,4,3500,6,0.05,605,0.95,56.25,55,3000,2500,65.25,47.5,4050,15,2750,8.35,7.8,6.4,4.8,6.15,2850]
["Tucker",{"$f":"VLOOKUP(A440,tables!$A$2:$C$56,2,0)","v":47},8029,{"$f":"VLOOKUP(A440,tables!$A$2:$C$56,3,0)","v":"08"},"Stone Asphalt, LLC","164 V.I.P. Drive Masontown, WV 26542","Stone Asphalt LLC","164 V.I.P. Drive Masontown, WV 26542",59.2,62.25,61.65,61.65,60.8,64.25,66.400000000000006,69.45,72.2,69.45,71.3,98,100,83.05,85.55,69.099999999999994,71.3,31.6,2000,2.5,0.31,6.05,6.5,10.6,0,0,2.5,0.31,98.2,42.15,15.05,7.3,2500,10000,14,13,6,4,18,16,7,5,18,16,7,5,4.37,12.25,3.05,24,17.5,11.25,6.1,3,2.15,22,15,8.25,4.5,2.2999999999999998,1.75,2500,0,0.5,215,0,0,0,0,24.5,17.75,11.3,6.15,3.75,2.15,22,13.5,9.0500000000000007,5.25,3,1.75,4,3500,6,0.05,605,0.95,56.25,55,3000,2500,65.25,47.5,4050,15,2750,8.35,7.8,6.4,4.8,6.15,2850]
["Tucker",{"$f":"VLOOKUP(A441,tables!$A$2:$C$56,2,0)","v":47},8030,{"$f":"VLOOKUP(A441,tables!$A$2:$C$56,3,0)","v":"08"},"Stone Asphalt, LLC","164 V.I.P. Drive Masontown, WV 26542","Keystone Lime Co","897 Reckart Mill Rd., Terra Alta WV 26764",59.2,62.25,61.65,61.65,60.8,64.25,66.400000000000006,69.45,72.2,69.45,71.3,98,100,83.05,85.55,69.099999999999994,71.3,31.6,2000,2.5,0.31,6.05,6.5,10.6,0,0,2.5,0.31,98.2,42.15,15.05,7.3,2500,10000,14,13,6,4,18,16,7,5,18,16,7,5,4.37,12.25,3.05,24,17.5,11.25,6.1,3,2.15,22,15,8.25,4.5,2.2999999999999998,1.75,2500,0,0.5,215,0,0,0,0,24.5,17.75,11.3,6.15,3.75,2.15,22,13.5,9.0500000000000007,5.25,3,1.75,4,3500,6,0.05,605,0.95,56.25,55,3000,2500,65.25,47.5,4050,15,2750,8.35,7.8,6.4,4.8,6.15,2850]
["Pendleton",{"$f":"VLOOKUP(A442,tables!$A$2:$C$56,2,0)","v":36},8033,{"$f":"VLOOKUP(A442,tables!$A$2:$C$56,3,0)","v":"08"},"West Virginia Paving, Inc., Elkins Plant","Rt. 33 Kelly Mountain Rd., Elkins, WV","Appalachian Aggregates","Rt. 33 Kelly Mountain Rd., Elkins, WV 26241",68.25,68.25,74.25,74.25,74.25,80.5,75.5,81,83.5,81,83.5,0,0,101.5,0,79,79,65,2000,2.75,0.33,15,4,12,2,5,2.7850000000000001,0.28000000000000003,85,30,20,10,2000,15000,6.75,4.75,3.75,2.75,20.75,15.75,4.75,2.75,20.75,15.75,4.75,2.75,3.5,14,6,22.25,17.5,12.5,6.75,4.8499999999999996,3.75,21.5,16.5,11.5,5.75,3.85,2.75,3500,0,0.28000000000000003,350,0,5,0,0,24.9,19.899999999999999,14.9,8,6.15,4.3499999999999996,23.9,18.899999999999999,13.9,7,5.15,3.35,0.5,4500,8,0.01,900,1,65,40,5000,2000,76,35,2000,13,2000,8.5,8,6.5,5,6,5000]
["Pocahontas",{"$f":"VLOOKUP(A443,tables!$A$2:$C$56,2,0)","v":38},8034,{"$f":"VLOOKUP(A443,tables!$A$2:$C$56,3,0)","v":"08"},"West Virginia Paving, Inc., Elkins Plant","Rt. 33 Kelly Mountain Rd., Elkins, WV","Appalachian Aggregates","Rt. 33 Kelly Mountain Rd., Elkins, WV 26241",68.25,68.25,74.25,74.25,74.25,80.5,75.5,81,83.5,81,83.5,0,0,101.5,0,79,79,65,2000,2.75,0.33,15,4,12,2,5,2.7850000000000001,0.28000000000000003,85,30,20,10,2000,15000,6.75,4.75,3.75,2.75,20.75,15.75,4.75,2.75,20.75,15.75,4.75,2.75,3.5,14,6,22.25,17.5,12.5,6.75,4.8499999999999996,3.75,21.5,16.5,11.5,5.75,3.85,2.75,3500,0,0.28000000000000003,350,0,5,0,0,24.9,19.899999999999999,14.9,8,6.15,4.3499999999999996,23.9,18.899999999999999,13.9,7,5.15,3.35,0.5,4500,8,0.01,900,1,65,40,5000,2000,76,35,2000,13,2000,8.5,8,6.5,5,6,5000]
["Randolph",{"$f":"VLOOKUP(A444,tables!$A$2:$C$56,2,0)","v":42},8035,{"$f":"VLOOKUP(A444,tables!$A$2:$C$56,3,0)","v":"08"},"West Virginia Paving, Inc., Elkins Plant","Rt. 33 Kelly Mountain Rd., Elkins, WV","Appalachian Aggregates","Rt. 33 Kelly Mountain Rd., Elkins, WV 26241",68.25,68.25,74.25,74.25,74.25,80.5,75.5,81,83.5,81,83.5,0,0,101.5,0,79,79,65,2000,2.75,0.33,15,4,12,2,5,2.7850000000000001,0.28000000000000003,85,30,20,10,2000,15000,6.75,4.75,3.75,2.75,20.75,15.75,4.75,2.75,20.75,15.75,4.75,2.75,3.5,14,6,22.25,17.5,12.5,6.75,4.8499999999999996,3.75,21.5,16.5,11.5,5.75,3.85,2.75,3500,0,0.28000000000000003,350,0,5,0,0,24.9,19.899999999999999,14.9,8,6.15,4.3499999999999996,23.9,18.899999999999999,13.9,7,5.15,3.35,0.5,4500,8,0.01,900,1,65,40,5000,2000,76,35,2000,13,2000,8.5,8,6.5,5,6,5000]
["Tucker",{"$f":"VLOOKUP(A445,tables!$A$2:$C$56,2,0)","v":47},8036,{"$f":"VLOOKUP(A445,tables!$A$2:$C$56,3,0)","v":"08"},"West Virginia Paving, Inc., Elkins Plant","Rt. 33 Kelly Mountain Rd., Elkins, WV","Appalachian Aggregates","Rt. 33 Kelly Mountain Rd., Elkins, WV 26241",68.25,68.25,74.25,74.25,74.25,80.5,75.5,81,83.5,81,83.5,0,0,101.5,0,79,79,65,2000,2.75,0.33,15,4,12,2,5,2.7850000000000001,0.28000000000000003,85,30,20,10,2000,15000,6.75,4.75,3.75,2.75,20.75,15.75,4.75,2.75,20.75,15.75,4.75,2.75,3.5,14,6,22.25,17.5,12.5,6.75,4.8499999999999996,3.75,21.5,16.5,11.5,5.75,3.85,2.75,3500,0,0.28000000000000003,350,0,5,0,0,24.9,19.899999999999999,14.9,8,6.15,4.3499999999999996,23.9,18.899999999999999,13.9,7,5.15,3.35,0.5,4500,8,0.01,900,1,65,40,5000,2000,76,35,2000,13,2000,8.5,8,6.5,5,6,5000]
["Pendleton",{"$f":"VLOOKUP(A446,tables!$A$2:$C$56,2,0)","v":36},8037,{"$f":"VLOOKUP(A446,tables!$A$2:$C$56,3,0)","v":"08"},"West Virginia Paving, Inc., Scherr Plant","Greenland Gap Rd., Scherr, WV 26726","Fairfax Materials","Greenland Gap Rd., Scherr, WV 26726",71.5,71.5,77,77,77,93,79,84,97,82,97,0,0,104,0,99,99,65,2000,2.75,0.33,15,4,12,2,5,2.75,0.28000000000000003,85,30,20,10,2000,15000,6.7539999999999996,4.75,3.75,2.75,20.75,15.75,4.75,2.75,20.75,15.75,4.75,2.75,3.5,14,6,22.25,17.5,12.5,6.75,4.8499999999999996,3.75,21.5,16.5,11.5,5.75,3.85,2.75,3500,0,0.28000000000000003,350,0,5,0,0,24.9,19.899999999999999,14.9,8,6.15,4.3499999999999996,23.9,18.899999999999999,13.9,7,5.15,3.35,0.5,4500,8,0.01,900,1,65,40,5000,2000,76,35,2000,13,2000,8.5,8,6.5,5,6,5000]
["Tucker",{"$f":"VLOOKUP(A447,tables!$A$2:$C$56,2,0)","v":47},8038,{"$f":"VLOOKUP(A447,tables!$A$2:$C$56,3,0)","v":"08"},"West Virginia Paving, Inc., Scherr Plant","Greenland Gap Rd., Scherr, WV 26726","Fairfax Materials","Greenland Gap Rd., Scherr, WV 26726",71.5,71.5,77,77,77,93,79,84,97,82,97,0,0,104,0,99,99,65,2000,2.75,0.33,15,4,12,2,5,2.75,0.28000000000000003,85,30,20,10,2000,15000,6.7539999999999996,4.75,3.75,2.75,20.75,15.75,4.75,2.75,20.75,15.75,4.75,2.75,3.5,14,6,22.25,17.5,12.5,6.75,4.8499999999999996,3.75,21.5,16.5,11.5,5.75,3.85,2.75,3500,0,0.28000000000000003,350,0,5,0,0,24.9,19.899999999999999,14.9,8,6.15,4.3499999999999996,23.9,18.899999999999999,13.9,7,5.15,3.35,0.5,4500,8,0.01,900,1,65,40,5000,2000,76,35,2000,13,2000,8.5,8,6.5,5,6,5000]
["Pocahontas",{"$f":"VLOOKUP(A448,tables!$A$2:$C$56,2,0)","v":38},8039,{"$f":"VLOOKUP(A448,tables!$A$2:$C$56,3,0)","v":"08"},"West Virginia Paving, Inc., Asbury (Alta), WV","Rt. 60, West Lewisburg, Alta, Asbury WV 24916","Appalachian Aggregates","400 Stamping Creek Rd., Hillsboro WV 25880",86,86,94,94,94,0,94,100,110,100,110,0,0,0,0,108,108,65,2000,2.75,0.33,15,4,12,2,5,2.75,0.28000000000000003,85,30,20,10,2000,15000,6.75,4.75,3.75,2.75,20.75,15.75,4.75,2.75,20.75,15.75,4.75,2.75,3.5,14,6,22.25,17.5,12.5,6.75,4.8499999999999996,3.75,21.5,16.5,11.5,5.75,3.85,2.75,3500,0,0.28000000000000003,350,0,5,0,0,24.9,19.899999999999999,14.9,8,6.15,4.3499999999999996,23.9,18.899999999999999,13.9,7,5.15,3.35,0.5,4500,8,0.01,1000,1.5,70,40,5000,2000,76,35,2000,13,2000,8.5,8,6.5,5,6,5000]
["Fayette",{"$f":"VLOOKUP(A449,tables!$A$2:$C$56,2,0)","v":10},9001,{"$f":"VLOOKUP(A449,tables!$A$2:$C$56,3,0)","v":"09"},"AAA Paving and Sealing, Inc.","560 Turnpike Industrial Park Road,Princeton, WV 24739","East River Aggregates","388 Blake Hollow Road, Princeton, WV 24739",70,70,80,80,80,0,80,82,95,83,94,0,0,0,0,94,94,60,1800,2.6,0.3,7,7,12,2,5,2.6,0.3,80,28,18,10,1800,12000,6,4,3,2,20,15,4,2,20,15,4,2,3,12.5,5,21,16,11,6,4,3,20,15,10,5.5,3.5,2.75,3200,0,0.3,350,0,0,0,0,24,19,14,8,6,4,23,18,13,7,5,3,0.5,4000,10,0.01,1000,1,70,35,3750,1500,70,30,1800,12,1800,0,0,0,0,0,0]
["Greenbrier",{"$f":"VLOOKUP(A450,tables!$A$2:$C$56,2,0)","v":13},9002,{"$f":"VLOOKUP(A450,tables!$A$2:$C$56,3,0)","v":"09"},"AAA Paving and Sealing, Inc.","560 Turnpike Industrial Park Road,Princeton, WV 24739","East River Aggregates","388 Blake Hollow Road, Princeton, WV 24739",70,70,80,80,80,0,80,82,95,83,94,0,0,0,0,94,94,60,1800,2.6,0.3,7,7,12,2,5,2.6,0.3,80,28,18,10,1800,12000,6,4,3,2,20,15,4,2,20,15,4,2,3,12.5,5,21,16,11,6,4,3,20,15,10,5.5,3.5,2.75,3200,0,0.3,350,0,0,0,0,24,19,14,8,6,4,23,18,13,7,5,3,0.5,4000,10,0.01,1000,1,70,35,3750,1500,70,30,1800,12,1800,0,0,0,0,0,0]
["Monroe",{"$f":"VLOOKUP(A451,tables!$A$2:$C$56,2,0)","v":32},9003,{"$f":"VLOOKUP(A451,tables!$A$2:$C$56,3,0)","v":"09"},"AAA Paving and Sealing, Inc.","560 Turnpike Industrial Park Road,Princeton, WV 24739","East River Aggregates","388 Blake Hollow Road, Princeton, WV 24739",70,70,80,80,80,0,80,82,95,83,94,0,0,0,0,94,94,60,1800,2.6,0.3,7,7,12,2,5,2.6,0.3,80,28,18,10,1800,12000,6,4,3,2,20,15,4,2,20,15,4,2,3,12.5,5,21,16,11,6,4,3,20,15,10,5.5,3.5,2.75,3200,0,0.3,350,0,0,0,0,24,19,14,8,6,4,23,18,13,7,5,3,0.5,4000,10,0.01,1000,1,70,35,3750,1500,70,30,1800,12,1800,0,0,0,0,0,0]
["Nicholas",{"$f":"VLOOKUP(A452,tables!$A$2:$C$56,2,0)","v":34},9004,{"$f":"VLOOKUP(A452,tables!$A$2:$C$56,3,0)","v":"09"},"AAA Paving and Sealing, Inc.","560 Turnpike Industrial Park Road,Princeton, WV 24739","East River Aggregates","388 Blake Hollow Road, Princeton, WV 24739",70,70,80,80,80,0,80,82,95,83,94,0,0,0,0,94,94,60,1800,2.6,0.3,7,7,12,2,5,2.6,0.3,80,28,18,10,1800,12000,6,4,3,2,20,15,4,2,20,15,4,2,3,12.5,5,21,16,11,6,4,3,20,15,10,5.5,3.5,2.75,3200,0,0.3,350,0,0,0,0,24,19,14,8,6,4,23,18,13,7,5,3,0.5,4000,10,0.01,1000,1,70,35,3750,1500,70,30,1800,12,1800,0,0,0,0,0,0]
["Summers",{"$f":"VLOOKUP(A453,tables!$A$2:$C$56,2,0)","v":45},9005,{"$f":"VLOOKUP(A453,tables!$A$2:$C$56,3,0)","v":"09"},"AAA Paving and Sealing, Inc.","560 Turnpike Industrial Park Road,Princeton, WV 24739","East River Aggregates","388 Blake Hollow Road, Princeton, WV 24739",70,70,80,80,80,0,80,82,95,83,94,0,0,0,0,94,94,60,1800,2.6,0.3,7,7,12,2,5,2.6,0.3,80,28,18,10,1800,12000,6,4,3,2,20,15,4,2,20,15,4,2,3,12.5,5,21,16,11,6,4,3,20,15,10,5.5,3.5,2.75,3200,0,0.3,350,0,0,0,0,24,19,14,8,6,4,23,18,13,7,5,3,0.5,4000,10,0.01,1000,1,70,35,3750,1500,70,30,1800,12,1800,0,0,0,0,0,0]
["Fayette",{"$f":"VLOOKUP(A454,tables!$A$2:$C$56,2,0)","v":10},9006,{"$f":"VLOOKUP(A454,tables!$A$2:$C$56,3,0)","v":"09"},"BTI Contracting Inc. St. Albans","484 Industrial Rd, St Albans, WV 25177","Scary Creek Materials"," #9 Orders Way, Winfield, WV",78.94,79.89,80.72,80.72,81.39,91.22,83.54,88.1,97.57,88.1,97.57,118.91,118.95,113.94,118.92,96.22,96.22,67.5,1950,2.9,0.3,5,5,12.5,1.75,4.5,3,0.27,83,29.75,19.5,9.6999999999999993,1750,8000,7,5,4,3,21.25,16,6,4,20.75,16,6,4,3.25,13,5,23,16.75,11.75,6.6,4.5,3.4,20.25,15.25,9.75,5,3.25,2.25,3250,0,0.27,345,0,5,0,0,24,18,13.5,7.25,5.5,3.6,22.5,16.5,12,6,4.4000000000000004,2.6,0.75,4250,7.25,0.01,960,1,69,40,3500,1250,75,40,1750,22,1950,9.5,7.4,6,4.55,5.25,5000]
["Nicholas",{"$f":"VLOOKUP(A455,tables!$A$2:$C$56,2,0)","v":34},9007,{"$f":"VLOOKUP(A455,tables!$A$2:$C$56,3,0)","v":"09"},"BTI Contracting Inc. St. Albans","484 Industrial Rd, St Albans, WV 25177","Scary Creek Materials"," #9 Orders Way, Winfield, WV",78.94,79.89,80.72,80.72,81.39,91.22,83.54,88.1,97.57,88.1,97.57,118.91,118.95,113.94,118.92,96.22,96.22,67.5,1950,2.9,0.3,5,5,12.5,1.75,4.5,3,0.27,83,29.75,19.5,9.6999999999999993,1750,8000,7,5,4,3,21.25,16,6,4,20.75,16,6,4,3.25,13,5,23,16.75,11.75,6.6,4.5,3.4,20.25,15.25,9.75,5,3.25,2.25,3250,0,0.27,345,0,5,0,0,24,18,13.5,7.25,5.5,3.6,22.5,16.5,12,6,4.4000000000000004,2.6,0.75,4250,7.25,0.01,960,1,69,40,3500,1250,75,40,1750,22,1950,9.5,7.4,6,4.55,5.25,5000]
["Fayette",{"$f":"VLOOKUP(A456,tables!$A$2:$C$56,2,0)","v":10},9008,{"$f":"VLOOKUP(A456,tables!$A$2:$C$56,3,0)","v":"09"},"BTI Contracting Inc. St. Albans","484 Industrial Rd, St Albans, WV 25177","Valley Stone Yard","360 Valley Rd., Millwood WV, 25262",78.94,79.89,80.72,80.72,81.39,91.22,83.54,88.1,97.57,88.1,97.57,118.91,118.95,113.94,118.92,96.22,96.22,67.5,1950,2.9,0.3,5,5,12.5,1.75,4.5,3,0.27,83,29.75,19.5,9.6999999999999993,1750,8000,7,5,4,3,21.25,16,6,4,20.75,16,6,4,3.25,13,5,23,16.75,11.75,6.6,4.5,3.4,20.25,15.25,9.75,5,3.25,2.25,3250,0,0.27,345,0,5,0,0,24,18,13.5,7.25,5.5,3.6,22.5,16.5,12,6,4.4000000000000004,2.6,0.75,4250,7.25,0.01,960,1,69,40,3500,1250,75,40,1750,22,1950,9.5,7.4,6,4.55,5.25,5000]
["Nicholas",{"$f":"VLOOKUP(A457,tables!$A$2:$C$56,2,0)","v":34},9009,{"$f":"VLOOKUP(A457,tables!$A$2:$C$56,3,0)","v":"09"},"BTI Contracting Inc. St. Albans","484 Industrial Rd, St Albans, WV 25177","Valley Stone Yard","360 Valley Rd., Millwood WV, 25262",78.94,79.89,80.72,80.72,81.39,91.22,83.54,88.1,97.57,88.1,97.57,118.91,118.95,113.94,118.92,96.22,96.22,67.5,1950,2.9,0.3,5,5,12.5,1.75,4.5,3,0.27,83,29.75,19.5,9.6999999999999993,1750,8000,7,5,4,3,21.25,16,6,4,20.75,16,6,4,3.25,13,5,23,16.75,11.75,6.6,4.5,3.4,20.25,15.25,9.75,5,3.25,2.25,3250,0,0.27,345,0,5,0,0,24,18,13.5,7.25,5.5,3.6,22.5,16.5,12,6,4.4000000000000004,2.6,0.75,4250,7.25,0.01,960,1,69,40,3500,1250,75,40,1750,22,1950,9.5,7.4,6,4.55,5.25,5000]
["Fayette",{"$f":"VLOOKUP(A458,tables!$A$2:$C$56,2,0)","v":10},9010,{"$f":"VLOOKUP(A458,tables!$A$2:$C$56,3,0)","v":"09"},"Greenbrier Excavating & Paving Inc.","232 Rambler Rd., Lewisburg, WV24901","Appalachian Aggregates","21071 Midland Trail, Lewisburg, WV 24901",65,0,74.5,74.5,78.5,0,0,79.5,0,79.5,85,0,0,0,0,0,0,57,2000,2.6,0.32,0,0,0,2,5,2.6,0.26,85,30,20,9.5,2000,12500,6.5,4.5,3.5,2.5,20.399999999999999,15.4,4.4000000000000004,2.5,20.399999999999999,15.4,4.4000000000000004,2.5,3.1,13,5,21.5,16.5,11.5,6.5,4.5999999999999996,3.5,20.5,15.5,10.5,5.5,3.6,2.5,4000,0,5,350,0,0,0,0,23.9,18.899999999999999,13.9,7.75,5.9,4.0999999999999996,22.9,17.899999999999999,12.9,6.75,4.9000000000000004,3.1,0.5,4500,7.5,0.01,975,1,70,40,3500,1000,0,0,0,0,0,0,0,0,0,0,0]
["Greenbrier",{"$f":"VLOOKUP(A459,tables!$A$2:$C$56,2,0)","v":13},9011,{"$f":"VLOOKUP(A459,tables!$A$2:$C$56,3,0)","v":"09"},"Greenbrier Excavating & Paving Inc.","232 Rambler Rd., Lewisburg, WV24901","Appalachian Aggregates","21071 Midland Trail, Lewisburg, WV 24901",65,0,74.5,74.5,78.5,0,0,79.5,0,79.5,85,0,0,0,0,0,0,57,2000,2.6,0.32,0,0,0,2,5,2.6,0.26,85,30,20,9.5,2000,12500,6.5,4.5,3.5,2.5,20.399999999999999,15.4,4.4000000000000004,2.5,20.399999999999999,15.4,4.4000000000000004,2.5,3.1,13,5,21.5,16.5,11.5,6.5,4.5999999999999996,3.5,20.5,15.5,10.5,5.5,3.6,2.5,4000,0,5,350,0,0,0,0,23.9,18.899999999999999,13.9,7.75,5.9,4.0999999999999996,22.9,17.899999999999999,12.9,6.75,4.9000000000000004,3.1,0.5,4500,7.5,0.01,975,1,70,40,3500,1000,0,0,0,0,0,0,0,0,0,0,0]
["Monroe",{"$f":"VLOOKUP(A460,tables!$A$2:$C$56,2,0)","v":32},9012,{"$f":"VLOOKUP(A460,tables!$A$2:$C$56,3,0)","v":"09"},"Greenbrier Excavating & Paving Inc.","232 Rambler Rd., Lewisburg, WV24901","Appalachian Aggregates","21071 Midland Trail, Lewisburg, WV 24901",65,0,74.5,74.5,78.5,0,0,79.5,0,79.5,85,0,0,0,0,0,0,57,2000,2.6,0.32,0,0,0,2,5,2.6,0.26,85,30,20,9.5,2000,12500,6.5,4.5,3.5,2.5,20.399999999999999,15.4,4.4000000000000004,2.5,20.399999999999999,15.4,4.4000000000000004,2.5,3.1,13,5,21.5,16.5,11.5,6.5,4.5999999999999996,3.5,20.5,15.5,10.5,5.5,3.6,2.5,4000,0,5,350,0,0,0,0,23.9,18.899999999999999,13.9,7.75,5.9,4.0999999999999996,22.9,17.899999999999999,12.9,6.75,4.9000000000000004,3.1,0.5,4500,7.5,0.01,975,1,70,40,3500,1000,0,0,0,0,0,0,0,0,0,0,0]
["Nicholas",{"$f":"VLOOKUP(A461,tables!$A$2:$C$56,2,0)","v":34},9013,{"$f":"VLOOKUP(A461,tables!$A$2:$C$56,3,0)","v":"09"},"Greenbrier Excavating & Paving Inc.","232 Rambler Rd., Lewisburg, WV24901","Appalachian Aggregates","21071 Midland Trail, Lewisburg, WV 24901",65,0,74.5,74.5,78.5,0,0,79.5,0,79.5,85,0,0,0,0,0,0,57,2000,2.6,0.32,0,0,0,2,5,2.6,0.26,85,30,20,9.5,2000,12500,6.5,4.5,3.5,2.5,20.399999999999999,15.4,4.4000000000000004,2.5,20.399999999999999,15.4,4.4000000000000004,2.5,3.1,13,5,21.5,16.5,11.5,6.5,4.5999999999999996,3.5,20.5,15.5,10.5,5.5,3.6,2.5,4000,0,5,350,0,0,0,0,23.9,18.899999999999999,13.9,7.75,5.9,4.0999999999999996,22.9,17.899999999999999,12.9,6.75,4.9000000000000004,3.1,0.5,4500,7.5,0.01,975,1,70,40,3500,1000,0,0,0,0,0,0,0,0,0,0,0]
["Summers",{"$f":"VLOOKUP(A462,tables!$A$2:$C$56,2,0)","v":45},9014,{"$f":"VLOOKUP(A462,tables!$A$2:$C$56,3,0)","v":"09"},"Greenbrier Excavating & Paving Inc.","232 Rambler Rd., Lewisburg, WV24901","Appalachian Aggregates","21071 Midland Trail, Lewisburg, WV 24901",65,0,74.5,74.5,78.5,0,0,79.5,0,79.5,85,0,0,0,0,0,0,57,2000,2.6,0.32,0,0,0,2,5,2.6,0.26,85,30,20,9.5,2000,12500,6.5,4.5,3.5,2.5,20.399999999999999,15.4,4.4000000000000004,2.5,20.399999999999999,15.4,4.4000000000000004,2.5,3.1,13,5,21.5,16.5,11.5,6.5,4.5999999999999996,3.5,20.5,15.5,10.5,5.5,3.6,2.5,4000,0,5,350,0,0,0,0,23.9,18.899999999999999,13.9,7.75,5.9,4.0999999999999996,22.9,17.899999999999999,12.9,6.75,4.9000000000000004,3.1,0.5,4500,7.5,0.01,975,1,70,40,3500,1000,0,0,0,0,0,0,0,0,0,0,0]
["Nicholas",{"$f":"VLOOKUP(A463,tables!$A$2:$C$56,2,0)","v":34},9015,{"$f":"VLOOKUP(A463,tables!$A$2:$C$56,3,0)","v":"09"},"JF Allen Company, Buckhannon Plant","320 Alcon Rd., Buckhannon, WV 26201","Mashey Cap Quarry","5254 Chenoweth Creek Rd., Elkins WV 26241",73.69,77.88,78.16,78.16,78.36,82.35,78.19,83.3,88.54,83.31,88.7,104.61,107.35,100.87,104.33,89.45,92.33,32,2000,3,0.3,4.75,4.75,12.5,2,5,3,0.3,111,44,20,10.5,2000,10000,7.25,4.5,3.5,2.5,21,16,6.5,4,21,16,6.5,4,4,13,5,29.75,16.100000000000001,10.4,5,3.95,2.5,29.6,15,8.5,4,3.1,2,4250,0,0.75,300,0,5,0,0,29.9,19.75,12.85,8.1,6.75,3,29.9,19.75,12.7,8.1,5,2.5,0.5,4250,6.25,0.01,850,1.55,65,41,3500,1500,46,31,1950,17,2450,10.050000000000001,8.5,7.5,5.5,5.5,4750]
["Nicholas",{"$f":"VLOOKUP(A464,tables!$A$2:$C$56,2,0)","v":34},9016,{"$f":"VLOOKUP(A464,tables!$A$2:$C$56,3,0)","v":"09"},"JF Allen Company, Saltwell Plant","5856 Saltwell Rd., Bridgeport, WV 26330","Mashey Cap Quarry","5254 Chenoweth Creek Rd., Elkins WV 26241",74.430000000000007,78.36,78.3,78.3,78.36,82.35,78.33,83.3,88.54,83.31,88.7,112.17,115.06,110.28,111.37,93.09,95.88,32,2000,3,0.3,4.75,4.75,12.5,2,5,3,0.3,111,44,20,10.5,2000,10000,7.25,4.5,3.5,2.5,21,16,6.5,4,21,16,6.5,4,4,13,5,29.75,16.100000000000001,10.4,5,3.95,2.5,29.6,15,8.5,4,3.1,2,4250,0,0.75,300,0,5,0,0,29.9,19.75,12.85,8.1,6.75,3,29.9,19.75,12.7,8.1,5,2.5,0.5,4250,6.25,0.01,850,1.55,65,41,3500,1500,46,31,1950,17,2450,10.050000000000001,8.5,7.5,5.5,5.5,4750]
["Greenbrier",{"$f":"VLOOKUP(A465,tables!$A$2:$C$56,2,0)","v":13},9017,{"$f":"VLOOKUP(A465,tables!$A$2:$C$56,3,0)","v":"09"},"Meadows Stone & Paving Inc., Gassaway Stoneyard","661 B&O Railroad Yard, Gassaway, WV 26624","Gassaway Plant","661 B&O Railroad Yard, Gassaway, WV 26624",73,80,78,78,78,93,80,81.5,83.5,81.5,101,113,125,111,122,81,103,42,2000,2.5,0.3,12,8,12,5,10,2.5,0.3,100,35,17,10,1800,3800,7,4.25,3,2,25,16,4.75,2.5,25,16,4.75,2.5,3,14,4.75,34,21,12,6,3.9,2.5499999999999998,30,19,11.5,5.9,3.6,2.4,3400,0,5.25,360,0,0,0,0,44,26.5,14.75,8.1,4.8,3.05,40,25,14.25,8,4.5,2.9,0.6,3500,7,0.02,850,1.25,60,50,3500,1400,70,50,3500,20,1500,24,20,16,11,2.25,4000]
["Nicholas",{"$f":"VLOOKUP(A466,tables!$A$2:$C$56,2,0)","v":34},9018,{"$f":"VLOOKUP(A466,tables!$A$2:$C$56,3,0)","v":"09"},"Meadows Stone & Paving Inc., Gassaway Stoneyard","661 B&O Railroad Yard, Gassaway, WV 26624","Gassaway Plant","661 B&O Railroad Yard, Gassaway, WV 26624",73,80,78,78,78,93,80,81.5,83.5,81.5,101,113,125,111,122,81,103,42,2000,2.5,0.3,12,8,12,5,10,2.5,0.3,100,35,17,10,1800,3800,7,4.25,3,2,25,16,4.75,2.5,25,16,4.75,2.5,3,14,4.75,34,21,12,6,3.9,2.5499999999999998,30,19,11.5,5.9,3.6,2.4,3400,0,5.25,360,0,0,0,0,44,26.5,14.75,8.1,4.8,3.05,40,25,14.25,8,4.5,2.9,0.6,3500,7,0.02,850,1.25,60,50,3500,1400,70,50,3500,20,1500,24,20,16,11,2.25,4000]
["Greenbrier",{"$f":"VLOOKUP(A467,tables!$A$2:$C$56,2,0)","v":13},9019,{"$f":"VLOOKUP(A467,tables!$A$2:$C$56,3,0)","v":"09"},"Meadows Stone & Paving Inc., Monterville Quarry","3401 Point Mountain Rd., Valley Head, WV 26294","Monterville Quarry","3401 Point Mountain Rd., Valley Head, WV 26294",62,68,66,66,66,87,69,73.5,75.5,73.5,93,95,116,94,120,73,97,32,2000,2.5,0.3,12,8,12,5,10,2.5,0.3,95,34,16,9,1800,3800,7,4.25,3,2,25,16,4.75,2.5,25,16,4.75,2.5,3,14,4.75,34,21,12,6,3.9,2.5499999999999998,30,19,11.5,5.9,3.6,2.4,3400,0,5.25,300,0,0,0,0,44,26.5,14.75,8.1,4.8,3.05,40,25,14.25,8,4.5,2.9,0.6,3500,7,0.02,850,1.25,60,50,3500,1400,70,50,3500,20,1500,24,20,16,11,2.25,4000]
["Nicholas",{"$f":"VLOOKUP(A468,tables!$A$2:$C$56,2,0)","v":34},9020,{"$f":"VLOOKUP(A468,tables!$A$2:$C$56,3,0)","v":"09"},"Meadows Stone & Paving Inc., Monterville Quarry","3401 Point Mountain Rd., Valley Head, WV 26294","Monterville Quarry","3401 Point Mountain Rd., Valley Head, WV 26294",62,68,66,66,66,87,69,73.5,75.5,73.5,93,95,116,94,120,73,97,32,2000,2.5,0.3,12,8,12,5,10,2.5,0.3,95,34,16,9,1800,3800,7,4.25,3,2,25,16,4.75,2.5,25,16,4.75,2.5,3,14,4.75,34,21,12,6,3.9,2.5499999999999998,30,19,11.5,5.9,3.6,2.4,3400,0,5.25,300,0,0,0,0,44,26.5,14.75,8.1,4.8,3.05,40,25,14.25,8,4.5,2.9,0.6,3500,7,0.02,850,1.25,60,50,3500,1400,70,50,3500,20,1500,24,20,16,11,2.25,4000]
["Fayette",{"$f":"VLOOKUP(A469,tables!$A$2:$C$56,2,0)","v":10},9021,{"$f":"VLOOKUP(A469,tables!$A$2:$C$56,3,0)","v":"09"},"West Virginia Paving, Inc., Beaver Plant","195 Southern Industrial Dr., Beaver, WV 25813","Appalachian Aggregates","1111 Blake Hollow Rd., Princeton WV 24740",97.5,97.5,100.5,100.5,102.5,0,101.25,106.5,112,106.5,109,0,0,119,0,106,106,65,2000,2.75,0.33,15,4,12,2,5,2.75,0.28000000000000003,85,30,20,10,2000,15000,6.75,4.75,3.75,2.75,20.75,15.75,4.75,2.75,20.75,15.75,4.75,2.75,3.5,14,6,22.25,17.5,12.5,6.75,4.8499999999999996,3.75,21.5,16.5,11.5,5.75,3.85,2.75,3500,0,0.28000000000000003,350,0,5,0,0,24.9,19.899999999999999,14.9,8,6.15,4.3499999999999996,23.9,18.899999999999999,13.9,7,5.15,3.35,0.5,4500,8,0.01,1000,1.5,70,40,5000,2000,76,35,2000,13,2000,8.5,8,6.5,5,6,5000]
["Fayette",{"$f":"VLOOKUP(A470,tables!$A$2:$C$56,2,0)","v":10},9022,{"$f":"VLOOKUP(A470,tables!$A$2:$C$56,3,0)","v":"09"},"West Virginia Paving, Inc., Beaver Plant","195 Southern Industrial Dr., Beaver, WV 25813","Appalachian Aggregates","400 Stamping Creek Rd., Hillsboro WV 25880",97.5,97.5,100.5,100.5,102.5,0,101.25,106.5,112,106.5,109,0,0,119,0,106,106,65,2000,2.75,0.33,15,4,12,2,5,2.75,0.28000000000000003,85,30,20,10,2000,15000,6.75,4.75,3.75,2.75,20.75,15.75,4.75,2.75,20.75,15.75,4.75,2.75,3.5,14,6,22.25,17.5,12.5,6.75,4.8499999999999996,3.75,21.5,16.5,11.5,5.75,3.85,2.75,3500,0,0.28000000000000003,350,0,5,0,0,24.9,19.899999999999999,14.9,8,6.15,4.3499999999999996,23.9,18.899999999999999,13.9,7,5.15,3.35,0.5,4500,8,0.01,1000,1.5,70,40,5000,2000,76,35,2000,13,2000,8.5,8,6.5,5,6,5000]
["Nicholas",{"$f":"VLOOKUP(A471,tables!$A$2:$C$56,2,0)","v":34},9023,{"$f":"VLOOKUP(A471,tables!$A$2:$C$56,3,0)","v":"09"},"West Virginia Paving, Inc., Beaver Plant","195 Southern Industrial Dr., Beaver, WV 25813","Appalachian Aggregates","400 Stamping Creek Rd., Hillsboro WV 25880",97.5,97.5,100.5,100.5,102.5,0,101.25,106.5,112,106.5,109,0,0,119,0,106,106,65,2000,2.75,0.33,15,4,12,2,5,2.75,0.28000000000000003,85,30,20,10,2000,15000,6.75,4.75,3.75,2.75,20.75,15.75,4.75,2.75,20.75,15.75,4.75,2.75,3.5,14,6,22.25,17.5,12.5,6.75,4.8499999999999996,3.75,21.5,16.5,11.5,5.75,3.85,2.75,3500,0,0.28000000000000003,350,0,5,0,0,24.9,19.899999999999999,14.9,8,6.15,4.3499999999999996,23.9,18.899999999999999,13.9,7,5.15,3.35,0.5,4500,8,0.01,1000,1.5,70,40,5000,2000,76,35,2000,13,2000,8.5,8,6.5,5,6,5000]
["Summers",{"$f":"VLOOKUP(A472,tables!$A$2:$C$56,2,0)","v":45},9024,{"$f":"VLOOKUP(A472,tables!$A$2:$C$56,3,0)","v":"09"},"West Virginia Paving, Inc., Beaver Plant","195 Southern Industrial Dr., Beaver, WV 25813","Appalachian Aggregates","1700 N Sandbranch Rd. Mt Hope WV 25880",97.5,97.5,100.5,100.5,102.5,0,101.25,106.5,112,106.5,109,0,0,119,0,106,106,65,2000,2.75,0.33,15,4,12,2,5,2.75,0.28000000000000003,85,30,20,10,2000,15000,6.75,4.75,3.75,2.75,20.75,15.75,4.75,2.75,20.75,15.75,4.75,2.75,3.5,14,6,22.25,17.5,12.5,6.75,4.8499999999999996,3.75,21.5,16.5,11.5,5.75,3.85,2.75,3500,0,0.28000000000000003,350,0,5,0,0,24.9,19.899999999999999,14.9,8,6.15,4.3499999999999996,23.9,18.899999999999999,13.9,7,5.15,3.35,0.5,4500,8,0.01,1000,1.5,70,40,5000,2000,76,35,2000,13,2000,8.5,8,6.5,5,6,5000]
["Summers",{"$f":"VLOOKUP(A473,tables!$A$2:$C$56,2,0)","v":45},9025,{"$f":"VLOOKUP(A473,tables!$A$2:$C$56,3,0)","v":"09"},"West Virginia Paving, Inc., Beaver Plant","195 Southern Industrial Dr., Beaver, WV 25813","Appalachian Aggregates","21071 Midland Trail, Lewisburg, WV 24901",97.5,97.5,100.5,100.5,102.5,0,101.25,106.5,112,106.5,109,0,0,119,0,106,106,65,2000,2.75,0.33,15,4,12,2,5,2.75,0.28000000000000003,85,30,20,10,2000,15000,6.75,4.75,3.75,2.75,20.75,15.75,4.75,2.75,20.75,15.75,4.75,2.75,3.5,14,6,22.25,17.5,12.5,6.75,4.8499999999999996,3.75,21.5,16.5,11.5,5.75,3.85,2.75,3500,0,0.28000000000000003,350,0,5,0,0,24.9,19.899999999999999,14.9,8,6.15,4.3499999999999996,23.9,18.899999999999999,13.9,7,5.15,3.35,0.5,4500,8,0.01,1000,1.5,70,40,5000,2000,76,35,2000,13,2000,8.5,8,6.5,5,6,5000]
["Fayette",{"$f":"VLOOKUP(A474,tables!$A$2:$C$56,2,0)","v":10},9026,{"$f":"VLOOKUP(A474,tables!$A$2:$C$56,3,0)","v":"09"},"West Virginia Paving, Inc., Summersville, WV","2816 Frontage Rd., Summersville, WV 26651","Appalachian Aggregates","1111 Blake Hollow Rd., Princeton WV 24740",95,95,99,99,99,0,98.5,108,110,108,110,0,0,117,0,105,105,65,2000,2.75,0.33,15,4,12,2,5,2.75,0.28000000000000003,85,30,20,10,2000,15000,6.75,4.75,3.75,2.75,20.75,15.75,4.75,2.75,20.75,15.75,4.75,2.75,3.5,14,6,22.25,17.5,12.5,6.75,4.8499999999999996,3.75,21.5,16.5,11.5,5.75,3.85,2.75,3500,0,0.28000000000000003,350,0,5,0,0,24.9,19.899999999999999,14.9,8,6.15,4.3499999999999996,23.9,18.899999999999999,13.9,7,5.15,3.35,0.5,4500,8,0.01,1000,1.5,70,40,5000,2000,76,35,2000,13,2000,8.5,8,6.5,5,6,5000]
["Fayette",{"$f":"VLOOKUP(A475,tables!$A$2:$C$56,2,0)","v":10},9027,{"$f":"VLOOKUP(A475,tables!$A$2:$C$56,3,0)","v":"09"},"West Virginia Paving, Inc., Summersville, WV","2816 Frontage Rd., Summersville, WV 26651","Appalachian Aggregates","400 Stamping Creek Rd., Hillsboro WV 25880",95,95,99,99,99,0,98.5,108,110,108,110,0,0,117,0,105,105,65,2000,2.75,0.33,15,4,12,2,5,2.75,0.28000000000000003,85,30,20,10,2000,15000,6.75,4.75,3.75,2.75,20.75,15.75,4.75,2.75,20.75,15.75,4.75,2.75,3.5,14,6,22.25,17.5,12.5,6.75,4.8499999999999996,3.75,21.5,16.5,11.5,5.75,3.85,2.75,3500,0,0.28000000000000003,350,0,5,0,0,24.9,19.899999999999999,14.9,8,6.15,4.3499999999999996,23.9,18.899999999999999,13.9,7,5.15,3.35,0.5,4500,8,0.01,1000,1.5,70,40,5000,2000,76,35,2000,13,2000,8.5,8,6.5,5,6,5000]
["Nicholas",{"$f":"VLOOKUP(A476,tables!$A$2:$C$56,2,0)","v":34},9028,{"$f":"VLOOKUP(A476,tables!$A$2:$C$56,3,0)","v":"09"},"West Virginia Paving, Inc., Summersville, WV","2816 Frontage Rd., Summersville, WV 26651","Appalachian Aggregates","400 Stamping Creek Rd., Hillsboro WV 25880",95,95,99,99,99,0,98.5,108,110,108,110,0,0,117,0,105,105,65,2000,2.75,0.33,15,4,12,2,5,2.75,0.28000000000000003,85,30,20,10,2000,15000,6.75,4.75,3.75,2.75,20.75,15.75,4.75,2.75,20.75,15.75,4.75,2.75,3.5,14,6,22.25,17.5,12.5,6.75,4.8499999999999996,3.75,21.5,16.5,11.5,5.75,3.85,2.75,3500,0,0.28000000000000003,350,0,5,0,0,24.9,19.899999999999999,14.9,8,6.15,4.3499999999999996,23.9,18.899999999999999,13.9,7,5.15,3.35,0.5,4500,8,0.01,1000,1.5,70,40,5000,2000,76,35,2000,13,2000,8.5,8,6.5,5,6,5000]
["Fayette",{"$f":"VLOOKUP(A477,tables!$A$2:$C$56,2,0)","v":10},9029,{"$f":"VLOOKUP(A477,tables!$A$2:$C$56,3,0)","v":"09"},"West Virginia Paving, Inc., Asbury (Alta), WV","Rt. 60, West Lewisburg, Alta, Asbury WV 24916","Appalachian Aggregates","1111 Blake Hollow Rd., Princeton WV 24740",86,86,94,94,94,0,94,100,110,100,110,0,0,0,0,108,108,65,2000,2.75,0.33,15,4,12,2,5,2.75,0.28000000000000003,85,30,20,10,2000,15000,6.75,4.75,3.75,2.75,20.75,15.75,4.75,2.75,20.75,15.75,4.75,2.75,3.5,14,6,22.25,17.5,12.5,6.75,4.8499999999999996,3.75,21.5,16.5,11.5,5.75,3.85,2.75,3500,0,0.28000000000000003,350,0,5,0,0,24.9,19.899999999999999,14.9,8,6.15,4.3499999999999996,23.9,18.899999999999999,13.9,7,5.15,3.35,0.5,4500,8,0.01,1000,1.5,70,40,5000,2000,76,35,2000,13,2000,8.5,8,6.5,5,6,5000]
["Fayette",{"$f":"VLOOKUP(A478,tables!$A$2:$C$56,2,0)","v":10},9030,{"$f":"VLOOKUP(A478,tables!$A$2:$C$56,3,0)","v":"09"},"West Virginia Paving, Inc., Asbury (Alta), WV","Rt. 60, West Lewisburg, Alta, Asbury WV 24916","Appalachian Aggregates","400 Stamping Creek Rd., Hillsboro WV 25880",86,86,94,94,94,0,94,100,110,100,110,0,0,0,0,108,108,65,2000,2.75,0.33,15,4,12,2,5,2.75,0.28000000000000003,85,30,20,10,2000,15000,6.75,4.75,3.75,2.75,20.75,15.75,4.75,2.75,20.75,15.75,4.75,2.75,3.5,14,6,22.25,17.5,12.5,6.75,4.8499999999999996,3.75,21.5,16.5,11.5,5.75,3.85,2.75,3500,0,0.28000000000000003,350,0,5,0,0,24.9,19.899999999999999,14.9,8,6.15,4.3499999999999996,23.9,18.899999999999999,13.9,7,5.15,3.35,0.5,4500,8,0.01,1000,1.5,70,40,5000,2000,76,35,2000,13,2000,8.5,8,6.5,5,6,5000]
["Greenbrier",{"$f":"VLOOKUP(A479,tables!$A$2:$C$56,2,0)","v":13},9031,{"$f":"VLOOKUP(A479,tables!$A$2:$C$56,3,0)","v":"09"},"West Virginia Paving, Inc., Asbury (Alta), WV","Rt. 60, West Lewisburg, Alta, Asbury WV 24916","Appalachian Aggregates","400 Stamping Creek Rd., Hillsboro WV 25880",86,86,94,94,94,0,94,100,110,100,110,0,0,0,0,108,108,65,2000,2.75,0.33,15,4,12,2,5,2.75,0.28000000000000003,85,30,20,10,2000,15000,6.75,4.75,3.75,2.75,20.75,15.75,4.75,2.75,20.75,15.75,4.75,2.75,3.5,14,6,22.25,17.5,12.5,6.75,4.8499999999999996,3.75,21.5,16.5,11.5,5.75,3.85,2.75,3500,0,0.28000000000000003,350,0,5,0,0,24.9,19.899999999999999,14.9,8,6.15,4.3499999999999996,23.9,18.899999999999999,13.9,7,5.15,3.35,0.5,4500,8,0.01,1000,1.5,70,40,5000,2000,76,35,2000,13,2000,8.5,8,6.5,5,6,5000]
["Greenbrier",{"$f":"VLOOKUP(A480,tables!$A$2:$C$56,2,0)","v":13},9032,{"$f":"VLOOKUP(A480,tables!$A$2:$C$56,3,0)","v":"09"},"West Virginia Paving, Inc., Asbury (Alta), WV","Rt. 60, West Lewisburg, Alta, Asbury WV 24916","Appalachian Aggregates","21071 Midland Trail, Lewisburg, WV 24901",86,86,94,94,94,0,94,100,110,100,110,0,0,0,0,108,108,65,2000,2.75,0.33,15,4,12,2,5,2.75,0.28000000000000003,85,30,20,10,2000,15000,6.75,4.75,3.75,2.75,20.75,15.75,4.75,2.75,20.75,15.75,4.75,2.75,3.5,14,6,22.25,17.5,12.5,6.75,4.8499999999999996,3.75,21.5,16.5,11.5,5.75,3.85,2.75,3500,0,0.28000000000000003,350,0,5,0,0,24.9,19.899999999999999,14.9,8,6.15,4.3499999999999996,23.9,18.899999999999999,13.9,7,5.15,3.35,0.5,4500,8,0.01,1000,1.5,70,40,5000,2000,76,35,2000,13,2000,8.5,8,6.5,5,6,5000]
["Monroe",{"$f":"VLOOKUP(A481,tables!$A$2:$C$56,2,0)","v":32},9033,{"$f":"VLOOKUP(A481,tables!$A$2:$C$56,3,0)","v":"09"},"West Virginia Paving, Inc., Asbury (Alta), WV","Rt. 60, West Lewisburg, Alta, Asbury WV 24916","Appalachian Aggregates","21071 Midland Trail, Lewisburg, WV 24901",86,86,94,94,94,0,94,100,110,100,110,0,0,0,0,108,108,65,2000,2.75,0.33,15,4,12,2,5,2.75,0.28000000000000003,85,30,20,10,2000,15000,6.75,4.75,3.75,2.75,20.75,15.75,4.75,2.75,20.75,15.75,4.75,2.75,3.5,14,6,22.25,17.5,12.5,6.75,4.8499999999999996,3.75,21.5,16.5,11.5,5.75,3.85,2.75,3500,0,0.28000000000000003,350,0,5,0,0,24.9,19.899999999999999,14.9,8,6.15,4.3499999999999996,23.9,18.899999999999999,13.9,7,5.15,3.35,0.5,4500,8,0.01,1000,1.5,70,40,5000,2000,76,35,2000,13,2000,8.5,8,6.5,5,6,5000]
["Nicholas",{"$f":"VLOOKUP(A482,tables!$A$2:$C$56,2,0)","v":34},9034,{"$f":"VLOOKUP(A482,tables!$A$2:$C$56,3,0)","v":"09"},"West Virginia Paving, Inc., Asbury (Alta), WV","Rt. 60, West Lewisburg, Alta, Asbury WV 24916","Appalachian Aggregates","400 Stamping Creek Rd., Hillsboro WV 25880",86,86,94,94,94,0,94,100,110,100,110,0,0,0,0,108,108,65,2000,2.75,0.33,15,4,12,2,5,2.75,0.28000000000000003,85,30,20,10,2000,15000,6.75,4.75,3.75,2.75,20.75,15.75,4.75,2.75,20.75,15.75,4.75,2.75,3.5,14,6,22.25,17.5,12.5,6.75,4.8499999999999996,3.75,21.5,16.5,11.5,5.75,3.85,2.75,3500,0,0.28000000000000003,350,0,5,0,0,24.9,19.899999999999999,14.9,8,6.15,4.3499999999999996,23.9,18.899999999999999,13.9,7,5.15,3.35,0.5,4500,8,0.01,1000,1.5,70,40,5000,2000,76,35,2000,13,2000,8.5,8,6.5,5,6,5000]
["Summers",{"$f":"VLOOKUP(A483,tables!$A$2:$C$56,2,0)","v":45},9035,{"$f":"VLOOKUP(A483,tables!$A$2:$C$56,3,0)","v":"09"},"West Virginia Paving, Inc., Asbury (Alta), WV","Rt. 60, West Lewisburg, Alta, Asbury WV 24916","Appalachian Aggregates","1700 N Sandbranch Rd. Mt Hope WV 25880",86,86,94,94,94,0,94,100,110,100,110,0,0,0,0,108,108,65,2000,2.75,0.33,15,4,12,2,5,2.75,0.28000000000000003,85,30,20,10,2000,15000,6.75,4.75,3.75,2.75,20.75,15.75,4.75,2.75,20.75,15.75,4.75,2.75,3.5,14,6,22.25,17.5,12.5,6.75,4.8499999999999996,3.75,21.5,16.5,11.5,5.75,3.85,2.75,3500,0,0.28000000000000003,350,0,5,0,0,24.9,19.899999999999999,14.9,8,6.15,4.3499999999999996,23.9,18.899999999999999,13.9,7,5.15,3.35,0.5,4500,8,0.01,1000,1.5,70,40,5000,2000,76,35,2000,13,2000,8.5,8,6.5,5,6,5000]
["Summers",{"$f":"VLOOKUP(A484,tables!$A$2:$C$56,2,0)","v":45},9036,{"$f":"VLOOKUP(A484,tables!$A$2:$C$56,3,0)","v":"09"},"West Virginia Paving, Inc., Asbury (Alta), WV","Rt. 60, West Lewisburg, Alta, Asbury WV 24916","Appalachian Aggregates","21071 Midland Trail, Lewisburg, WV 24901",86,86,94,94,94,0,94,100,110,100,110,0,0,0,0,108,108,65,2000,2.75,0.33,15,4,12,2,5,2.75,0.28000000000000003,85,30,20,10,2000,15000,6.75,4.75,3.75,2.75,20.75,15.75,4.75,2.75,20.75,15.75,4.75,2.75,3.5,14,6,22.25,17.5,12.5,6.75,4.8499999999999996,3.75,21.5,16.5,11.5,5.75,3.85,2.75,3500,0,0.28000000000000003,350,0,5,0,0,24.9,19.899999999999999,14.9,8,6.15,4.3499999999999996,23.9,18.899999999999999,13.9,7,5.15,3.35,0.5,4500,8,0.01,1000,1.5,70,40,5000,2000,76,35,2000,13,2000,8.5,8,6.5,5,6,5000]
["Summers",{"$f":"VLOOKUP(A485,tables!$A$2:$C$56,2,0)","v":45},9037,{"$f":"VLOOKUP(A485,tables!$A$2:$C$56,3,0)","v":"09"},"West Virginia Paving, Inc., Princeton Plant","6941 Ingleside Dr., Princeton, WV 24740","Appalachian Aggregates","1700 N Sandbranch Rd. Mt Hope WV 25880",78,78,87.5,87.5,87.5,0,88,90.5,104.5,90.5,103.5,0,0,0,0,102.5,102.5,65,2000,2.75,0.33,15,4,12,2,5,2.75,0.28000000000000003,85,30,20,10,2000,15000,6.75,4.75,3.75,2.75,20.75,15.75,4.75,2.75,20.75,15.75,4.75,2.75,3.5,14,6,22.25,17.5,12.5,6.75,4.8499999999999996,3.75,21.5,16.5,11.5,5.75,3.85,2.75,3500,0,0.28000000000000003,350,0,5,0,0,24.9,19.899999999999999,14.9,8,6.15,4.3499999999999996,23.9,18.899999999999999,13.9,7,5.15,3.35,0.5,4500,8,0.01,1000,1.5,70,40,5000,2000,76,35,2000,13,2000,8.5,8,6.5,5,6,5000]
["Summers",{"$f":"VLOOKUP(A486,tables!$A$2:$C$56,2,0)","v":45},9038,{"$f":"VLOOKUP(A486,tables!$A$2:$C$56,3,0)","v":"09"},"West Virginia Paving, Inc., Princeton Plant","6941 Ingleside Dr., Princeton, WV 24740","Appalachian Aggregates","1111 Blake Hollow Rd., Princeton WV 24740",78,78,87.5,87.5,87.5,0,88,90.5,104.5,90.5,103.5,0,0,0,0,102.5,102.5,65,2000,2.75,0.33,15,4,12,2,5,2.75,0.28000000000000003,85,30,20,10,2000,15000,6.75,4.75,3.75,2.75,20.75,15.75,4.75,2.75,20.75,15.75,4.75,2.75,3.5,14,6,22.25,17.5,12.5,6.75,4.8499999999999996,3.75,21.5,16.5,11.5,5.75,3.85,2.75,3500,0,0.28000000000000003,350,0,5,0,0,24.9,19.899999999999999,14.9,8,6.15,4.3499999999999996,23.9,18.899999999999999,13.9,7,5.15,3.35,0.5,4500,8,0.01,1000,1.5,70,40,5000,2000,76,35,2000,13,2000,8.5,8,6.5,5,6,5000]
["Summers",{"$f":"VLOOKUP(A487,tables!$A$2:$C$56,2,0)","v":45},9039,{"$f":"VLOOKUP(A487,tables!$A$2:$C$56,3,0)","v":"09"},"West Virginia Paving, Inc., Princeton Plant","6941 Ingleside Dr., Princeton, WV 24740","Appalachian Aggregates","21071 Midland Trail, Lewisburg, WV 24901",78,78,87.5,87.5,87.5,0,88,90.5,104.5,90.5,103.5,0,0,0,0,102.5,102.5,65,2000,2.75,0.33,15,4,12,2,5,2.75,0.28000000000000003,85,30,20,10,2000,15000,6.75,4.75,3.75,2.75,20.75,15.75,4.75,2.75,20.75,15.75,4.75,2.75,3.5,14,6,22.25,17.5,12.5,6.75,4.8499999999999996,3.75,21.5,16.5,11.5,5.75,3.85,2.75,3500,0,0.28000000000000003,350,0,5,0,0,24.9,19.899999999999999,14.9,8,6.15,4.3499999999999996,23.9,18.899999999999999,13.9,7,5.15,3.35,0.5,4500,8,0.01,1000,1.5,70,40,5000,2000,76,35,2000,13,2000,8.5,8,6.5,5,6,5000]
["McDowell",{"$f":"VLOOKUP(A488,tables!$A$2:$C$56,2,0)","v":24},10001,{"$f":"VLOOKUP(A488,tables!$A$2:$C$56,3,0)","v":"10"},"AAA Paving and Sealing, Inc.","560 Turnpike Industrial Park Road,Princeton, WV 24739","East River Aggregates","388 Blake Hollow Road, Princeton, WV 24739",70,70,80,80,80,0,80,82,95,83,94,0,0,0,0,94,94,60,1800,2.6,0.3,7,7,12,2,5,2.6,0.3,80,28,18,10,1800,12000,6,4,3,2,20,15,4,2,20,15,4,2,3,12.5,5,21,16,11,6,4,3,20,15,10,5.5,3.5,2.75,3200,0,0.3,350,0,0,0,0,24,19,14,8,6,4,23,18,13,7,5,3,0.5,4000,10,0.01,1000,1,70,35,3750,1500,70,30,1800,12,1800,0,0,0,0,0,0]
["Mercer",{"$f":"VLOOKUP(A489,tables!$A$2:$C$56,2,0)","v":28},10002,{"$f":"VLOOKUP(A489,tables!$A$2:$C$56,3,0)","v":"10"},"AAA Paving and Sealing, Inc.","560 Turnpike Industrial Park Road,Princeton, WV 24739","East River Aggregates","388 Blake Hollow Road, Princeton, WV 24739",70,70,80,80,80,0,80,82,95,83,94,0,0,0,0,94,94,60,1800,2.6,0.3,7,7,12,2,5,2.6,0.3,80,28,18,10,1800,12000,6,4,3,2,20,15,4,2,20,15,4,2,3,12.5,5,21,16,11,6,4,3,20,15,10,5.5,3.5,2.75,3200,0,0.3,350,0,0,0,0,24,19,14,8,6,4,23,18,13,7,5,3,0.5,4000,10,0.01,1000,1,70,35,3750,1500,70,30,1800,12,1800,0,0,0,0,0,0]
["Raleigh",{"$f":"VLOOKUP(A490,tables!$A$2:$C$56,2,0)","v":41},10003,{"$f":"VLOOKUP(A490,tables!$A$2:$C$56,3,0)","v":"10"},"AAA Paving and Sealing, Inc.","560 Turnpike Industrial Park Road,Princeton, WV 24739","East River Aggregates","388 Blake Hollow Road, Princeton, WV 24739",70,70,80,80,80,0,80,82,95,83,94,0,0,0,0,94,94,60,1800,2.6,0.3,7,7,12,2,5,2.6,0.3,80,28,18,10,1800,12000,6,4,3,2,20,15,4,2,20,15,4,2,3,12.5,5,21,16,11,6,4,3,20,15,10,5.5,3.5,2.75,3200,0,0.3,350,0,0,0,0,24,19,14,8,6,4,23,18,13,7,5,3,0.5,4000,10,0.01,1000,1,70,35,3750,1500,70,30,1800,12,1800,0,0,0,0,0,0]
["Wyoming",{"$f":"VLOOKUP(A491,tables!$A$2:$C$56,2,0)","v":55},10004,{"$f":"VLOOKUP(A491,tables!$A$2:$C$56,3,0)","v":"10"},"AAA Paving and Sealing, Inc.","560 Turnpike Industrial Park Road,Princeton, WV 24739","East River Aggregates","388 Blake Hollow Road, Princeton, WV 24739",70,70,80,80,80,0,80,82,95,83,94,0,0,0,0,94,94,60,1800,2.6,0.3,7,7,12,2,5,2.6,0.3,80,28,18,10,1800,12000,6,4,3,2,20,15,4,2,20,15,4,2,3,12.5,5,21,16,11,6,4,3,20,15,10,5.5,3.5,2.75,3200,0,0.3,350,0,0,0,0,24,19,14,8,6,4,23,18,13,7,5,3,0.5,4000,10,0.01,1000,1,70,35,3750,1500,70,30,1800,12,1800,0,0,0,0,0,0]
["Wyoming",{"$f":"VLOOKUP(A492,tables!$A$2:$C$56,2,0)","v":55},10005,{"$f":"VLOOKUP(A492,tables!$A$2:$C$56,3,0)","v":"10"},"BTI Contracting Inc. Kenova","2334 Route 52 Kenova, WV 25530","Mountain Materials- Valley Quarry","12434 US 60, Olive Hill KY",77.27,78.22,80.12,80.12,82.83,89.57,80.45,87.7,93.17,87.7,95.9,118.91,118.95,103.94,118.92,96.22,96.22,67.5,1950,2.9,0.3,5,5,12.5,1.75,4.5,3,0.27,83,29.75,19.5,9.6999999999999993,1750,8000,7,5,4,3,21.25,16,6,4,20.75,16,6,4,3.25,13,5,23,16.75,11.75,6.6,4.5,3.4,20.25,15.25,9.75,5,3.25,2.25,3250,0,0.27,345,0,5,0,0,24,18,13.5,7.25,5.5,3.6,22.5,16.5,12,6,4.4000000000000004,2.6,0.75,4250,7.25,0.01,960,1,69,40,3500,1250,75,40,1750,22,1950,9.5,7.4,6,4.55,5.25,5000]
["McDowell",{"$f":"VLOOKUP(A493,tables!$A$2:$C$56,2,0)","v":24},10006,{"$f":"VLOOKUP(A493,tables!$A$2:$C$56,3,0)","v":"10"},"BTI Contracting Inc. St. Albans","484 Industrial Rd, St Albans, WV 25177","Scary Creek Materials"," #9 Orders Way, Winfield, WV",78.94,79.89,80.72,80.72,81.39,91.22,83.54,88.1,97.57,88.1,97.57,118.91,118.95,113.94,118.92,96.22,96.22,67.5,1950,2.9,0.3,5,5,12.5,1.75,4.5,3,0.27,83,29.75,19.5,9.6999999999999993,1750,8000,7,5,4,3,21.25,16,6,4,20.75,16,6,4,3.25,13,5,23,16.75,11.75,6.6,4.5,3.4,20.25,15.25,9.75,5,3.25,2.25,3250,0,0.27,345,0,5,0,0,24,18,13.5,7.25,5.5,3.6,22.5,16.5,12,6,4.4000000000000004,2.6,0.75,4250,7.25,0.01,960,1,69,40,3500,1250,75,40,1750,22,1950,9.5,7.4,6,4.55,5.25,5000]
["Mercer",{"$f":"VLOOKUP(A494,tables!$A$2:$C$56,2,0)","v":28},10007,{"$f":"VLOOKUP(A494,tables!$A$2:$C$56,3,0)","v":"10"},"BTI Contracting Inc. St. Albans","484 Industrial Rd, St Albans, WV 25177","Scary Creek Materials"," #9 Orders Way, Winfield, WV",78.94,79.89,80.72,80.72,81.39,91.22,83.54,88.1,97.57,88.1,97.57,118.91,118.95,113.94,118.92,96.22,96.22,67.5,1950,2.9,0.3,5,5,12.5,1.75,4.5,3,0.27,83,29.75,19.5,9.6999999999999993,1750,8000,7,5,4,3,21.25,16,6,4,20.75,16,6,4,3.25,13,5,23,16.75,11.75,6.6,4.5,3.4,20.25,15.25,9.75,5,3.25,2.25,3250,0,0.27,345,0,5,0,0,24,18,13.5,7.25,5.5,3.6,22.5,16.5,12,6,4.4000000000000004,2.6,0.75,4250,7.25,0.01,960,1,69,40,3500,1250,75,40,1750,22,1950,9.5,7.4,6,4.55,5.25,5000]
["Raleigh",{"$f":"VLOOKUP(A495,tables!$A$2:$C$56,2,0)","v":41},10008,{"$f":"VLOOKUP(A495,tables!$A$2:$C$56,3,0)","v":"10"},"BTI Contracting Inc. St. Albans","484 Industrial Rd, St Albans, WV 25177","Scary Creek Materials"," #9 Orders Way, Winfield, WV",78.94,79.89,80.72,80.72,81.39,91.22,83.54,88.1,97.57,88.1,97.57,118.91,118.95,113.94,118.92,96.22,96.22,67.5,1950,2.9,0.3,5,5,12.5,1.75,4.5,3,0.27,83,29.75,19.5,9.6999999999999993,1750,8000,7,5,4,3,21.25,16,6,4,20.75,16,6,4,3.25,13,5,23,16.75,11.75,6.6,4.5,3.4,20.25,15.25,9.75,5,3.25,2.25,3250,0,0.27,345,0,5,0,0,24,18,13.5,7.25,5.5,3.6,22.5,16.5,12,6,4.4000000000000004,2.6,0.75,4250,7.25,0.01,960,1,69,40,3500,1250,75,40,1750,22,1950,9.5,7.4,6,4.55,5.25,5000]
["McDowell",{"$f":"VLOOKUP(A496,tables!$A$2:$C$56,2,0)","v":24},10009,{"$f":"VLOOKUP(A496,tables!$A$2:$C$56,3,0)","v":"10"},"BTI Contracting Inc. St. Albans","484 Industrial Rd, St Albans, WV 25177","Valley Stone Yard","360 Valley Rd., Millwood WV, 25262",78.94,79.89,80.72,80.72,81.39,91.22,83.54,88.1,97.57,88.1,97.57,118.91,118.95,113.94,118.92,96.22,96.22,67.5,1950,2.9,0.3,5,5,12.5,1.75,4.5,3,0.27,83,29.75,19.5,9.6999999999999993,1750,8000,7,5,4,3,21.25,16,6,4,20.75,16,6,4,3.25,13,5,23,16.75,11.75,6.6,4.5,3.4,20.25,15.25,9.75,5,3.25,2.25,3250,0,0.27,345,0,5,0,0,24,18,13.5,7.25,5.5,3.6,22.5,16.5,12,6,4.4000000000000004,2.6,0.75,4250,7.25,0.01,960,1,69,40,3500,1250,75,40,1750,22,1950,9.5,7.4,6,4.55,5.25,5000]
["Mercer",{"$f":"VLOOKUP(A497,tables!$A$2:$C$56,2,0)","v":28},10010,{"$f":"VLOOKUP(A497,tables!$A$2:$C$56,3,0)","v":"10"},"BTI Contracting Inc. St. Albans","484 Industrial Rd, St Albans, WV 25177","Valley Stone Yard","360 Valley Rd., Millwood WV, 25262",78.94,79.89,80.72,80.72,81.39,91.22,83.54,88.1,97.57,88.1,97.57,118.91,118.95,113.94,118.92,96.22,96.22,67.5,1950,2.9,0.3,5,5,12.5,1.75,4.5,3,0.27,83,29.75,19.5,9.6999999999999993,1750,8000,7,5,4,3,21.25,16,6,4,20.75,16,6,4,3.25,13,5,23,16.75,11.75,6.6,4.5,3.4,20.25,15.25,9.75,5,3.25,2.25,3250,0,0.27,345,0,5,0,0,24,18,13.5,7.25,5.5,3.6,22.5,16.5,12,6,4.4000000000000004,2.6,0.75,4250,7.25,0.01,960,1,69,40,3500,1250,75,40,1750,22,1950,9.5,7.4,6,4.55,5.25,5000]
["Raleigh",{"$f":"VLOOKUP(A498,tables!$A$2:$C$56,2,0)","v":41},10011,{"$f":"VLOOKUP(A498,tables!$A$2:$C$56,3,0)","v":"10"},"BTI Contracting Inc. St. Albans","484 Industrial Rd, St Albans, WV 25177","Valley Stone Yard","360 Valley Rd., Millwood WV, 25262",78.94,79.89,80.72,80.72,81.39,91.22,83.54,88.1,97.57,88.1,97.57,118.91,118.95,113.94,118.92,96.22,96.22,67.5,1950,2.9,0.3,5,5,12.5,1.75,4.5,3,0.27,83,29.75,19.5,9.6999999999999993,1750,8000,7,5,4,3,21.25,16,6,4,20.75,16,6,4,3.25,13,5,23,16.75,11.75,6.6,4.5,3.4,20.25,15.25,9.75,5,3.25,2.25,3250,0,0.27,345,0,5,0,0,24,18,13.5,7.25,5.5,3.6,22.5,16.5,12,6,4.4000000000000004,2.6,0.75,4250,7.25,0.01,960,1,69,40,3500,1250,75,40,1750,22,1950,9.5,7.4,6,4.55,5.25,5000]
["Raleigh",{"$f":"VLOOKUP(A499,tables!$A$2:$C$56,2,0)","v":41},10012,{"$f":"VLOOKUP(A499,tables!$A$2:$C$56,3,0)","v":"10"},"Greenbrier Excavating & Paving Inc.","232 Rambler Rd., Lewisburg, WV24901","Appalachian Aggregates","21071 Midland Trail, Lewisburg, WV 24901",65,0,74.5,74.5,78.5,0,0,79.5,0,79.5,85,0,0,0,0,0,0,57,2000,2.6,0.32,0,0,0,2,5,2.6,0.26,85,30,20,9.5,2000,12500,6.5,4.5,3.5,2.5,20.399999999999999,15.4,4.4000000000000004,2.5,20.399999999999999,15.4,4.4000000000000004,2.5,3.1,13,5,21.5,16.5,11.5,6.5,4.5999999999999996,3.5,20.5,15.5,10.5,5.5,3.6,2.5,4000,0,5,350,0,0,0,0,23.9,18.899999999999999,13.9,7.75,5.9,4.0999999999999996,22.9,17.899999999999999,12.9,6.75,4.9000000000000004,3.1,0.5,4500,7.5,0.01,975,1,70,40,3500,1000,0,0,0,0,0,0,0,0,0,0,0]
["McDowell",{"$f":"VLOOKUP(A500,tables!$A$2:$C$56,2,0)","v":24},10013,{"$f":"VLOOKUP(A500,tables!$A$2:$C$56,3,0)","v":"10"},"West Virginia Paving, Inc., Beaver Plant","195 Southern Industrial Dr., Beaver, WV 25813","WV Paving","US 119 Whitman Creek Rd., Whitman, WV 25652",97.5,97.5,100.5,100.5,102.5,0,101.25,106.5,112,106.5,109,0,0,119,0,106,106,65,2000,2.75,0.33,15,4,12,2,5,2.75,0.28000000000000003,85,30,20,10,2000,15000,6.75,4.75,3.75,2.75,20.75,15.75,4.75,2.75,20.75,15.75,4.75,2.75,3.5,14,6,22.25,17.5,12.5,6.75,4.8499999999999996,3.75,21.5,16.5,11.5,5.75,3.85,2.75,3500,0,0.28000000000000003,350,0,5,0,0,24.9,19.899999999999999,14.9,8,6.15,4.3499999999999996,23.9,18.899999999999999,13.9,7,5.15,3.35,0.5,4500,8,0.01,1000,1.5,70,40,5000,2000,76,35,2000,13,2000,8.5,8,6.5,5,6,5000]
["McDowell",{"$f":"VLOOKUP(A501,tables!$A$2:$C$56,2,0)","v":24},10014,{"$f":"VLOOKUP(A501,tables!$A$2:$C$56,3,0)","v":"10"},"West Virginia Paving, Inc., Beaver Plant","195 Southern Industrial Dr., Beaver, WV 25813","Appalachian Aggregates","1700 N Sandbranch Rd. Mt Hope WV 25880",97.5,97.5,100.5,100.5,102.5,0,101.25,106.5,112,106.5,109,0,0,119,0,106,106,65,2000,2.75,0.33,15,4,12,2,5,2.75,0.28000000000000003,85,30,20,10,2000,15000,6.75,4.75,3.75,2.75,20.75,15.75,4.75,2.75,20.75,15.75,4.75,2.75,3.5,14,6,22.25,17.5,12.5,6.75,4.8499999999999996,3.75,21.5,16.5,11.5,5.75,3.85,2.75,3500,0,0.28000000000000003,350,0,5,0,0,24.9,19.899999999999999,14.9,8,6.15,4.3499999999999996,23.9,18.899999999999999,13.9,7,5.15,3.35,0.5,4500,8,0.01,1000,1.5,70,40,5000,2000,76,35,2000,13,2000,8.5,8,6.5,5,6,5000]
["McDowell",{"$f":"VLOOKUP(A502,tables!$A$2:$C$56,2,0)","v":24},10015,{"$f":"VLOOKUP(A502,tables!$A$2:$C$56,3,0)","v":"10"},"West Virginia Paving, Inc., Beaver Plant","195 Southern Industrial Dr., Beaver, WV 25813","Appalachian Aggregates","1111 Blake Hollow Rd., Princeton WV 24740",97.5,97.5,100.5,100.5,102.5,0,101.25,106.5,112,106.5,109,0,0,119,0,106,106,65,2000,2.75,0.33,15,4,12,2,5,2.75,0.28000000000000003,85,30,20,10,2000,15000,6.75,4.75,3.75,2.75,20.75,15.75,4.75,2.75,20.75,15.75,4.75,2.75,3.5,14,6,22.25,17.5,12.5,6.75,4.8499999999999996,3.75,21.5,16.5,11.5,5.75,3.85,2.75,3500,0,0.28000000000000003,350,0,5,0,0,24.9,19.899999999999999,14.9,8,6.15,4.3499999999999996,23.9,18.899999999999999,13.9,7,5.15,3.35,0.5,4500,8,0.01,1000,1.5,70,40,5000,2000,76,35,2000,13,2000,8.5,8,6.5,5,6,5000]
["McDowell",{"$f":"VLOOKUP(A503,tables!$A$2:$C$56,2,0)","v":24},10016,{"$f":"VLOOKUP(A503,tables!$A$2:$C$56,3,0)","v":"10"},"West Virginia Paving, Inc., Whitman Plant","US 119 Whitman Creek Rd., Whitman, WV 25652","WV Paving","US 119 Whitman Creek Rd., Whitman, WV 25652",106.5,106.5,113,113,113,118.5,114.5,120.5,122.5,120.5,121.5,0,0,0,0,119.5,119.5,65,2000,2.75,0.33,15,4,12,2,5,2.75,0.28000000000000003,85,30,20,10,2000,15000,6.75,4.75,3.75,2.75,20.75,15.75,4.75,2.75,20.75,15.75,4.75,2.75,3.5,14,6,22.25,17.5,12.5,6.75,4.8499999999999996,3.75,21.5,16.5,11.5,5.75,3.85,2.75,3500,0,0.28000000000000003,350,0,5,0,0,24.9,19.899999999999999,14.9,8,6.15,4.3499999999999996,23.9,18.899999999999999,13.9,7,5.15,3.35,0.5,4500,8,0.01,1000,1.5,70,40,5000,2000,76,35,2000,13,2000,8.5,8,6.5,5,6,5000]
["McDowell",{"$f":"VLOOKUP(A504,tables!$A$2:$C$56,2,0)","v":24},10017,{"$f":"VLOOKUP(A504,tables!$A$2:$C$56,3,0)","v":"10"},"West Virginia Paving, Inc., Whitman Plant","US 119 Whitman Creek Rd., Whitman, WV 25652","Appalachian Aggregates","1700 N Sandbranch Rd. Mt Hope WV 25880",106.5,106.5,113,113,113,118.5,114.5,120.5,122.5,120.5,121.5,0,0,0,0,119.5,119.5,65,2000,2.75,0.33,15,4,12,2,5,2.75,0.28000000000000003,85,30,20,10,2000,15000,6.75,4.75,3.75,2.75,20.75,15.75,4.75,2.75,20.75,15.75,4.75,2.75,3.5,14,6,22.25,17.5,12.5,6.75,4.8499999999999996,3.75,21.5,16.5,11.5,5.75,3.85,2.75,3500,0,0.28000000000000003,350,0,5,0,0,24.9,19.899999999999999,14.9,8,6.15,4.3499999999999996,23.9,18.899999999999999,13.9,7,5.15,3.35,0.5,4500,8,0.01,1000,1.5,70,40,5000,2000,76,35,2000,13,2000,8.5,8,6.5,5,6,5000]
["McDowell",{"$f":"VLOOKUP(A505,tables!$A$2:$C$56,2,0)","v":24},10018,{"$f":"VLOOKUP(A505,tables!$A$2:$C$56,3,0)","v":"10"},"West Virginia Paving, Inc., Whitman Plant","US 119 Whitman Creek Rd., Whitman, WV 25652","Appalachian Aggregates","1111 Blake Hollow Rd., Princeton WV 24740",106.5,106.5,113,113,113,118.5,114.5,120.5,122.5,120.5,121.5,0,0,0,0,119.5,119.5,65,2000,2.75,0.33,15,4,12,2,5,2.75,0.28000000000000003,85,30,20,10,2000,15000,6.75,4.75,3.75,2.75,20.75,15.75,4.75,2.75,20.75,15.75,4.75,2.75,3.5,14,6,22.25,17.5,12.5,6.75,4.8499999999999996,3.75,21.5,16.5,11.5,5.75,3.85,2.75,3500,0,0.28000000000000003,350,0,5,0,0,24.9,19.899999999999999,14.9,8,6.15,4.3499999999999996,23.9,18.899999999999999,13.9,7,5.15,3.35,0.5,4500,8,0.01,1000,1.5,70,40,5000,2000,76,35,2000,13,2000,8.5,8,6.5,5,6,5000]
["Mercer",{"$f":"VLOOKUP(A506,tables!$A$2:$C$56,2,0)","v":28},10019,{"$f":"VLOOKUP(A506,tables!$A$2:$C$56,3,0)","v":"10"},"West Virginia Paving, Inc., Beaver Plant","195 Southern Industrial Dr., Beaver, WV 25813","Appalachian Aggregates","1111 Blake Hollow Rd., Princeton WV 24740",97.5,97.5,100.5,100.5,102.5,0,101.25,106.5,112,106.5,109,0,0,119,0,106,106,65,2000,2.75,0.33,15,4,12,2,5,2.75,0.28000000000000003,85,30,20,10,2000,15000,6.75,4.75,3.75,2.75,20.75,15.75,4.75,2.75,20.75,15.75,4.75,2.75,3.5,14,6,22.25,17.5,12.5,6.75,4.8499999999999996,3.75,21.5,16.5,11.5,5.75,3.85,2.75,3500,0,0.28000000000000003,350,0,5,0,0,24.9,19.899999999999999,14.9,8,6.15,4.3499999999999996,23.9,18.899999999999999,13.9,7,5.15,3.35,0.5,4500,8,0.01,1000,1.5,70,40,5000,2000,76,35,2000,13,2000,8.5,8,6.5,5,6,5000]
["Mercer",{"$f":"VLOOKUP(A507,tables!$A$2:$C$56,2,0)","v":28},10020,{"$f":"VLOOKUP(A507,tables!$A$2:$C$56,3,0)","v":"10"},"West Virginia Paving, Inc., Princeton Plant","6941 Ingleside Dr., Princeton, WV 24740","Appalachian Aggregates","1111 Blake Hollow Rd., Princeton WV 24740",78,78,87.5,87.5,87.5,0,88,90.5,104.5,90.5,103.5,0,0,0,0,102.5,102.5,65,2000,2.75,0.33,15,4,12,2,5,2.75,0.28000000000000003,85,30,20,10,2000,15000,6.75,4.75,3.75,2.75,20.75,15.75,4.75,2.75,20.75,15.75,4.75,2.75,3.5,14,6,22.25,17.5,12.5,6.75,4.8499999999999996,3.75,21.5,16.5,11.5,5.75,3.85,2.75,3500,0,0.28000000000000003,350,0,5,0,0,24.9,19.899999999999999,14.9,8,6.15,4.3499999999999996,23.9,18.899999999999999,13.9,7,5.15,3.35,0.5,4500,8,0.01,1000,1.5,70,40,5000,2000,76,35,2000,13,2000,8.5,8,6.5,5,6,5000]
["Raleigh",{"$f":"VLOOKUP(A508,tables!$A$2:$C$56,2,0)","v":41},10021,{"$f":"VLOOKUP(A508,tables!$A$2:$C$56,3,0)","v":"10"},"West Virginia Paving, Inc., Beaver Plant","195 Southern Industrial Dr., Beaver, WV 25813","Appalachian Aggregates","1700 N Sandbranch Rd. Mt Hope WV 25880",97.5,97.5,100.5,100.5,102.5,0,101.25,106.5,112,106.5,109,0,0,119,0,106,106,65,2000,2.75,0.33,15,4,12,2,5,2.75,0.28000000000000003,85,30,20,10,2000,15000,6.75,4.75,3.75,2.75,20.75,15.75,4.75,2.75,20.75,15.75,4.75,2.75,3.5,14,6,22.25,17.5,12.5,6.75,4.8499999999999996,3.75,21.5,16.5,11.5,5.75,3.85,2.75,3500,0,0.28000000000000003,350,0,5,0,0,24.9,19.899999999999999,14.9,8,6.15,4.3499999999999996,23.9,18.899999999999999,13.9,7,5.15,3.35,0.5,4500,8,0.01,1000,1.5,70,40,5000,2000,76,35,2000,13,2000,8.5,8,6.5,5,6,5000]
["Raleigh",{"$f":"VLOOKUP(A509,tables!$A$2:$C$56,2,0)","v":41},10022,{"$f":"VLOOKUP(A509,tables!$A$2:$C$56,3,0)","v":"10"},"West Virginia Paving, Inc., Princeton Plant","6941 Ingleside Dr., Princeton, WV 24740","Appalachian Aggregates","1700 N Sandbranch Rd. Mt Hope WV 25880",78,78,87.5,87.5,87.5,0,88,90.5,104.5,90.5,103.5,0,0,0,0,102.5,102.5,65,2000,2.75,0.33,15,4,12,2,5,2.75,0.28000000000000003,85,30,20,10,2000,15000,6.75,4.75,3.75,2.75,20.75,15.75,4.75,2.75,20.75,15.75,4.75,2.75,3.5,14,6,22.25,17.5,12.5,6.75,4.8499999999999996,3.75,21.5,16.5,11.5,5.75,3.85,2.75,3500,0,0.28000000000000003,350,0,5,0,0,24.9,19.899999999999999,14.9,8,6.15,4.3499999999999996,23.9,18.899999999999999,13.9,7,5.15,3.35,0.5,4500,8,0.01,1000,1.5,70,40,5000,2000,76,35,2000,13,2000,8.5,8,6.5,5,6,5000]
["Wyoming",{"$f":"VLOOKUP(A510,tables!$A$2:$C$56,2,0)","v":55},10023,{"$f":"VLOOKUP(A510,tables!$A$2:$C$56,3,0)","v":"10"},"West Virginia Paving, Inc., Beaver Plant","195 Southern Industrial Dr., Beaver, WV 25813","Appalachian Aggregates","1700 N Sandbranch Rd. Mt Hope WV 25880",97.5,97.5,100.5,100.5,102.5,0,101.25,106.5,112,106.5,109,0,0,119,0,106,106,65,2000,2.75,0.33,15,4,12,2,5,2.75,0.28000000000000003,85,30,20,10,2000,15000,6.75,4.75,3.75,2.75,20.75,15.75,4.75,2.75,20.75,15.75,4.75,2.75,3.5,14,6,22.25,17.5,12.5,6.75,4.8499999999999996,3.75,21.5,16.5,11.5,5.75,3.85,2.75,3500,0,0.28000000000000003,350,0,5,0,0,24.9,19.899999999999999,14.9,8,6.15,4.3499999999999996,23.9,18.899999999999999,13.9,7,5.15,3.35,0.5,4500,8,0.01,1000,1.5,70,40,5000,2000,76,35,2000,13,2000,8.5,8,6.5,5,6,5000]
["Wyoming",{"$f":"VLOOKUP(A511,tables!$A$2:$C$56,2,0)","v":55},10024,{"$f":"VLOOKUP(A511,tables!$A$2:$C$56,3,0)","v":"10"},"West Virginia Paving, Inc., Beaver Plant","195 Southern Industrial Dr., Beaver, WV 25813","Appalachian Aggregates","1111 Blake Hollow Rd., Princeton WV 24740",97.5,97.5,100.5,100.5,102.5,0,101.25,106.5,112,106.5,109,0,0,119,0,106,106,65,2000,2.75,0.33,15,4,12,2,5,2.75,0.28000000000000003,85,30,20,10,2000,15000,6.75,4.75,3.75,2.75,20.75,15.75,4.75,2.75,20.75,15.75,4.75,2.75,3.5,14,6,22.25,17.5,12.5,6.75,4.8499999999999996,3.75,21.5,16.5,11.5,5.75,3.85,2.75,3500,0,0.28000000000000003,350,0,5,0,0,24.9,19.899999999999999,14.9,8,6.15,4.3499999999999996,23.9,18.899999999999999,13.9,7,5.15,3.35,0.5,4500,8,0.01,1000,1.5,70,40,5000,2000,76,35,2000,13,2000,8.5,8,6.5,5,6,5000]

{"sheet":"Addresses Helper","index":4,"n_rows":93,"n_cols":7,"rows_kept":93,"cut":false,"hidden":true,"merged":[]}
["Key","Address of Project Location","Latitude of Project","Longitude of Project","Bing Maps API Lat/Long Finder"]
["Flcu8l8hM090S8TM573s~j55KILxVqeISxZHtlq_Hgg~AoKmxgItVKrm2tsJtoQYIT9V9mIzTOSjjHLb5H9svVMwKv8-w5dl-KM4_OVcKRk8",{"$f":"'Order Details'!B16","v":"Rt. 33 Kelly Mountain Rd., Elkins, WV 26241"},{"$f":"'Order Details'!$E$8","v":38.890548000000003},{"$f":"'Order Details'!$E$9","v":-79.845938000000004},{"$f":"_xlfn.WEBSERVICE(\"http://dev.virtualearth.net/REST/v1/Locations?q=\"&B2&\"&maxResults=1&o=xml&key=\"&A2)","v":"<?xml version=\"1.0\" encoding=\"utf-8\"?><Response xmlns:xsi=\"http://www.w3.org/2001/XMLSchema-instance\" xmlns:xsd=\"http://www.w3.org/2001/XMLSchema\" xmlns=\"http://schemas.microsoft.com/search/local/ws/rest/v1\"><Copyright>Copyright © 2024 Microsoft and its suppliers. All rights reserved. This API cannot be accessed and the content and any results may not be used, reproduced or transmitted in any manner without express written permission from Microsoft Corporation.</Copyright><BrandLogoUri>http://dev.virtualearth.net/Branding/logo_powered_by.png</BrandLogoUri><StatusCode>200</StatusCode><StatusDescription>OK</StatusDescription><AuthenticationResultCode>ValidCredentials</AuthenticationResultCode><TraceId>d91dbfe46a60d608e760363aacbca0ad</TraceId><ResourceSets><ResourceSet><EstimatedTotal>1</EstimatedTotal><Resources><Location><Name>33 Kelly Mountain Rd, Elkins, WV 26241</Name><Point><Latitude>38.9014893</Latitude><Longitude>-79.7788086</Longitude></Point><BoundingBox><SouthLatitude>38.897626582429325</SouthLatitude><WestLongitude>-79.78542622069311</WestLongitude><NorthLatitude>38.90535201757068</NorthLatitude><EastLongitude>-79.7721909793069</EastLongitude></BoundingBox><EntityType>Address</EntityType><Address><AddressLine>33 Kelly Mountain Rd</AddressLine><AdminDistrict>WV</AdminDistrict><AdminDistrict2>Randolph County</AdminDistrict2><CountryRegion>United States</CountryRegion><FormattedAddress>33 Kelly Mountain Rd, Elkins, WV 26241</FormattedAddress><Locality>Elkins</Locality><PostalCode>26241</PostalCode></Address><Confidence>Medium</Confidence><MatchCode>Good</MatchCode><GeocodePoint><Latitude>38.9014893</Latitude><Longitude>-79.7788086</Longitude><CalculationMethod>Rooftop</CalculationMethod><UsageType>Display</UsageType></GeocodePoint><GeocodePoint><Latitude>38.9009754</Latitude><Longitude>-79.7804904</Longitude><CalculationMethod>Rooftop</CalculationMethod><UsageType>Route</UsageType></GeocodePoint></Location></Resources></ResourceSet></ResourceSets></Response>"}," ","Do Not Change Anything on this page!!!!"]
[]
["Vendor","Address of Vendor","Latitude of Address","Longitude of Address","Bing Maps API Lat/Long Finder","Distance Helper","Distance Haul (Miles)"]
["AAA Paving and Sealing, Inc.","560 Turnpike Industrial Park Road,Princeton, WV 24739",{"$f":"_xlfn.FILTERXML(E5,\"//Latitude[1]\")","v":37.3695533},{"$f":"_xlfn.FILTERXML(E5,\"//Longitude[1]\")","v":-81.0400293},{"$f":"_xlfn.WEBSERVICE(\"http://dev.virtualearth.net/REST/v1/Locations?q=\"&B5&\"&maxResults=1&o=xml&key=\"&$A$2)","v":"<?xml version=\"1.0\" encoding=\"utf-8\"?><Response xmlns:xsd=\"http://www.w3.org/2001/XMLSchema\" xmlns:xsi=\"http://www.w3.org/2001/XMLSchema-instance\" xmlns=\"http://schemas.microsoft.com/search/local/ws/rest/v1\"><Copyright>Copyright © 2023 Microsoft and its suppliers. All rights reserved. This API cannot be accessed and the content and any results may not be used, reproduced or transmitted in any manner without express written permission from Microsoft Corporation.</Copyright><BrandLogoUri>https://dev.virtualearth.net/Branding/logo_powered_by.png</BrandLogoUri><StatusCode>200</StatusCode><StatusDescription>OK</StatusDescription><AuthenticationResultCode>ValidCredentials</AuthenticationResultCode><TraceId>054875fc226a47e6ad038bd87972158f|BN00006C7B|0.0.0.1|Ref A: EF99427482604C28AB74CC45445B17BD Ref B: BN3EDGE1005 Ref C: 2023-12-27T14:13:54Z</TraceId><ResourceSets><ResourceSet><EstimatedTotal>1</EstimatedTotal><Resources><Location><Name>560 Turnpike Industrial Park Rd, Princeton, WV 24739</Name><Point><Latitude>37.3695533</Latitude><Longitude>-81.0400293</Longitude></Point><BoundingBox><SouthLatitude>37.365690582429323</SouthLatitude><WestLongitude>-81.046509460397715</WestLongitude><NorthLatitude>37.373416017570676</NorthLatitude><EastLongitude>-81.033549139602286</EastLongitude></BoundingBox><EntityType>Address</EntityType><Address><AddressLine>560 Turnpike Industrial Park Rd</AddressLine><AdminDistrict>WV</AdminDistrict><AdminDistrict2>Mercer County</AdminDistrict2><CountryRegion>United States</CountryRegion><FormattedAddress>560 Turnpike Industrial Park Rd, Princeton, WV 24739</FormattedAddress><Locality>Princeton</Locality><PostalCode>24739</PostalCode></Address><Confidence>High</Confidence><MatchCode>Good</MatchCode><GeocodePoint><Latitude>37.3695533</Latitude><Longitude>-81.0400293</Longitude><CalculationMethod>Rooftop</CalculationMethod><UsageType>Display</UsageType></GeocodePoint><GeocodePoint><Latitude>37.3695533</Latitude><Longitude>-81.040936</Longitude><CalculationMethod>Rooftop</CalculationMethod><UsageType>Route</UsageType></GeocodePoint></Location></Resources></ResourceSet></ResourceSets></Response>"},{"$f":"_xlfn.WEBSERVICE(\"https://dev.virtualearth.net/REST/v1/Routes/DistanceMatrix?origins=\"&$C$2&\",\"&$D$2&\"&destinations=\"&C5&\",\"&D5&\"&travelMode=driving&o=xml&key=\"&$A$2)","v":"<?xml version=\"1.0\" encoding=\"utf-8\"?><Response xmlns:xsi=\"http://www.w3.org/2001/XMLSchema-instance\" xmlns:xsd=\"http://www.w3.org/2001/XMLSchema\" xmlns=\"http://schemas.microsoft.com/search/local/ws/rest/v1\"><Copyright>Copyright © 2024 Microsoft and its suppliers. All rights reserved. This API cannot be accessed and the content and any results may not be used, reproduced or transmitted in any manner without express written permission from Microsoft Corporation.</Copyright><BrandLogoUri>https://dev.virtualearth.net/Branding/logo_powered_by.png</BrandLogoUri><StatusCode>200</StatusCode><StatusDescription>OK</StatusDescription><AuthenticationResultCode>ValidCredentials</AuthenticationResultCode><TraceId>367af0d7d7d383f7e8c80fe3cc1ab041</TraceId><ResourceSets><ResourceSet><EstimatedTotal>1</EstimatedTotal><Resources><Resource xsi:type=\"DistanceMatrix\"><Origins><Coordinate><Latitude>38.890548</Latitude><Longitude>-79.845938</Longitude></Coordinate></Origins><Destinations><Coordinate><Latitude>37.3695533</Latitude><Longitude>-81.0400293</Longitude></Coordinate></Destinations><Results><Distance><DepartureTime xsi:nil=\"true\" /><OriginIndex>0</OriginIndex><DestinationIndex>0</DestinationIndex><TravelDistance>306.224</TravelDistance><TravelDuration>188.7833</TravelDuration><TotalWalkDuration>0</TotalWalkDuration></Distance></Results></Resource></Resources></ResourceSet></ResourceSets></Response>"},{"$f":"_xlfn.FILTERXML(F5,\"//TravelDistance[1]\")*0.621371","v":190.27871310399999}]
["Belt Paving Inc., Waxler Road Plant","11269 Waxler Road, Keyser, WV 26726",{"$f":"_xlfn.FILTERXML(E6,\"//Latitude[1]\")","v":39.452212090000003},{"$f":"_xlfn.FILTERXML(E6,\"//Longitude[1]\")","v":-78.950894759999997},{"$f":"_xlfn.WEBSERVICE(\"http://dev.virtualearth.net/REST/v1/Locations?q=\"&B6&\"&maxResults=1&o=xml&key=\"&$A$2)","v":"<?xml version=\"1.0\" encoding=\"utf-8\"?><Response xmlns:xsi=\"http://www.w3.org/2001/XMLSchema-instance\" xmlns:xsd=\"http://www.w3.org/2001/XMLSchema\" xmlns=\"http://schemas.microsoft.com/search/local/ws/rest/v1\"><Copyright>Copyright © 2024 Microsoft and its suppliers. All rights reserved. This API cannot be accessed and the content and any results may not be used, reproduced or transmitted in any manner without express written permission from Microsoft Corporation.</Copyright><BrandLogoUri>http://dev.virtualearth.net/Branding/logo_powered_by.png</BrandLogoUri><StatusCode>200</StatusCode><StatusDescription>OK</StatusDescription><AuthenticationResultCode>ValidCredentials</AuthenticationResultCode><TraceId>6ec266161148783819bbf7f7877bbb5a</TraceId><ResourceSets><ResourceSet><EstimatedTotal>1</EstimatedTotal><Resources><Location><Name>Waxler Rd, Keyser, WV 26726</Name><Point><Latitude>39.45221209</Latitude><Longitude>-78.95089476</Longitude></Point><BoundingBox><SouthLatitude>39.44834937252502</SouthLatitude><WestLongitude>-78.95756440928668</WestLongitude><NorthLatitude>39.456074807666376</NorthLatitude><EastLongitude>-78.94422510446253</EastLongitude></BoundingBox><EntityType>RoadBlock</EntityType><Address><AddressLine>Waxler Rd</AddressLine><AdminDistrict>WV</AdminDistrict><AdminDistrict2>Mineral County</AdminDistrict2><CountryRegion>United States</CountryRegion><FormattedAddress>Waxler Rd, Keyser, WV 26726</FormattedAddress><Locality>Keyser</Locality><PostalCode>26726</PostalCode></Address><Confidence>Medium</Confidence><MatchCode>UpHierarchy</MatchCode><GeocodePoint><Latitude>39.45221209</Latitude><Longitude>-78.95089476</Longitude><CalculationMethod>Interpolation</CalculationMethod><UsageType>Display</UsageType></GeocodePoint></Location></Resources></ResourceSet></ResourceSets></Response>"},{"$f":"_xlfn.WEBSERVICE(\"https://dev.virtualearth.net/REST/v1/Routes/DistanceMatrix?origins=\"&$C$2&\",\"&$D$2&\"&destinations=\"&C6&\",\"&D6&\"&travelMode=driving&o=xml&key=\"&$A$2)","v":"<?xml version=\"1.0\" encoding=\"utf-8\"?><Response xmlns:xsi=\"http://www.w3.org/2001/XMLSchema-instance\" xmlns:xsd=\"http://www.w3.org/2001/XMLSchema\" xmlns=\"http://schemas.microsoft.com/search/local/ws/rest/v1\"><Copyright>Copyright © 2024 Microsoft and its suppliers. All rights reserved. This API cannot be accessed and the content and any results may not be used, reproduced or transmitted in any manner without express written permission from Microsoft Corporation.</Copyright><BrandLogoUri>https://dev.virtualearth.net/Branding/logo_powered_by.png</BrandLogoUri><StatusCode>200</StatusCode><StatusDescription>OK</StatusDescription><AuthenticationResultCode>ValidCredentials</AuthenticationResultCode><TraceId>05f5727423602feceb214c4e9d7ac776</TraceId><ResourceSets><ResourceSet><EstimatedTotal>1</EstimatedTotal><Resources><Resource xsi:type=\"DistanceMatrix\"><Origins><Coordinate><Latitude>38.890548</Latitude><Longitude>-79.845938</Longitude></Coordinate></Origins><Destinations><Coordinate><Latitude>39.45221209</Latitude><Longitude>-78.95089476</Longitude></Coordinate></Destinations><Results><Distance><DepartureTime xsi:nil=\"true\" /><OriginIndex>0</OriginIndex><DestinationIndex>0</DestinationIndex><TravelDistance>139.518</TravelDistance><TravelDuration>112.7833</TravelDuration><TotalWalkDuration>0</TotalWalkDuration></Distance></Results></Resource></Resources></ResourceSet></ResourceSets></Response>"},{"$f":"_xlfn.FILTERXML(F6,\"//TravelDistance[1]\")*0.621371","v":86.692439178000001}]
["BTI Contracting Inc. Kenova","2334 Route 52 Kenova, WV 25530",38.351735499999997,-82.592544700000005,"<?xml version=\"1.0\" encoding=\"utf-8\"?><Response xmlns:xsi=\"http://www.w3.org/2001/XMLSchema-instance\" xmlns:xsd=\"http://www.w3.org/2001/XMLSchema\" xmlns=\"http://schemas.microsoft.com/search/local/ws/rest/v1\"><Copyright>Copyright © 2024 Microsoft and its suppliers. All rights reserved. This API cannot be accessed and the content and any results may not be used, reproduced or transmitted in any manner without express written permission from Microsoft Corporation.</Copyright><BrandLogoUri>http://dev.virtualearth.net/Branding/logo_powered_by.png</BrandLogoUri><StatusCode>200</StatusCode><StatusDescription>OK</StatusDescription><AuthenticationResultCode>ValidCredentials</AuthenticationResultCode><TraceId>615068e834726fb845971f6169dda651</TraceId><ResourceSets><ResourceSet><EstimatedTotal>1</EstimatedTotal><Resources><Location><Name>2334 Route 52, Kenova, WV 25530</Name><Point><Latitude>38.3517355</Latitude><Longitude>-82.5925447</Longitude></Point><BoundingBox><SouthLatitude>38.34787278242932</SouthLatitude><WestLongitude>-82.599111784395</WestLongitude><NorthLatitude>38.35559821757067</NorthLatitude><EastLongitude>-82.585977615605</EastLongitude></BoundingBox><EntityType>Address</EntityType><Address><AddressLine>2334 Route 52</AddressLine><AdminDistrict>WV</AdminDistrict><AdminDistrict2>Wayne County</AdminDistrict2><CountryRegion>United States</CountryRegion><FormattedAddress>2334 Route 52, Kenova, WV 25530</FormattedAddress><Locality>Kenova</Locality><PostalCode>25530</PostalCode></Address><Confidence>High</Confidence><MatchCode>Good</MatchCode><GeocodePoint><Latitude>38.3517355</Latitude><Longitude>-82.5925447</Longitude><CalculationMethod>Rooftop</CalculationMethod><UsageType>Display</UsageType></GeocodePoint><GeocodePoint><Latitude>38.3517542</Latitude><Longitude>-82.5933867</Longitude><CalculationMethod>Rooftop</CalculationMethod><UsageType>Route</UsageType></GeocodePoint></Location></Resources></ResourceSet></ResourceSets></Response>","<?xml version=\"1.0\" encoding=\"utf-8\"?><Response xmlns:xsi=\"http://www.w3.org/2001/XMLSchema-instance\" xmlns:xsd=\"http://www.w3.org/2001/XMLSchema\" xmlns=\"http://schemas.microsoft.com/search/local/ws/rest/v1\"><Copyright>Copyright © 2024 Microsoft and its suppliers. All rights reserved. This API cannot be accessed and the content and any results may not be used, reproduced or transmitted in any manner without express written permission from Microsoft Corporation.</Copyright><BrandLogoUri>https://dev.virtualearth.net/Branding/logo_powered_by.png</BrandLogoUri><StatusCode>200</StatusCode><StatusDescription>OK</StatusDescription><AuthenticationResultCode>ValidCredentials</AuthenticationResultCode><TraceId>193a89697fcf5cc5916c88fbe713cc66</TraceId><ResourceSets><ResourceSet><EstimatedTotal>1</EstimatedTotal><Resources><Resource xsi:type=\"DistanceMatrix\"><Origins><Coordinate><Latitude>38.890548</Latitude><Longitude>-79.845938</Longitude></Coordinate></Origins><Destinations><Coordinate><Latitude>38.3517355</Latitude><Longitude>-82.5925447</Longitude></Coordinate></Destinations><Results><Distance><DepartureTime xsi:nil=\"true\" /><OriginIndex>0</OriginIndex><DestinationIndex>0</DestinationIndex><TravelDistance>322.897</TravelDistance><TravelDuration>185.6667</TravelDuration><TotalWalkDuration>0</TotalWalkDuration></Distance></Results></Resource></Resources></ResourceSet></ResourceSets></Response>",200.63883178699999]
["BTI Contracting Inc. St. Albans","484 Industrial Rd, St Albans, WV 25177",38.411186999999998,-81.851844799999995,"<?xml version=\"1.0\" encoding=\"utf-8\"?><Response xmlns:xsi=\"http://www.w3.org/2001/XMLSchema-instance\" xmlns:xsd=\"http://www.w3.org/2001/XMLSchema\" xmlns=\"http://schemas.microsoft.com/search/local/ws/rest/v1\"><Copyright>Copyright © 2024 Microsoft and its suppliers. All rights reserved. This API cannot be accessed and the content and any results may not be used, reproduced or transmitted in any manner without express written permission from Microsoft Corporation.</Copyright><BrandLogoUri>http://dev.virtualearth.net/Branding/logo_powered_by.png</BrandLogoUri><StatusCode>200</StatusCode><StatusDescription>OK</StatusDescription><AuthenticationResultCode>ValidCredentials</AuthenticationResultCode><TraceId>a37cf62f9dfab3fa53aafeceb10419a5</TraceId><ResourceSets><ResourceSet><EstimatedTotal>1</EstimatedTotal><Resources><Location><Name>484 Industrial Rd, St Albans, WV 25177</Name><Point><Latitude>38.411187</Latitude><Longitude>-81.8518448</Longitude></Point><BoundingBox><SouthLatitude>38.40732428242932</SouthLatitude><WestLongitude>-81.85841728311952</WestLongitude><NorthLatitude>38.415049717570675</NorthLatitude><EastLongitude>-81.84527231688047</EastLongitude></BoundingBox><EntityType>Address</EntityType><Address><AddressLine>484 Industrial Rd</AddressLine><AdminDistrict>WV</AdminDistrict><AdminDistrict2>Kanawha County</AdminDistrict2><CountryRegion>United States</CountryRegion><FormattedAddress>484 Industrial Rd, St Albans, WV 25177</FormattedAddress><Locality>St Albans</Locality><PostalCode>25177</PostalCode></Address><Confidence>High</Confidence><MatchCode>Good</MatchCode><GeocodePoint><Latitude>38.411187</Latitude><Longitude>-81.8518448</Longitude><CalculationMethod>Rooftop</CalculationMethod><UsageType>Display</UsageType></GeocodePoint><GeocodePoint><Latitude>38.4119865</Latitude><Longitude>-81.8523716</Longitude><CalculationMethod>Rooftop</CalculationMethod><UsageType>Route</UsageType></GeocodePoint></Location></Resources></ResourceSet></ResourceSets></Response>","<?xml version=\"1.0\" encoding=\"utf-8\"?><Response xmlns:xsi=\"http://www.w3.org/2001/XMLSchema-instance\" xmlns:xsd=\"http://www.w3.org/2001/XMLSchema\" xmlns=\"http://schemas.microsoft.com/search/local/ws/rest/v1\"><Copyright>Copyright © 2024 Microsoft and its suppliers. All rights reserved. This API cannot be accessed and the content and any results may not be used, reproduced or transmitted in any manner without express written permission from Microsoft Corporation.</Copyright><BrandLogoUri>https://dev.virtualearth.net/Branding/logo_powered_by.png</BrandLogoUri><StatusCode>200</StatusCode><StatusDescription>OK</StatusDescription><AuthenticationResultCode>ValidCredentials</AuthenticationResultCode><TraceId>cf8d7e2dbe9f639c4690293952eaedca</TraceId><ResourceSets><ResourceSet><EstimatedTotal>1</EstimatedTotal><Resources><Resource xsi:type=\"DistanceMatrix\"><Origins><Coordinate><Latitude>38.890548</Latitude><Longitude>-79.845938</Longitude></Coordinate></Origins><Destinations><Coordinate><Latitude>38.411187</Latitude><Longitude>-81.8518448</Longitude></Coordinate></Destinations><Results><Distance><DepartureTime xsi:nil=\"true\" /><OriginIndex>0</OriginIndex><DestinationIndex>0</DestinationIndex><TravelDistance>255.661</TravelDistance><TravelDuration>150.5333</TravelDuration><TotalWalkDuration>0</TotalWalkDuration></Distance></Results></Resource></Resources></ResourceSet></ResourceSets></Response>",158.860331231]
["C William Hetzer","10104 Mapleville Rd., Hagerstown MD 21740",39.592561000000003,-77.635773,"<?xml version=\"1.0\" encoding=\"utf-8\"?><Response xmlns:xsi=\"http://www.w3.org/2001/XMLSchema-instance\" xmlns:xsd=\"http://www.w3.org/2001/XMLSchema\" xmlns=\"http://schemas.microsoft.com/search/local/ws/rest/v1\"><Copyright>Copyright © 2024 Microsoft and its suppliers. All rights reserved. This API cannot be accessed and the content and any results may not be used, reproduced or transmitted in any manner without express written permission from Microsoft Corporation.</Copyright><BrandLogoUri>http://dev.virtualearth.net/Branding/logo_powered_by.png</BrandLogoUri><StatusCode>200</StatusCode><StatusDescription>OK</StatusDescription><AuthenticationResultCode>ValidCredentials</AuthenticationResultCode><TraceId>a30984809fccb9238b14a3c53e75c4d5</TraceId><ResourceSets><ResourceSet><EstimatedTotal>1</EstimatedTotal><Resources><Location><Name>10104 Mapleville Rd, Hagerstown, MD 21740</Name><Point><Latitude>39.592561</Latitude><Longitude>-77.635773</Longitude></Point><BoundingBox><SouthLatitude>39.58869828242933</SouthLatitude><WestLongitude>-77.6424561426417</WestLongitude><NorthLatitude>39.59642371757068</NorthLatitude><EastLongitude>-77.6290898573583</EastLongitude></BoundingBox><EntityType>Address</EntityType><Address><AddressLine>10104 Mapleville Rd</AddressLine><AdminDistrict>MD</AdminDistrict><AdminDistrict2>Washington County</AdminDistrict2><CountryRegion>United States</CountryRegion><FormattedAddress>10104 Mapleville Rd, Hagerstown, MD 21740</FormattedAddress><Locality>Hagerstown</Locality><PostalCode>21740</PostalCode></Address><Confidence>High</Confidence><MatchCode>Good</MatchCode><GeocodePoint><Latitude>39.592561</Latitude><Longitude>-77.635773</Longitude><CalculationMethod>Rooftop</CalculationMethod><UsageType>Display</UsageType></GeocodePoint><GeocodePoint><Latitude>39.5926189</Latitude><Longitude>-77.635656</Longitude><CalculationMethod>Rooftop</CalculationMethod><UsageType>Route</UsageType></GeocodePoint></Location></Resources></ResourceSet></ResourceSets></Response>","<?xml version=\"1.0\" encoding=\"utf-8\"?><Response xmlns:xsi=\"http://www.w3.org/2001/XMLSchema-instance\" xmlns:xsd=\"http://www.w3.org/2001/XMLSchema\" xmlns=\"http://schemas.microsoft.com/search/local/ws/rest/v1\"><Copyright>Copyright © 2024 Microsoft and its suppliers. All rights reserved. This API cannot be accessed and the content and any results may not be used, reproduced or transmitted in any manner without express written permission from Microsoft Corporation.</Copyright><BrandLogoUri>https://dev.virtualearth.net/Branding/logo_powered_by.png</BrandLogoUri><StatusCode>200</StatusCode><StatusDescription>OK</StatusDescription><AuthenticationResultCode>ValidCredentials</AuthenticationResultCode><TraceId>ac2a90c4454b8ded975b94693970c552</TraceId><ResourceSets><ResourceSet><EstimatedTotal>1</EstimatedTotal><Resources><Resource xsi:type=\"DistanceMatrix\"><Origins><Coordinate><Latitude>38.890548</Latitude><Longitude>-79.845938</Longitude></Coordinate></Origins><Destinations><Coordinate><Latitude>39.592561</Latitude><Longitude>-77.635773</Longitude></Coordinate></Destinations><Results><Distance><DepartureTime xsi:nil=\"true\" /><OriginIndex>0</OriginIndex><DestinationIndex>0</DestinationIndex><TravelDistance>282.49</TravelDistance><TravelDuration>197.6667</TravelDuration><TotalWalkDuration>0</TotalWalkDuration></Distance></Results></Resource></Resources></ResourceSet></ResourceSets></Response>",175.53109379]
["Cast & Baker Co.","Plant No. 1, 102 Center Street, Martins Ferry, OH 43950",40.098516609999997,-80.714992769999995,"<?xml version=\"1.0\" encoding=\"utf-8\"?><Response xmlns:xsi=\"http://www.w3.org/2001/XMLSchema-instance\" xmlns:xsd=\"http://www.w3.org/2001/XMLSchema\" xmlns=\"http://schemas.microsoft.com/search/local/ws/rest/v1\"><Copyright>Copyright © 2024 Microsoft and its suppliers. All rights reserved. This API cannot be accessed and the content and any results may not be used, reproduced or transmitted in any manner without express written permission from Microsoft Corporation.</Copyright><BrandLogoUri>http://dev.virtualearth.net/Branding/logo_powered_by.png</BrandLogoUri><StatusCode>200</StatusCode><StatusDescription>OK</StatusDescription><AuthenticationResultCode>ValidCredentials</AuthenticationResultCode><TraceId>fb75dc6356b8b09099c8c711efaa130f</TraceId><ResourceSets><ResourceSet><EstimatedTotal>1</EstimatedTotal><Resources><Location><Name>102 Center St, Martins Ferry, OH 43935</Name><Point><Latitude>40.09851661</Latitude><Longitude>-80.71499277</Longitude></Point><BoundingBox><SouthLatitude>40.09465389337309</SouthLatitude><WestLongitude>-80.72172534022964</WestLongitude><NorthLatitude>40.102379328514445</NorthLatitude><EastLongitude>-80.70826020385879</EastLongitude></BoundingBox><EntityType>Address</EntityType><Address><AddressLine>102 Center St</AddressLine><AdminDistrict>OH</AdminDistrict><AdminDistrict2>Belmont County</AdminDistrict2><CountryRegion>United States</CountryRegion><FormattedAddress>102 Center St, Martins Ferry, OH 43935</FormattedAddress><Locality>Martins Ferry</Locality><PostalCode>43935</PostalCode></Address><Confidence>High</Confidence><MatchCode>Good</MatchCode><GeocodePoint><Latitude>40.09851661</Latitude><Longitude>-80.71499277</Longitude><CalculationMethod>InterpolationOffset</CalculationMethod><UsageType>Display</UsageType></GeocodePoint><GeocodePoint><Latitude>40.09848455</Latitude><Longitude>-80.71503399</Longitude><CalculationMethod>Interpolation</CalculationMethod><UsageType>Route</UsageType></GeocodePoint></Location></Resources></ResourceSet></ResourceSets></Response>","<?xml version=\"1.0\" encoding=\"utf-8\"?><Response xmlns:xsi=\"http://www.w3.org/2001/XMLSchema-instance\" xmlns:xsd=\"http://www.w3.org/2001/XMLSchema\" xmlns=\"http://schemas.microsoft.com/search/local/ws/rest/v1\"><Copyright>Copyright © 2024 Microsoft and its suppliers. All rights reserved. This API cannot be accessed and the content and any results may not be used, reproduced or transmitted in any manner without express written permission from Microsoft Corporation.</Copyright><BrandLogoUri>https://dev.virtualearth.net/Branding/logo_powered_by.png</BrandLogoUri><StatusCode>200</StatusCode><StatusDescription>OK</StatusDescription><AuthenticationResultCode>ValidCredentials</AuthenticationResultCode><TraceId>253e5c1cca6063f51a591c36058c49d5</TraceId><ResourceSets><ResourceSet><EstimatedTotal>1</EstimatedTotal><Resources><Resource xsi:type=\"DistanceMatrix\"><Origins><Coordinate><Latitude>38.890548</Latitude><Longitude>-79.845938</Longitude></Coordinate></Origins><Destinations><Coordinate><Latitude>40.09851661</Latitude><Longitude>-80.71499277</Longitude></Coordinate></Destinations><Results><Distance><DepartureTime xsi:nil=\"true\" /><OriginIndex>0</OriginIndex><DestinationIndex>0</DestinationIndex><TravelDistance>278.536</TravelDistance><TravelDuration>164.4</TravelDuration><TotalWalkDuration>0</TotalWalkDuration></Distance></Results></Resource></Resources></ResourceSet></ResourceSets></Response>",173.074192856]
["Greenbrier Excavating & Paving Inc.","232 Rambler Rd., Lewisburg, WV24901",37.782969000000001,-80.478222000000002,"<?xml version=\"1.0\" encoding=\"utf-8\"?><Response xmlns:xsi=\"http://www.w3.org/2001/XMLSchema-instance\" xmlns:xsd=\"http://www.w3.org/2001/XMLSchema\" xmlns=\"http://schemas.microsoft.com/search/local/ws/rest/v1\"><Copyright>Copyright © 2024 Microsoft and its suppliers. All rights reserved. This API cannot be accessed and the content and any results may not be used, reproduced or transmitted in any manner without express written permission from Microsoft Corporation.</Copyright><BrandLogoUri>http://dev.virtualearth.net/Branding/logo_powered_by.png</BrandLogoUri><StatusCode>200</StatusCode><StatusDescription>OK</StatusDescription><AuthenticationResultCode>ValidCredentials</AuthenticationResultCode><TraceId>d18db8d8751cc7c75e7c0e6516045eac</TraceId><ResourceSets><ResourceSet><EstimatedTotal>1</EstimatedTotal><Resources><Location><Name>232 Rambler Rd, Lewisburg, WV 24901</Name><Point><Latitude>37.782969</Latitude><Longitude>-80.478222</Longitude></Point><BoundingBox><SouthLatitude>37.779106282429325</SouthLatitude><WestLongitude>-80.484738232829</WestLongitude><NorthLatitude>37.78683171757068</NorthLatitude><EastLongitude>-80.471705767171</EastLongitude></BoundingBox><EntityType>Address</EntityType><Address><AddressLine>232 Rambler Rd</AddressLine><AdminDistrict>WV</AdminDistrict><AdminDistrict2>Greenbrier County</AdminDistrict2><CountryRegion>United States</CountryRegion><FormattedAddress>232 Rambler Rd, Lewisburg, WV 24901</FormattedAddress><Locality>Lewisburg</Locality><PostalCode>24901</PostalCode></Address><Confidence>High</Confidence><MatchCode>Good</MatchCode><GeocodePoint><Latitude>37.782969</Latitude><Longitude>-80.478222</Longitude><CalculationMethod>Rooftop</CalculationMethod><UsageType>Display</UsageType></GeocodePoint><GeocodePoint><Latitude>37.7827555</Latitude><Longitude>-80.4780665</Longitude><CalculationMethod>Rooftop</CalculationMethod><UsageType>Route</UsageType></GeocodePoint></Location></Resources></ResourceSet></ResourceSets></Response>","<?xml version=\"1.0\" encoding=\"utf-8\"?><Response xmlns:xsi=\"http://www.w3.org/2001/XMLSchema-instance\" xmlns:xsd=\"http://www.w3.org/2001/XMLSchema\" xmlns=\"http://schemas.microsoft.com/search/local/ws/rest/v1\"><Copyright>Copyright © 2024 Microsoft and its suppliers. All rights reserved. This API cannot be accessed and the content and any results may not be used, reproduced or transmitted in any manner without express written permission from Microsoft Corporation.</Copyright><BrandLogoUri>https://dev.virtualearth.net/Branding/logo_powered_by.png</BrandLogoUri><StatusCode>200</StatusCode><StatusDescription>OK</StatusDescription><AuthenticationResultCode>ValidCredentials</AuthenticationResultCode><TraceId>df78bc6608c83a1c7b527af09a1182c0</TraceId><ResourceSets><ResourceSet><EstimatedTotal>1</EstimatedTotal><Resources><Resource xsi:type=\"DistanceMatrix\"><Origins><Coordinate><Latitude>38.890548</Latitude><Longitude>-79.845938</Longitude></Coordinate></Origins><Destinations><Coordinate><Latitude>37.782969</Latitude><Longitude>-80.478222</Longitude></Coordinate></Destinations><Results><Distance><DepartureTime xsi:nil=\"true\" /><OriginIndex>0</OriginIndex><DestinationIndex>0</DestinationIndex><TravelDistance>169.216</TravelDistance><TravelDuration>155.45</TravelDuration><TotalWalkDuration>0</TotalWalkDuration></Distance></Results></Resource></Resources></ResourceSet></ResourceSets></Response>",105.145915136]
["Greer Industries Inc., Buckeye Asphalt Co.","442 Blaney Hollow Rd., Morgantown, WV 26508",39.700747999999997,-79.791695000000004,"<?xml version=\"1.0\" encoding=\"utf-8\"?><Response xmlns:xsi=\"http://www.w3.org/2001/XMLSchema-instance\" xmlns:xsd=\"http://www.w3.org/2001/XMLSchema\" xmlns=\"http://schemas.microsoft.com/search/local/ws/rest/v1\"><Copyright>Copyright © 2024 Microsoft and its suppliers. All rights reserved. This API cannot be accessed and the content and any results may not be used, reproduced or transmitted in any manner without express written permission from Microsoft Corporation.</Copyright><BrandLogoUri>http://dev.virtualearth.net/Branding/logo_powered_by.png</BrandLogoUri><StatusCode>200</StatusCode><StatusDescription>OK</StatusDescription><AuthenticationResultCode>ValidCredentials</AuthenticationResultCode><TraceId>1a4751f18f2d896fa79665154fe2eb7b</TraceId><ResourceSets><ResourceSet><EstimatedTotal>1</EstimatedTotal><Resources><Location><Name>442 Blaney Hollow Rd, Morgantown, WV 26508</Name><Point><Latitude>39.700748</Latitude><Longitude>-79.791695</Longitude></Point><BoundingBox><SouthLatitude>39.69688528242932</SouthLatitude><WestLongitude>-79.79838860625712</WestLongitude><NorthLatitude>39.704610717570674</NorthLatitude><EastLongitude>-79.78500139374289</EastLongitude></BoundingBox><EntityType>Address</EntityType><Address><AddressLine>442 Blaney Hollow Rd</AddressLine><AdminDistrict>WV</AdminDistrict><AdminDistrict2>Monongalia County</AdminDistrict2><CountryRegion>United States</CountryRegion><FormattedAddress>442 Blaney Hollow Rd, Morgantown, WV 26508</FormattedAddress><Locality>Morgantown</Locality><PostalCode>26508</PostalCode></Address><Confidence>High</Confidence><MatchCode>Good</MatchCode><GeocodePoint><Latitude>39.700748</Latitude><Longitude>-79.791695</Longitude><CalculationMethod>Rooftop</CalculationMethod><UsageType>Display</UsageType></GeocodePoint><GeocodePoint><Latitude>39.700917</Latitude><Longitude>-79.791695</Longitude><CalculationMethod>Rooftop</CalculationMethod><UsageType>Route</UsageType></GeocodePoint></Location></Resources></ResourceSet></ResourceSets></Response>","<?xml version=\"1.0\" encoding=\"utf-8\"?><Response xmlns:xsi=\"http://www.w3.org/2001/XMLSchema-instance\" xmlns:xsd=\"http://www.w3.org/2001/XMLSchema\" xmlns=\"http://schemas.microsoft.com/search/local/ws/rest/v1\"><Copyright>Copyright © 2024 Microsoft and its suppliers. All rights reserved. This API cannot be accessed and the content and any results may not be used, reproduced or transmitted in any manner without express written permission from Microsoft Corporation.</Copyright><BrandLogoUri>https://dev.virtualearth.net/Branding/logo_powered_by.png</BrandLogoUri><StatusCode>200</StatusCode><StatusDescription>OK</StatusDescription><AuthenticationResultCode>ValidCredentials</AuthenticationResultCode><TraceId>032a6a07ea14e25248df7343bc89c322</TraceId><ResourceSets><ResourceSet><EstimatedTotal>1</EstimatedTotal><Resources><Resource xsi:type=\"DistanceMatrix\"><Origins><Coordinate><Latitude>38.890548</Latitude><Longitude>-79.845938</Longitude></Coordinate></Origins><Destinations><Coordinate><Latitude>39.700748</Latitude><Longitude>-79.791695</Longitude></Coordinate></Destinations><Results><Distance><DepartureTime xsi:nil=\"true\" /><OriginIndex>0</OriginIndex><DestinationIndex>0</DestinationIndex><TravelDistance>169.892</TravelDistance><TravelDuration>109.8167</TravelDuration><TotalWalkDuration>0</TotalWalkDuration></Distance></Results></Resource></Resources></ResourceSet></ResourceSets></Response>",105.56596193199999]
["Greer Industries Inc., Clarksburg Asphalt Co.","2399 Benedum Dr. Rt. 131, Bridgeport,WV 26330",39.317276,-80.220161000000004,"<?xml version=\"1.0\" encoding=\"utf-8\"?><Response xmlns:xsi=\"http://www.w3.org/2001/XMLSchema-instance\" xmlns:xsd=\"http://www.w3.org/2001/XMLSchema\" xmlns=\"http://schemas.microsoft.com/search/local/ws/rest/v1\"><Copyright>Copyright © 2024 Microsoft and its suppliers. All rights reserved. This API cannot be accessed and the content and any results may not be used, reproduced or transmitted in any manner without express written permission from Microsoft Corporation.</Copyright><BrandLogoUri>http://dev.virtualearth.net/Branding/logo_powered_by.png</BrandLogoUri><StatusCode>200</StatusCode><StatusDescription>OK</StatusDescription><AuthenticationResultCode>ValidCredentials</AuthenticationResultCode><TraceId>78c015e6982b3b7c2026e5eccfa93734</TraceId><ResourceSets><ResourceSet><EstimatedTotal>1</EstimatedTotal><Resources><Location><Name>2399 Benedum Dr, Bridgeport, WV 26330</Name><Point><Latitude>39.317276</Latitude><Longitude>-80.220161</Longitude></Point><BoundingBox><SouthLatitude>39.31341328242932</SouthLatitude><WestLongitude>-80.22681777129796</WestLongitude><NorthLatitude>39.321138717570676</NorthLatitude><EastLongitude>-80.21350422870205</EastLongitude></BoundingBox><EntityType>Address</EntityType><Address><AddressLine>2399 Benedum Dr</AddressLine><AdminDistrict>WV</AdminDistrict><AdminDistrict2>Harrison County</AdminDistrict2><CountryRegion>United States</CountryRegion><FormattedAddress>2399 Benedum Dr, Bridgeport, WV 26330</FormattedAddress><Locality>Bridgeport</Locality><PostalCode>26330</PostalCode></Address><Confidence>High</Confidence><MatchCode>Good</MatchCode><GeocodePoint><Latitude>39.317276</Latitude><Longitude>-80.220161</Longitude><CalculationMethod>Rooftop</CalculationMethod><UsageType>Display</UsageType></GeocodePoint><GeocodePoint><Latitude>39.3171989</Latitude><Longitude>-80.2203045</Longitude><CalculationMethod>Rooftop</CalculationMethod><UsageType>Route</UsageType></GeocodePoint></Location></Resources></ResourceSet></ResourceSets></Response>","<?xml version=\"1.0\" encoding=\"utf-8\"?><Response xmlns:xsi=\"http://www.w3.org/2001/XMLSchema-instance\" xmlns:xsd=\"http://www.w3.org/2001/XMLSchema\" xmlns=\"http://schemas.microsoft.com/search/local/ws/rest/v1\"><Copyright>Copyright © 2024 Microsoft and its suppliers. All rights reserved. This API cannot be accessed and the content and any results may not be used, reproduced or transmitted in any manner without express written permission from Microsoft Corporation.</Copyright><BrandLogoUri>https://dev.virtualearth.net/Branding/logo_powered_by.png</BrandLogoUri><StatusCode>200</StatusCode><StatusDescription>OK</StatusDescription><AuthenticationResultCode>ValidCredentials</AuthenticationResultCode><TraceId>6260c4e2675c7017b51e38a2989e3a29</TraceId><ResourceSets><ResourceSet><EstimatedTotal>1</EstimatedTotal><Resources><Resource xsi:type=\"DistanceMatrix\"><Origins><Coordinate><Latitude>38.890548</Latitude><Longitude>-79.845938</Longitude></Coordinate></Origins><Destinations><Coordinate><Latitude>39.317276</Latitude><Longitude>-80.220161</Longitude></Coordinate></Destinations><Results><Distance><DepartureTime xsi:nil=\"true\" /><OriginIndex>0</OriginIndex><DestinationIndex>0</DestinationIndex><TravelDistance>109.015</TravelDistance><TravelDuration>71.1</TravelDuration><TotalWalkDuration>0</TotalWalkDuration></Distance></Results></Resource></Resources></ResourceSet></ResourceSets></Response>",67.738759564999995]
["Greer Industries Inc., Greer Asphalt Co.","8410 Veteran Memorial Hwy., Masontown, WV 26542",39.563948119999999,-79.815869379999995,"<?xml version=\"1.0\" encoding=\"utf-8\"?><Response xmlns:xsi=\"http://www.w3.org/2001/XMLSchema-instance\" xmlns:xsd=\"http://www.w3.org/2001/XMLSchema\" xmlns=\"http://schemas.microsoft.com/search/local/ws/rest/v1\"><Copyright>Copyright © 2024 Microsoft and its suppliers. All rights reserved. This API cannot be accessed and the content and any results may not be used, reproduced or transmitted in any manner without express written permission from Microsoft Corporation.</Copyright><BrandLogoUri>http://dev.virtualearth.net/Branding/logo_powered_by.png</BrandLogoUri><StatusCode>200</StatusCode><StatusDescription>OK</StatusDescription><AuthenticationResultCode>ValidCredentials</AuthenticationResultCode><TraceId>862b1cb4df953b9d4ef03350f7000d03</TraceId><ResourceSets><ResourceSet><EstimatedTotal>1</EstimatedTotal><Resources><Location><Name>8410 Veterans Memorial Hwy, Cascade, WV 26542</Name><Point><Latitude>39.56394812</Latitude><Longitude>-79.81586938</Longitude></Point><BoundingBox><SouthLatitude>39.560085399968116</SouthLatitude><WestLongitude>-79.82254976075752</WestLongitude><NorthLatitude>39.56781083510947</NorthLatitude><EastLongitude>-79.80918899133299</EastLongitude></BoundingBox><EntityType>Address</EntityType><Address><AddressLine>8410 Veterans Memorial Hwy</AddressLine><AdminDistrict>WV</AdminDistrict><AdminDistrict2>Preston County</AdminDistrict2><CountryRegion>United States</CountryRegion><FormattedAddress>8410 Veterans Memorial Hwy, Cascade, WV 26542</FormattedAddress><Locality>Cascade</Locality><PostalCode>26542</PostalCode></Address><Confidence>High</Confidence><MatchCode>Good</MatchCode><GeocodePoint><Latitude>39.56394812</Latitude><Longitude>-79.81586938</Longitude><CalculationMethod>InterpolationOffset</CalculationMethod><UsageType>Display</UsageType></GeocodePoint><GeocodePoint><Latitude>39.56390595</Latitude><Longitude>-79.81588962</Longitude><CalculationMethod>Interpolation</CalculationMethod><UsageType>Route</UsageType></GeocodePoint></Location></Resources></ResourceSet></ResourceSets></Response>","<?xml version=\"1.0\" encoding=\"utf-8\"?><Response xmlns:xsi=\"http://www.w3.org/2001/XMLSchema-instance\" xmlns:xsd=\"http://www.w3.org/2001/XMLSchema\" xmlns=\"http://schemas.microsoft.com/search/local/ws/rest/v1\"><Copyright>Copyright © 2024 Microsoft and its suppliers. All rights reserved. This API cannot be accessed and the content and any results may not be used, reproduced or transmitted in any manner without express written permission from Microsoft Corporation.</Copyright><BrandLogoUri>https://dev.virtualearth.net/Branding/logo_powered_by.png</BrandLogoUri><StatusCode>200</StatusCode><StatusDescription>OK</StatusDescription><AuthenticationResultCode>ValidCredentials</AuthenticationResultCode><TraceId>e0e639c89829820f532218f34e1b88d8</TraceId><ResourceSets><ResourceSet><EstimatedTotal>1</EstimatedTotal><Resources><Resource xsi:type=\"DistanceMatrix\"><Origins><Coordinate><Latitude>38.890548</Latitude><Longitude>-79.845938</Longitude></Coordinate></Origins><Destinations><Coordinate><Latitude>39.56394812</Latitude><Longitude>-79.81586938</Longitude></Coordinate></Destinations><Results><Distance><DepartureTime xsi:nil=\"true\" /><OriginIndex>0</OriginIndex><DestinationIndex>0</DestinationIndex><TravelDistance>100.051</TravelDistance><TravelDuration>87.5333</TravelDuration><TotalWalkDuration>0</TotalWalkDuration></Distance></Results></Resource></Resources></ResourceSet></ResourceSets></Response>",62.168789920999998]
["JF Allen Company, Buckhannon Plant","320 Alcon Rd., Buckhannon, WV 26201",39.009224000000003,-80.311760000000007,"<?xml version=\"1.0\" encoding=\"utf-8\"?><Response xmlns:xsi=\"http://www.w3.org/2001/XMLSchema-instance\" xmlns:xsd=\"http://www.w3.org/2001/XMLSchema\" xmlns=\"http://schemas.microsoft.com/search/local/ws/rest/v1\"><Copyright>Copyright © 2024 Microsoft and its suppliers. All rights reserved. This API cannot be accessed and the content and any results may not be used, reproduced or transmitted in any manner without express written permission from Microsoft Corporation.</Copyright><BrandLogoUri>http://dev.virtualearth.net/Branding/logo_powered_by.png</BrandLogoUri><StatusCode>200</StatusCode><StatusDescription>OK</StatusDescription><AuthenticationResultCode>ValidCredentials</AuthenticationResultCode><TraceId>712d8b43c1de1db5841c27bebb6a9535</TraceId><ResourceSets><ResourceSet><EstimatedTotal>1</EstimatedTotal><Resources><Location><Name>320 Alcon Rd, Buckhannon, WV 26201</Name><Point><Latitude>39.009224</Latitude><Longitude>-80.31176</Longitude></Point><BoundingBox><SouthLatitude>39.00536128242933</SouthLatitude><WestLongitude>-80.31838768728531</WestLongitude><NorthLatitude>39.01308671757068</NorthLatitude><EastLongitude>-80.3051323127147</EastLongitude></BoundingBox><EntityType>Address</EntityType><Address><AddressLine>320 Alcon Rd</AddressLine><AdminDistrict>WV</AdminDistrict><AdminDistrict2>Upshur County</AdminDistrict2><CountryRegion>United States</CountryRegion><FormattedAddress>320 Alcon Rd, Buckhannon, WV 26201</FormattedAddress><Locality>Buckhannon</Locality><PostalCode>26201</PostalCode></Address><Confidence>High</Confidence><MatchCode>Good</MatchCode><GeocodePoint><Latitude>39.009224</Latitude><Longitude>-80.31176</Longitude><CalculationMethod>Rooftop</CalculationMethod><UsageType>Display</UsageType></GeocodePoint><GeocodePoint><Latitude>39.0084885</Latitude><Longitude>-80.3094556</Longitude><CalculationMethod>Rooftop</CalculationMethod><UsageType>Route</UsageType></GeocodePoint></Location></Resources></ResourceSet></ResourceSets></Response>","<?xml version=\"1.0\" encoding=\"utf-8\"?><Response xmlns:xsi=\"http://www.w3.org/2001/XMLSchema-instance\" xmlns:xsd=\"http://www.w3.org/2001/XMLSchema\" xmlns=\"http://schemas.microsoft.com/search/local/ws/rest/v1\"><Copyright>Copyright © 2024 Microsoft and its suppliers. All rights reserved. This API cannot be accessed and the content and any results may not be used, reproduced or transmitted in any manner without express written permission from Microsoft Corporation.</Copyright><BrandLogoUri>https://dev.virtualearth.net/Branding/logo_powered_by.png</BrandLogoUri><StatusCode>200</StatusCode><StatusDescription>OK</StatusDescription><AuthenticationResultCode>ValidCredentials</AuthenticationResultCode><TraceId>0566119ebb51f737d92d4edd031669c5</TraceId><ResourceSets><ResourceSet><EstimatedTotal>1</EstimatedTotal><Resources><Resource xsi:type=\"DistanceMatrix\"><Origins><Coordinate><Latitude>38.890548</Latitude><Longitude>-79.845938</Longitude></Coordinate></Origins><Destinations><Coordinate><Latitude>39.009224</Latitude><Longitude>-80.31176</Longitude></Coordinate></Destinations><Results><Distance><DepartureTime xsi:nil=\"true\" /><OriginIndex>0</OriginIndex><DestinationIndex>0</DestinationIndex><TravelDistance>52.333</TravelDistance><TravelDuration>40.35</TravelDuration><TotalWalkDuration>0</TotalWalkDuration></Distance></Results></Resource></Resources></ResourceSet></ResourceSets></Response>",32.518208543]
["JF Allen Company, Elkins Plant","3105 Harrison Ave., Elkins, WV 26201",38.931954849999997,-79.866689050000005,"<?xml version=\"1.0\" encoding=\"utf-8\"?><Response xmlns:xsi=\"http://www.w3.org/2001/XMLSchema-instance\" xmlns:xsd=\"http://www.w3.org/2001/XMLSchema\" xmlns=\"http://schemas.microsoft.com/search/local/ws/rest/v1\"><Copyright>Copyright © 2024 Microsoft and its suppliers. All rights reserved. This API cannot be accessed and the content and any results may not be used, reproduced or transmitted in any manner without express written permission from Microsoft Corporation.</Copyright><BrandLogoUri>http://dev.virtualearth.net/Branding/logo_powered_by.png</BrandLogoUri><StatusCode>200</StatusCode><StatusDescription>OK</StatusDescription><AuthenticationResultCode>ValidCredentials</AuthenticationResultCode><TraceId>465a60d636e3c390ef5106bc9d3f96eb</TraceId><ResourceSets><ResourceSet><EstimatedTotal>1</EstimatedTotal><Resources><Location><Name>Harrison Ave, Elkins, WV 26241</Name><Point><Latitude>38.93195485</Latitude><Longitude>-79.86668905</Longitude></Point><BoundingBox><SouthLatitude>38.928092132602224</SouthLatitude><WestLongitude>-79.87330951162018</WestLongitude><NorthLatitude>38.93581756774358</NorthLatitude><EastLongitude>-79.86006858786122</EastLongitude></BoundingBox><EntityType>RoadBlock</EntityType><Address><AddressLine>Harrison Ave</AddressLine><AdminDistrict>WV</AdminDistrict><AdminDistrict2>Randolph County</AdminDistrict2><CountryRegion>United States</CountryRegion><FormattedAddress>Harrison Ave, Elkins, WV 26241</FormattedAddress><Locality>Elkins</Locality><PostalCode>26241</PostalCode></Address><Confidence>Medium</Confidence><MatchCode>UpHierarchy</MatchCode><GeocodePoint><Latitude>38.93195485</Latitude><Longitude>-79.86668905</Longitude><CalculationMethod>Interpolation</CalculationMethod><UsageType>Display</UsageType></GeocodePoint></Location></Resources></ResourceSet></ResourceSets></Response>","<?xml version=\"1.0\" encoding=\"utf-8\"?><Response xmlns:xsi=\"http://www.w3.org/2001/XMLSchema-instance\" xmlns:xsd=\"http://www.w3.org/2001/XMLSchema\" xmlns=\"http://schemas.microsoft.com/search/local/ws/rest/v1\"><Copyright>Copyright © 2024 Microsoft and its suppliers. All rights reserved. This API cannot be accessed and the content and any results may not be used, reproduced or transmitted in any manner without express written permission from Microsoft Corporation.</Copyright><BrandLogoUri>https://dev.virtualearth.net/Branding/logo_powered_by.png</BrandLogoUri><StatusCode>200</StatusCode><StatusDescription>OK</StatusDescription><AuthenticationResultCode>ValidCredentials</AuthenticationResultCode><TraceId>1a4077071857029f0527489ccacfcd8e</TraceId><ResourceSets><ResourceSet><EstimatedTotal>1</EstimatedTotal><Resources><Resource xsi:type=\"DistanceMatrix\"><Origins><Coordinate><Latitude>38.890548</Latitude><Longitude>-79.845938</Longitude></Coordinate></Origins><Destinations><Coordinate><Latitude>38.93195485</Latitude><Longitude>-79.86668905</Longitude></Coordinate></Destinations><Results><Distance><DepartureTime xsi:nil=\"true\" /><OriginIndex>0</OriginIndex><DestinationIndex>0</DestinationIndex><TravelDistance>6.477</TravelDistance><TravelDuration>11.1667</TravelDuration><TotalWalkDuration>0</TotalWalkDuration></Distance></Results></Resource></Resources></ResourceSet></ResourceSets></Response>",4.0246199670000005]
["JF Allen Company, Saltwell Plant","5856 Saltwell Rd., Bridgeport, WV 26330",39.3437068,-80.237798499999997,"<?xml version=\"1.0\" encoding=\"utf-8\"?><Response xmlns:xsi=\"http://www.w3.org/2001/XMLSchema-instance\" xmlns:xsd=\"http://www.w3.org/2001/XMLSchema\" xmlns=\"http://schemas.microsoft.com/search/local/ws/rest/v1\"><Copyright>Copyright © 2024 Microsoft and its suppliers. All rights reserved. This API cannot be accessed and the content and any results may not be used, reproduced or transmitted in any manner without express written permission from Microsoft Corporation.</Copyright><BrandLogoUri>http://dev.virtualearth.net/Branding/logo_powered_by.png</BrandLogoUri><StatusCode>200</StatusCode><StatusDescription>OK</StatusDescription><AuthenticationResultCode>ValidCredentials</AuthenticationResultCode><TraceId>ca2b8bd7bbe7d2fc899ba407ae7ec36e</TraceId><ResourceSets><ResourceSet><EstimatedTotal>1</EstimatedTotal><Resources><Location><Name>5856 Saltwell Rd, Bridgeport, WV 26330</Name><Point><Latitude>39.3437068</Latitude><Longitude>-80.2377985</Longitude></Point><BoundingBox><SouthLatitude>39.33984408242932</SouthLatitude><WestLongitude>-80.24445778757709</WestLongitude><NorthLatitude>39.347569517570676</NorthLatitude><EastLongitude>-80.2311392124229</EastLongitude></BoundingBox><EntityType>Address</EntityType><Address><AddressLine>5856 Saltwell Rd</AddressLine><AdminDistrict>WV</AdminDistrict><AdminDistrict2>Harrison County</AdminDistrict2><CountryRegion>United States</CountryRegion><FormattedAddress>5856 Saltwell Rd, Bridgeport, WV 26330</FormattedAddress><Locality>Bridgeport</Locality><PostalCode>26330</PostalCode></Address><Confidence>High</Confidence><MatchCode>Good</MatchCode><GeocodePoint><Latitude>39.3437068</Latitude><Longitude>-80.2377985</Longitude><CalculationMethod>Rooftop</CalculationMethod><UsageType>Display</UsageType></GeocodePoint><GeocodePoint><Latitude>39.34404</Latitude><Longitude>-80.2376053</Longitude><CalculationMethod>Rooftop</CalculationMethod><UsageType>Route</UsageType></GeocodePoint></Location></Resources></ResourceSet></ResourceSets></Response>","<?xml version=\"1.0\" encoding=\"utf-8\"?><Response xmlns:xsi=\"http://www.w3.org/2001/XMLSchema-instance\" xmlns:xsd=\"http://www.w3.org/2001/XMLSchema\" xmlns=\"http://schemas.microsoft.com/search/local/ws/rest/v1\"><Copyright>Copyright © 2024 Microsoft and its suppliers. All rights reserved. This API cannot be accessed and the content and any results may not be used, reproduced or transmitted in any manner without express written permission from Microsoft Corporation.</Copyright><BrandLogoUri>https://dev.virtualearth.net/Branding/logo_powered_by.png</BrandLogoUri><StatusCode>200</StatusCode><StatusDescription>OK</StatusDescription><AuthenticationResultCode>ValidCredentials</AuthenticationResultCode><TraceId>a7ea6f4cd496643132e48476fe56208f</TraceId><ResourceSets><ResourceSet><EstimatedTotal>1</EstimatedTotal><Resources><Resource xsi:type=\"DistanceMatrix\"><Origins><Coordinate><Latitude>38.890548</Latitude><Longitude>-79.845938</Longitude></Coordinate></Origins><Destinations><Coordinate><Latitude>39.3437068</Latitude><Longitude>-80.2377985</Longitude></Coordinate></Destinations><Results><Distance><DepartureTime xsi:nil=\"true\" /><OriginIndex>0</OriginIndex><DestinationIndex>0</DestinationIndex><TravelDistance>108.378</TravelDistance><TravelDuration>71.6833</TravelDuration><TotalWalkDuration>0</TotalWalkDuration></Distance></Results></Resource></Resources></ResourceSet></ResourceSets></Response>",67.342946237999996]
["Kelly Paving Inc., Camden Materials","202 Hickory St., Parkersburg, WV 26101",39.250304999999997,-81.530139000000005,"<?xml version=\"1.0\" encoding=\"utf-8\"?><Response xmlns:xsi=\"http://www.w3.org/2001/XMLSchema-instance\" xmlns:xsd=\"http://www.w3.org/2001/XMLSchema\" xmlns=\"http://schemas.microsoft.com/search/local/ws/rest/v1\"><Copyright>Copyright © 2024 Microsoft and its suppliers. All rights reserved. This API cannot be accessed and the content and any results may not be used, reproduced or transmitted in any manner without express written permission from Microsoft Corporation.</Copyright><BrandLogoUri>http://dev.virtualearth.net/Branding/logo_powered_by.png</BrandLogoUri><StatusCode>200</StatusCode><StatusDescription>OK</StatusDescription><AuthenticationResultCode>ValidCredentials</AuthenticationResultCode><TraceId>a9749dc1040e46afbdded50742a43c0a</TraceId><ResourceSets><ResourceSet><EstimatedTotal>1</EstimatedTotal><Resources><Location><Name>202 Hickory St, Parkersburg, WV 26101</Name><Point><Latitude>39.250305</Latitude><Longitude>-81.530139</Longitude></Point><BoundingBox><SouthLatitude>39.24644228242932</SouthLatitude><WestLongitude>-81.53678941032561</WestLongitude><NorthLatitude>39.254167717570674</NorthLatitude><EastLongitude>-81.5234885896744</EastLongitude></BoundingBox><EntityType>Address</EntityType><Address><AddressLine>202 Hickory St</AddressLine><AdminDistrict>WV</AdminDistrict><AdminDistrict2>Wood County</AdminDistrict2><CountryRegion>United States</CountryRegion><FormattedAddress>202 Hickory St, Parkersburg, WV 26101</FormattedAddress><Locality>Parkersburg</Locality><PostalCode>26101</PostalCode></Address><Confidence>High</Confidence><MatchCode>Good</MatchCode><GeocodePoint><Latitude>39.250305</Latitude><Longitude>-81.530139</Longitude><CalculationMethod>Rooftop</CalculationMethod><UsageType>Display</UsageType></GeocodePoint><GeocodePoint><Latitude>39.250102</Latitude><Longitude>-81.530018</Longitude><CalculationMethod>Rooftop</CalculationMethod><UsageType>Route</UsageType></GeocodePoint></Location></Resources></ResourceSet></ResourceSets></Response>","<?xml version=\"1.0\" encoding=\"utf-8\"?><Response xmlns:xsi=\"http://www.w3.org/2001/XMLSchema-instance\" xmlns:xsd=\"http://www.w3.org/2001/XMLSchema\" xmlns=\"http://schemas.microsoft.com/search/local/ws/rest/v1\"><Copyright>Copyright © 2024 Microsoft and its suppliers. All rights reserved. This API cannot be accessed and the content and any results may not be used, reproduced or transmitted in any manner without express written permission from Microsoft Corporation.</Copyright><BrandLogoUri>https://dev.virtualearth.net/Branding/logo_powered_by.png</BrandLogoUri><StatusCode>200</StatusCode><StatusDescription>OK</StatusDescription><AuthenticationResultCode>ValidCredentials</AuthenticationResultCode><TraceId>3a8a28f604b88a0bc8afa6ec621558ca</TraceId><ResourceSets><ResourceSet><EstimatedTotal>1</EstimatedTotal><Resources><Resource xsi:type=\"DistanceMatrix\"><Origins><Coordinate><Latitude>38.890548</Latitude><Longitude>-79.845938</Longitude></Coordinate></Origins><Destinations><Coordinate><Latitude>39.250305</Latitude><Longitude>-81.530139</Longitude></Coordinate></Destinations><Results><Distance><DepartureTime xsi:nil=\"true\" /><OriginIndex>0</OriginIndex><DestinationIndex>0</DestinationIndex><TravelDistance>223.051</TravelDistance><TravelDuration>141.1</TravelDuration><TotalWalkDuration>0</TotalWalkDuration></Distance></Results></Resource></Resources></ResourceSet></ResourceSets></Response>",138.597422921]
["Kelly Paving Inc., Plant #14","123 Dodd Dr., St. Marys, WV 26170",39.443725499999999,-81.128723100000002,"<?xml version=\"1.0\" encoding=\"utf-8\"?><Response xmlns:xsi=\"http://www.w3.org/2001/XMLSchema-instance\" xmlns:xsd=\"http://www.w3.org/2001/XMLSchema\" xmlns=\"http://schemas.microsoft.com/search/local/ws/rest/v1\"><Copyright>Copyright © 2024 Microsoft and its suppliers. All rights reserved. This API cannot be accessed and the content and any results may not be used, reproduced or transmitted in any manner without express written permission from Microsoft Corporation.</Copyright><BrandLogoUri>http://dev.virtualearth.net/Branding/logo_powered_by.png</BrandLogoUri><StatusCode>200</StatusCode><StatusDescription>OK</StatusDescription><AuthenticationResultCode>ValidCredentials</AuthenticationResultCode><TraceId>9e2e88b4085a1916cebd7d05d74e8962</TraceId><ResourceSets><ResourceSet><EstimatedTotal>1</EstimatedTotal><Resources><Location><Name>123 Dodd Dr, St Marys, WV 26170</Name><Point><Latitude>39.4437255</Latitude><Longitude>-81.1287231</Longitude></Point><BoundingBox><SouthLatitude>39.43986278242932</SouthLatitude><WestLongitude>-81.13539193971548</WestLongitude><NorthLatitude>39.447588217570676</NorthLatitude><EastLongitude>-81.12205426028453</EastLongitude></BoundingBox><EntityType>Address</EntityType><Address><AddressLine>123 Dodd Dr</AddressLine><AdminDistrict>WV</AdminDistrict><AdminDistrict2>Pleasants County</AdminDistrict2><CountryRegion>United States</CountryRegion><FormattedAddress>123 Dodd Dr, St Marys, WV 26170</FormattedAddress><Locality>St Marys</Locality><PostalCode>26170</PostalCode></Address><Confidence>High</Confidence><MatchCode>Good</MatchCode><GeocodePoint><Latitude>39.4437255</Latitude><Longitude>-81.1287231</Longitude><CalculationMethod>Rooftop</CalculationMethod><UsageType>Display</UsageType></GeocodePoint><GeocodePoint><Latitude>39.443768</Latitude><Longitude>-81.1286555</Longitude><CalculationMethod>Rooftop</CalculationMethod><UsageType>Route</UsageType></GeocodePoint></Location></Resources></ResourceSet></ResourceSets></Response>","<?xml version=\"1.0\" encoding=\"utf-8\"?><Response xmlns:xsi=\"http://www.w3.org/2001/XMLSchema-instance\" xmlns:xsd=\"http://www.w3.org/2001/XMLSchema\" xmlns=\"http://schemas.microsoft.com/search/local/ws/rest/v1\"><Copyright>Copyright © 2024 Microsoft and its suppliers. All rights reserved. This API cannot be accessed and the content and any results may not be used, reproduced or transmitted in any manner without express written permission from Microsoft Corporation.</Copyright><BrandLogoUri>https://dev.virtualearth.net/Branding/logo_powered_by.png</BrandLogoUri><StatusCode>200</StatusCode><StatusDescription>OK</StatusDescription><AuthenticationResultCode>ValidCredentials</AuthenticationResultCode><TraceId>f632962fbc654e728de14b6242abf0bf</TraceId><ResourceSets><ResourceSet><EstimatedTotal>1</EstimatedTotal><Resources><Resource xsi:type=\"DistanceMatrix\"><Origins><Coordinate><Latitude>38.890548</Latitude><Longitude>-79.845938</Longitude></Coordinate></Origins><Destinations><Coordinate><Latitude>39.4437255</Latitude><Longitude>-81.1287231</Longitude></Coordinate></Destinations><Results><Distance><DepartureTime xsi:nil=\"true\" /><OriginIndex>0</OriginIndex><DestinationIndex>0</DestinationIndex><TravelDistance>201.63</TravelDistance><TravelDuration>136.2</TravelDuration><TotalWalkDuration>0</TotalWalkDuration></Distance></Results></Resource></Resources></ResourceSet></ResourceSets></Response>",125.28703473]
["Kelly Paving Inc., Plant #23 Weirton Facility","4260 Freedom Way, Weirton, WV 26062",40.388728800000003,-80.599987200000001,"<?xml version=\"1.0\" encoding=\"utf-8\"?><Response xmlns:xsi=\"http://www.w3.org/2001/XMLSchema-instance\" xmlns:xsd=\"http://www.w3.org/2001/XMLSchema\" xmlns=\"http://schemas.microsoft.com/search/local/ws/rest/v1\"><Copyright>Copyright © 2024 Microsoft and its suppliers. All rights reserved. This API cannot be accessed and the content and any results may not be used, reproduced or transmitted in any manner without express written permission from Microsoft Corporation.</Copyright><BrandLogoUri>http://dev.virtualearth.net/Branding/logo_powered_by.png</BrandLogoUri><StatusCode>200</StatusCode><StatusDescription>OK</StatusDescription><AuthenticationResultCode>ValidCredentials</AuthenticationResultCode><TraceId>0f462033d92b6abe1fc396479b94b227</TraceId><ResourceSets><ResourceSet><EstimatedTotal>1</EstimatedTotal><Resources><Location><Name>4260 Freedom Way, Weirton, WV 26062</Name><Point><Latitude>40.3887288</Latitude><Longitude>-80.5999872</Longitude></Point><BoundingBox><SouthLatitude>40.384866082429326</SouthLatitude><WestLongitude>-80.60674868883977</WestLongitude><NorthLatitude>40.39259151757068</NorthLatitude><EastLongitude>-80.59322571116023</EastLongitude></BoundingBox><EntityType>Address</EntityType><Address><AddressLine>4260 Freedom Way</AddressLine><AdminDistrict>WV</AdminDistrict><AdminDistrict2>Hancock County</AdminDistrict2><CountryRegion>United States</CountryRegion><FormattedAddress>4260 Freedom Way, Weirton, WV 26062</FormattedAddress><Locality>Weirton</Locality><PostalCode>26062</PostalCode></Address><Confidence>High</Confidence><MatchCode>Good</MatchCode><GeocodePoint><Latitude>40.3887288</Latitude><Longitude>-80.5999872</Longitude><CalculationMethod>Rooftop</CalculationMethod><UsageType>Display</UsageType></GeocodePoint><GeocodePoint><Latitude>40.389042</Latitude><Longitude>-80.599748</Longitude><CalculationMethod>Rooftop</CalculationMethod><UsageType>Route</UsageType></GeocodePoint></Location></Resources></ResourceSet></ResourceSets></Response>","<?xml version=\"1.0\" encoding=\"utf-8\"?><Response xmlns:xsi=\"http://www.w3.org/2001/XMLSchema-instance\" xmlns:xsd=\"http://www.w3.org/2001/XMLSchema\" xmlns=\"http://schemas.microsoft.com/search/local/ws/rest/v1\"><Copyright>Copyright © 2024 Microsoft and its suppliers. All rights reserved. This API cannot be accessed and the content and any results may not be used, reproduced or transmitted in any manner without express written permission from Microsoft Corporation.</Copyright><BrandLogoUri>https://dev.virtualearth.net/Branding/logo_powered_by.png</BrandLogoUri><StatusCode>200</StatusCode><StatusDescription>OK</StatusDescription><AuthenticationResultCode>ValidCredentials</AuthenticationResultCode><TraceId>ca876c84384dcaa4f581a5702c079bfc</TraceId><ResourceSets><ResourceSet><EstimatedTotal>1</EstimatedTotal><Resources><Resource xsi:type=\"DistanceMatrix\"><Origins><Coordinate><Latitude>38.890548</Latitude><Longitude>-79.845938</Longitude></Coordinate></Origins><Destinations><Coordinate><Latitude>40.3887288</Latitude><Longitude>-80.5999872</Longitude></Coordinate></Destinations><Results><Distance><DepartureTime xsi:nil=\"true\" /><OriginIndex>0</OriginIndex><DestinationIndex>0</DestinationIndex><TravelDistance>290.447</TravelDistance><TravelDuration>168.2</TravelDuration><TotalWalkDuration>0</TotalWalkDuration></Distance></Results></Resource></Resources></ResourceSet></ResourceSets></Response>",180.475342837]
["Kelly Paving Inc., Plant #8, Benwood Facility","#1 Industrial Park Dr., Benwood, WV 26031",39.994008999999998,-80.734493999999998,"<?xml version=\"1.0\" encoding=\"utf-8\"?><Response xmlns:xsi=\"http://www.w3.org/2001/XMLSchema-instance\" xmlns:xsd=\"http://www.w3.org/2001/XMLSchema\" xmlns=\"http://schemas.microsoft.com/search/local/ws/rest/v1\"><Copyright>Copyright © 2024 Microsoft and its suppliers. All rights reserved. This API cannot be accessed and the content and any results may not be used, reproduced or transmitted in any manner without express written permission from Microsoft Corporation.</Copyright><BrandLogoUri>http://dev.virtualearth.net/Branding/logo_powered_by.png</BrandLogoUri><StatusCode>200</StatusCode><StatusDescription>OK</StatusDescription><AuthenticationResultCode>ValidCredentials</AuthenticationResultCode><TraceId>a3260556e12fceaca6add76c38cf4b3f</TraceId><ResourceSets><ResourceSet><EstimatedTotal>1</EstimatedTotal><Resources><Location><Name>1 Industrial Park Rd, Benwood, WV 26031</Name><Point><Latitude>39.994009</Latitude><Longitude>-80.734494</Longitude></Point><BoundingBox><SouthLatitude>39.99014628242932</SouthLatitude><WestLongitude>-80.74121625626424</WestLongitude><NorthLatitude>39.997871717570675</NorthLatitude><EastLongitude>-80.72777174373576</EastLongitude></BoundingBox><EntityType>Address</EntityType><Address><AddressLine>1 Industrial Park Rd</AddressLine><AdminDistrict>WV</AdminDistrict><AdminDistrict2>Marshall County</AdminDistrict2><CountryRegion>United States</CountryRegion><FormattedAddress>1 Industrial Park Rd, Benwood, WV 26031</FormattedAddress><Locality>Benwood</Locality><PostalCode>26031</PostalCode></Address><Confidence>High</Confidence><MatchCode>Good</MatchCode><GeocodePoint><Latitude>39.994009</Latitude><Longitude>-80.734494</Longitude><CalculationMethod>Rooftop</CalculationMethod><UsageType>Display</UsageType></GeocodePoint><GeocodePoint><Latitude>39.9938548</Latitude><Longitude>-80.7343514</Longitude><CalculationMethod>Rooftop</CalculationMethod><UsageType>Route</UsageType></GeocodePoint></Location></Resources></ResourceSet></ResourceSets></Response>","<?xml version=\"1.0\" encoding=\"utf-8\"?><Response xmlns:xsi=\"http://www.w3.org/2001/XMLSchema-instance\" xmlns:xsd=\"http://www.w3.org/2001/XMLSchema\" xmlns=\"http://schemas.microsoft.com/search/local/ws/rest/v1\"><Copyright>Copyright © 2024 Microsoft and its suppliers. All rights reserved. This API cannot be accessed and the content and any results may not be used, reproduced or transmitted in any manner without express written permission from Microsoft Corporation.</Copyright><BrandLogoUri>https://dev.virtualearth.net/Branding/logo_powered_by.png</BrandLogoUri><StatusCode>200</StatusCode><StatusDescription>OK</StatusDescription><AuthenticationResultCode>ValidCredentials</AuthenticationResultCode><TraceId>ca25fdd9abebddcd9ad0e126d0dfbd14</TraceId><ResourceSets><ResourceSet><EstimatedTotal>1</EstimatedTotal><Resources><Resource xsi:type=\"DistanceMatrix\"><Origins><Coordinate><Latitude>38.890548</Latitude><Longitude>-79.845938</Longitude></Coordinate></Origins><Destinations><Coordinate><Latitude>39.994009</Latitude><Longitude>-80.734494</Longitude></Coordinate></Destinations><Results><Distance><DepartureTime xsi:nil=\"true\" /><OriginIndex>0</OriginIndex><DestinationIndex>0</DestinationIndex><TravelDistance>279.296</TravelDistance><TravelDuration>162.1</TravelDuration><TotalWalkDuration>0</TotalWalkDuration></Distance></Results></Resource></Resources></ResourceSet></ResourceSets></Response>",173.54643481599999]
["Klug Bros","State Rte 2 South Lafayette Ave., Moundsville WV",39.913938999999999,-80.747657000000004,"<?xml version=\"1.0\" encoding=\"utf-8\"?><Response xmlns:xsi=\"http://www.w3.org/2001/XMLSchema-instance\" xmlns:xsd=\"http://www.w3.org/2001/XMLSchema\" xmlns=\"http://schemas.microsoft.com/search/local/ws/rest/v1\"><Copyright>Copyright © 2024 Microsoft and its suppliers. All rights reserved. This API cannot be accessed and the content and any results may not be used, reproduced or transmitted in any manner without express written permission from Microsoft Corporation.</Copyright><BrandLogoUri>http://dev.virtualearth.net/Branding/logo_powered_by.png</BrandLogoUri><StatusCode>200</StatusCode><StatusDescription>OK</StatusDescription><AuthenticationResultCode>ValidCredentials</AuthenticationResultCode><TraceId>072137ec93d2274cbbda7a524e6d1af8</TraceId><ResourceSets><ResourceSet><EstimatedTotal>1</EstimatedTotal><Resources><Location><Name>2 Lafayette Ave, Moundsville, WV 26041</Name><Point><Latitude>39.913939</Latitude><Longitude>-80.747657</Longitude></Point><BoundingBox><SouthLatitude>39.91007628242932</SouthLatitude><WestLongitude>-80.75437139208019</WestLongitude><NorthLatitude>39.917801717570676</NorthLatitude><EastLongitude>-80.74094260791982</EastLongitude></BoundingBox><EntityType>Address</EntityType><Address><AddressLine>2 Lafayette Ave</AddressLine><AdminDistrict>WV</AdminDistrict><AdminDistrict2>Marshall County</AdminDistrict2><CountryRegion>United States</CountryRegion><FormattedAddress>2 Lafayette Ave, Moundsville, WV 26041</FormattedAddress><Locality>Moundsville</Locality><PostalCode>26041</PostalCode></Address><Confidence>Low</Confidence><MatchCode>Good</MatchCode><GeocodePoint><Latitude>39.913939</Latitude><Longitude>-80.747657</Longitude><CalculationMethod>Rooftop</CalculationMethod><UsageType>Display</UsageType></GeocodePoint><GeocodePoint><Latitude>39.9139418</Latitude><Longitude>-80.7476903</Longitude><CalculationMethod>Rooftop</CalculationMethod><UsageType>Route</UsageType></GeocodePoint></Location></Resources></ResourceSet></ResourceSets></Response>","<?xml version=\"1.0\" encoding=\"utf-8\"?><Response xmlns:xsi=\"http://www.w3.org/2001/XMLSchema-instance\" xmlns:xsd=\"http://www.w3.org/2001/XMLSchema\" xmlns=\"http://schemas.microsoft.com/search/local/ws/rest/v1\"><Copyright>Copyright © 2024 Microsoft and its suppliers. All rights reserved. This API cannot be accessed and the content and any results may not be used, reproduced or transmitted in any manner without express written permission from Microsoft Corporation.</Copyright><BrandLogoUri>https://dev.virtualearth.net/Branding/logo_powered_by.png</BrandLogoUri><StatusCode>200</StatusCode><StatusDescription>OK</StatusDescription><AuthenticationResultCode>ValidCredentials</AuthenticationResultCode><TraceId>7a65a6a158b0bab7605b77c408978b0e</TraceId><ResourceSets><ResourceSet><EstimatedTotal>1</EstimatedTotal><Resources><Resource xsi:type=\"DistanceMatrix\"><Origins><Coordinate><Latitude>38.890548</Latitude><Longitude>-79.845938</Longitude></Coordinate></Origins><Destinations><Coordinate><Latitude>39.913939</Latitude><Longitude>-80.747657</Longitude></Coordinate></Destinations><Results><Distance><DepartureTime xsi:nil=\"true\" /><OriginIndex>0</OriginIndex><DestinationIndex>0</DestinationIndex><TravelDistance>288.379</TravelDistance><TravelDuration>171.0667</TravelDuration><TotalWalkDuration>0</TotalWalkDuration></Distance></Results></Resource></Resources></ResourceSet></ResourceSets></Response>",179.19034760900001]
["Klug Bros","Foot of Wetzel St., New Martinsville WV",39.65348255,-80.857986800000006,"<?xml version=\"1.0\" encoding=\"utf-8\"?><Response xmlns:xsi=\"http://www.w3.org/2001/XMLSchema-instance\" xmlns:xsd=\"http://www.w3.org/2001/XMLSchema\" xmlns=\"http://schemas.microsoft.com/search/local/ws/rest/v1\"><Copyright>Copyright © 2024 Microsoft and its suppliers. All rights reserved. This API cannot be accessed and the content and any results may not be used, reproduced or transmitted in any manner without express written permission from Microsoft Corporation.</Copyright><BrandLogoUri>http://dev.virtualearth.net/Branding/logo_powered_by.png</BrandLogoUri><StatusCode>200</StatusCode><StatusDescription>OK</StatusDescription><AuthenticationResultCode>ValidCredentials</AuthenticationResultCode><TraceId>bb93f2c9fa4f80c37198f9d67dcb96c8</TraceId><ResourceSets><ResourceSet><EstimatedTotal>1</EstimatedTotal><Resources><Location><Name>Wetzel St, New Martinsville, WV 26155</Name><Point><Latitude>39.65348255</Latitude><Longitude>-80.8579868</Longitude></Point><BoundingBox><SouthLatitude>39.64961983569172</SouthLatitude><WestLongitude>-80.86467582696719</WestLongitude><NorthLatitude>39.657345270833076</NorthLatitude><EastLongitude>-80.85129777120181</EastLongitude></BoundingBox><EntityType>RoadBlock</EntityType><Address><AddressLine>Wetzel St</AddressLine><AdminDistrict>WV</AdminDistrict><AdminDistrict2>Wetzel County</AdminDistrict2><CountryRegion>United States</CountryRegion><FormattedAddress>Wetzel St, New Martinsville, WV 26155</FormattedAddress><Locality>New Martinsville</Locality><PostalCode>26155</PostalCode></Address><Confidence>High</Confidence><MatchCode>Good</MatchCode><GeocodePoint><Latitude>39.65348255</Latitude><Longitude>-80.8579868</Longitude><CalculationMethod>Interpolation</CalculationMethod><UsageType>Display</UsageType></GeocodePoint></Location></Resources></ResourceSet></ResourceSets></Response>","<?xml version=\"1.0\" encoding=\"utf-8\"?><Response xmlns:xsi=\"http://www.w3.org/2001/XMLSchema-instance\" xmlns:xsd=\"http://www.w3.org/2001/XMLSchema\" xmlns=\"http://schemas.microsoft.com/search/local/ws/rest/v1\"><Copyright>Copyright © 2024 Microsoft and its suppliers. All rights reserved. This API cannot be accessed and the content and any results may not be used, reproduced or transmitted in any manner without express written permission from Microsoft Corporation.</Copyright><BrandLogoUri>https://dev.virtualearth.net/Branding/logo_powered_by.png</BrandLogoUri><StatusCode>200</StatusCode><StatusDescription>OK</StatusDescription><AuthenticationResultCode>ValidCredentials</AuthenticationResultCode><TraceId>9978f35f8808139d3f00e1cea5991da0</TraceId><ResourceSets><ResourceSet><EstimatedTotal>1</EstimatedTotal><Resources><Resource xsi:type=\"DistanceMatrix\"><Origins><Coordinate><Latitude>38.890548</Latitude><Longitude>-79.845938</Longitude></Coordinate></Origins><Destinations><Coordinate><Latitude>39.65348255</Latitude><Longitude>-80.8579868</Longitude></Coordinate></Destinations><Results><Distance><DepartureTime xsi:nil=\"true\" /><OriginIndex>0</OriginIndex><DestinationIndex>0</DestinationIndex><TravelDistance>197.095</TravelDistance><TravelDuration>150.5167</TravelDuration><TotalWalkDuration>0</TotalWalkDuration></Distance></Results></Resource></Resources></ResourceSet></ResourceSets></Response>",122.46911724500001]
["Meadows Stone & Paving Inc., Gassaway Stoneyard","661 B&O Railroad Yard, Gassaway, WV 26624",39.122074130000001,-94.752067569999994,"<?xml version=\"1.0\" encoding=\"utf-8\"?><Response xmlns:xsi=\"http://www.w3.org/2001/XMLSchema-instance\" xmlns:xsd=\"http://www.w3.org/2001/XMLSchema\" xmlns=\"http://schemas.microsoft.com/search/local/ws/rest/v1\"><Copyright>Copyright © 2024 Microsoft and its suppliers. All rights reserved. This API cannot be accessed and the content and any results may not be used, reproduced or transmitted in any manner without express written permission from Microsoft Corporation.</Copyright><BrandLogoUri>http://dev.virtualearth.net/Branding/logo_powered_by.png</BrandLogoUri><StatusCode>200</StatusCode><StatusDescription>OK</StatusDescription><AuthenticationResultCode>ValidCredentials</AuthenticationResultCode><TraceId>b8950b593130e10279bf137b48077960</TraceId><ResourceSets><ResourceSet><EstimatedTotal>1</EstimatedTotal><Resources><Location><Name>661, KS</Name><Point><Latitude>39.12207413</Latitude><Longitude>-94.75206757</Longitude></Point><BoundingBox><SouthLatitude>39.043487548828125</SouthLatitude><WestLongitude>-94.90843963623047</WestLongitude><NorthLatitude>39.226627349853516</NorthLatitude><EastLongitude>-94.58807373046875</EastLongitude></BoundingBox><EntityType>Postcode2</EntityType><Address><AdminDistrict>KS</AdminDistrict><AdminDistrict2>Wyandotte County</AdminDistrict2><CountryRegion>United States</CountryRegion><FormattedAddress>661, KS</FormattedAddress><Locality>Kansas City</Locality><PostalCode>661</PostalCode></Address><Confidence>Low</Confidence><MatchCode>Good</MatchCode><GeocodePoint><Latitude>39.12207413</Latitude><Longitude>-94.75206757</Longitude><CalculationMethod>Rooftop</CalculationMethod><UsageType>Display</UsageType></GeocodePoint></Location></Resources></ResourceSet></ResourceSets></Response>","<?xml version=\"1.0\" encoding=\"utf-8\"?><Response xmlns:xsi=\"http://www.w3.org/2001/XMLSchema-instance\" xmlns:xsd=\"http://www.w3.org/2001/XMLSchema\" xmlns=\"http://schemas.microsoft.com/search/local/ws/rest/v1\"><Copyright>Copyright © 2024 Microsoft and its suppliers. All rights reserved. This API cannot be accessed and the content and any results may not be used, reproduced or transmitted in any manner without express written permission from Microsoft Corporation.</Copyright><BrandLogoUri>https://dev.virtualearth.net/Branding/logo_powered_by.png</BrandLogoUri><StatusCode>200</StatusCode><StatusDescription>OK</StatusDescription><AuthenticationResultCode>ValidCredentials</AuthenticationResultCode><TraceId>34efe573fed183175d95ccb3fe854c46</TraceId><ResourceSets><ResourceSet><EstimatedTotal>1</EstimatedTotal><Resources><Resource xsi:type=\"DistanceMatrix\"><Origins><Coordinate><Latitude>38.890548</Latitude><Longitude>-79.845938</Longitude></Coordinate></Origins><Destinations><Coordinate><Latitude>39.12207413</Latitude><Longitude>-94.75206757</Longitude></Coordinate></Destinations><Results><Distance><DepartureTime xsi:nil=\"true\" /><OriginIndex>0</OriginIndex><DestinationIndex>0</DestinationIndex><TravelDistance>1451.416</TravelDistance><TravelDuration>756.8667</TravelDuration><TotalWalkDuration>0</TotalWalkDuration></Distance></Results></Resource></Resources></ResourceSet></ResourceSets></Response>",901.86781133599993]
["Meadows Stone & Paving Inc., Monterville Quarry","3401 Point Mountain Rd., Valley Head, WV 26294",38.547280100000002,-80.0775857,"<?xml version=\"1.0\" encoding=\"utf-8\"?><Response xmlns:xsi=\"http://www.w3.org/2001/XMLSchema-instance\" xmlns:xsd=\"http://www.w3.org/2001/XMLSchema\" xmlns=\"http://schemas.microsoft.com/search/local/ws/rest/v1\"><Copyright>Copyright © 2024 Microsoft and its suppliers. All rights reserved. This API cannot be accessed and the content and any results may not be used, reproduced or transmitted in any manner without express written permission from Microsoft Corporation.</Copyright><BrandLogoUri>http://dev.virtualearth.net/Branding/logo_powered_by.png</BrandLogoUri><StatusCode>200</StatusCode><StatusDescription>OK</StatusDescription><AuthenticationResultCode>ValidCredentials</AuthenticationResultCode><TraceId>bd9c2d1d7c3b5761c97ec6ccf5ea0633</TraceId><ResourceSets><ResourceSet><EstimatedTotal>1</EstimatedTotal><Resources><Location><Name>3401 Point Mountain Rd, Valley Head, WV 26294</Name><Point><Latitude>38.5472801</Latitude><Longitude>-80.0775857</Longitude></Point><BoundingBox><SouthLatitude>38.543417382429325</SouthLatitude><WestLongitude>-80.08417060179364</WestLongitude><NorthLatitude>38.55114281757068</NorthLatitude><EastLongitude>-80.07100079820636</EastLongitude></BoundingBox><EntityType>Address</EntityType><Address><AddressLine>3401 Point Mountain Rd</AddressLine><AdminDistrict>WV</AdminDistrict><AdminDistrict2>Randolph County</AdminDistrict2><CountryRegion>United States</CountryRegion><FormattedAddress>3401 Point Mountain Rd, Valley Head, WV 26294</FormattedAddress><Locality>Valley Head</Locality><PostalCode>26294</PostalCode></Address><Confidence>High</Confidence><MatchCode>Good</MatchCode><GeocodePoint><Latitude>38.5472801</Latitude><Longitude>-80.0775857</Longitude><CalculationMethod>Rooftop</CalculationMethod><UsageType>Display</UsageType></GeocodePoint><GeocodePoint><Latitude>38.5473373</Latitude><Longitude>-80.0773168</Longitude><CalculationMethod>Rooftop</CalculationMethod><UsageType>Route</UsageType></GeocodePoint></Location></Resources></ResourceSet></ResourceSets></Response>","<?xml version=\"1.0\" encoding=\"utf-8\"?><Response xmlns:xsi=\"http://www.w3.org/2001/XMLSchema-instance\" xmlns:xsd=\"http://www.w3.org/2001/XMLSchema\" xmlns=\"http://schemas.microsoft.com/search/local/ws/rest/v1\"><Copyright>Copyright © 2024 Microsoft and its suppliers. All rights reserved. This API cannot be accessed and the content and any results may not be used, reproduced or transmitted in any manner without express written permission from Microsoft Corporation.</Copyright><BrandLogoUri>https://dev.virtualearth.net/Branding/logo_powered_by.png</BrandLogoUri><StatusCode>200</StatusCode><StatusDescription>OK</StatusDescription><AuthenticationResultCode>ValidCredentials</AuthenticationResultCode><TraceId>0a31126313a8d827a0824e8fbc86553c</TraceId><ResourceSets><ResourceSet><EstimatedTotal>1</EstimatedTotal><Resources><Resource xsi:type=\"DistanceMatrix\"><Origins><Coordinate><Latitude>38.890548</Latitude><Longitude>-79.845938</Longitude></Coordinate></Origins><Destinations><Coordinate><Latitude>38.5472801</Latitude><Longitude>-80.0775857</Longitude></Coordinate></Destinations><Results><Distance><DepartureTime xsi:nil=\"true\" /><OriginIndex>0</OriginIndex><DestinationIndex>0</DestinationIndex><TravelDistance>52.819</TravelDistance><TravelDuration>45.5833</TravelDuration><TotalWalkDuration>0</TotalWalkDuration></Distance></Results></Resource></Resources></ResourceSet></ResourceSets></Response>",32.820194849000004]
["New Enterprise Stone & Lime Co Inc., Ashcom Plant","526 Ashcom Rd., Everett, PA 15537",40.004663999999998,-78.419014000000004,"<?xml version=\"1.0\" encoding=\"utf-8\"?><Response xmlns:xsi=\"http://www.w3.org/2001/XMLSchema-instance\" xmlns:xsd=\"http://www.w3.org/2001/XMLSchema\" xmlns=\"http://schemas.microsoft.com/search/local/ws/rest/v1\"><Copyright>Copyright © 2024 Microsoft and its suppliers. All rights reserved. This API cannot be accessed and the content and any results may not be used, reproduced or transmitted in any manner without express written permission from Microsoft Corporation.</Copyright><BrandLogoUri>http://dev.virtualearth.net/Branding/logo_powered_by.png</BrandLogoUri><StatusCode>200</StatusCode><StatusDescription>OK</StatusDescription><AuthenticationResultCode>ValidCredentials</AuthenticationResultCode><TraceId>ba7ee000e4f5a6d37c0245f9fd07068c</TraceId><ResourceSets><ResourceSet><EstimatedTotal>1</EstimatedTotal><Resources><Location><Name>526 Ashcom Rd, Everett, PA 15537</Name><Point><Latitude>40.004664</Latitude><Longitude>-78.419014</Longitude></Point><BoundingBox><SouthLatitude>40.00080128242932</SouthLatitude><WestLongitude>-78.42573730513898</WestLongitude><NorthLatitude>40.008526717570675</NorthLatitude><EastLongitude>-78.41229069486103</EastLongitude></BoundingBox><EntityType>Address</EntityType><Address><AddressLine>526 Ashcom Rd</AddressLine><AdminDistrict>PA</AdminDistrict><AdminDistrict2>Bedford County</AdminDistrict2><CountryRegion>United States</CountryRegion><FormattedAddress>526 Ashcom Rd, Everett, PA 15537</FormattedAddress><Locality>Everett</Locality><PostalCode>15537</PostalCode></Address><Confidence>High</Confidence><MatchCode>Good</MatchCode><GeocodePoint><Latitude>40.004664</Latitude><Longitude>-78.419014</Longitude><CalculationMethod>Rooftop</CalculationMethod><UsageType>Display</UsageType></GeocodePoint><GeocodePoint><Latitude>40.0049109</Latitude><Longitude>-78.4188761</Longitude><CalculationMethod>Rooftop</CalculationMethod><UsageType>Route</UsageType></GeocodePoint></Location></Resources></ResourceSet></ResourceSets></Response>","<?xml version=\"1.0\" encoding=\"utf-8\"?><Response xmlns:xsi=\"http://www.w3.org/2001/XMLSchema-instance\" xmlns:xsd=\"http://www.w3.org/2001/XMLSchema\" xmlns=\"http://schemas.microsoft.com/search/local/ws/rest/v1\"><Copyright>Copyright © 2024 Microsoft and its suppliers. All rights reserved. This API cannot be accessed and the content and any results may not be used, reproduced or transmitted in any manner without express written permission from Microsoft Corporation.</Copyright><BrandLogoUri>https://dev.virtualearth.net/Branding/logo_powered_by.png</BrandLogoUri><StatusCode>200</StatusCode><StatusDescription>OK</StatusDescription><AuthenticationResultCode>ValidCredentials</AuthenticationResultCode><TraceId>117226044fc6581749d2860dee0ff9f8</TraceId><ResourceSets><ResourceSet><EstimatedTotal>1</EstimatedTotal><Resources><Resource xsi:type=\"DistanceMatrix\"><Origins><Coordinate><Latitude>38.890548</Latitude><Longitude>-79.845938</Longitude></Coordinate></Origins><Destinations><Coordinate><Latitude>40.004664</Latitude><Longitude>-78.419014</Longitude></Coordinate></Destinations><Results><Distance><DepartureTime xsi:nil=\"true\" /><OriginIndex>0</OriginIndex><DestinationIndex>0</DestinationIndex><TravelDistance>228.694</TravelDistance><TravelDuration>182.1</TravelDuration><TotalWalkDuration>0</TotalWalkDuration></Distance></Results></Resource></Resources></ResourceSet></ResourceSets></Response>",142.10381947400001]
["New Enterprise Stone & Lime Co Inc., Chambersburg Plant","2921 Stone Quarry Rd., Chambersburg, PA 17202",39.890884399999997,-77.6426108,"<?xml version=\"1.0\" encoding=\"utf-8\"?><Response xmlns:xsi=\"http://www.w3.org/2001/XMLSchema-instance\" xmlns:xsd=\"http://www.w3.org/2001/XMLSchema\" xmlns=\"http://schemas.microsoft.com/search/local/ws/rest/v1\"><Copyright>Copyright © 2024 Microsoft and its suppliers. All rights reserved. This API cannot be accessed and the content and any results may not be used, reproduced or transmitted in any manner without express written permission from Microsoft Corporation.</Copyright><BrandLogoUri>http://dev.virtualearth.net/Branding/logo_powered_by.png</BrandLogoUri><StatusCode>200</StatusCode><StatusDescription>OK</StatusDescription><AuthenticationResultCode>ValidCredentials</AuthenticationResultCode><TraceId>51ba462e2d2a8f620d48fa06fe7c692e</TraceId><ResourceSets><ResourceSet><EstimatedTotal>1</EstimatedTotal><Resources><Location><Name>2921 Stone Quarry Rd, Chambersburg, PA 17202</Name><Point><Latitude>39.8908844</Latitude><Longitude>-77.6426108</Longitude></Point><BoundingBox><SouthLatitude>39.88702168242932</SouthLatitude><WestLongitude>-77.64932293358089</WestLongitude><NorthLatitude>39.894747117570674</NorthLatitude><EastLongitude>-77.63589866641911</EastLongitude></BoundingBox><EntityType>Address</EntityType><Address><AddressLine>2921 Stone Quarry Rd</AddressLine><AdminDistrict>PA</AdminDistrict><AdminDistrict2>Franklin County</AdminDistrict2><CountryRegion>United States</CountryRegion><FormattedAddress>2921 Stone Quarry Rd, Chambersburg, PA 17202</FormattedAddress><Locality>Chambersburg</Locality><PostalCode>17202</PostalCode></Address><Confidence>High</Confidence><MatchCode>Good</MatchCode><GeocodePoint><Latitude>39.8908844</Latitude><Longitude>-77.6426108</Longitude><CalculationMethod>Rooftop</CalculationMethod><UsageType>Display</UsageType></GeocodePoint><GeocodePoint><Latitude>39.8907976</Latitude><Longitude>-77.642336</Longitude><CalculationMethod>Rooftop</CalculationMethod><UsageType>Route</UsageType></GeocodePoint></Location></Resources></ResourceSet></ResourceSets></Response>","<?xml version=\"1.0\" encoding=\"utf-8\"?><Response xmlns:xsi=\"http://www.w3.org/2001/XMLSchema-instance\" xmlns:xsd=\"http://www.w3.org/2001/XMLSchema\" xmlns=\"http://schemas.microsoft.com/search/local/ws/rest/v1\"><Copyright>Copyright © 2024 Microsoft and its suppliers. All rights reserved. This API cannot be accessed and the content and any results may not be used, reproduced or transmitted in any manner without express written permission from Microsoft Corporation.</Copyright><BrandLogoUri>https://dev.virtualearth.net/Branding/logo_powered_by.png</BrandLogoUri><StatusCode>200</StatusCode><StatusDescription>OK</StatusDescription><AuthenticationResultCode>ValidCredentials</AuthenticationResultCode><TraceId>d9e6e40039894903d5c3eab5fbf2cba3</TraceId><ResourceSets><ResourceSet><EstimatedTotal>1</EstimatedTotal><Resources><Resource xsi:type=\"DistanceMatrix\"><Origins><Coordinate><Latitude>38.890548</Latitude><Longitude>-79.845938</Longitude></Coordinate></Origins><Destinations><Coordinate><Latitude>39.8908844</Latitude><Longitude>-77.6426108</Longitude></Coordinate></Destinations><Results><Distance><DepartureTime xsi:nil=\"true\" /><OriginIndex>0</OriginIndex><DestinationIndex>0</DestinationIndex><TravelDistance>306.888</TravelDistance><TravelDuration>210.6333</TravelDuration><TotalWalkDuration>0</TotalWalkDuration></Distance></Results></Resource></Resources></ResourceSet></ResourceSets></Response>",190.69130344799999]
["NLS Paving Inc., Empire Plant","1422 Co. HWY 7F, Toronto OH 43964",40.499512199999998,-80.617791999999994,"<?xml version=\"1.0\" encoding=\"utf-8\"?><Response xmlns:xsi=\"http://www.w3.org/2001/XMLSchema-instance\" xmlns:xsd=\"http://www.w3.org/2001/XMLSchema\" xmlns=\"http://schemas.microsoft.com/search/local/ws/rest/v1\"><Copyright>Copyright © 2024 Microsoft and its suppliers. All rights reserved. This API cannot be accessed and the content and any results may not be used, reproduced or transmitted in any manner without express written permission from Microsoft Corporation.</Copyright><BrandLogoUri>http://dev.virtualearth.net/Branding/logo_powered_by.png</BrandLogoUri><StatusCode>200</StatusCode><StatusDescription>OK</StatusDescription><AuthenticationResultCode>ValidCredentials</AuthenticationResultCode><TraceId>13b238c61d1393088187a343a01c8224</TraceId><ResourceSets><ResourceSet><EstimatedTotal>1</EstimatedTotal><Resources><Location><Name>1422 County Hwy-7F, Toronto, OH 43964</Name><Point><Latitude>40.4995122</Latitude><Longitude>-80.617792</Longitude></Point><BoundingBox><SouthLatitude>40.49564948242932</SouthLatitude><WestLongitude>-80.62456464036573</WestLongitude><NorthLatitude>40.503374917570675</NorthLatitude><EastLongitude>-80.61101935963426</EastLongitude></BoundingBox><EntityType>Address</EntityType><Address><AddressLine>1422 County Hwy-7F</AddressLine><AdminDistrict>OH</AdminDistrict><AdminDistrict2>Jefferson County</AdminDistrict2><CountryRegion>United States</CountryRegion><FormattedAddress>1422 County Hwy-7F, Toronto, OH 43964</FormattedAddress><Locality>Toronto</Locality><PostalCode>43964</PostalCode></Address><Confidence>High</Confidence><MatchCode>Good</MatchCode><GeocodePoint><Latitude>40.4995122</Latitude><Longitude>-80.617792</Longitude><CalculationMethod>Rooftop</CalculationMethod><UsageType>Display</UsageType></GeocodePoint><GeocodePoint><Latitude>40.499516</Latitude><Longitude>-80.6177792</Longitude><CalculationMethod>Rooftop</CalculationMethod><UsageType>Route</UsageType></GeocodePoint></Location></Resources></ResourceSet></ResourceSets></Response>","<?xml version=\"1.0\" encoding=\"utf-8\"?><Response xmlns:xsi=\"http://www.w3.org/2001/XMLSchema-instance\" xmlns:xsd=\"http://www.w3.org/2001/XMLSchema\" xmlns=\"http://schemas.microsoft.com/search/local/ws/rest/v1\"><Copyright>Copyright © 2024 Microsoft and its suppliers. All rights reserved. This API cannot be accessed and the content and any results may not be used, reproduced or transmitted in any manner without express written permission from Microsoft Corporation.</Copyright><BrandLogoUri>https://dev.virtualearth.net/Branding/logo_powered_by.png</BrandLogoUri><StatusCode>200</StatusCode><StatusDescription>OK</StatusDescription><AuthenticationResultCode>ValidCredentials</AuthenticationResultCode><TraceId>1993b7fe4f777f99d40cc87f293f43ed</TraceId><ResourceSets><ResourceSet><EstimatedTotal>1</EstimatedTotal><Resources><Resource xsi:type=\"DistanceMatrix\"><Origins><Coordinate><Latitude>38.890548</Latitude><Longitude>-79.845938</Longitude></Coordinate></Origins><Destinations><Coordinate><Latitude>40.4995122</Latitude><Longitude>-80.617792</Longitude></Coordinate></Destinations><Results><Distance><DepartureTime xsi:nil=\"true\" /><OriginIndex>0</OriginIndex><DestinationIndex>0</DestinationIndex><TravelDistance>307.968</TravelDistance><TravelDuration>178.0333</TravelDuration><TotalWalkDuration>0</TotalWalkDuration></Distance></Results></Resource></Resources></ResourceSet></ResourceSets></Response>",191.362384128]
["NLS Paving Inc., Martins Ferry Plant","1575 North First St., Martins Ferry, OH 43964",40.109269500000003,-80.708552800000007,"<?xml version=\"1.0\" encoding=\"utf-8\"?><Response xmlns:xsi=\"http://www.w3.org/2001/XMLSchema-instance\" xmlns:xsd=\"http://www.w3.org/2001/XMLSchema\" xmlns=\"http://schemas.microsoft.com/search/local/ws/rest/v1\"><Copyright>Copyright © 2024 Microsoft and its suppliers. All rights reserved. This API cannot be accessed and the content and any results may not be used, reproduced or transmitted in any manner without express written permission from Microsoft Corporation.</Copyright><BrandLogoUri>http://dev.virtualearth.net/Branding/logo_powered_by.png</BrandLogoUri><StatusCode>200</StatusCode><StatusDescription>OK</StatusDescription><AuthenticationResultCode>ValidCredentials</AuthenticationResultCode><TraceId>141c6f2de79d81410e19b2848eda9b6c</TraceId><ResourceSets><ResourceSet><EstimatedTotal>1</EstimatedTotal><Resources><Location><Name>1575 N 1st St, Martins Ferry, OH 43935</Name><Point><Latitude>40.1092695</Latitude><Longitude>-80.7085528</Longitude></Point><BoundingBox><SouthLatitude>40.10540678242933</SouthLatitude><WestLongitude>-80.71528643225618</WestLongitude><NorthLatitude>40.11313221757068</NorthLatitude><EastLongitude>-80.70181916774384</EastLongitude></BoundingBox><EntityType>Address</EntityType><Address><AddressLine>1575 N 1st St</AddressLine><AdminDistrict>OH</AdminDistrict><AdminDistrict2>Belmont County</AdminDistrict2><CountryRegion>United States</CountryRegion><FormattedAddress>1575 N 1st St, Martins Ferry, OH 43935</FormattedAddress><Locality>Martins Ferry</Locality><PostalCode>43935</PostalCode></Address><Confidence>High</Confidence><MatchCode>Good</MatchCode><GeocodePoint><Latitude>40.1092695</Latitude><Longitude>-80.7085528</Longitude><CalculationMethod>Rooftop</CalculationMethod><UsageType>Display</UsageType></GeocodePoint><GeocodePoint><Latitude>40.1092442</Latitude><Longitude>-80.7082137</Longitude><CalculationMethod>Rooftop</CalculationMethod><UsageType>Route</UsageType></GeocodePoint></Location></Resources></ResourceSet></ResourceSets></Response>","<?xml version=\"1.0\" encoding=\"utf-8\"?><Response xmlns:xsi=\"http://www.w3.org/2001/XMLSchema-instance\" xmlns:xsd=\"http://www.w3.org/2001/XMLSchema\" xmlns=\"http://schemas.microsoft.com/search/local/ws/rest/v1\"><Copyright>Copyright © 2024 Microsoft and its suppliers. All rights reserved. This API cannot be accessed and the content and any results may not be used, reproduced or transmitted in any manner without express written permission from Microsoft Corporation.</Copyright><BrandLogoUri>https://dev.virtualearth.net/Branding/logo_powered_by.png</BrandLogoUri><StatusCode>200</StatusCode><StatusDescription>OK</StatusDescription><AuthenticationResultCode>ValidCredentials</AuthenticationResultCode><TraceId>a65100e305cd46f1fd0be54418cbd5c2</TraceId><ResourceSets><ResourceSet><EstimatedTotal>1</EstimatedTotal><Resources><Resource xsi:type=\"DistanceMatrix\"><Origins><Coordinate><Latitude>38.890548</Latitude><Longitude>-79.845938</Longitude></Coordinate></Origins><Destinations><Coordinate><Latitude>40.1092695</Latitude><Longitude>-80.7085528</Longitude></Coordinate></Destinations><Results><Distance><DepartureTime xsi:nil=\"true\" /><OriginIndex>0</OriginIndex><DestinationIndex>0</DestinationIndex><TravelDistance>279.68</TravelDistance><TravelDuration>163.9</TravelDuration><TotalWalkDuration>0</TotalWalkDuration></Distance></Results></Resource></Resources></ResourceSet></ResourceSets></Response>",173.78504128]
["P&W Excavating Inc., Warfordsburg Plant","882 Pigeon Cove Rd., Warfordsburg, PA 17267",39.758622000000003,-78.177436999999998,"<?xml version=\"1.0\" encoding=\"utf-8\"?><Response xmlns:xsi=\"http://www.w3.org/2001/XMLSchema-instance\" xmlns:xsd=\"http://www.w3.org/2001/XMLSchema\" xmlns=\"http://schemas.microsoft.com/search/local/ws/rest/v1\"><Copyright>Copyright © 2024 Microsoft and its suppliers. All rights reserved. This API cannot be accessed and the content and any results may not be used, reproduced or transmitted in any manner without express written permission from Microsoft Corporation.</Copyright><BrandLogoUri>http://dev.virtualearth.net/Branding/logo_powered_by.png</BrandLogoUri><StatusCode>200</StatusCode><StatusDescription>OK</StatusDescription><AuthenticationResultCode>ValidCredentials</AuthenticationResultCode><TraceId>69d284d4b99941d51c11a1adac8e9080</TraceId><ResourceSets><ResourceSet><EstimatedTotal>1</EstimatedTotal><Resources><Location><Name>882 Pigeon Cove Rd, Warfordsburg, PA 17267</Name><Point><Latitude>39.758622</Latitude><Longitude>-78.177437</Longitude></Point><BoundingBox><SouthLatitude>39.754759282429326</SouthLatitude><WestLongitude>-78.18413622698668</WestLongitude><NorthLatitude>39.76248471757068</NorthLatitude><EastLongitude>-78.17073777301331</EastLongitude></BoundingBox><EntityType>Address</EntityType><Address><AddressLine>882 Pigeon Cove Rd</AddressLine><AdminDistrict>PA</AdminDistrict><AdminDistrict2>Fulton County</AdminDistrict2><CountryRegion>United States</CountryRegion><FormattedAddress>882 Pigeon Cove Rd, Warfordsburg, PA 17267</FormattedAddress><Locality>Warfordsburg</Locality><PostalCode>17267</PostalCode></Address><Confidence>High</Confidence><MatchCode>Good</MatchCode><GeocodePoint><Latitude>39.758622</Latitude><Longitude>-78.177437</Longitude><CalculationMethod>Rooftop</CalculationMethod><UsageType>Display</UsageType></GeocodePoint><GeocodePoint><Latitude>39.7587161</Latitude><Longitude>-78.1778163</Longitude><CalculationMethod>Rooftop</CalculationMethod><UsageType>Route</UsageType></GeocodePoint></Location></Resources></ResourceSet></ResourceSets></Response>","<?xml version=\"1.0\" encoding=\"utf-8\"?><Response xmlns:xsi=\"http://www.w3.org/2001/XMLSchema-instance\" xmlns:xsd=\"http://www.w3.org/2001/XMLSchema\" xmlns=\"http://schemas.microsoft.com/search/local/ws/rest/v1\"><Copyright>Copyright © 2024 Microsoft and its suppliers. All rights reserved. This API cannot be accessed and the content and any results may not be used, reproduced or transmitted in any manner without express written permission from Microsoft Corporation.</Copyright><BrandLogoUri>https://dev.virtualearth.net/Branding/logo_powered_by.png</BrandLogoUri><StatusCode>200</StatusCode><StatusDescription>OK</StatusDescription><AuthenticationResultCode>ValidCredentials</AuthenticationResultCode><TraceId>5a310bd5e0ac881b498d8b94855907b1</TraceId><ResourceSets><ResourceSet><EstimatedTotal>1</EstimatedTotal><Resources><Resource xsi:type=\"DistanceMatrix\"><Origins><Coordinate><Latitude>38.890548</Latitude><Longitude>-79.845938</Longitude></Coordinate></Origins><Destinations><Coordinate><Latitude>39.758622</Latitude><Longitude>-78.177437</Longitude></Coordinate></Destinations><Results><Distance><DepartureTime xsi:nil=\"true\" /><OriginIndex>0</OriginIndex><DestinationIndex>0</DestinationIndex><TravelDistance>235.941</TravelDistance><TravelDuration>174.25</TravelDuration><TotalWalkDuration>0</TotalWalkDuration></Distance></Results></Resource></Resources></ResourceSet></ResourceSets></Response>",146.606895111]
["Stone Asphalt LLC","164 V.I.P. Drive Masontown, WV 26542",39.521946900000003,-79.791995700000001,"<?xml version=\"1.0\" encoding=\"utf-8\"?><Response xmlns:xsi=\"http://www.w3.org/2001/XMLSchema-instance\" xmlns:xsd=\"http://www.w3.org/2001/XMLSchema\" xmlns=\"http://schemas.microsoft.com/search/local/ws/rest/v1\"><Copyright>Copyright © 2024 Microsoft and its suppliers. All rights reserved. This API cannot be accessed and the content and any results may not be used, reproduced or transmitted in any manner without express written permission from Microsoft Corporation.</Copyright><BrandLogoUri>http://dev.virtualearth.net/Branding/logo_powered_by.png</BrandLogoUri><StatusCode>200</StatusCode><StatusDescription>OK</StatusDescription><AuthenticationResultCode>ValidCredentials</AuthenticationResultCode><TraceId>9db45685c203c0147daa5691c9aff6c4</TraceId><ResourceSets><ResourceSet><EstimatedTotal>1</EstimatedTotal><Resources><Location><Name>164 V I P Dr, Masontown, WV 26542</Name><Point><Latitude>39.5219469</Latitude><Longitude>-79.7919957</Longitude></Point><BoundingBox><SouthLatitude>39.51808418242933</SouthLatitude><WestLongitude>-79.79867204344703</WestLongitude><NorthLatitude>39.52580961757068</NorthLatitude><EastLongitude>-79.78531935655298</EastLongitude></BoundingBox><EntityType>Address</EntityType><Address><AddressLine>164 V I P Dr</AddressLine><AdminDistrict>WV</AdminDistrict><AdminDistrict2>Preston County</AdminDistrict2><CountryRegion>United States</CountryRegion><FormattedAddress>164 V I P Dr, Masontown, WV 26542</FormattedAddress><Locality>Masontown</Locality><PostalCode>26542</PostalCode></Address><Confidence>High</Confidence><MatchCode>Good</MatchCode><GeocodePoint><Latitude>39.5219469</Latitude><Longitude>-79.7919957</Longitude><CalculationMethod>Rooftop</CalculationMethod><UsageType>Display</UsageType></GeocodePoint><GeocodePoint><Latitude>39.5225305</Latitude><Longitude>-79.792584</Longitude><CalculationMethod>Rooftop</CalculationMethod><UsageType>Route</UsageType></GeocodePoint></Location></Resources></ResourceSet></ResourceSets></Response>","<?xml version=\"1.0\" encoding=\"utf-8\"?><Response xmlns:xsi=\"http://www.w3.org/2001/XMLSchema-instance\" xmlns:xsd=\"http://www.w3.org/2001/XMLSchema\" xmlns=\"http://schemas.microsoft.com/search/local/ws/rest/v1\"><Copyright>Copyright © 2024 Microsoft and its suppliers. All rights reserved. This API cannot be accessed and the content and any results may not be used, reproduced or transmitted in any manner without express written permission from Microsoft Corporation.</Copyright><BrandLogoUri>https://dev.virtualearth.net/Branding/logo_powered_by.png</BrandLogoUri><StatusCode>200</StatusCode><StatusDescription>OK</StatusDescription><AuthenticationResultCode>ValidCredentials</AuthenticationResultCode><TraceId>dcb477cc5039ba57be848b3e7e7af569</TraceId><ResourceSets><ResourceSet><EstimatedTotal>1</EstimatedTotal><Resources><Resource xsi:type=\"DistanceMatrix\"><Origins><Coordinate><Latitude>38.890548</Latitude><Longitude>-79.845938</Longitude></Coordinate></Origins><Destinations><Coordinate><Latitude>39.5219469</Latitude><Longitude>-79.7919957</Longitude></Coordinate></Destinations><Results><Distance><DepartureTime xsi:nil=\"true\" /><OriginIndex>0</OriginIndex><DestinationIndex>0</DestinationIndex><TravelDistance>94.784</TravelDistance><TravelDuration>82.2</TravelDuration><TotalWalkDuration>0</TotalWalkDuration></Distance></Results></Resource></Resources></ResourceSet></ResourceSets></Response>",58.896028864000002]
["West Virginia Paving, Inc., Asbury (Alta), WV","Rt. 60, West Lewisburg, Alta, Asbury WV 24916",37.872892669999999,-80.550740009999998,"<?xml version=\"1.0\" encoding=\"utf-8\"?><Response xmlns:xsi=\"http://www.w3.org/2001/XMLSchema-instance\" xmlns:xsd=\"http://www.w3.org/2001/XMLSchema\" xmlns=\"http://schemas.microsoft.com/search/local/ws/rest/v1\"><Copyright>Copyright © 2024 Microsoft and its suppliers. All rights reserved. This API cannot be accessed and the content and any results may not be used, reproduced or transmitted in any manner without express written permission from Microsoft Corporation.</Copyright><BrandLogoUri>http://dev.virtualearth.net/Branding/logo_powered_by.png</BrandLogoUri><StatusCode>200</StatusCode><StatusDescription>OK</StatusDescription><AuthenticationResultCode>ValidCredentials</AuthenticationResultCode><TraceId>fae471ec094268e39b98178f6b74095a</TraceId><ResourceSets><ResourceSet><EstimatedTotal>1</EstimatedTotal><Resources><Location><Name>US-60 W, Asbury, WV 24916</Name><Point><Latitude>37.87289267</Latitude><Longitude>-80.55074001</Longitude></Point><BoundingBox><SouthLatitude>37.86902995633363</SouthLatitude><WestLongitude>-80.55726419229109</WestLongitude><NorthLatitude>37.87675539147498</NorthLatitude><EastLongitude>-80.54421583744391</EastLongitude></BoundingBox><EntityType>RoadBlock</EntityType><Address><AddressLine>US-60 W</AddressLine><AdminDistrict>WV</AdminDistrict><AdminDistrict2>Greenbrier County</AdminDistrict2><CountryRegion>United States</CountryRegion><FormattedAddress>US-60 W, Asbury, WV 24916</FormattedAddress><Locality>Asbury</Locality><PostalCode>24916</PostalCode></Address><Confidence>High</Confidence><MatchCode>Good</MatchCode><GeocodePoint><Latitude>37.87289267</Latitude><Longitude>-80.55074001</Longitude><CalculationMethod>Interpolation</CalculationMethod><UsageType>Display</UsageType></GeocodePoint></Location></Resources></ResourceSet></ResourceSets></Response>","<?xml version=\"1.0\" encoding=\"utf-8\"?><Response xmlns:xsi=\"http://www.w3.org/2001/XMLSchema-instance\" xmlns:xsd=\"http://www.w3.org/2001/XMLSchema\" xmlns=\"http://schemas.microsoft.com/search/local/ws/rest/v1\"><Copyright>Copyright © 2024 Microsoft and its suppliers. All rights reserved. This API cannot be accessed and the content and any results may not be used, reproduced or transmitted in any manner without express written permission from Microsoft Corporation.</Copyright><BrandLogoUri>https://dev.virtualearth.net/Branding/logo_powered_by.png</BrandLogoUri><StatusCode>200</StatusCode><StatusDescription>OK</StatusDescription><AuthenticationResultCode>ValidCredentials</AuthenticationResultCode><TraceId>47e73d818c54ff091cc48658a480502e</TraceId><ResourceSets><ResourceSet><EstimatedTotal>1</EstimatedTotal><Resources><Resource xsi:type=\"DistanceMatrix\"><Origins><Coordinate><Latitude>38.890548</Latitude><Longitude>-79.845938</Longitude></Coordinate></Origins><Destinations><Coordinate><Latitude>37.87289267</Latitude><Longitude>-80.55074001</Longitude></Coordinate></Destinations><Results><Distance><DepartureTime xsi:nil=\"true\" /><OriginIndex>0</OriginIndex><DestinationIndex>0</DestinationIndex><TravelDistance>176.25</TravelDistance><TravelDuration>150.6833</TravelDuration><TotalWalkDuration>0</TotalWalkDuration></Distance></Results></Resource></Resources></ResourceSet></ResourceSets></Response>",109.51663875]
["West Virginia Paving, Inc., Beaver Plant","195 Southern Industrial Dr., Beaver, WV 25813",37.774121000000001,-81.112981899999994,"<?xml version=\"1.0\" encoding=\"utf-8\"?><Response xmlns:xsi=\"http://www.w3.org/2001/XMLSchema-instance\" xmlns:xsd=\"http://www.w3.org/2001/XMLSchema\" xmlns=\"http://schemas.microsoft.com/search/local/ws/rest/v1\"><Copyright>Copyright © 2024 Microsoft and its suppliers. All rights reserved. This API cannot be accessed and the content and any results may not be used, reproduced or transmitted in any manner without express written permission from Microsoft Corporation.</Copyright><BrandLogoUri>http://dev.virtualearth.net/Branding/logo_powered_by.png</BrandLogoUri><StatusCode>200</StatusCode><StatusDescription>OK</StatusDescription><AuthenticationResultCode>ValidCredentials</AuthenticationResultCode><TraceId>ee72c3a6983396c1c59f5d034fe2a2c1</TraceId><ResourceSets><ResourceSet><EstimatedTotal>1</EstimatedTotal><Resources><Location><Name>195 Southern Industrial Dr, Beaver, WV 25813</Name><Point><Latitude>37.774121</Latitude><Longitude>-81.1129819</Longitude></Point><BoundingBox><SouthLatitude>37.770258282429324</SouthLatitude><WestLongitude>-81.1194973530364</WestLongitude><NorthLatitude>37.77798371757068</NorthLatitude><EastLongitude>-81.1064664469636</EastLongitude></BoundingBox><EntityType>Address</EntityType><Address><AddressLine>195 Southern Industrial Dr</AddressLine><AdminDistrict>WV</AdminDistrict><AdminDistrict2>Raleigh County</AdminDistrict2><CountryRegion>United States</CountryRegion><FormattedAddress>195 Southern Industrial Dr, Beaver, WV 25813</FormattedAddress><Locality>Beaver</Locality><PostalCode>25813</PostalCode></Address><Confidence>High</Confidence><MatchCode>Good</MatchCode><GeocodePoint><Latitude>37.774121</Latitude><Longitude>-81.1129819</Longitude><CalculationMethod>Rooftop</CalculationMethod><UsageType>Display</UsageType></GeocodePoint><GeocodePoint><Latitude>37.7741876</Latitude><Longitude>-81.1130717</Longitude><CalculationMethod>Rooftop</CalculationMethod><UsageType>Route</UsageType></GeocodePoint></Location></Resources></ResourceSet></ResourceSets></Response>","<?xml version=\"1.0\" encoding=\"utf-8\"?><Response xmlns:xsi=\"http://www.w3.org/2001/XMLSchema-instance\" xmlns:xsd=\"http://www.w3.org/2001/XMLSchema\" xmlns=\"http://schemas.microsoft.com/search/local/ws/rest/v1\"><Copyright>Copyright © 2024 Microsoft and its suppliers. All rights reserved. This API cannot be accessed and the content and any results may not be used, reproduced or transmitted in any manner without express written permission from Microsoft Corporation.</Copyright><BrandLogoUri>https://dev.virtualearth.net/Branding/logo_powered_by.png</BrandLogoUri><StatusCode>200</StatusCode><StatusDescription>OK</StatusDescription><AuthenticationResultCode>ValidCredentials</AuthenticationResultCode><TraceId>abb423d442f64ceb5d4443c739e951b3</TraceId><ResourceSets><ResourceSet><EstimatedTotal>1</EstimatedTotal><Resources><Resource xsi:type=\"DistanceMatrix\"><Origins><Coordinate><Latitude>38.890548</Latitude><Longitude>-79.845938</Longitude></Coordinate></Origins><Destinations><Coordinate><Latitude>37.774121</Latitude><Longitude>-81.1129819</Longitude></Coordinate></Destinations><Results><Distance><DepartureTime xsi:nil=\"true\" /><OriginIndex>0</OriginIndex><DestinationIndex>0</DestinationIndex><TravelDistance>265.366</TravelDistance><TravelDuration>165.6667</TravelDuration><TotalWalkDuration>0</TotalWalkDuration></Distance></Results></Resource></Resources></ResourceSet></ResourceSets></Response>",164.89073678599999]
["West Virginia Paving, Inc., Camden Materials","202 Hickory St., Parkersburg, WV 26101",39.250304999999997,-81.530139000000005,"<?xml version=\"1.0\" encoding=\"utf-8\"?><Response xmlns:xsi=\"http://www.w3.org/2001/XMLSchema-instance\" xmlns:xsd=\"http://www.w3.org/2001/XMLSchema\" xmlns=\"http://schemas.microsoft.com/search/local/ws/rest/v1\"><Copyright>Copyright © 2024 Microsoft and its suppliers. All rights reserved. This API cannot be accessed and the content and any results may not be used, reproduced or transmitted in any manner without express written permission from Microsoft Corporation.</Copyright><BrandLogoUri>http://dev.virtualearth.net/Branding/logo_powered_by.png</BrandLogoUri><StatusCode>200</StatusCode><StatusDescription>OK</StatusDescription><AuthenticationResultCode>ValidCredentials</AuthenticationResultCode><TraceId>a9749dc1040e46afbdded50742a43c0a</TraceId><ResourceSets><ResourceSet><EstimatedTotal>1</EstimatedTotal><Resources><Location><Name>202 Hickory St, Parkersburg, WV 26101</Name><Point><Latitude>39.250305</Latitude><Longitude>-81.530139</Longitude></Point><BoundingBox><SouthLatitude>39.24644228242932</SouthLatitude><WestLongitude>-81.53678941032561</WestLongitude><NorthLatitude>39.254167717570674</NorthLatitude><EastLongitude>-81.5234885896744</EastLongitude></BoundingBox><EntityType>Address</EntityType><Address><AddressLine>202 Hickory St</AddressLine><AdminDistrict>WV</AdminDistrict><AdminDistrict2>Wood County</AdminDistrict2><CountryRegion>United States</CountryRegion><FormattedAddress>202 Hickory St, Parkersburg, WV 26101</FormattedAddress><Locality>Parkersburg</Locality><PostalCode>26101</PostalCode></Address><Confidence>High</Confidence><MatchCode>Good</MatchCode><GeocodePoint><Latitude>39.250305</Latitude><Longitude>-81.530139</Longitude><CalculationMethod>Rooftop</CalculationMethod><UsageType>Display</UsageType></GeocodePoint><GeocodePoint><Latitude>39.250102</Latitude><Longitude>-81.530018</Longitude><CalculationMethod>Rooftop</CalculationMethod><UsageType>Route</UsageType></GeocodePoint></Location></Resources></ResourceSet></ResourceSets></Response>","<?xml version=\"1.0\" encoding=\"utf-8\"?><Response xmlns:xsi=\"http://www.w3.org/2001/XMLSchema-instance\" xmlns:xsd=\"http://www.w3.org/2001/XMLSchema\" xmlns=\"http://schemas.microsoft.com/search/local/ws/rest/v1\"><Copyright>Copyright © 2024 Microsoft and its suppliers. All rights reserved. This API cannot be accessed and the content and any results may not be used, reproduced or transmitted in any manner without express written permission from Microsoft Corporation.</Copyright><BrandLogoUri>https://dev.virtualearth.net/Branding/logo_powered_by.png</BrandLogoUri><StatusCode>200</StatusCode><StatusDescription>OK</StatusDescription><AuthenticationResultCode>ValidCredentials</AuthenticationResultCode><TraceId>3a8a28f604b88a0bc8afa6ec621558ca</TraceId><ResourceSets><ResourceSet><EstimatedTotal>1</EstimatedTotal><Resources><Resource xsi:type=\"DistanceMatrix\"><Origins><Coordinate><Latitude>38.890548</Latitude><Longitude>-79.845938</Longitude></Coordinate></Origins><Destinations><Coordinate><Latitude>39.250305</Latitude><Longitude>-81.530139</Longitude></Coordinate></Destinations><Results><Distance><DepartureTime xsi:nil=\"true\" /><OriginIndex>0</OriginIndex><DestinationIndex>0</DestinationIndex><TravelDistance>223.051</TravelDistance><TravelDuration>141.1</TravelDuration><TotalWalkDuration>0</TotalWalkDuration></Distance></Results></Resource></Resources></ResourceSet></ResourceSets></Response>",138.597422921]
["West Virginia Paving, Inc., Dunbar Plant","2902 Charles Ave., Dunbar, WV 25064",38.368603999999998,-81.758549000000002,"<?xml version=\"1.0\" encoding=\"utf-8\"?><Response xmlns:xsi=\"http://www.w3.org/2001/XMLSchema-instance\" xmlns:xsd=\"http://www.w3.org/2001/XMLSchema\" xmlns=\"http://schemas.microsoft.com/search/local/ws/rest/v1\"><Copyright>Copyright © 2024 Microsoft and its suppliers. All rights reserved. This API cannot be accessed and the content and any results may not be used, reproduced or transmitted in any manner without express written permission from Microsoft Corporation.</Copyright><BrandLogoUri>http://dev.virtualearth.net/Branding/logo_powered_by.png</BrandLogoUri><StatusCode>200</StatusCode><StatusDescription>OK</StatusDescription><AuthenticationResultCode>ValidCredentials</AuthenticationResultCode><TraceId>a9388f5748f3c578d5558655e5cee8be</TraceId><ResourceSets><ResourceSet><EstimatedTotal>1</EstimatedTotal><Resources><Location><Name>2902 Charles Ave, Dunbar, WV 25064</Name><Point><Latitude>38.368604</Latitude><Longitude>-81.758549</Longitude></Point><BoundingBox><SouthLatitude>38.36474128242932</SouthLatitude><WestLongitude>-81.76511761458471</WestLongitude><NorthLatitude>38.372466717570674</NorthLatitude><EastLongitude>-81.7519803854153</EastLongitude></BoundingBox><EntityType>Address</EntityType><Address><AddressLine>2902 Charles Ave</AddressLine><AdminDistrict>WV</AdminDistrict><AdminDistrict2>Kanawha County</AdminDistrict2><CountryRegion>United States</CountryRegion><FormattedAddress>2902 Charles Ave, Dunbar, WV 25064</FormattedAddress><Locality>Dunbar</Locality><PostalCode>25064</PostalCode></Address><Confidence>High</Confidence><MatchCode>Good</MatchCode><GeocodePoint><Latitude>38.368604</Latitude><Longitude>-81.758549</Longitude><CalculationMethod>Rooftop</CalculationMethod><UsageType>Display</UsageType></GeocodePoint><GeocodePoint><Latitude>38.3683106</Latitude><Longitude>-81.7589377</Longitude><CalculationMethod>Rooftop</CalculationMethod><UsageType>Route</UsageType></GeocodePoint></Location></Resources></ResourceSet></ResourceSets></Response>","<?xml version=\"1.0\" encoding=\"utf-8\"?><Response xmlns:xsi=\"http://www.w3.org/2001/XMLSchema-instance\" xmlns:xsd=\"http://www.w3.org/2001/XMLSchema\" xmlns=\"http://schemas.microsoft.com/search/local/ws/rest/v1\"><Copyright>Copyright © 2024 Microsoft and its suppliers. All rights reserved. This API cannot be accessed and the content and any results may not be used, reproduced or transmitted in any manner without express written permission from Microsoft Corporation.</Copyright><BrandLogoUri>https://dev.virtualearth.net/Branding/logo_powered_by.png</BrandLogoUri><StatusCode>200</StatusCode><StatusDescription>OK</StatusDescription><AuthenticationResultCode>ValidCredentials</AuthenticationResultCode><TraceId>9bd05051865ebc6e0b009aa2f1798deb</TraceId><ResourceSets><ResourceSet><EstimatedTotal>1</EstimatedTotal><Resources><Resource xsi:type=\"DistanceMatrix\"><Origins><Coordinate><Latitude>38.890548</Latitude><Longitude>-79.845938</Longitude></Coordinate></Origins><Destinations><Coordinate><Latitude>38.368604</Latitude><Longitude>-81.758549</Longitude></Coordinate></Destinations><Results><Distance><DepartureTime xsi:nil=\"true\" /><OriginIndex>0</OriginIndex><DestinationIndex>0</DestinationIndex><TravelDistance>238.469</TravelDistance><TravelDuration>141.8333</TravelDuration><TotalWalkDuration>0</TotalWalkDuration></Distance></Results></Resource></Resources></ResourceSet></ResourceSets></Response>",148.177720999]
["West Virginia Paving, Inc., Elkins Plant","Rt. 33 Kelly Mountain Rd., Elkins, WV",38.901489300000001,-79.778808600000005,"<?xml version=\"1.0\" encoding=\"utf-8\"?><Response xmlns:xsi=\"http://www.w3.org/2001/XMLSchema-instance\" xmlns:xsd=\"http://www.w3.org/2001/XMLSchema\" xmlns=\"http://schemas.microsoft.com/search/local/ws/rest/v1\"><Copyright>Copyright © 2024 Microsoft and its suppliers. All rights reserved. This API cannot be accessed and the content and any results may not be used, reproduced or transmitted in any manner without express written permission from Microsoft Corporation.</Copyright><BrandLogoUri>http://dev.virtualearth.net/Branding/logo_powered_by.png</BrandLogoUri><StatusCode>200</StatusCode><StatusDescription>OK</StatusDescription><AuthenticationResultCode>ValidCredentials</AuthenticationResultCode><TraceId>708ce179f02b37b9f9d4af2f4b011d55</TraceId><ResourceSets><ResourceSet><EstimatedTotal>1</EstimatedTotal><Resources><Location><Name>33 Kelly Mountain Rd, Elkins, WV 26241</Name><Point><Latitude>38.9014893</Latitude><Longitude>-79.7788086</Longitude></Point><BoundingBox><SouthLatitude>38.897626582429325</SouthLatitude><WestLongitude>-79.78542622069311</WestLongitude><NorthLatitude>38.90535201757068</NorthLatitude><EastLongitude>-79.7721909793069</EastLongitude></BoundingBox><EntityType>Address</EntityType><Address><AddressLine>33 Kelly Mountain Rd</AddressLine><AdminDistrict>WV</AdminDistrict><AdminDistrict2>Randolph County</AdminDistrict2><CountryRegion>United States</CountryRegion><FormattedAddress>33 Kelly Mountain Rd, Elkins, WV 26241</FormattedAddress><Locality>Elkins</Locality><PostalCode>26241</PostalCode></Address><Confidence>Medium</Confidence><MatchCode>Good</MatchCode><GeocodePoint><Latitude>38.9014893</Latitude><Longitude>-79.7788086</Longitude><CalculationMethod>Rooftop</CalculationMethod><UsageType>Display</UsageType></GeocodePoint><GeocodePoint><Latitude>38.9009754</Latitude><Longitude>-79.7804904</Longitude><CalculationMethod>Rooftop</CalculationMethod><UsageType>Route</UsageType></GeocodePoint></Location></Resources></ResourceSet></ResourceSets></Response>","<?xml version=\"1.0\" encoding=\"utf-8\"?><Response xmlns:xsi=\"http://www.w3.org/2001/XMLSchema-instance\" xmlns:xsd=\"http://www.w3.org/2001/XMLSchema\" xmlns=\"http://schemas.microsoft.com/search/local/ws/rest/v1\"><Copyright>Copyright © 2024 Microsoft and its suppliers. All rights reserved. This API cannot be accessed and the content and any results may not be used, reproduced or transmitted in any manner without express written permission from Microsoft Corporation.</Copyright><BrandLogoUri>https://dev.virtualearth.net/Branding/logo_powered_by.png</BrandLogoUri><StatusCode>200</StatusCode><StatusDescription>OK</StatusDescription><AuthenticationResultCode>ValidCredentials</AuthenticationResultCode><TraceId>c35b3498258fafeac7b6199c94f08ed4</TraceId><ResourceSets><ResourceSet><EstimatedTotal>1</EstimatedTotal><Resources><Resource xsi:type=\"DistanceMatrix\"><Origins><Coordinate><Latitude>38.890548</Latitude><Longitude>-79.845938</Longitude></Coordinate></Origins><Destinations><Coordinate><Latitude>38.9014893</Latitude><Longitude>-79.7788086</Longitude></Coordinate></Destinations><Results><Distance><DepartureTime xsi:nil=\"true\" /><OriginIndex>0</OriginIndex><DestinationIndex>0</DestinationIndex><TravelDistance>11.072</TravelDistance><TravelDuration>12.85</TravelDuration><TotalWalkDuration>0</TotalWalkDuration></Distance></Results></Resource></Resources></ResourceSet></ResourceSets></Response>",6.8798197119999998]
["West Virginia Paving, Inc., Huntington Plant","4022 Ohio River Rd., Huntington, WV 25702",38.431615000000001,-82.372170999999994,"<?xml version=\"1.0\" encoding=\"utf-8\"?><Response xmlns:xsi=\"http://www.w3.org/2001/XMLSchema-instance\" xmlns:xsd=\"http://www.w3.org/2001/XMLSchema\" xmlns=\"http://schemas.microsoft.com/search/local/ws/rest/v1\"><Copyright>Copyright © 2024 Microsoft and its suppliers. All rights reserved. This API cannot be accessed and the content and any results may not be used, reproduced or transmitted in any manner without express written permission from Microsoft Corporation.</Copyright><BrandLogoUri>http://dev.virtualearth.net/Branding/logo_powered_by.png</BrandLogoUri><StatusCode>200</StatusCode><StatusDescription>OK</StatusDescription><AuthenticationResultCode>ValidCredentials</AuthenticationResultCode><TraceId>569de236fb235b64b5ee34f6df4262c8</TraceId><ResourceSets><ResourceSet><EstimatedTotal>1</EstimatedTotal><Resources><Location><Name>4022 Ohio River Rd, Huntington, WV 25702</Name><Point><Latitude>38.431615</Latitude><Longitude>-82.372171</Longitude></Point><BoundingBox><SouthLatitude>38.427752282429324</SouthLatitude><WestLongitude>-82.37874534184776</WestLongitude><NorthLatitude>38.43547771757068</NorthLatitude><EastLongitude>-82.36559665815223</EastLongitude></BoundingBox><EntityType>Address</EntityType><Address><AddressLine>4022 Ohio River Rd</AddressLine><AdminDistrict>WV</AdminDistrict><AdminDistrict2>Cabell County</AdminDistrict2><CountryRegion>United States</CountryRegion><FormattedAddress>4022 Ohio River Rd, Huntington, WV 25702</FormattedAddress><Locality>Huntington</Locality><PostalCode>25702</PostalCode></Address><Confidence>High</Confidence><MatchCode>Good</MatchCode><GeocodePoint><Latitude>38.431615</Latitude><Longitude>-82.372171</Longitude><CalculationMethod>Rooftop</CalculationMethod><UsageType>Display</UsageType></GeocodePoint><GeocodePoint><Latitude>38.4309331</Latitude><Longitude>-82.3717745</Longitude><CalculationMethod>Rooftop</CalculationMethod><UsageType>Route</UsageType></GeocodePoint></Location></Resources></ResourceSet></ResourceSets></Response>","<?xml version=\"1.0\" encoding=\"utf-8\"?><Response xmlns:xsi=\"http://www.w3.org/2001/XMLSchema-instance\" xmlns:xsd=\"http://www.w3.org/2001/XMLSchema\" xmlns=\"http://schemas.microsoft.com/search/local/ws/rest/v1\"><Copyright>Copyright © 2024 Microsoft and its suppliers. All rights reserved. This API cannot be accessed and the content and any results may not be used, reproduced or transmitted in any manner without express written permission from Microsoft Corporation.</Copyright><BrandLogoUri>https://dev.virtualearth.net/Branding/logo_powered_by.png</BrandLogoUri><StatusCode>200</StatusCode><StatusDescription>OK</StatusDescription><AuthenticationResultCode>ValidCredentials</AuthenticationResultCode><TraceId>054a5c1dd4c8882fafec9f218799e425</TraceId><ResourceSets><ResourceSet><EstimatedTotal>1</EstimatedTotal><Resources><Resource xsi:type=\"DistanceMatrix\"><Origins><Coordinate><Latitude>38.890548</Latitude><Longitude>-79.845938</Longitude></Coordinate></Origins><Destinations><Coordinate><Latitude>38.431615</Latitude><Longitude>-82.372171</Longitude></Coordinate></Destinations><Results><Distance><DepartureTime xsi:nil=\"true\" /><OriginIndex>0</OriginIndex><DestinationIndex>0</DestinationIndex><TravelDistance>303.197</TravelDistance><TravelDuration>175.05</TravelDuration><TotalWalkDuration>0</TotalWalkDuration></Distance></Results></Resource></Resources></ResourceSet></ResourceSets></Response>",188.39782308700001]
["West Virginia Paving, Inc., Poca Plant","Rt 1 Wright Rd., Poca, WV 25159",38.481319499999998,-81.820696499999997,"<?xml version=\"1.0\" encoding=\"utf-8\"?><Response xmlns:xsi=\"http://www.w3.org/2001/XMLSchema-instance\" xmlns:xsd=\"http://www.w3.org/2001/XMLSchema\" xmlns=\"http://schemas.microsoft.com/search/local/ws/rest/v1\"><Copyright>Copyright © 2024 Microsoft and its suppliers. All rights reserved. This API cannot be accessed and the content and any results may not be used, reproduced or transmitted in any manner without express written permission from Microsoft Corporation.</Copyright><BrandLogoUri>http://dev.virtualearth.net/Branding/logo_powered_by.png</BrandLogoUri><StatusCode>200</StatusCode><StatusDescription>OK</StatusDescription><AuthenticationResultCode>ValidCredentials</AuthenticationResultCode><TraceId>856b4f8529c9b5db5c8d953cd77f3c4f</TraceId><ResourceSets><ResourceSet><EstimatedTotal>1</EstimatedTotal><Resources><Location><Name>1st Ave, Poca, WV 25159</Name><Point><Latitude>38.4813195</Latitude><Longitude>-81.8206965</Longitude></Point><BoundingBox><SouthLatitude>38.47745678247142</SouthLatitude><WestLongitude>-81.82727537227078</WestLongitude><NorthLatitude>38.485182217612774</NorthLatitude><EastLongitude>-81.81411762764782</EastLongitude></BoundingBox><EntityType>RoadBlock</EntityType><Address><AddressLine>1st Ave</AddressLine><AdminDistrict>WV</AdminDistrict><AdminDistrict2>Putnam County</AdminDistrict2><CountryRegion>United States</CountryRegion><FormattedAddress>1st Ave, Poca, WV 25159</FormattedAddress><Locality>Poca</Locality><PostalCode>25159</PostalCode></Address><Confidence>Low</Confidence><MatchCode>Good</MatchCode><GeocodePoint><Latitude>38.4813195</Latitude><Longitude>-81.8206965</Longitude><CalculationMethod>Interpolation</CalculationMethod><UsageType>Display</UsageType></GeocodePoint></Location></Resources></ResourceSet></ResourceSets></Response>","<?xml version=\"1.0\" encoding=\"utf-8\"?><Response xmlns:xsi=\"http://www.w3.org/2001/XMLSchema-instance\" xmlns:xsd=\"http://www.w3.org/2001/XMLSchema\" xmlns=\"http://schemas.microsoft.com/search/local/ws/rest/v1\"><Copyright>Copyright © 2024 Microsoft and its suppliers. All rights reserved. This API cannot be accessed and the content and any results may not be used, reproduced or transmitted in any manner without express written permission from Microsoft Corporation.</Copyright><BrandLogoUri>https://dev.virtualearth.net/Branding/logo_powered_by.png</BrandLogoUri><StatusCode>200</StatusCode><StatusDescription>OK</StatusDescription><AuthenticationResultCode>ValidCredentials</AuthenticationResultCode><TraceId>0e4cf9bd1142a97b44c0f5123df9007f</TraceId><ResourceSets><ResourceSet><EstimatedTotal>1</EstimatedTotal><Resources><Resource xsi:type=\"DistanceMatrix\"><Origins><Coordinate><Latitude>38.890548</Latitude><Longitude>-79.845938</Longitude></Coordinate></Origins><Destinations><Coordinate><Latitude>38.4813195</Latitude><Longitude>-81.8206965</Longitude></Coordinate></Destinations><Results><Distance><DepartureTime xsi:nil=\"true\" /><OriginIndex>0</OriginIndex><DestinationIndex>0</DestinationIndex><TravelDistance>254.251</TravelDistance><TravelDuration>150.8333</TravelDuration><TotalWalkDuration>0</TotalWalkDuration></Distance></Results></Resource></Resources></ResourceSet></ResourceSets></Response>",157.98419812099999]
["West Virginia Paving, Inc., Princeton Plant","6941 Ingleside Dr., Princeton, WV 24740",37.314606900000001,-81.055376300000006,"<?xml version=\"1.0\" encoding=\"utf-8\"?><Response xmlns:xsi=\"http://www.w3.org/2001/XMLSchema-instance\" xmlns:xsd=\"http://www.w3.org/2001/XMLSchema\" xmlns=\"http://schemas.microsoft.com/search/local/ws/rest/v1\"><Copyright>Copyright © 2024 Microsoft and its suppliers. All rights reserved. This API cannot be accessed and the content and any results may not be used, reproduced or transmitted in any manner without express written permission from Microsoft Corporation.</Copyright><BrandLogoUri>http://dev.virtualearth.net/Branding/logo_powered_by.png</BrandLogoUri><StatusCode>200</StatusCode><StatusDescription>OK</StatusDescription><AuthenticationResultCode>ValidCredentials</AuthenticationResultCode><TraceId>adb1edb9eb133887d935d738723e22cb</TraceId><ResourceSets><ResourceSet><EstimatedTotal>1</EstimatedTotal><Resources><Location><Name>6941 Ingleside Rd, Princeton, WV 24739</Name><Point><Latitude>37.3146069</Latitude><Longitude>-81.0553763</Longitude></Point><BoundingBox><SouthLatitude>37.310744182429325</SouthLatitude><WestLongitude>-81.06185172143809</WestLongitude><NorthLatitude>37.31846961757068</NorthLatitude><EastLongitude>-81.04890087856192</EastLongitude></BoundingBox><EntityType>Address</EntityType><Address><AddressLine>6941 Ingleside Rd</AddressLine><AdminDistrict>WV</AdminDistrict><AdminDistrict2>Mercer County</AdminDistrict2><CountryRegion>United States</CountryRegion><FormattedAddress>6941 Ingleside Rd, Princeton, WV 24739</FormattedAddress><Locality>Princeton</Locality><PostalCode>24739</PostalCode></Address><Confidence>High</Confidence><MatchCode>Good</MatchCode><GeocodePoint><Latitude>37.3146069</Latitude><Longitude>-81.0553763</Longitude><CalculationMethod>Rooftop</CalculationMethod><UsageType>Display</UsageType></GeocodePoint><GeocodePoint><Latitude>37.3140009</Latitude><Longitude>-81.0550096</Longitude><CalculationMethod>Rooftop</CalculationMethod><UsageType>Route</UsageType></GeocodePoint></Location></Resources></ResourceSet></ResourceSets></Response>","<?xml version=\"1.0\" encoding=\"utf-8\"?><Response xmlns:xsi=\"http://www.w3.org/2001/XMLSchema-instance\" xmlns:xsd=\"http://www.w3.org/2001/XMLSchema\" xmlns=\"http://schemas.microsoft.com/search/local/ws/rest/v1\"><Copyright>Copyright © 2024 Microsoft and its suppliers. All rights reserved. This API cannot be accessed and the content and any results may not be used, reproduced or transmitted in any manner without express written permission from Microsoft Corporation.</Copyright><BrandLogoUri>https://dev.virtualearth.net/Branding/logo_powered_by.png</BrandLogoUri><StatusCode>200</StatusCode><StatusDescription>OK</StatusDescription><AuthenticationResultCode>ValidCredentials</AuthenticationResultCode><TraceId>415c50ee42c76f0bb3fe92e3efd184fb</TraceId><ResourceSets><ResourceSet><EstimatedTotal>1</EstimatedTotal><Resources><Resource xsi:type=\"DistanceMatrix\"><Origins><Coordinate><Latitude>38.890548</Latitude><Longitude>-79.845938</Longitude></Coordinate></Origins><Destinations><Coordinate><Latitude>37.3146069</Latitude><Longitude>-81.0553763</Longitude></Coordinate></Destinations><Results><Distance><DepartureTime xsi:nil=\"true\" /><OriginIndex>0</OriginIndex><DestinationIndex>0</DestinationIndex><TravelDistance>311.794</TravelDistance><TravelDuration>189.75</TravelDuration><TotalWalkDuration>0</TotalWalkDuration></Distance></Results></Resource></Resources></ResourceSet></ResourceSets></Response>",193.739749574]
["West Virginia Paving, Inc., Ripley Plant","2187 Ripley Rd., Ripley, WV25271",38.824231599999997,-81.751374900000002,"<?xml version=\"1.0\" encoding=\"utf-8\"?><Response xmlns:xsi=\"http://www.w3.org/2001/XMLSchema-instance\" xmlns:xsd=\"http://www.w3.org/2001/XMLSchema\" xmlns=\"http://schemas.microsoft.com/search/local/ws/rest/v1\"><Copyright>Copyright © 2024 Microsoft and its suppliers. All rights reserved. This API cannot be accessed and the content and any results may not be used, reproduced or transmitted in any manner without express written permission from Microsoft Corporation.</Copyright><BrandLogoUri>http://dev.virtualearth.net/Branding/logo_powered_by.png</BrandLogoUri><StatusCode>200</StatusCode><StatusDescription>OK</StatusDescription><AuthenticationResultCode>ValidCredentials</AuthenticationResultCode><TraceId>28b2a4ee2ba4368a10ffef5a8de8d206</TraceId><ResourceSets><ResourceSet><EstimatedTotal>1</EstimatedTotal><Resources><Location><Name>2187 Ripley Rd, Ripley, WV 25271</Name><Point><Latitude>38.8242316</Latitude><Longitude>-81.7513749</Longitude></Point><BoundingBox><SouthLatitude>38.82036888242932</SouthLatitude><WestLongitude>-81.75798533501141</WestLongitude><NorthLatitude>38.828094317570674</NorthLatitude><EastLongitude>-81.74476446498859</EastLongitude></BoundingBox><EntityType>Address</EntityType><Address><AddressLine>2187 Ripley Rd</AddressLine><AdminDistrict>WV</AdminDistrict><AdminDistrict2>Jackson County</AdminDistrict2><CountryRegion>United States</CountryRegion><FormattedAddress>2187 Ripley Rd, Ripley, WV 25271</FormattedAddress><Locality>Ripley</Locality><PostalCode>25271</PostalCode></Address><Confidence>High</Confidence><MatchCode>Good</MatchCode><GeocodePoint><Latitude>38.8242316</Latitude><Longitude>-81.7513749</Longitude><CalculationMethod>Rooftop</CalculationMethod><UsageType>Display</UsageType></GeocodePoint><GeocodePoint><Latitude>38.8247766</Latitude><Longitude>-81.7512441</Longitude><CalculationMethod>Rooftop</CalculationMethod><UsageType>Route</UsageType></GeocodePoint></Location></Resources></ResourceSet></ResourceSets></Response>","<?xml version=\"1.0\" encoding=\"utf-8\"?><Response xmlns:xsi=\"http://www.w3.org/2001/XMLSchema-instance\" xmlns:xsd=\"http://www.w3.org/2001/XMLSchema\" xmlns=\"http://schemas.microsoft.com/search/local/ws/rest/v1\"><Copyright>Copyright © 2024 Microsoft and its suppliers. All rights reserved. This API cannot be accessed and the content and any results may not be used, reproduced or transmitted in any manner without express written permission from Microsoft Corporation.</Copyright><BrandLogoUri>https://dev.virtualearth.net/Branding/logo_powered_by.png</BrandLogoUri><StatusCode>200</StatusCode><StatusDescription>OK</StatusDescription><AuthenticationResultCode>ValidCredentials</AuthenticationResultCode><TraceId>de74fba86da36b895121ca63c47a231d</TraceId><ResourceSets><ResourceSet><EstimatedTotal>1</EstimatedTotal><Resources><Resource xsi:type=\"DistanceMatrix\"><Origins><Coordinate><Latitude>38.890548</Latitude><Longitude>-79.845938</Longitude></Coordinate></Origins><Destinations><Coordinate><Latitude>38.8242316</Latitude><Longitude>-81.7513749</Longitude></Coordinate></Destinations><Results><Distance><DepartureTime xsi:nil=\"true\" /><OriginIndex>0</OriginIndex><DestinationIndex>0</DestinationIndex><TravelDistance>280.627</TravelDistance><TravelDuration>159.8</TravelDuration><TotalWalkDuration>0</TotalWalkDuration></Distance></Results></Resource></Resources></ResourceSet></ResourceSets></Response>",174.37347961700002]
["West Virginia Paving, Inc., Scherr Plant","Greenland Gap Rd., Scherr, WV 26726",39.190141500000003,-79.149020469999996,"<?xml version=\"1.0\" encoding=\"utf-8\"?><Response xmlns:xsi=\"http://www.w3.org/2001/XMLSchema-instance\" xmlns:xsd=\"http://www.w3.org/2001/XMLSchema\" xmlns=\"http://schemas.microsoft.com/search/local/ws/rest/v1\"><Copyright>Copyright © 2024 Microsoft and its suppliers. All rights reserved. This API cannot be accessed and the content and any results may not be used, reproduced or transmitted in any manner without express written permission from Microsoft Corporation.</Copyright><BrandLogoUri>http://dev.virtualearth.net/Branding/logo_powered_by.png</BrandLogoUri><StatusCode>200</StatusCode><StatusDescription>OK</StatusDescription><AuthenticationResultCode>ValidCredentials</AuthenticationResultCode><TraceId>22be23575c053fae181a948aff783674</TraceId><ResourceSets><ResourceSet><EstimatedTotal>1</EstimatedTotal><Resources><Location><Name>Greenland Gap Rd, Maysville, WV 26833</Name><Point><Latitude>39.1901415</Latitude><Longitude>-79.14902047</Longitude></Point><BoundingBox><SouthLatitude>39.186278779995924</SouthLatitude><WestLongitude>-79.15566518201588</WestLongitude><NorthLatitude>39.19400421513728</NorthLatitude><EastLongitude>-79.14237575396133</EastLongitude></BoundingBox><EntityType>RoadBlock</EntityType><Address><AddressLine>Greenland Gap Rd</AddressLine><AdminDistrict>WV</AdminDistrict><AdminDistrict2>Grant County</AdminDistrict2><CountryRegion>United States</CountryRegion><FormattedAddress>Greenland Gap Rd, Maysville, WV 26833</FormattedAddress><Locality>Maysville</Locality><PostalCode>26833</PostalCode></Address><Confidence>Medium</Confidence><MatchCode>Good</MatchCode><GeocodePoint><Latitude>39.1901415</Latitude><Longitude>-79.14902047</Longitude><CalculationMethod>Interpolation</CalculationMethod><UsageType>Display</UsageType></GeocodePoint></Location></Resources></ResourceSet></ResourceSets></Response>","<?xml version=\"1.0\" encoding=\"utf-8\"?><Response xmlns:xsi=\"http://www.w3.org/2001/XMLSchema-instance\" xmlns:xsd=\"http://www.w3.org/2001/XMLSchema\" xmlns=\"http://schemas.microsoft.com/search/local/ws/rest/v1\"><Copyright>Copyright © 2024 Microsoft and its suppliers. All rights reserved. This API cannot be accessed and the content and any results may not be used, reproduced or transmitted in any manner without express written permission from Microsoft Corporation.</Copyright><BrandLogoUri>https://dev.virtualearth.net/Branding/logo_powered_by.png</BrandLogoUri><StatusCode>200</StatusCode><StatusDescription>OK</StatusDescription><AuthenticationResultCode>ValidCredentials</AuthenticationResultCode><TraceId>5b482059f4ff3d1d3da084b3f640e670</TraceId><ResourceSets><ResourceSet><EstimatedTotal>1</EstimatedTotal><Resources><Resource xsi:type=\"DistanceMatrix\"><Origins><Coordinate><Latitude>38.890548</Latitude><Longitude>-79.845938</Longitude></Coordinate></Origins><Destinations><Coordinate><Latitude>39.1901415</Latitude><Longitude>-79.14902047</Longitude></Coordinate></Destinations><Results><Distance><DepartureTime xsi:nil=\"true\" /><OriginIndex>0</OriginIndex><DestinationIndex>0</DestinationIndex><TravelDistance>111.14</TravelDistance><TravelDuration>83.8</TravelDuration><TotalWalkDuration>0</TotalWalkDuration></Distance></Results></Resource></Resources></ResourceSet></ResourceSets></Response>",69.059172939999996]
["West Virginia Paving, Inc., Shelly Co.","Rt. 7 North,Gallipolis, OH 45631",38.8379008,-82.151181149999999,"<?xml version=\"1.0\" encoding=\"utf-8\"?><Response xmlns:xsi=\"http://www.w3.org/2001/XMLSchema-instance\" xmlns:xsd=\"http://www.w3.org/2001/XMLSchema\" xmlns=\"http://schemas.microsoft.com/search/local/ws/rest/v1\"><Copyright>Copyright © 2024 Microsoft and its suppliers. All rights reserved. This API cannot be accessed and the content and any results may not be used, reproduced or transmitted in any manner without express written permission from Microsoft Corporation.</Copyright><BrandLogoUri>http://dev.virtualearth.net/Branding/logo_powered_by.png</BrandLogoUri><StatusCode>200</StatusCode><StatusDescription>OK</StatusDescription><AuthenticationResultCode>ValidCredentials</AuthenticationResultCode><TraceId>a7c1a33e326b90bd54d925ff30c4e326</TraceId><ResourceSets><ResourceSet><EstimatedTotal>1</EstimatedTotal><Resources><Location><Name>State Rt 7 N, Gallipolis, OH 45631</Name><Point><Latitude>38.8379008</Latitude><Longitude>-82.15118115</Longitude></Point><BoundingBox><SouthLatitude>38.834038082464026</SouthLatitude><WestLongitude>-82.15779285449295</WestLongitude><NorthLatitude>38.84176351760538</NorthLatitude><EastLongitude>-82.14456944576884</EastLongitude></BoundingBox><EntityType>RoadBlock</EntityType><Address><AddressLine>State Rt 7 N</AddressLine><AdminDistrict>OH</AdminDistrict><AdminDistrict2>Gallia County</AdminDistrict2><CountryRegion>United States</CountryRegion><FormattedAddress>State Rt 7 N, Gallipolis, OH 45631</FormattedAddress><Locality>Gallipolis</Locality><PostalCode>45631</PostalCode></Address><Confidence>High</Confidence><MatchCode>Good</MatchCode><GeocodePoint><Latitude>38.8379008</Latitude><Longitude>-82.15118115</Longitude><CalculationMethod>Interpolation</CalculationMethod><UsageType>Display</UsageType></GeocodePoint></Location></Resources></ResourceSet></ResourceSets></Response>","<?xml version=\"1.0\" encoding=\"utf-8\"?><Response xmlns:xsi=\"http://www.w3.org/2001/XMLSchema-instance\" xmlns:xsd=\"http://www.w3.org/2001/XMLSchema\" xmlns=\"http://schemas.microsoft.com/search/local/ws/rest/v1\"><Copyright>Copyright © 2024 Microsoft and its suppliers. All rights reserved. This API cannot be accessed and the content and any results may not be used, reproduced or transmitted in any manner without express written permission from Microsoft Corporation.</Copyright><BrandLogoUri>https://dev.virtualearth.net/Branding/logo_powered_by.png</BrandLogoUri><StatusCode>200</StatusCode><StatusDescription>OK</StatusDescription><AuthenticationResultCode>ValidCredentials</AuthenticationResultCode><TraceId>1a831c26813253733d9a40eaeb9b7052</TraceId><ResourceSets><ResourceSet><EstimatedTotal>1</EstimatedTotal><Resources><Resource xsi:type=\"DistanceMatrix\"><Origins><Coordinate><Latitude>38.890548</Latitude><Longitude>-79.845938</Longitude></Coordinate></Origins><Destinations><Coordinate><Latitude>38.8379008</Latitude><Longitude>-82.15118115</Longitude></Coordinate></Destinations><Results><Distance><DepartureTime xsi:nil=\"true\" /><OriginIndex>0</OriginIndex><DestinationIndex>0</DestinationIndex><TravelDistance>311.649</TravelDistance><TravelDuration>178.4667</TravelDuration><TotalWalkDuration>0</TotalWalkDuration></Distance></Results></Resource></Resources></ResourceSet></ResourceSets></Response>",193.64965077900001]
["West Virginia Paving, Inc., Summersville, WV","2816 Frontage Rd., Summersville, WV 26651",38.326703799999997,-80.835691699999998,"<?xml version=\"1.0\" encoding=\"utf-8\"?><Response xmlns:xsi=\"http://www.w3.org/2001/XMLSchema-instance\" xmlns:xsd=\"http://www.w3.org/2001/XMLSchema\" xmlns=\"http://schemas.microsoft.com/search/local/ws/rest/v1\"><Copyright>Copyright © 2024 Microsoft and its suppliers. All rights reserved. This API cannot be accessed and the content and any results may not be used, reproduced or transmitted in any manner without express written permission from Microsoft Corporation.</Copyright><BrandLogoUri>http://dev.virtualearth.net/Branding/logo_powered_by.png</BrandLogoUri><StatusCode>200</StatusCode><StatusDescription>OK</StatusDescription><AuthenticationResultCode>ValidCredentials</AuthenticationResultCode><TraceId>e6040a0a14c6a66fb72cd693fd844c49</TraceId><ResourceSets><ResourceSet><EstimatedTotal>1</EstimatedTotal><Resources><Location><Name>2816 Frontage Rd, Summersville, WV 26651</Name><Point><Latitude>38.3267038</Latitude><Longitude>-80.8356917</Longitude></Point><BoundingBox><SouthLatitude>38.32284108242932</SouthLatitude><WestLongitude>-80.84225651606002</WestLongitude><NorthLatitude>38.330566517570674</NorthLatitude><EastLongitude>-80.82912688393998</EastLongitude></BoundingBox><EntityType>Address</EntityType><Address><AddressLine>2816 Frontage Rd</AddressLine><AdminDistrict>WV</AdminDistrict><AdminDistrict2>Nicholas County</AdminDistrict2><CountryRegion>United States</CountryRegion><FormattedAddress>2816 Frontage Rd, Summersville, WV 26651</FormattedAddress><Locality>Summersville</Locality><PostalCode>26651</PostalCode></Address><Confidence>High</Confidence><MatchCode>Good</MatchCode><GeocodePoint><Latitude>38.3267038</Latitude><Longitude>-80.8356917</Longitude><CalculationMethod>Rooftop</CalculationMethod><UsageType>Display</UsageType></GeocodePoint><GeocodePoint><Latitude>38.3267057</Latitude><Longitude>-80.8356843</Longitude><CalculationMethod>Rooftop</CalculationMethod><UsageType>Route</UsageType></GeocodePoint></Location></Resources></ResourceSet></ResourceSets></Response>","<?xml version=\"1.0\" encoding=\"utf-8\"?><Response xmlns:xsi=\"http://www.w3.org/2001/XMLSchema-instance\" xmlns:xsd=\"http://www.w3.org/2001/XMLSchema\" xmlns=\"http://schemas.microsoft.com/search/local/ws/rest/v1\"><Copyright>Copyright © 2024 Microsoft and its suppliers. All rights reserved. This API cannot be accessed and the content and any results may not be used, reproduced or transmitted in any manner without express written permission from Microsoft Corporation.</Copyright><BrandLogoUri>https://dev.virtualearth.net/Branding/logo_powered_by.png</BrandLogoUri><StatusCode>200</StatusCode><StatusDescription>OK</StatusDescription><AuthenticationResultCode>ValidCredentials</AuthenticationResultCode><TraceId>eed395276130c9812c52f7715a9c33be</TraceId><ResourceSets><ResourceSet><EstimatedTotal>1</EstimatedTotal><Resources><Resource xsi:type=\"DistanceMatrix\"><Origins><Coordinate><Latitude>38.890548</Latitude><Longitude>-79.845938</Longitude></Coordinate></Origins><Destinations><Coordinate><Latitude>38.3267038</Latitude><Longitude>-80.8356917</Longitude></Coordinate></Destinations><Results><Distance><DepartureTime xsi:nil=\"true\" /><OriginIndex>0</OriginIndex><DestinationIndex>0</DestinationIndex><TravelDistance>170.1</TravelDistance><TravelDuration>105.0833</TravelDuration><TotalWalkDuration>0</TotalWalkDuration></Distance></Results></Resource></Resources></ResourceSet></ResourceSets></Response>",105.6952071]
["West Virginia Paving, Inc., Whitman Plant","US 119 Whitman Creek Rd., Whitman, WV 25652",37.844814999999997,-82.018376700000005,"<?xml version=\"1.0\" encoding=\"utf-8\"?><Response xmlns:xsi=\"http://www.w3.org/2001/XMLSchema-instance\" xmlns:xsd=\"http://www.w3.org/2001/XMLSchema\" xmlns=\"http://schemas.microsoft.com/search/local/ws/rest/v1\"><Copyright>Copyright © 2024 Microsoft and its suppliers. All rights reserved. This API cannot be accessed and the content and any results may not be used, reproduced or transmitted in any manner without express written permission from Microsoft Corporation.</Copyright><BrandLogoUri>http://dev.virtualearth.net/Branding/logo_powered_by.png</BrandLogoUri><StatusCode>200</StatusCode><StatusDescription>OK</StatusDescription><AuthenticationResultCode>ValidCredentials</AuthenticationResultCode><TraceId>f0bb8f5a6f17c772b470ebcf05586ebb</TraceId><ResourceSets><ResourceSet><EstimatedTotal>1</EstimatedTotal><Resources><Location><Name>119 Whitman Creek Rd, Whitman, WV 25652</Name><Point><Latitude>37.844815</Latitude><Longitude>-82.0183767</Longitude></Point><BoundingBox><SouthLatitude>37.84095228242932</SouthLatitude><WestLongitude>-82.0248983930073</WestLongitude><NorthLatitude>37.84867771757067</NorthLatitude><EastLongitude>-82.0118550069927</EastLongitude></BoundingBox><EntityType>Address</EntityType><Address><AddressLine>119 Whitman Creek Rd</AddressLine><AdminDistrict>WV</AdminDistrict><AdminDistrict2>Logan County</AdminDistrict2><CountryRegion>United States</CountryRegion><FormattedAddress>119 Whitman Creek Rd, Whitman, WV 25652</FormattedAddress><Locality>Whitman</Locality><PostalCode>25652</PostalCode></Address><Confidence>High</Confidence><MatchCode>Good</MatchCode><GeocodePoint><Latitude>37.844815</Latitude><Longitude>-82.0183767</Longitude><CalculationMethod>Rooftop</CalculationMethod><UsageType>Display</UsageType></GeocodePoint><GeocodePoint><Latitude>37.8446823</Latitude><Longitude>-82.0183083</Longitude><CalculationMethod>Rooftop</CalculationMethod><UsageType>Route</UsageType></GeocodePoint></Location></Resources></ResourceSet></ResourceSets></Response>","<?xml version=\"1.0\" encoding=\"utf-8\"?><Response xmlns:xsi=\"http://www.w3.org/2001/XMLSchema-instance\" xmlns:xsd=\"http://www.w3.org/2001/XMLSchema\" xmlns=\"http://schemas.microsoft.com/search/local/ws/rest/v1\"><Copyright>Copyright © 2024 Microsoft and its suppliers. All rights reserved. This API cannot be accessed and the content and any results may not be used, reproduced or transmitted in any manner without express written permission from Microsoft Corporation.</Copyright><BrandLogoUri>https://dev.virtualearth.net/Branding/logo_powered_by.png</BrandLogoUri><StatusCode>200</StatusCode><StatusDescription>OK</StatusDescription><AuthenticationResultCode>ValidCredentials</AuthenticationResultCode><TraceId>1a0aa8e95c9814ddd97e91bba075ada9</TraceId><ResourceSets><ResourceSet><EstimatedTotal>1</EstimatedTotal><Resources><Resource xsi:type=\"DistanceMatrix\"><Origins><Coordinate><Latitude>38.890548</Latitude><Longitude>-79.845938</Longitude></Coordinate></Origins><Destinations><Coordinate><Latitude>37.844815</Latitude><Longitude>-82.0183767</Longitude></Coordinate></Destinations><Results><Distance><DepartureTime xsi:nil=\"true\" /><OriginIndex>0</OriginIndex><DestinationIndex>0</DestinationIndex><TravelDistance>317.138</TravelDistance><TravelDuration>192.1833</TravelDuration><TotalWalkDuration>0</TotalWalkDuration></Distance></Results></Resource></Resources></ResourceSet></ResourceSets></Response>",197.06035619799999]
["WL 311","660 Quarry Lane, Clearbrook, VA 22624",39.252421699999999,-78.082925000000003,"<?xml version=\"1.0\" encoding=\"utf-8\"?><Response xmlns:xsi=\"http://www.w3.org/2001/XMLSchema-instance\" xmlns:xsd=\"http://www.w3.org/2001/XMLSchema\" xmlns=\"http://schemas.microsoft.com/search/local/ws/rest/v1\"><Copyright>Copyright © 2024 Microsoft and its suppliers. All rights reserved. This API cannot be accessed and the content and any results may not be used, reproduced or transmitted in any manner without express written permission from Microsoft Corporation.</Copyright><BrandLogoUri>http://dev.virtualearth.net/Branding/logo_powered_by.png</BrandLogoUri><StatusCode>200</StatusCode><StatusDescription>OK</StatusDescription><AuthenticationResultCode>ValidCredentials</AuthenticationResultCode><TraceId>b9722fc43fe5a8e80e5e56a02582d004</TraceId><ResourceSets><ResourceSet><EstimatedTotal>1</EstimatedTotal><Resources><Location><Name>660 Quarry Ln, Clear Brook, VA 22624</Name><Point><Latitude>39.2524217</Latitude><Longitude>-78.082925</Longitude></Point><BoundingBox><SouthLatitude>39.24855898242932</SouthLatitude><WestLongitude>-78.08957561104683</WestLongitude><NorthLatitude>39.256284417570676</NorthLatitude><EastLongitude>-78.07627438895318</EastLongitude></BoundingBox><EntityType>Address</EntityType><Address><AddressLine>660 Quarry Ln</AddressLine><AdminDistrict>VA</AdminDistrict><AdminDistrict2>Frederick County</AdminDistrict2><CountryRegion>United States</CountryRegion><FormattedAddress>660 Quarry Ln, Clear Brook, VA 22624</FormattedAddress><Locality>Clear Brook</Locality><PostalCode>22624</PostalCode></Address><Confidence>High</Confidence><MatchCode>Good</MatchCode><GeocodePoint><Latitude>39.2524217</Latitude><Longitude>-78.082925</Longitude><CalculationMethod>Rooftop</CalculationMethod><UsageType>Display</UsageType></GeocodePoint><GeocodePoint><Latitude>39.2518935</Latitude><Longitude>-78.082866</Longitude><CalculationMethod>Rooftop</CalculationMethod><UsageType>Route</UsageType></GeocodePoint></Location></Resources></ResourceSet></ResourceSets></Response>","<?xml version=\"1.0\" encoding=\"utf-8\"?><Response xmlns:xsi=\"http://www.w3.org/2001/XMLSchema-instance\" xmlns:xsd=\"http://www.w3.org/2001/XMLSchema\" xmlns=\"http://schemas.microsoft.com/search/local/ws/rest/v1\"><Copyright>Copyright © 2024 Microsoft and its suppliers. All rights reserved. This API cannot be accessed and the content and any results may not be used, reproduced or transmitted in any manner without express written permission from Microsoft Corporation.</Copyright><BrandLogoUri>https://dev.virtualearth.net/Branding/logo_powered_by.png</BrandLogoUri><StatusCode>200</StatusCode><StatusDescription>OK</StatusDescription><AuthenticationResultCode>ValidCredentials</AuthenticationResultCode><TraceId>7aac56a6bc351db0dce47268d0c99cc3</TraceId><ResourceSets><ResourceSet><EstimatedTotal>1</EstimatedTotal><Resources><Resource xsi:type=\"DistanceMatrix\"><Origins><Coordinate><Latitude>38.890548</Latitude><Longitude>-79.845938</Longitude></Coordinate></Origins><Destinations><Coordinate><Latitude>39.2524217</Latitude><Longitude>-78.082925</Longitude></Coordinate></Destinations><Results><Distance><DepartureTime xsi:nil=\"true\" /><OriginIndex>0</OriginIndex><DestinationIndex>0</DestinationIndex><TravelDistance>219.595</TravelDistance><TravelDuration>173.7333</TravelDuration><TotalWalkDuration>0</TotalWalkDuration></Distance></Results></Resource></Resources></ResourceSet></ResourceSets></Response>",136.44996474499999]
["WL, Inwood Plant","390 Pedal Car Drive, Inwood, WV 25248",39.349786000000002,-78.038485800000004,"<?xml version=\"1.0\" encoding=\"utf-8\"?><Response xmlns:xsi=\"http://www.w3.org/2001/XMLSchema-instance\" xmlns:xsd=\"http://www.w3.org/2001/XMLSchema\" xmlns=\"http://schemas.microsoft.com/search/local/ws/rest/v1\"><Copyright>Copyright © 2024 Microsoft and its suppliers. All rights reserved. This API cannot be accessed and the content and any results may not be used, reproduced or transmitted in any manner without express written permission from Microsoft Corporation.</Copyright><BrandLogoUri>http://dev.virtualearth.net/Branding/logo_powered_by.png</BrandLogoUri><StatusCode>200</StatusCode><StatusDescription>OK</StatusDescription><AuthenticationResultCode>ValidCredentials</AuthenticationResultCode><TraceId>8b7bc1f5bfad04f7f51ff3f8f25b6e1f</TraceId><ResourceSets><ResourceSet><EstimatedTotal>1</EstimatedTotal><Resources><Location><Name>390 Pedal Car Dr, Inwood, WV 25428</Name><Point><Latitude>39.349786</Latitude><Longitude>-78.0384858</Longitude></Point><BoundingBox><SouthLatitude>39.345923282429325</SouthLatitude><WestLongitude>-78.04514566680197</WestLongitude><NorthLatitude>39.35364871757068</NorthLatitude><EastLongitude>-78.03182593319804</EastLongitude></BoundingBox><EntityType>Address</EntityType><Address><AddressLine>390 Pedal Car Dr</AddressLine><AdminDistrict>WV</AdminDistrict><AdminDistrict2>Berkeley County</AdminDistrict2><CountryRegion>United States</CountryRegion><FormattedAddress>390 Pedal Car Dr, Inwood, WV 25428</FormattedAddress><Locality>Inwood</Locality><PostalCode>25428</PostalCode></Address><Confidence>High</Confidence><MatchCode>Good</MatchCode><GeocodePoint><Latitude>39.349786</Latitude><Longitude>-78.0384858</Longitude><CalculationMethod>Rooftop</CalculationMethod><UsageType>Display</UsageType></GeocodePoint><GeocodePoint><Latitude>39.3498389</Latitude><Longitude>-78.0379068</Longitude><CalculationMethod>Rooftop</CalculationMethod><UsageType>Route</UsageType></GeocodePoint></Location></Resources></ResourceSet></ResourceSets></Response>","<?xml version=\"1.0\" encoding=\"utf-8\"?><Response xmlns:xsi=\"http://www.w3.org/2001/XMLSchema-instance\" xmlns:xsd=\"http://www.w3.org/2001/XMLSchema\" xmlns=\"http://schemas.microsoft.com/search/local/ws/rest/v1\"><Copyright>Copyright © 2024 Microsoft and its suppliers. All rights reserved. This API cannot be accessed and the content and any results may not be used, reproduced or transmitted in any manner without express written permission from Microsoft Corporation.</Copyright><BrandLogoUri>https://dev.virtualearth.net/Branding/logo_powered_by.png</BrandLogoUri><StatusCode>200</StatusCode><StatusDescription>OK</StatusDescription><AuthenticationResultCode>ValidCredentials</AuthenticationResultCode><TraceId>8124da3a45208a7445c568cdba9c7d93</TraceId><ResourceSets><ResourceSet><EstimatedTotal>1</EstimatedTotal><Resources><Resource xsi:type=\"DistanceMatrix\"><Origins><Coordinate><Latitude>38.890548</Latitude><Longitude>-79.845938</Longitude></Coordinate></Origins><Destinations><Coordinate><Latitude>39.349786</Latitude><Longitude>-78.0384858</Longitude></Coordinate></Destinations><Results><Distance><DepartureTime xsi:nil=\"true\" /><OriginIndex>0</OriginIndex><DestinationIndex>0</DestinationIndex><TravelDistance>233.195</TravelDistance><TravelDuration>181.4667</TravelDuration><TotalWalkDuration>0</TotalWalkDuration></Distance></Results></Resource></Resources></ResourceSet></ResourceSets></Response>",144.90061034499999]
["WL, Millville Plant","57 Blair Rd., Harpers Ferry, WV 25425",39.289814999999997,-77.791552999999993,"<?xml version=\"1.0\" encoding=\"utf-8\"?><Response xmlns:xsi=\"http://www.w3.org/2001/XMLSchema-instance\" xmlns:xsd=\"http://www.w3.org/2001/XMLSchema\" xmlns=\"http://schemas.microsoft.com/search/local/ws/rest/v1\"><Copyright>Copyright © 2024 Microsoft and its suppliers. All rights reserved. This API cannot be accessed and the content and any results may not be used, reproduced or transmitted in any manner without express written permission from Microsoft Corporation.</Copyright><BrandLogoUri>http://dev.virtualearth.net/Branding/logo_powered_by.png</BrandLogoUri><StatusCode>200</StatusCode><StatusDescription>OK</StatusDescription><AuthenticationResultCode>ValidCredentials</AuthenticationResultCode><TraceId>1aab041b4397638ccaa4e8ceb48ba90b</TraceId><ResourceSets><ResourceSet><EstimatedTotal>1</EstimatedTotal><Resources><Location><Name>57 Blair Rd, Harpers Ferry, WV 25425</Name><Point><Latitude>39.289815</Latitude><Longitude>-77.791553</Longitude></Point><BoundingBox><SouthLatitude>39.28595228242932</SouthLatitude><WestLongitude>-77.79820716045388</WestLongitude><NorthLatitude>39.293677717570674</NorthLatitude><EastLongitude>-77.7848988395461</EastLongitude></BoundingBox><EntityType>Address</EntityType><Address><AddressLine>57 Blair Rd</AddressLine><AdminDistrict>WV</AdminDistrict><AdminDistrict2>Jefferson County</AdminDistrict2><CountryRegion>United States</CountryRegion><FormattedAddress>57 Blair Rd, Harpers Ferry, WV 25425</FormattedAddress><Locality>Harpers Ferry</Locality><PostalCode>25425</PostalCode></Address><Confidence>High</Confidence><MatchCode>Good</MatchCode><GeocodePoint><Latitude>39.289815</Latitude><Longitude>-77.791553</Longitude><CalculationMethod>Rooftop</CalculationMethod><UsageType>Display</UsageType></GeocodePoint><GeocodePoint><Latitude>39.289701</Latitude><Longitude>-77.7913967</Longitude><CalculationMethod>Rooftop</CalculationMethod><UsageType>Route</UsageType></GeocodePoint></Location></Resources></ResourceSet></ResourceSets></Response>","<?xml version=\"1.0\" encoding=\"utf-8\"?><Response xmlns:xsi=\"http://www.w3.org/2001/XMLSchema-instance\" xmlns:xsd=\"http://www.w3.org/2001/XMLSchema\" xmlns=\"http://schemas.microsoft.com/search/local/ws/rest/v1\"><Copyright>Copyright © 2024 Microsoft and its suppliers. All rights reserved. This API cannot be accessed and the content and any results may not be used, reproduced or transmitted in any manner without express written permission from Microsoft Corporation.</Copyright><BrandLogoUri>https://dev.virtualearth.net/Branding/logo_powered_by.png</BrandLogoUri><StatusCode>200</StatusCode><StatusDescription>OK</StatusDescription><AuthenticationResultCode>ValidCredentials</AuthenticationResultCode><TraceId>e461ad206f1c8dd4936ff16f416aabab</TraceId><ResourceSets><ResourceSet><EstimatedTotal>1</EstimatedTotal><Resources><Resource xsi:type=\"DistanceMatrix\"><Origins><Coordinate><Latitude>38.890548</Latitude><Longitude>-79.845938</Longitude></Coordinate></Origins><Destinations><Coordinate><Latitude>39.289815</Latitude><Longitude>-77.791553</Longitude></Coordinate></Destinations><Results><Distance><DepartureTime xsi:nil=\"true\" /><OriginIndex>0</OriginIndex><DestinationIndex>0</DestinationIndex><TravelDistance>259.737</TravelDistance><TravelDuration>202.05</TravelDuration><TotalWalkDuration>0</TotalWalkDuration></Distance></Results></Resource></Resources></ResourceSet></ResourceSets></Response>",161.39303942700002]
["WL 312","866 Oranda Road, Strasburg, VA",38.948418009999997,-78.221725090000007,"<?xml version=\"1.0\" encoding=\"utf-8\"?><Response xmlns:xsi=\"http://www.w3.org/2001/XMLSchema-instance\" xmlns:xsd=\"http://www.w3.org/2001/XMLSchema\" xmlns=\"http://schemas.microsoft.com/search/local/ws/rest/v1\"><Copyright>Copyright © 2024 Microsoft and its suppliers. All rights reserved. This API cannot be accessed and the content and any results may not be used, reproduced or transmitted in any manner without express written permission from Microsoft Corporation.</Copyright><BrandLogoUri>http://dev.virtualearth.net/Branding/logo_powered_by.png</BrandLogoUri><StatusCode>200</StatusCode><StatusDescription>OK</StatusDescription><AuthenticationResultCode>ValidCredentials</AuthenticationResultCode><TraceId>9ef543305f08f1ad5eaccec14cf8fbaf</TraceId><ResourceSets><ResourceSet><EstimatedTotal>1</EstimatedTotal><Resources><Location><Name>866 Strasburg Rd, Front Royal, VA 22630</Name><Point><Latitude>38.94841801</Latitude><Longitude>-78.22172509</Longitude></Point><BoundingBox><SouthLatitude>38.94455529640908</SouthLatitude><WestLongitude>-78.22834708869337</WestLongitude><NorthLatitude>38.95228073155043</NorthLatitude><EastLongitude>-78.21510309066826</EastLongitude></BoundingBox><EntityType>Address</EntityType><Address><AddressLine>866 Strasburg Rd</AddressLine><AdminDistrict>VA</AdminDistrict><AdminDistrict2>Warren County</AdminDistrict2><CountryRegion>United States</CountryRegion><FormattedAddress>866 Strasburg Rd, Front Royal, VA 22630</FormattedAddress><Locality>Front Royal</Locality><PostalCode>22630</PostalCode></Address><Confidence>Low</Confidence><MatchCode>Good</MatchCode><GeocodePoint><Latitude>38.94841801</Latitude><Longitude>-78.22172509</Longitude><CalculationMethod>InterpolationOffset</CalculationMethod><UsageType>Display</UsageType></GeocodePoint><GeocodePoint><Latitude>38.94837324</Latitude><Longitude>-78.22173047</Longitude><CalculationMethod>Interpolation</CalculationMethod><UsageType>Route</UsageType></GeocodePoint></Location></Resources></ResourceSet></ResourceSets></Response>","<?xml version=\"1.0\" encoding=\"utf-8\"?><Response xmlns:xsi=\"http://www.w3.org/2001/XMLSchema-instance\" xmlns:xsd=\"http://www.w3.org/2001/XMLSchema\" xmlns=\"http://schemas.microsoft.com/search/local/ws/rest/v1\"><Copyright>Copyright © 2024 Microsoft and its suppliers. All rights reserved. This API cannot be accessed and the content and any results may not be used, reproduced or transmitted in any manner without express written permission from Microsoft Corporation.</Copyright><BrandLogoUri>https://dev.virtualearth.net/Branding/logo_powered_by.png</BrandLogoUri><StatusCode>200</StatusCode><StatusDescription>OK</StatusDescription><AuthenticationResultCode>ValidCredentials</AuthenticationResultCode><TraceId>d01d113d59f873e0d045691b48a65a3d</TraceId><ResourceSets><ResourceSet><EstimatedTotal>1</EstimatedTotal><Resources><Resource xsi:type=\"DistanceMatrix\"><Origins><Coordinate><Latitude>38.890548</Latitude><Longitude>-79.845938</Longitude></Coordinate></Origins><Destinations><Coordinate><Latitude>38.94841801</Latitude><Longitude>-78.22172509</Longitude></Coordinate></Destinations><Results><Distance><DepartureTime xsi:nil=\"true\" /><OriginIndex>0</OriginIndex><DestinationIndex>0</DestinationIndex><TravelDistance>207.599</TravelDistance><TravelDuration>162.7333</TravelDuration><TotalWalkDuration>0</TotalWalkDuration></Distance></Results></Resource></Resources></ResourceSet></ResourceSets></Response>",128.99599822900001]
[]
[]
[]
["Appalachian Aggregates","Rt. 33 Kelly Mountain Rd., Elkins, WV 26241",{"$f":"_xlfn.FILTERXML(E52,\"//Latitude[1]\")","v":38.890563},{"$f":"_xlfn.FILTERXML(E52,\"//Longitude[1]\")","v":-79.845853000000005},{"$f":"_xlfn.WEBSERVICE(\"http://dev.virtualearth.net/REST/v1/Locations?q=\"&B52&\"&maxResults=1&o=xml&key=\"&$A$2)","v":"<?xml version=\"1.0\" encoding=\"utf-8\"?><Response xmlns:xsd=\"http://www.w3.org/2001/XMLSchema\" xmlns:xsi=\"http://www.w3.org/2001/XMLSchema-instance\" xmlns=\"http://schemas.microsoft.com/search/local/ws/rest/v1\"><Copyright>Copyright © 2023 Microsoft and its suppliers. All rights reserved. This API cannot be accessed and the content and any results may not be used, reproduced or transmitted in any manner without express written permission from Microsoft Corporation.</Copyright><BrandLogoUri>https://dev.virtualearth.net/Branding/logo_powered_by.png</BrandLogoUri><StatusCode>200</StatusCode><StatusDescription>OK</StatusDescription><AuthenticationResultCode>ValidCredentials</AuthenticationResultCode><TraceId>fbbcf4b93023405d8e4015bca632c489|BN00006C6A|0.0.0.1|Ref A: B1779EF6269B4EECBCCE8A06E5A3BBAE Ref B: BN3EDGE0613 Ref C: 2023-12-27T14:01:29Z</TraceId><ResourceSets><ResourceSet><EstimatedTotal>1</EstimatedTotal><Resources><Location><Name>33 Kelly Mountain Rd, Elkins, WV 26241</Name><Point><Latitude>38.890563</Latitude><Longitude>-79.845853</Longitude></Point><BoundingBox><SouthLatitude>38.886700282429324</SouthLatitude><WestLongitude>-79.852469602767115</WestLongitude><NorthLatitude>38.894425717570677</NorthLatitude><EastLongitude>-79.8392363972329</EastLongitude></BoundingBox><EntityType>Address</EntityType><Address><AddressLine>33 Kelly Mountain Rd</AddressLine><AdminDistrict>WV</AdminDistrict><AdminDistrict2>Randolph County</AdminDistrict2><CountryRegion>United States</CountryRegion><FormattedAddress>33 Kelly Mountain Rd, Elkins, WV 26241</FormattedAddress><Locality>Elkins</Locality><PostalCode>26241</PostalCode></Address><Confidence>Medium</Confidence><MatchCode>Good</MatchCode><GeocodePoint><Latitude>38.890563</Latitude><Longitude>-79.845853</Longitude><CalculationMethod>Rooftop</CalculationMethod><UsageType>Display</UsageType></GeocodePoint><GeocodePoint><Latitude>38.8903342</Latitude><Longitude>-79.8452608</Longitude><CalculationMethod>Rooftop</CalculationMethod><UsageType>Route</UsageType></GeocodePoint></Location></Resources></ResourceSet></ResourceSets></Response>"},{"$f":"_xlfn.WEBSERVICE(\"https://dev.virtualearth.net/REST/v1/Routes/DistanceMatrix?origins=\"&$C$2&\",\"&$D$2&\"&destinations=\"&C52&\",\"&D52&\"&travelMode=driving&o=xml&key=\"&$A$2)","v":"<?xml version=\"1.0\" encoding=\"utf-8\"?><Response xmlns:xsi=\"http://www.w3.org/2001/XMLSchema-instance\" xmlns:xsd=\"http://www.w3.org/2001/XMLSchema\" xmlns=\"http://schemas.microsoft.com/search/local/ws/rest/v1\"><Copyright>Copyright © 2024 Microsoft and its suppliers. All rights reserved. This API cannot be accessed and the content and any results may not be used, reproduced or transmitted in any manner without express written permission from Microsoft Corporation.</Copyright><BrandLogoUri>https://dev.virtualearth.net/Branding/logo_powered_by.png</BrandLogoUri><StatusCode>200</StatusCode><StatusDescription>OK</StatusDescription><AuthenticationResultCode>ValidCredentials</AuthenticationResultCode><TraceId>b1d5f42dc83b1f5334a32dd921086b77</TraceId><ResourceSets><ResourceSet><EstimatedTotal>1</EstimatedTotal><Resources><Resource xsi:type=\"DistanceMatrix\"><Origins><Coordinate><Latitude>38.890548</Latitude><Longitude>-79.845938</Longitude></Coordinate></Origins><Destinations><Coordinate><Latitude>38.890563</Latitude><Longitude>-79.845853</Longitude></Coordinate></Destinations><Results><Distance><DepartureTime xsi:nil=\"true\" /><OriginIndex>0</OriginIndex><DestinationIndex>0</DestinationIndex><TravelDistance>0.555</TravelDistance><TravelDuration>1.7667</TravelDuration><TotalWalkDuration>0</TotalWalkDuration></Distance></Results></Resource></Resources></ResourceSet></ResourceSets></Response>"},{"$f":"_xlfn.FILTERXML(F52,\"//TravelDistance[1]\")*0.621371","v":0.34486090500000005}]
["Appalachian Aggregates","400 Stamping Creek Rd., Hillsboro WV 25880",38.162362700000003,-80.184952199999998,"<?xml version=\"1.0\" encoding=\"utf-8\"?><Response xmlns:xsd=\"http://www.w3.org/2001/XMLSchema\" xmlns:xsi=\"http://www.w3.org/2001/XMLSchema-instance\" xmlns=\"http://schemas.microsoft.com/search/local/ws/rest/v1\"><Copyright>Copyright © 2023 Microsoft and its suppliers. All rights reserved. This API cannot be accessed and the content and any results may not be used, reproduced or transmitted in any manner without express written permission from Microsoft Corporation.</Copyright><BrandLogoUri>https://dev.virtualearth.net/Branding/logo_powered_by.png</BrandLogoUri><StatusCode>200</StatusCode><StatusDescription>OK</StatusDescription><AuthenticationResultCode>ValidCredentials</AuthenticationResultCode><TraceId>18b67835c2354614b84091fa3eb5e8a4|BN00006C71|0.0.0.1|Ref A: 080748B5B142429495006E5E54258795 Ref B: BN3EDGE0507 Ref C: 2023-12-27T14:01:29Z</TraceId><ResourceSets><ResourceSet><EstimatedTotal>1</EstimatedTotal><Resources><Location><Name>400 Stamping Creek Rd, Hillsboro, WV 24946</Name><Point><Latitude>38.1623627</Latitude><Longitude>-80.1849522</Longitude></Point><BoundingBox><SouthLatitude>38.158499982429326</SouthLatitude><WestLongitude>-80.1915021935418</WestLongitude><NorthLatitude>38.166225417570679</NorthLatitude><EastLongitude>-80.1784022064582</EastLongitude></BoundingBox><EntityType>Address</EntityType><Address><AddressLine>400 Stamping Creek Rd</AddressLine><AdminDistrict>WV</AdminDistrict><AdminDistrict2>Pocahontas County</AdminDistrict2><CountryRegion>United States</CountryRegion><FormattedAddress>400 Stamping Creek Rd, Hillsboro, WV 24946</FormattedAddress><Locality>Hillsboro</Locality><PostalCode>24946</PostalCode></Address><Confidence>High</Confidence><MatchCode>Good</MatchCode><GeocodePoint><Latitude>38.1623627</Latitude><Longitude>-80.1849522</Longitude><CalculationMethod>Rooftop</CalculationMethod><UsageType>Display</UsageType></GeocodePoint><GeocodePoint><Latitude>38.1621568</Latitude><Longitude>-80.1852062</Longitude><CalculationMethod>Rooftop</CalculationMethod><UsageType>Route</UsageType></GeocodePoint></Location></Resources></ResourceSet></ResourceSets></Response>","<?xml version=\"1.0\" encoding=\"utf-8\"?><Response xmlns:xsi=\"http://www.w3.org/2001/XMLSchema-instance\" xmlns:xsd=\"http://www.w3.org/2001/XMLSchema\" xmlns=\"http://schemas.microsoft.com/search/local/ws/rest/v1\"><Copyright>Copyright © 2024 Microsoft and its suppliers. All rights reserved. This API cannot be accessed and the content and any results may not be used, reproduced or transmitted in any manner without express written permission from Microsoft Corporation.</Copyright><BrandLogoUri>https://dev.virtualearth.net/Branding/logo_powered_by.png</BrandLogoUri><StatusCode>200</StatusCode><StatusDescription>OK</StatusDescription><AuthenticationResultCode>ValidCredentials</AuthenticationResultCode><TraceId>23d7c52884efb5c54244f031ed4dab8b</TraceId><ResourceSets><ResourceSet><EstimatedTotal>1</EstimatedTotal><Resources><Resource xsi:type=\"DistanceMatrix\"><Origins><Coordinate><Latitude>38.890548</Latitude><Longitude>-79.845938</Longitude></Coordinate></Origins><Destinations><Coordinate><Latitude>38.1623627</Latitude><Longitude>-80.1849522</Longitude></Coordinate></Destinations><Results><Distance><DepartureTime xsi:nil=\"true\" /><OriginIndex>0</OriginIndex><DestinationIndex>0</DestinationIndex><TravelDistance>112.947</TravelDistance><TravelDuration>97.6833</TravelDuration><TotalWalkDuration>0</TotalWalkDuration></Distance></Results></Resource></Resources></ResourceSet></ResourceSets></Response>",70.181990337000002]
["Appalachian Aggregates","21071 Midland Trail, Lewisburg, WV 24901",37.877324700000003,-80.556763799999999,"<?xml version=\"1.0\" encoding=\"utf-8\"?><Response xmlns:xsd=\"http://www.w3.org/2001/XMLSchema\" xmlns:xsi=\"http://www.w3.org/2001/XMLSchema-instance\" xmlns=\"http://schemas.microsoft.com/search/local/ws/rest/v1\"><Copyright>Copyright © 2023 Microsoft and its suppliers. All rights reserved. This API cannot be accessed and the content and any results may not be used, reproduced or transmitted in any manner without express written permission from Microsoft Corporation.</Copyright><BrandLogoUri>https://dev.virtualearth.net/Branding/logo_powered_by.png</BrandLogoUri><StatusCode>200</StatusCode><StatusDescription>OK</StatusDescription><AuthenticationResultCode>ValidCredentials</AuthenticationResultCode><TraceId>d95ff6aaad78492c9fc0a17617d5758d|BN00006C40|0.0.0.1|Ref A: E30FA83072D0471DA07BB382528A26D6 Ref B: BL2AA2010202049 Ref C: 2023-12-27T14:01:29Z</TraceId><ResourceSets><ResourceSet><EstimatedTotal>1</EstimatedTotal><Resources><Location><Name>21071 Midland Trail E, Lewisburg, WV 24901</Name><Point><Latitude>37.8773247</Latitude><Longitude>-80.5567638</Longitude></Point><BoundingBox><SouthLatitude>37.873461982429326</SouthLatitude><WestLongitude>-80.563288369901812</WestLongitude><NorthLatitude>37.881187417570679</NorthLatitude><EastLongitude>-80.550239230098185</EastLongitude></BoundingBox><EntityType>Address</EntityType><Address><AddressLine>21071 Midland Trail E</AddressLine><AdminDistrict>WV</AdminDistrict><AdminDistrict2>Greenbrier County</AdminDistrict2><CountryRegion>United States</CountryRegion><FormattedAddress>21071 Midland Trail E, Lewisburg, WV 24901</FormattedAddress><Locality>Lewisburg</Locality><PostalCode>24901</PostalCode></Address><Confidence>Medium</Confidence><MatchCode>Ambiguous</MatchCode><GeocodePoint><Latitude>37.8773247</Latitude><Longitude>-80.5567638</Longitude><CalculationMethod>Rooftop</CalculationMethod><UsageType>Display</UsageType></GeocodePoint><GeocodePoint><Latitude>37.8766875</Latitude><Longitude>-80.557531</Longitude><CalculationMethod>Rooftop</CalculationMethod><UsageType>Route</UsageType></GeocodePoint></Location></Resources></ResourceSet></ResourceSets></Response>","<?xml version=\"1.0\" encoding=\"utf-8\"?><Response xmlns:xsi=\"http://www.w3.org/2001/XMLSchema-instance\" xmlns:xsd=\"http://www.w3.org/2001/XMLSchema\" xmlns=\"http://schemas.microsoft.com/search/local/ws/rest/v1\"><Copyright>Copyright © 2024 Microsoft and its suppliers. All rights reserved. This API cannot be accessed and the content and any results may not be used, reproduced or transmitted in any manner without express written permission from Microsoft Corporation.</Copyright><BrandLogoUri>https://dev.virtualearth.net/Branding/logo_powered_by.png</BrandLogoUri><StatusCode>200</StatusCode><StatusDescription>OK</StatusDescription><AuthenticationResultCode>ValidCredentials</AuthenticationResultCode><TraceId>be56fa36ccbf8ee51bf38f0e244e463d</TraceId><ResourceSets><ResourceSet><EstimatedTotal>1</EstimatedTotal><Resources><Resource xsi:type=\"DistanceMatrix\"><Origins><Coordinate><Latitude>38.890548</Latitude><Longitude>-79.845938</Longitude></Coordinate></Origins><Destinations><Coordinate><Latitude>37.8773247</Latitude><Longitude>-80.5567638</Longitude></Coordinate></Destinations><Results><Distance><DepartureTime xsi:nil=\"true\" /><OriginIndex>0</OriginIndex><DestinationIndex>0</DestinationIndex><TravelDistance>176.828</TravelDistance><TravelDuration>151</TravelDuration><TotalWalkDuration>0</TotalWalkDuration></Distance></Results></Resource></Resources></ResourceSet></ResourceSets></Response>",109.87579118800001]
["Appalachian Aggregates","1700 N Sandbranch Rd. Mt Hope WV 25880",37.858384000000001,-81.247947999999994,"<?xml version=\"1.0\" encoding=\"utf-8\"?><Response xmlns:xsd=\"http://www.w3.org/2001/XMLSchema\" xmlns:xsi=\"http://www.w3.org/2001/XMLSchema-instance\" xmlns=\"http://schemas.microsoft.com/search/local/ws/rest/v1\"><Copyright>Copyright © 2023 Microsoft and its suppliers. All rights reserved. This API cannot be accessed and the content and any results may not be used, reproduced or transmitted in any manner without express written permission from Microsoft Corporation.</Copyright><BrandLogoUri>https://dev.virtualearth.net/Branding/logo_powered_by.png</BrandLogoUri><StatusCode>200</StatusCode><StatusDescription>OK</StatusDescription><AuthenticationResultCode>ValidCredentials</AuthenticationResultCode><TraceId>d89b7179f4ba44758e7df743dfd01c48|BN00006C47|0.0.0.1|Ref A: 6EEBBACF2418445F892CA10CA606C328 Ref B: BN3EDGE0512 Ref C: 2023-12-27T14:01:29Z</TraceId><ResourceSets><ResourceSet><EstimatedTotal>1</EstimatedTotal><Resources><Location><Name>1700 N Sandbranch Rd, Mount Hope, WV 25880</Name><Point><Latitude>37.858384</Latitude><Longitude>-81.247948</Longitude></Point><BoundingBox><SouthLatitude>37.854521282429324</SouthLatitude><WestLongitude>-81.254470893210637</WestLongitude><NorthLatitude>37.862246717570677</NorthLatitude><EastLongitude>-81.24142510678935</EastLongitude></BoundingBox><EntityType>Address</EntityType><Address><AddressLine>1700 N Sandbranch Rd</AddressLine><AdminDistrict>WV</AdminDistrict><AdminDistrict2>Fayette County</AdminDistrict2><CountryRegion>United States</CountryRegion><FormattedAddress>1700 N Sandbranch Rd, Mount Hope, WV 25880</FormattedAddress><Locality>Mount Hope</Locality><PostalCode>25880</PostalCode></Address><Confidence>High</Confidence><MatchCode>Good</MatchCode><GeocodePoint><Latitude>37.858384</Latitude><Longitude>-81.247948</Longitude><CalculationMethod>Rooftop</CalculationMethod><UsageType>Display</UsageType></GeocodePoint><GeocodePoint><Latitude>37.8581361</Latitude><Longitude>-81.2478822</Longitude><CalculationMethod>Rooftop</CalculationMethod><UsageType>Route</UsageType></GeocodePoint></Location></Resources></ResourceSet></ResourceSets></Response>","<?xml version=\"1.0\" encoding=\"utf-8\"?><Response xmlns:xsi=\"http://www.w3.org/2001/XMLSchema-instance\" xmlns:xsd=\"http://www.w3.org/2001/XMLSchema\" xmlns=\"http://schemas.microsoft.com/search/local/ws/rest/v1\"><Copyright>Copyright © 2024 Microsoft and its suppliers. All rights reserved. This API cannot be accessed and the content and any results may not be used, reproduced or transmitted in any manner without express written permission from Microsoft Corporation.</Copyright><BrandLogoUri>https://dev.virtualearth.net/Branding/logo_powered_by.png</BrandLogoUri><StatusCode>200</StatusCode><StatusDescription>OK</StatusDescription><AuthenticationResultCode>ValidCredentials</AuthenticationResultCode><TraceId>09ff62267f7c87f4f5627b2e800abd06</TraceId><ResourceSets><ResourceSet><EstimatedTotal>1</EstimatedTotal><Resources><Resource xsi:type=\"DistanceMatrix\"><Origins><Coordinate><Latitude>38.890548</Latitude><Longitude>-79.845938</Longitude></Coordinate></Origins><Destinations><Coordinate><Latitude>37.858384</Latitude><Longitude>-81.247948</Longitude></Coordinate></Destinations><Results><Distance><DepartureTime xsi:nil=\"true\" /><OriginIndex>0</OriginIndex><DestinationIndex>0</DestinationIndex><TravelDistance>245.098</TravelDistance><TravelDuration>157.2167</TravelDuration><TotalWalkDuration>0</TotalWalkDuration></Distance></Results></Resource></Resources></ResourceSet></ResourceSets></Response>",152.29678935800001]
["Appalachian Aggregates","1111 Blake Hollow Rd., Princeton WV 24740",37.303175000000003,-81.066784999999996,"<?xml version=\"1.0\" encoding=\"utf-8\"?><Response xmlns:xsd=\"http://www.w3.org/2001/XMLSchema\" xmlns:xsi=\"http://www.w3.org/2001/XMLSchema-instance\" xmlns=\"http://schemas.microsoft.com/search/local/ws/rest/v1\"><Copyright>Copyright © 2023 Microsoft and its suppliers. All rights reserved. This API cannot be accessed and the content and any results may not be used, reproduced or transmitted in any manner without express written permission from Microsoft Corporation.</Copyright><BrandLogoUri>https://dev.virtualearth.net/Branding/logo_powered_by.png</BrandLogoUri><StatusCode>200</StatusCode><StatusDescription>OK</StatusDescription><AuthenticationResultCode>ValidCredentials</AuthenticationResultCode><TraceId>eb830398fa52434990199199a49d1b93|BN00006C7B|0.0.0.1|Ref A: 2E490407F23E4AF88B176CE8DAB9CB30 Ref B: BN3EDGE0417 Ref C: 2023-12-27T14:01:29Z</TraceId><ResourceSets><ResourceSet><EstimatedTotal>1</EstimatedTotal><Resources><Location><Name>1111 Blake Hollow Rd, Princeton, WV 24740</Name><Point><Latitude>37.303175</Latitude><Longitude>-81.066785</Longitude></Point><BoundingBox><SouthLatitude>37.299312282429327</SouthLatitude><WestLongitude>-81.073259437090471</WestLongitude><NorthLatitude>37.30703771757068</NorthLatitude><EastLongitude>-81.060310562909521</EastLongitude></BoundingBox><EntityType>Address</EntityType><Address><AddressLine>1111 Blake Hollow Rd</AddressLine><AdminDistrict>WV</AdminDistrict><AdminDistrict2>Mercer County</AdminDistrict2><CountryRegion>United States</CountryRegion><FormattedAddress>1111 Blake Hollow Rd, Princeton, WV 24740</FormattedAddress><Locality>Princeton</Locality><PostalCode>24740</PostalCode></Address><Confidence>High</Confidence><MatchCode>Good</MatchCode><GeocodePoint><Latitude>37.303175</Latitude><Longitude>-81.066785</Longitude><CalculationMethod>Rooftop</CalculationMethod><UsageType>Display</UsageType></GeocodePoint><GeocodePoint><Latitude>37.303913</Latitude><Longitude>-81.0674209</Longitude><CalculationMethod>Rooftop</CalculationMethod><UsageType>Route</UsageType></GeocodePoint></Location></Resources></ResourceSet></ResourceSets></Response>","<?xml version=\"1.0\" encoding=\"utf-8\"?><Response xmlns:xsi=\"http://www.w3.org/2001/XMLSchema-instance\" xmlns:xsd=\"http://www.w3.org/2001/XMLSchema\" xmlns=\"http://schemas.microsoft.com/search/local/ws/rest/v1\"><Copyright>Copyright © 2024 Microsoft and its suppliers. All rights reserved. This API cannot be accessed and the content and any results may not be used, reproduced or transmitted in any manner without express written permission from Microsoft Corporation.</Copyright><BrandLogoUri>https://dev.virtualearth.net/Branding/logo_powered_by.png</BrandLogoUri><StatusCode>200</StatusCode><StatusDescription>OK</StatusDescription><AuthenticationResultCode>ValidCredentials</AuthenticationResultCode><TraceId>f795a67ff2a049cc506f719a143c37ac</TraceId><ResourceSets><ResourceSet><EstimatedTotal>1</EstimatedTotal><Resources><Resource xsi:type=\"DistanceMatrix\"><Origins><Coordinate><Latitude>38.890548</Latitude><Longitude>-79.845938</Longitude></Coordinate></Origins><Destinations><Coordinate><Latitude>37.303175</Latitude><Longitude>-81.066785</Longitude></Coordinate></Destinations><Results><Distance><DepartureTime xsi:nil=\"true\" /><OriginIndex>0</OriginIndex><DestinationIndex>0</DestinationIndex><TravelDistance>313.299</TravelDistance><TravelDuration>192.0167</TravelDuration><TotalWalkDuration>0</TotalWalkDuration></Distance></Results></Resource></Resources></ResourceSet></ResourceSets></Response>",194.67491292899999]
["Ashcom Quarry","526 Ashcom Rd., Everett, PA 15537",40.0043279,-78.419392400000007,"<?xml version=\"1.0\" encoding=\"utf-8\"?><Response xmlns:xsd=\"http://www.w3.org/2001/XMLSchema\" xmlns:xsi=\"http://www.w3.org/2001/XMLSchema-instance\" xmlns=\"http://schemas.microsoft.com/search/local/ws/rest/v1\"><Copyright>Copyright © 2023 Microsoft and its suppliers. All rights reserved. This API cannot be accessed and the content and any results may not be used, reproduced or transmitted in any manner without express written permission from Microsoft Corporation.</Copyright><BrandLogoUri>https://dev.virtualearth.net/Branding/logo_powered_by.png</BrandLogoUri><StatusCode>200</StatusCode><StatusDescription>OK</StatusDescription><AuthenticationResultCode>ValidCredentials</AuthenticationResultCode><TraceId>98178585792a434183dcf4b1ef04f785|BN00006C4B|0.0.0.1|Ref A: 96969C92E8B94145AE3166B198030539 Ref B: BN3EDGE1012 Ref C: 2023-12-27T14:01:29Z</TraceId><ResourceSets><ResourceSet><EstimatedTotal>1</EstimatedTotal><Resources><Location><Name>526 Ashcom Rd, Everett, PA 15537</Name><Point><Latitude>40.0043279</Latitude><Longitude>-78.4193924</Longitude></Point><BoundingBox><SouthLatitude>40.000465182429323</SouthLatitude><WestLongitude>-78.426115672044858</WestLongitude><NorthLatitude>40.008190617570676</NorthLatitude><EastLongitude>-78.412669127955155</EastLongitude></BoundingBox><EntityType>Address</EntityType><Address><AddressLine>526 Ashcom Rd</AddressLine><AdminDistrict>PA</AdminDistrict><AdminDistrict2>Bedford County</AdminDistrict2><CountryRegion>United States</CountryRegion><FormattedAddress>526 Ashcom Rd, Everett, PA 15537</FormattedAddress><Locality>Everett</Locality><PostalCode>15537</PostalCode></Address><Confidence>High</Confidence><MatchCode>Good</MatchCode><GeocodePoint><Latitude>40.0043279</Latitude><Longitude>-78.4193924</Longitude><CalculationMethod>Rooftop</CalculationMethod><UsageType>Display</UsageType></GeocodePoint><GeocodePoint><Latitude>40.0049641</Latitude><Longitude>-78.4190372</Longitude><CalculationMethod>Rooftop</CalculationMethod><UsageType>Route</UsageType></GeocodePoint></Location></Resources></ResourceSet></ResourceSets></Response>","<?xml version=\"1.0\" encoding=\"utf-8\"?><Response xmlns:xsi=\"http://www.w3.org/2001/XMLSchema-instance\" xmlns:xsd=\"http://www.w3.org/2001/XMLSchema\" xmlns=\"http://schemas.microsoft.com/search/local/ws/rest/v1\"><Copyright>Copyright © 2024 Microsoft and its suppliers. All rights reserved. This API cannot be accessed and the content and any results may not be used, reproduced or transmitted in any manner without express written permission from Microsoft Corporation.</Copyright><BrandLogoUri>https://dev.virtualearth.net/Branding/logo_powered_by.png</BrandLogoUri><StatusCode>200</StatusCode><StatusDescription>OK</StatusDescription><AuthenticationResultCode>ValidCredentials</AuthenticationResultCode><TraceId>d98ce41d8c6cfa7ad7a1e52af2cd0adb</TraceId><ResourceSets><ResourceSet><EstimatedTotal>1</EstimatedTotal><Resources><Resource xsi:type=\"DistanceMatrix\"><Origins><Coordinate><Latitude>38.890548</Latitude><Longitude>-79.845938</Longitude></Coordinate></Origins><Destinations><Coordinate><Latitude>40.0043279</Latitude><Longitude>-78.4193924</Longitude></Coordinate></Destinations><Results><Distance><DepartureTime xsi:nil=\"true\" /><OriginIndex>0</OriginIndex><DestinationIndex>0</DestinationIndex><TravelDistance>228.825</TravelDistance><TravelDuration>182.7</TravelDuration><TotalWalkDuration>0</TotalWalkDuration></Distance></Results></Resource></Resources></ResourceSet></ResourceSets></Response>",142.18521907499999]
["Beaver Creek Quarry","10101 Mapleville Rd., Hagerstown MD 21740",39.592350000000003,-77.631410000000002,"<?xml version=\"1.0\" encoding=\"utf-8\"?><Response xmlns:xsd=\"http://www.w3.org/2001/XMLSchema\" xmlns:xsi=\"http://www.w3.org/2001/XMLSchema-instance\" xmlns=\"http://schemas.microsoft.com/search/local/ws/rest/v1\"><Copyright>Copyright © 2023 Microsoft and its suppliers. All rights reserved. This API cannot be accessed and the content and any results may not be used, reproduced or transmitted in any manner without express written permission from Microsoft Corporation.</Copyright><BrandLogoUri>https://dev.virtualearth.net/Branding/logo_powered_by.png</BrandLogoUri><StatusCode>200</StatusCode><StatusDescription>OK</StatusDescription><AuthenticationResultCode>ValidCredentials</AuthenticationResultCode><TraceId>2bf13b07d24746b2a00f75ced07cc9c6|BN00006C7B|0.0.0.1|Ref A: 639F317BBF2C455CB90602E7677A50C2 Ref B: BN3EDGE0406 Ref C: 2023-12-27T14:01:29Z</TraceId><ResourceSets><ResourceSet><EstimatedTotal>1</EstimatedTotal><Resources><Location><Name>10101 Mapleville Rd, Hagerstown, MD 21740</Name><Point><Latitude>39.59235</Latitude><Longitude>-77.63141</Longitude></Point><BoundingBox><SouthLatitude>39.588487282429327</SouthLatitude><WestLongitude>-77.638093122289476</WestLongitude><NorthLatitude>39.59621271757068</NorthLatitude><EastLongitude>-77.624726877710529</EastLongitude></BoundingBox><EntityType>Address</EntityType><Address><AddressLine>10101 Mapleville Rd</AddressLine><AdminDistrict>MD</AdminDistrict><AdminDistrict2>Washington County</AdminDistrict2><CountryRegion>United States</CountryRegion><FormattedAddress>10101 Mapleville Rd, Hagerstown, MD 21740</FormattedAddress><Locality>Hagerstown</Locality><PostalCode>21740</PostalCode></Address><Confidence>High</Confidence><MatchCode>Good</MatchCode><GeocodePoint><Latitude>39.59235</Latitude><Longitude>-77.63141</Longitude><CalculationMethod>Rooftop</CalculationMethod><UsageType>Display</UsageType></GeocodePoint><GeocodePoint><Latitude>39.5927823</Latitude><Longitude>-77.6320029</Longitude><CalculationMethod>Rooftop</CalculationMethod><UsageType>Route</UsageType></GeocodePoint></Location></Resources></ResourceSet></ResourceSets></Response>","<?xml version=\"1.0\" encoding=\"utf-8\"?><Response xmlns:xsi=\"http://www.w3.org/2001/XMLSchema-instance\" xmlns:xsd=\"http://www.w3.org/2001/XMLSchema\" xmlns=\"http://schemas.microsoft.com/search/local/ws/rest/v1\"><Copyright>Copyright © 2024 Microsoft and its suppliers. All rights reserved. This API cannot be accessed and the content and any results may not be used, reproduced or transmitted in any manner without express written permission from Microsoft Corporation.</Copyright><BrandLogoUri>https://dev.virtualearth.net/Branding/logo_powered_by.png</BrandLogoUri><StatusCode>200</StatusCode><StatusDescription>OK</StatusDescription><AuthenticationResultCode>ValidCredentials</AuthenticationResultCode><TraceId>fd310302fd6b3148d61a06c33e36fddb</TraceId><ResourceSets><ResourceSet><EstimatedTotal>1</EstimatedTotal><Resources><Resource xsi:type=\"DistanceMatrix\"><Origins><Coordinate><Latitude>38.890548</Latitude><Longitude>-79.845938</Longitude></Coordinate></Origins><Destinations><Coordinate><Latitude>39.59235</Latitude><Longitude>-77.63141</Longitude></Coordinate></Destinations><Results><Distance><DepartureTime xsi:nil=\"true\" /><OriginIndex>0</OriginIndex><DestinationIndex>0</DestinationIndex><TravelDistance>282.554</TravelDistance><TravelDuration>197.2</TravelDuration><TotalWalkDuration>0</TotalWalkDuration></Distance></Results></Resource></Resources></ResourceSet></ResourceSets></Response>",175.57086153399999]
["Chambersburg Quarry","2921 Stone Quarry Rd., Chambersburg PA 17202",39.890884399999997,-77.6426108,"<?xml version=\"1.0\" encoding=\"utf-8\"?><Response xmlns:xsd=\"http://www.w3.org/2001/XMLSchema\" xmlns:xsi=\"http://www.w3.org/2001/XMLSchema-instance\" xmlns=\"http://schemas.microsoft.com/search/local/ws/rest/v1\"><Copyright>Copyright © 2023 Microsoft and its suppliers. All rights reserved. This API cannot be accessed and the content and any results may not be used, reproduced or transmitted in any manner without express written permission from Microsoft Corporation.</Copyright><BrandLogoUri>https://dev.virtualearth.net/Branding/logo_powered_by.png</BrandLogoUri><StatusCode>200</StatusCode><StatusDescription>OK</StatusDescription><AuthenticationResultCode>ValidCredentials</AuthenticationResultCode><TraceId>0f83badedfa348e58590badec9e5af07|BN00006C51|0.0.0.1|Ref A: 8B7EB8B032F14343BED0F1F0674F72BD Ref B: BN3EDGE0507 Ref C: 2023-12-27T14:01:29Z</TraceId><ResourceSets><ResourceSet><EstimatedTotal>1</EstimatedTotal><Resources><Location><Name>2921 Stone Quarry Rd, Chambersburg, PA 17202</Name><Point><Latitude>39.8908844</Latitude><Longitude>-77.6426108</Longitude></Point><BoundingBox><SouthLatitude>39.887021682429321</SouthLatitude><WestLongitude>-77.649322933580891</WestLongitude><NorthLatitude>39.894747117570674</NorthLatitude><EastLongitude>-77.635898666419109</EastLongitude></BoundingBox><EntityType>Address</EntityType><Address><AddressLine>2921 Stone Quarry Rd</AddressLine><AdminDistrict>PA</AdminDistrict><AdminDistrict2>Franklin County</AdminDistrict2><CountryRegion>United States</CountryRegion><FormattedAddress>2921 Stone Quarry Rd, Chambersburg, PA 17202</FormattedAddress><Locality>Chambersburg</Locality><PostalCode>17202</PostalCode></Address><Confidence>High</Confidence><MatchCode>Good</MatchCode><GeocodePoint><Latitude>39.8908844</Latitude><Longitude>-77.6426108</Longitude><CalculationMethod>Rooftop</CalculationMethod><UsageType>Display</UsageType></GeocodePoint><GeocodePoint><Latitude>39.8907976</Latitude><Longitude>-77.642336</Longitude><CalculationMethod>Rooftop</CalculationMethod><UsageType>Route</UsageType></GeocodePoint></Location></Resources></ResourceSet></ResourceSets></Response>","<?xml version=\"1.0\" encoding=\"utf-8\"?><Response xmlns:xsi=\"http://www.w3.org/2001/XMLSchema-instance\" xmlns:xsd=\"http://www.w3.org/2001/XMLSchema\" xmlns=\"http://schemas.microsoft.com/search/local/ws/rest/v1\"><Copyright>Copyright © 2024 Microsoft and its suppliers. All rights reserved. This API cannot be accessed and the content and any results may not be used, reproduced or transmitted in any manner without express written permission from Microsoft Corporation.</Copyright><BrandLogoUri>https://dev.virtualearth.net/Branding/logo_powered_by.png</BrandLogoUri><StatusCode>200</StatusCode><StatusDescription>OK</StatusDescription><AuthenticationResultCode>ValidCredentials</AuthenticationResultCode><TraceId>d9e6e40039894903d5c3eab5fbf2cba3</TraceId><ResourceSets><ResourceSet><EstimatedTotal>1</EstimatedTotal><Resources><Resource xsi:type=\"DistanceMatrix\"><Origins><Coordinate><Latitude>38.890548</Latitude><Longitude>-79.845938</Longitude></Coordinate></Origins><Destinations><Coordinate><Latitude>39.8908844</Latitude><Longitude>-77.6426108</Longitude></Coordinate></Destinations><Results><Distance><DepartureTime xsi:nil=\"true\" /><OriginIndex>0</OriginIndex><DestinationIndex>0</DestinationIndex><TravelDistance>306.888</TravelDistance><TravelDuration>210.6333</TravelDuration><TotalWalkDuration>0</TotalWalkDuration></Distance></Results></Resource></Resources></ResourceSet></ResourceSets></Response>",190.69130344799999]
["Greer Limestone Co","5630 Earl L. Core Road Rt 7, Morgantown, WV 26508",39.574579999999997,-79.847594000000001,"<?xml version=\"1.0\" encoding=\"utf-8\"?><Response xmlns:xsd=\"http://www.w3.org/2001/XMLSchema\" xmlns:xsi=\"http://www.w3.org/2001/XMLSchema-instance\" xmlns=\"http://schemas.microsoft.com/search/local/ws/rest/v1\"><Copyright>Copyright © 2023 Microsoft and its suppliers. All rights reserved. This API cannot be accessed and the content and any results may not be used, reproduced or transmitted in any manner without express written permission from Microsoft Corporation.</Copyright><BrandLogoUri>https://dev.virtualearth.net/Branding/logo_powered_by.png</BrandLogoUri><StatusCode>200</StatusCode><StatusDescription>OK</StatusDescription><AuthenticationResultCode>ValidCredentials</AuthenticationResultCode><TraceId>544d26a6724c4c6c9fd2df294cfbe036|BN00006C6F|0.0.0.1|Ref A: 8793FC3F1199409C8E4A70A062E49377 Ref B: BN3EDGE0708 Ref C: 2023-12-27T14:01:29Z</TraceId><ResourceSets><ResourceSet><EstimatedTotal>1</EstimatedTotal><Resources><Location><Name>5630 Earl L Core Rd, Morgantown, WV 26508</Name><Point><Latitude>39.57458</Latitude><Longitude>-79.847594</Longitude></Point><BoundingBox><SouthLatitude>39.570717282429321</SouthLatitude><WestLongitude>-79.854275409034443</WestLongitude><NorthLatitude>39.578442717570674</NorthLatitude><EastLongitude>-79.840912590965559</EastLongitude></BoundingBox><EntityType>Address</EntityType><Address><AddressLine>5630 Earl L Core Rd</AddressLine><AdminDistrict>WV</AdminDistrict><CountryRegion>United States</CountryRegion><FormattedAddress>5630 Earl L Core Rd, Morgantown, WV 26508</FormattedAddress><Locality>Morgantown</Locality><PostalCode>26508</PostalCode></Address><Confidence>High</Confidence><MatchCode>Good</MatchCode><GeocodePoint><Latitude>39.57458</Latitude><Longitude>-79.847594</Longitude><CalculationMethod>Rooftop</CalculationMethod><UsageType>Display</UsageType></GeocodePoint><GeocodePoint><Latitude>39.5735174</Latitude><Longitude>-79.8467899</Longitude><CalculationMethod>Rooftop</CalculationMethod><UsageType>Route</UsageType></GeocodePoint></Location></Resources></ResourceSet></ResourceSets></Response>","<?xml version=\"1.0\" encoding=\"utf-8\"?><Response xmlns:xsi=\"http://www.w3.org/2001/XMLSchema-instance\" xmlns:xsd=\"http://www.w3.org/2001/XMLSchema\" xmlns=\"http://schemas.microsoft.com/search/local/ws/rest/v1\"><Copyright>Copyright © 2024 Microsoft and its suppliers. All rights reserved. This API cannot be accessed and the content and any results may not be used, reproduced or transmitted in any manner without express written permission from Microsoft Corporation.</Copyright><BrandLogoUri>https://dev.virtualearth.net/Branding/logo_powered_by.png</BrandLogoUri><StatusCode>200</StatusCode><StatusDescription>OK</StatusDescription><AuthenticationResultCode>ValidCredentials</AuthenticationResultCode><TraceId>df3ba8933403676ada9dd45a46a2dc4a</TraceId><ResourceSets><ResourceSet><EstimatedTotal>1</EstimatedTotal><Resources><Resource xsi:type=\"DistanceMatrix\"><Origins><Coordinate><Latitude>38.890548</Latitude><Longitude>-79.845938</Longitude></Coordinate></Origins><Destinations><Coordinate><Latitude>39.57458</Latitude><Longitude>-79.847594</Longitude></Coordinate></Destinations><Results><Distance><DepartureTime xsi:nil=\"true\" /><OriginIndex>0</OriginIndex><DestinationIndex>0</DestinationIndex><TravelDistance>102.939</TravelDistance><TravelDuration>89.8333</TravelDuration><TotalWalkDuration>0</TotalWalkDuration></Distance></Results></Resource></Resources></ResourceSet></ResourceSets></Response>",63.963309368999994]
["Fairfax Materials","Greenland Gap Rd., Scherr, WV 26726",39.190141500000003,-79.149020469999996,"<?xml version=\"1.0\" encoding=\"utf-8\"?><Response xmlns:xsd=\"http://www.w3.org/2001/XMLSchema\" xmlns:xsi=\"http://www.w3.org/2001/XMLSchema-instance\" xmlns=\"http://schemas.microsoft.com/search/local/ws/rest/v1\"><Copyright>Copyright © 2023 Microsoft and its suppliers. All rights reserved. This API cannot be accessed and the content and any results may not be used, reproduced or transmitted in any manner without express written permission from Microsoft Corporation.</Copyright><BrandLogoUri>https://dev.virtualearth.net/Branding/logo_powered_by.png</BrandLogoUri><StatusCode>200</StatusCode><StatusDescription>OK</StatusDescription><AuthenticationResultCode>ValidCredentials</AuthenticationResultCode><TraceId>5bbf99d791054448b0061b3d81f0eac4|BN00006C73|0.0.0.1|Ref A: EC8781DDAA5943388A5D83D432EE8DB6 Ref B: BN3EDGE0721 Ref C: 2023-12-27T14:01:29Z</TraceId><ResourceSets><ResourceSet><EstimatedTotal>1</EstimatedTotal><Resources><Location><Name>Greenland Gap Rd, Maysville, WV 26833</Name><Point><Latitude>39.1901415</Latitude><Longitude>-79.14902047</Longitude></Point><BoundingBox><SouthLatitude>39.186278779995924</SouthLatitude><WestLongitude>-79.155665182015881</WestLongitude><NorthLatitude>39.194004215137277</NorthLatitude><EastLongitude>-79.142375753961332</EastLongitude></BoundingBox><EntityType>RoadBlock</EntityType><Address><AddressLine>Greenland Gap Rd</AddressLine><AdminDistrict>WV</AdminDistrict><AdminDistrict2>Grant County</AdminDistrict2><CountryRegion>United States</CountryRegion><FormattedAddress>Greenland Gap Rd, Maysville, WV 26833</FormattedAddress><Locality>Maysville</Locality><PostalCode>26833</PostalCode></Address><Confidence>Medium</Confidence><MatchCode>Good</MatchCode><GeocodePoint><Latitude>39.1901415</Latitude><Longitude>-79.14902047</Longitude><CalculationMethod>Interpolation</CalculationMethod><UsageType>Display</UsageType></GeocodePoint></Location></Resources></ResourceSet></ResourceSets></Response>","<?xml version=\"1.0\" encoding=\"utf-8\"?><Response xmlns:xsi=\"http://www.w3.org/2001/XMLSchema-instance\" xmlns:xsd=\"http://www.w3.org/2001/XMLSchema\" xmlns=\"http://schemas.microsoft.com/search/local/ws/rest/v1\"><Copyright>Copyright © 2024 Microsoft and its suppliers. All rights reserved. This API cannot be accessed and the content and any results may not be used, reproduced or transmitted in any manner without express written permission from Microsoft Corporation.</Copyright><BrandLogoUri>https://dev.virtualearth.net/Branding/logo_powered_by.png</BrandLogoUri><StatusCode>200</StatusCode><StatusDescription>OK</StatusDescription><AuthenticationResultCode>ValidCredentials</AuthenticationResultCode><TraceId>5b482059f4ff3d1d3da084b3f640e670</TraceId><ResourceSets><ResourceSet><EstimatedTotal>1</EstimatedTotal><Resources><Resource xsi:type=\"DistanceMatrix\"><Origins><Coordinate><Latitude>38.890548</Latitude><Longitude>-79.845938</Longitude></Coordinate></Origins><Destinations><Coordinate><Latitude>39.1901415</Latitude><Longitude>-79.14902047</Longitude></Coordinate></Destinations><Results><Distance><DepartureTime xsi:nil=\"true\" /><OriginIndex>0</OriginIndex><DestinationIndex>0</DestinationIndex><TravelDistance>111.14</TravelDistance><TravelDuration>83.8</TravelDuration><TotalWalkDuration>0</TotalWalkDuration></Distance></Results></Resource></Resources></ResourceSet></ResourceSets></Response>",69.059172939999996]
["Gassaway Stoneyard","661 B&O Railroad Yard, Gassaway, WV 26624",38.4,-80.459999999999994,{"$f":"_xlfn.WEBSERVICE(\"http://dev.virtualearth.net/REST/v1/Locations?q=\"&B62&\"&maxResults=1&o=xml&key=\"&$A$2)","v":"<?xml version=\"1.0\" encoding=\"utf-8\"?><Response xmlns:xsd=\"http://www.w3.org/2001/XMLSchema\" xmlns:xsi=\"http://www.w3.org/2001/XMLSchema-instance\" xmlns=\"http://schemas.microsoft.com/search/local/ws/rest/v1\"><Copyright>Copyright © 2023 Microsoft and its suppliers. All rights reserved. This API cannot be accessed and the content and any results may not be used, reproduced or transmitted in any manner without express written permission from Microsoft Corporation.</Copyright><BrandLogoUri>https://dev.virtualearth.net/Branding/logo_powered_by.png</BrandLogoUri><StatusCode>200</StatusCode><StatusDescription>OK</StatusDescription><AuthenticationResultCode>ValidCredentials</AuthenticationResultCode><TraceId>6ff6e52b29f34f9ca1feacd0e9a471c5|BN00006C60|0.0.0.1|Ref A: 0AC8F8E8A12347198FC2DCB49403C688 Ref B: BN3EDGE0506 Ref C: 2023-12-27T14:00:40Z</TraceId><ResourceSets><ResourceSet><EstimatedTotal>1</EstimatedTotal><Resources><Location><Name>661, KS</Name><Point><Latitude>39.12207413</Latitude><Longitude>-94.75206757</Longitude></Point><BoundingBox><SouthLatitude>39.043487548828125</SouthLatitude><WestLongitude>-94.908439636230469</WestLongitude><NorthLatitude>39.226627349853516</NorthLatitude><EastLongitude>-94.58807373046875</EastLongitude></BoundingBox><EntityType>Postcode2</EntityType><Address><AdminDistrict>KS</AdminDistrict><AdminDistrict2>Wyandotte County</AdminDistrict2><CountryRegion>United States</CountryRegion><FormattedAddress>661, KS</FormattedAddress><Locality>Kansas City</Locality><PostalCode>661</PostalCode></Address><Confidence>Low</Confidence><MatchCode>Good</MatchCode><GeocodePoint><Latitude>39.12207413</Latitude><Longitude>-94.75206757</Longitude><CalculationMethod>Rooftop</CalculationMethod><UsageType>Display</UsageType></GeocodePoint></Location></Resources></ResourceSet></ResourceSets></Response>"},{"$f":"_xlfn.WEBSERVICE(\"https://dev.virtualearth.net/REST/v1/Routes/DistanceMatrix?origins=\"&$C$2&\",\"&$D$2&\"&destinations=\"&C62&\",\"&D62&\"&travelMode=driving&o=xml&key=\"&$A$2)","v":"<?xml version=\"1.0\" encoding=\"utf-8\"?><Response xmlns:xsi=\"http://www.w3.org/2001/XMLSchema-instance\" xmlns:xsd=\"http://www.w3.org/2001/XMLSchema\" xmlns=\"http://schemas.microsoft.com/search/local/ws/rest/v1\"><Copyright>Copyright © 2024 Microsoft and its suppliers. All rights reserved. This API cannot be accessed and the content and any results may not be used, reproduced or transmitted in any manner without express written permission from Microsoft Corporation.</Copyright><BrandLogoUri>https://dev.virtualearth.net/Branding/logo_powered_by.png</BrandLogoUri><StatusCode>200</StatusCode><StatusDescription>OK</StatusDescription><AuthenticationResultCode>ValidCredentials</AuthenticationResultCode><TraceId>36407c359d0fab03b4661caa11090b83</TraceId><ResourceSets><ResourceSet><EstimatedTotal>1</EstimatedTotal><Resources><Resource xsi:type=\"DistanceMatrix\"><Origins><Coordinate><Latitude>38.890548</Latitude><Longitude>-79.845938</Longitude></Coordinate></Origins><Destinations><Coordinate><Latitude>38.4</Latitude><Longitude>-80.46</Longitude></Coordinate></Destinations><Results><Distance><DepartureTime xsi:nil=\"true\" /><OriginIndex>0</OriginIndex><DestinationIndex>0</DestinationIndex><TravelDistance>124.494</TravelDistance><TravelDuration>119.8333</TravelDuration><TotalWalkDuration>0</TotalWalkDuration></Distance></Results></Resource></Resources></ResourceSet></ResourceSets></Response>"},{"$f":"_xlfn.FILTERXML(F62,\"//TravelDistance[1]\")*0.621371","v":77.356961274}]
["East River Aggregates","388 Blake Hollow Road, Princeton, WV 24739",{"$f":"_xlfn.FILTERXML(E63,\"//Latitude[1]\")","v":37.31011488},{"$f":"_xlfn.FILTERXML(E63,\"//Longitude[1]\")","v":-81.057274879999994},"<?xml version=\"1.0\" encoding=\"utf-8\"?><Response xmlns:xsd=\"http://www.w3.org/2001/XMLSchema\" xmlns:xsi=\"http://www.w3.org/2001/XMLSchema-instance\" xmlns=\"http://schemas.microsoft.com/search/local/ws/rest/v1\"><Copyright>Copyright © 2023 Microsoft and its suppliers. All rights reserved. This API cannot be accessed and the content and any results may not be used, reproduced or transmitted in any manner without express written permission from Microsoft Corporation.</Copyright><BrandLogoUri>https://dev.virtualearth.net/Branding/logo_powered_by.png</BrandLogoUri><StatusCode>200</StatusCode><StatusDescription>OK</StatusDescription><AuthenticationResultCode>ValidCredentials</AuthenticationResultCode><TraceId>13ceeb585ab2450d899ec54b5a364eaf|BN00006C55|0.0.0.1|Ref A: 580AA8CBD535438DB294A59BD83CEBE8 Ref B: BN3EDGE0607 Ref C: 2023-12-27T14:00:40Z</TraceId><ResourceSets><ResourceSet><EstimatedTotal>1</EstimatedTotal><Resources><Location><Name>388 Blake Hollow Rd, Princeton, WV 24739</Name><Point><Latitude>37.31011488</Latitude><Longitude>-81.05727488</Longitude></Point><BoundingBox><SouthLatitude>37.306252160417664</SouthLatitude><WestLongitude>-81.063749915795441</WestLongitude><NorthLatitude>37.313977595559017</NorthLatitude><EastLongitude>-81.0507998466263</EastLongitude></BoundingBox><EntityType>Address</EntityType><Address><AddressLine>388 Blake Hollow Rd</AddressLine><AdminDistrict>WV</AdminDistrict><AdminDistrict2>Mercer County</AdminDistrict2><CountryRegion>United States</CountryRegion><FormattedAddress>388 Blake Hollow Rd, Princeton, WV 24739</FormattedAddress><Locality>Princeton</Locality><PostalCode>24739</PostalCode></Address><Confidence>High</Confidence><MatchCode>Good</MatchCode><GeocodePoint><Latitude>37.31011488</Latitude><Longitude>-81.05727488</Longitude><CalculationMethod>InterpolationOffset</CalculationMethod><UsageType>Display</UsageType></GeocodePoint><GeocodePoint><Latitude>37.31007314</Latitude><Longitude>-81.05725385</Longitude><CalculationMethod>Interpolation</CalculationMethod><UsageType>Route</UsageType></GeocodePoint></Location></Resources></ResourceSet></ResourceSets></Response>","<?xml version=\"1.0\" encoding=\"utf-8\"?><Response xmlns:xsi=\"http://www.w3.org/2001/XMLSchema-instance\" xmlns:xsd=\"http://www.w3.org/2001/XMLSchema\" xmlns=\"http://schemas.microsoft.com/search/local/ws/rest/v1\"><Copyright>Copyright © 2024 Microsoft and its suppliers. All rights reserved. This API cannot be accessed and the content and any results may not be used, reproduced or transmitted in any manner without express written permission from Microsoft Corporation.</Copyright><BrandLogoUri>https://dev.virtualearth.net/Branding/logo_powered_by.png</BrandLogoUri><StatusCode>200</StatusCode><StatusDescription>OK</StatusDescription><AuthenticationResultCode>ValidCredentials</AuthenticationResultCode><TraceId>a5361d5805759d0349e9b1e710149a7d</TraceId><ResourceSets><ResourceSet><EstimatedTotal>1</EstimatedTotal><Resources><Resource xsi:type=\"DistanceMatrix\"><Origins><Coordinate><Latitude>38.890548</Latitude><Longitude>-79.845938</Longitude></Coordinate></Origins><Destinations><Coordinate><Latitude>37.31011488</Latitude><Longitude>-81.05727488</Longitude></Coordinate></Destinations><Results><Distance><DepartureTime xsi:nil=\"true\" /><OriginIndex>0</OriginIndex><DestinationIndex>0</DestinationIndex><TravelDistance>312.149</TravelDistance><TravelDuration>189.95</TravelDuration><TotalWalkDuration>0</TotalWalkDuration></Distance></Results></Resource></Resources></ResourceSet></ResourceSets></Response>",193.96033627899999]
["Allegany Aggregates Short Gap Quarry","10676 Waxler Road, Keyser, WV 26726",{"$f":"_xlfn.FILTERXML(E64,\"//Latitude[1]\")","v":39.534567699999997},{"$f":"_xlfn.FILTERXML(E64,\"//Longitude[1]\")","v":-78.847863899999993},{"$f":"_xlfn.WEBSERVICE(\"http://dev.virtualearth.net/REST/v1/Locations?q=\"&B64&\"&maxResults=1&o=xml&key=\"&$A$2)","v":"<?xml version=\"1.0\" encoding=\"utf-8\"?><Response xmlns:xsd=\"http://www.w3.org/2001/XMLSchema\" xmlns:xsi=\"http://www.w3.org/2001/XMLSchema-instance\" xmlns=\"http://schemas.microsoft.com/search/local/ws/rest/v1\"><Copyright>Copyright © 2023 Microsoft and its suppliers. All rights reserved. This API cannot be accessed and the content and any results may not be used, reproduced or transmitted in any manner without express written permission from Microsoft Corporation.</Copyright><BrandLogoUri>https://dev.virtualearth.net/Branding/logo_powered_by.png</BrandLogoUri><StatusCode>200</StatusCode><StatusDescription>OK</StatusDescription><AuthenticationResultCode>ValidCredentials</AuthenticationResultCode><TraceId>0edaf6893db849c7af2e01088d4c9f6c|BN00006C7B|0.0.0.1|Ref A: 55424C5F4ECA40FFA454B3A2AEC85471 Ref B: BN3EDGE1005 Ref C: 2023-12-27T14:14:26Z</TraceId><ResourceSets><ResourceSet><EstimatedTotal>1</EstimatedTotal><Resources><Location><Name>10676 Waxler Rd, Ridgeley, WV 26753</Name><Point><Latitude>39.5345677</Latitude><Longitude>-78.8478639</Longitude></Point><BoundingBox><SouthLatitude>39.53070498242932</SouthLatitude><WestLongitude>-78.854541456901714</WestLongitude><NorthLatitude>39.538430417570673</NorthLatitude><EastLongitude>-78.841186343098272</EastLongitude></BoundingBox><EntityType>Address</EntityType><Address><AddressLine>10676 Waxler Rd</AddressLine><AdminDistrict>WV</AdminDistrict><AdminDistrict2>Mineral County</AdminDistrict2><CountryRegion>United States</CountryRegion><FormattedAddress>10676 Waxler Rd, Ridgeley, WV 26753</FormattedAddress><Locality>Ridgeley</Locality><PostalCode>26753</PostalCode></Address><Confidence>Medium</Confidence><MatchCode>Good</MatchCode><GeocodePoint><Latitude>39.5345677</Latitude><Longitude>-78.8478639</Longitude><CalculationMethod>Rooftop</CalculationMethod><UsageType>Display</UsageType></GeocodePoint><GeocodePoint><Latitude>39.5351588</Latitude><Longitude>-78.8482582</Longitude><CalculationMethod>Rooftop</CalculationMethod><UsageType>Route</UsageType></GeocodePoint></Location></Resources></ResourceSet></ResourceSets></Response>"},{"$f":"_xlfn.WEBSERVICE(\"https://dev.virtualearth.net/REST/v1/Routes/DistanceMatrix?origins=\"&$C$2&\",\"&$D$2&\"&destinations=\"&C64&\",\"&D64&\"&travelMode=driving&o=xml&key=\"&$A$2)","v":"<?xml version=\"1.0\" encoding=\"utf-8\"?><Response xmlns:xsi=\"http://www.w3.org/2001/XMLSchema-instance\" xmlns:xsd=\"http://www.w3.org/2001/XMLSchema\" xmlns=\"http://schemas.microsoft.com/search/local/ws/rest/v1\"><Copyright>Copyright © 2024 Microsoft and its suppliers. All rights reserved. This API cannot be accessed and the content and any results may not be used, reproduced or transmitted in any manner without express written permission from Microsoft Corporation.</Copyright><BrandLogoUri>https://dev.virtualearth.net/Branding/logo_powered_by.png</BrandLogoUri><StatusCode>200</StatusCode><StatusDescription>OK</StatusDescription><AuthenticationResultCode>ValidCredentials</AuthenticationResultCode><TraceId>70590ce8a93e8a5763cf870e17501dd0</TraceId><ResourceSets><ResourceSet><EstimatedTotal>1</EstimatedTotal><Resources><Resource xsi:type=\"DistanceMatrix\"><Origins><Coordinate><Latitude>38.890548</Latitude><Longitude>-79.845938</Longitude></Coordinate></Origins><Destinations><Coordinate><Latitude>39.5345677</Latitude><Longitude>-78.8478639</Longitude></Coordinate></Destinations><Results><Distance><DepartureTime xsi:nil=\"true\" /><OriginIndex>0</OriginIndex><DestinationIndex>0</DestinationIndex><TravelDistance>159.619</TravelDistance><TravelDuration>127.65</TravelDuration><TotalWalkDuration>0</TotalWalkDuration></Distance></Results></Resource></Resources></ResourceSet></ResourceSets></Response>"},{"$f":"_xlfn.FILTERXML(F64,\"//TravelDistance[1]\")*0.621371","v":99.182617649000008}]
["Aggregates Quarry","3105 Harrison Ave., Elkins WV 26241",{"$f":"_xlfn.FILTERXML(E65,\"//Latitude[1]\")","v":38.936242200000002},{"$f":"_xlfn.FILTERXML(E65,\"//Longitude[1]\")","v":-79.889813750000002},{"$f":"_xlfn.WEBSERVICE(\"http://dev.virtualearth.net/REST/v1/Locations?q=\"&B65&\"&maxResults=1&o=xml&key=\"&$A$2)","v":"<?xml version=\"1.0\" encoding=\"utf-8\"?><Response xmlns:xsd=\"http://www.w3.org/2001/XMLSchema\" xmlns:xsi=\"http://www.w3.org/2001/XMLSchema-instance\" xmlns=\"http://schemas.microsoft.com/search/local/ws/rest/v1\"><Copyright>Copyright © 2023 Microsoft and its suppliers. All rights reserved. This API cannot be accessed and the content and any results may not be used, reproduced or transmitted in any manner without express written permission from Microsoft Corporation.</Copyright><BrandLogoUri>https://dev.virtualearth.net/Branding/logo_powered_by.png</BrandLogoUri><StatusCode>200</StatusCode><StatusDescription>OK</StatusDescription><AuthenticationResultCode>ValidCredentials</AuthenticationResultCode><TraceId>730729087b3f4c5f99044b35b3058c3a|BN00006C79|0.0.0.1|Ref A: 7CAC6D48C4F046959A0E92314E5B8A1D Ref B: BN3EDGE0408 Ref C: 2023-12-27T14:01:39Z</TraceId><ResourceSets><ResourceSet><EstimatedTotal>1</EstimatedTotal><Resources><Location><Name>Harrison Ave, Elkins, WV 26241</Name><Point><Latitude>38.9362422</Latitude><Longitude>-79.88981375</Longitude></Point><BoundingBox><SouthLatitude>38.932379482454124</SouthLatitude><WestLongitude>-79.8964346120834</WestLongitude><NorthLatitude>38.940104917595477</NorthLatitude><EastLongitude>-79.883192887964412</EastLongitude></BoundingBox><EntityType>RoadBlock</EntityType><Address><AddressLine>Harrison Ave</AddressLine><AdminDistrict>WV</AdminDistrict><AdminDistrict2>Randolph County</AdminDistrict2><CountryRegion>United States</CountryRegion><FormattedAddress>Harrison Ave, Elkins, WV 26241</FormattedAddress><Locality>Elkins</Locality><PostalCode>26241</PostalCode></Address><Confidence>Medium</Confidence><MatchCode>UpHierarchy</MatchCode><GeocodePoint><Latitude>38.9362422</Latitude><Longitude>-79.88981375</Longitude><CalculationMethod>Interpolation</CalculationMethod><UsageType>Display</UsageType></GeocodePoint></Location></Resources></ResourceSet></ResourceSets></Response>"},{"$f":"_xlfn.WEBSERVICE(\"https://dev.virtualearth.net/REST/v1/Routes/DistanceMatrix?origins=\"&$C$2&\",\"&$D$2&\"&destinations=\"&C65&\",\"&D65&\"&travelMode=driving&o=xml&key=\"&$A$2)","v":"<?xml version=\"1.0\" encoding=\"utf-8\"?><Response xmlns:xsi=\"http://www.w3.org/2001/XMLSchema-instance\" xmlns:xsd=\"http://www.w3.org/2001/XMLSchema\" xmlns=\"http://schemas.microsoft.com/search/local/ws/rest/v1\"><Copyright>Copyright © 2024 Microsoft and its suppliers. All rights reserved. This API cannot be accessed and the content and any results may not be used, reproduced or transmitted in any manner without express written permission from Microsoft Corporation.</Copyright><BrandLogoUri>https://dev.virtualearth.net/Branding/logo_powered_by.png</BrandLogoUri><StatusCode>200</StatusCode><StatusDescription>OK</StatusDescription><AuthenticationResultCode>ValidCredentials</AuthenticationResultCode><TraceId>c5c013295c64a6277a37eae942f2cce5</TraceId><ResourceSets><ResourceSet><EstimatedTotal>1</EstimatedTotal><Resources><Resource xsi:type=\"DistanceMatrix\"><Origins><Coordinate><Latitude>38.890548</Latitude><Longitude>-79.845938</Longitude></Coordinate></Origins><Destinations><Coordinate><Latitude>38.9362422</Latitude><Longitude>-79.88981375</Longitude></Coordinate></Destinations><Results><Distance><DepartureTime xsi:nil=\"true\" /><OriginIndex>0</OriginIndex><DestinationIndex>0</DestinationIndex><TravelDistance>8.677</TravelDistance><TravelDuration>13.25</TravelDuration><TotalWalkDuration>0</TotalWalkDuration></Distance></Results></Resource></Resources></ResourceSet></ResourceSets></Response>"},{"$f":"_xlfn.FILTERXML(F65,\"//TravelDistance[1]\")*0.621371","v":5.3916361669999997}]
["J.F. Allen Co. - Mashy Gap Quarry","5254 Chenoweth Creek Rd., Elkins WV 26241",38.886066999999997,-79.765051,"<?xml version=\"1.0\" encoding=\"utf-8\"?><Response xmlns:xsd=\"http://www.w3.org/2001/XMLSchema\" xmlns:xsi=\"http://www.w3.org/2001/XMLSchema-instance\" xmlns=\"http://schemas.microsoft.com/search/local/ws/rest/v1\"><Copyright>Copyright © 2023 Microsoft and its suppliers. All rights reserved. This API cannot be accessed and the content and any results may not be used, reproduced or transmitted in any manner without express written permission from Microsoft Corporation.</Copyright><BrandLogoUri>https://dev.virtualearth.net/Branding/logo_powered_by.png</BrandLogoUri><StatusCode>200</StatusCode><StatusDescription>OK</StatusDescription><AuthenticationResultCode>ValidCredentials</AuthenticationResultCode><TraceId>8e4fde8afdf2405c9b17e045cc26424d|BN00006C43|0.0.0.1|Ref A: ABD5223A6A134806907F9021C0FCA317 Ref B: BN3EDGE0617 Ref C: 2023-12-27T14:01:39Z</TraceId><ResourceSets><ResourceSet><EstimatedTotal>1</EstimatedTotal><Resources><Location><Name>5254 Chenoweth Creek Rd, Elkins, WV 26241</Name><Point><Latitude>38.886067</Latitude><Longitude>-79.765051</Longitude></Point><BoundingBox><SouthLatitude>38.882204282429321</SouthLatitude><WestLongitude>-79.771667184067439</WestLongitude><NorthLatitude>38.889929717570674</NorthLatitude><EastLongitude>-79.75843481593256</EastLongitude></BoundingBox><EntityType>Address</EntityType><Address><AddressLine>5254 Chenoweth Creek Rd</AddressLine><AdminDistrict>WV</AdminDistrict><AdminDistrict2>Randolph County</AdminDistrict2><CountryRegion>United States</CountryRegion><FormattedAddress>5254 Chenoweth Creek Rd, Elkins, WV 26241</FormattedAddress><Locality>Elkins</Locality><PostalCode>26241</PostalCode></Address><Confidence>High</Confidence><MatchCode>Good</MatchCode><GeocodePoint><Latitude>38.886067</Latitude><Longitude>-79.765051</Longitude><CalculationMethod>Rooftop</CalculationMethod><UsageType>Display</UsageType></GeocodePoint><GeocodePoint><Latitude>38.88768</Latitude><Longitude>-79.773781</Longitude><CalculationMethod>Rooftop</CalculationMethod><UsageType>Route</UsageType></GeocodePoint></Location></Resources></ResourceSet></ResourceSets></Response>","<?xml version=\"1.0\" encoding=\"utf-8\"?><Response xmlns:xsi=\"http://www.w3.org/2001/XMLSchema-instance\" xmlns:xsd=\"http://www.w3.org/2001/XMLSchema\" xmlns=\"http://schemas.microsoft.com/search/local/ws/rest/v1\"><Copyright>Copyright © 2024 Microsoft and its suppliers. All rights reserved. This API cannot be accessed and the content and any results may not be used, reproduced or transmitted in any manner without express written permission from Microsoft Corporation.</Copyright><BrandLogoUri>https://dev.virtualearth.net/Branding/logo_powered_by.png</BrandLogoUri><StatusCode>200</StatusCode><StatusDescription>OK</StatusDescription><AuthenticationResultCode>ValidCredentials</AuthenticationResultCode><TraceId>9075d6be14a100cd694550a5aefc46ac</TraceId><ResourceSets><ResourceSet><EstimatedTotal>1</EstimatedTotal><Resources><Resource xsi:type=\"DistanceMatrix\"><Origins><Coordinate><Latitude>38.890548</Latitude><Longitude>-79.845938</Longitude></Coordinate></Origins><Destinations><Coordinate><Latitude>38.886067</Latitude><Longitude>-79.765051</Longitude></Coordinate></Destinations><Results><Distance><DepartureTime xsi:nil=\"true\" /><OriginIndex>0</OriginIndex><DestinationIndex>0</DestinationIndex><TravelDistance>13.368</TravelDistance><TravelDuration>17.5</TravelDuration><TotalWalkDuration>0</TotalWalkDuration></Distance></Results></Resource></Resources></ResourceSet></ResourceSets></Response>",8.3064875279999999]
["Kelly Paving Inc.","123 Dodd Dr., St. Marys, WV 26170",39.443725499999999,-81.128723100000002,"<?xml version=\"1.0\" encoding=\"utf-8\"?><Response xmlns:xsd=\"http://www.w3.org/2001/XMLSchema\" xmlns:xsi=\"http://www.w3.org/2001/XMLSchema-instance\" xmlns=\"http://schemas.microsoft.com/search/local/ws/rest/v1\"><Copyright>Copyright © 2023 Microsoft and its suppliers. All rights reserved. This API cannot be accessed and the content and any results may not be used, reproduced or transmitted in any manner without express written permission from Microsoft Corporation.</Copyright><BrandLogoUri>https://dev.virtualearth.net/Branding/logo_powered_by.png</BrandLogoUri><StatusCode>200</StatusCode><StatusDescription>OK</StatusDescription><AuthenticationResultCode>ValidCredentials</AuthenticationResultCode><TraceId>bfa9d3c24942480793c88697bf5c039d|BN00006C4F|0.0.0.1|Ref A: AB1CBF403EFF4E2B9DE243256F89FD7A Ref B: BN3EDGE0707 Ref C: 2023-12-27T14:01:39Z</TraceId><ResourceSets><ResourceSet><EstimatedTotal>1</EstimatedTotal><Resources><Location><Name>123 Dodd Dr, St Marys, WV 26170</Name><Point><Latitude>39.4437255</Latitude><Longitude>-81.1287231</Longitude></Point><BoundingBox><SouthLatitude>39.439862782429323</SouthLatitude><WestLongitude>-81.135391939715475</WestLongitude><NorthLatitude>39.447588217570676</NorthLatitude><EastLongitude>-81.122054260284528</EastLongitude></BoundingBox><EntityType>Address</EntityType><Address><AddressLine>123 Dodd Dr</AddressLine><AdminDistrict>WV</AdminDistrict><AdminDistrict2>Pleasants County</AdminDistrict2><CountryRegion>United States</CountryRegion><FormattedAddress>123 Dodd Dr, St Marys, WV 26170</FormattedAddress><Locality>St Marys</Locality><PostalCode>26170</PostalCode></Address><Confidence>High</Confidence><MatchCode>Good</MatchCode><GeocodePoint><Latitude>39.4437255</Latitude><Longitude>-81.1287231</Longitude><CalculationMethod>Rooftop</CalculationMethod><UsageType>Display</UsageType></GeocodePoint><GeocodePoint><Latitude>39.443768</Latitude><Longitude>-81.1286555</Longitude><CalculationMethod>Rooftop</CalculationMethod><UsageType>Route</UsageType></GeocodePoint></Location></Resources></ResourceSet></ResourceSets></Response>","<?xml version=\"1.0\" encoding=\"utf-8\"?><Response xmlns:xsi=\"http://www.w3.org/2001/XMLSchema-instance\" xmlns:xsd=\"http://www.w3.org/2001/XMLSchema\" xmlns=\"http://schemas.microsoft.com/search/local/ws/rest/v1\"><Copyright>Copyright © 2024 Microsoft and its suppliers. All rights reserved. This API cannot be accessed and the content and any results may not be used, reproduced or transmitted in any manner without express written permission from Microsoft Corporation.</Copyright><BrandLogoUri>https://dev.virtualearth.net/Branding/logo_powered_by.png</BrandLogoUri><StatusCode>200</StatusCode><StatusDescription>OK</StatusDescription><AuthenticationResultCode>ValidCredentials</AuthenticationResultCode><TraceId>f632962fbc654e728de14b6242abf0bf</TraceId><ResourceSets><ResourceSet><EstimatedTotal>1</EstimatedTotal><Resources><Resource xsi:type=\"DistanceMatrix\"><Origins><Coordinate><Latitude>38.890548</Latitude><Longitude>-79.845938</Longitude></Coordinate></Origins><Destinations><Coordinate><Latitude>39.4437255</Latitude><Longitude>-81.1287231</Longitude></Coordinate></Destinations><Results><Distance><DepartureTime xsi:nil=\"true\" /><OriginIndex>0</OriginIndex><DestinationIndex>0</DestinationIndex><TravelDistance>201.63</TravelDistance><TravelDuration>136.2</TravelDuration><TotalWalkDuration>0</TotalWalkDuration></Distance></Results></Resource></Resources></ResourceSet></ResourceSets></Response>",125.28703473]
["Keystone Lime Co.","897 Reckart Mill Rd., Terra Alta WV 26764",39.5508922,-79.512634899999995,"<?xml version=\"1.0\" encoding=\"utf-8\"?><Response xmlns:xsd=\"http://www.w3.org/2001/XMLSchema\" xmlns:xsi=\"http://www.w3.org/2001/XMLSchema-instance\" xmlns=\"http://schemas.microsoft.com/search/local/ws/rest/v1\"><Copyright>Copyright © 2023 Microsoft and its suppliers. All rights reserved. This API cannot be accessed and the content and any results may not be used, reproduced or transmitted in any manner without express written permission from Microsoft Corporation.</Copyright><BrandLogoUri>https://dev.virtualearth.net/Branding/logo_powered_by.png</BrandLogoUri><StatusCode>200</StatusCode><StatusDescription>OK</StatusDescription><AuthenticationResultCode>ValidCredentials</AuthenticationResultCode><TraceId>c8c163b5e01e471996c5f44cac510e50|BN00006C5A|0.0.0.1|Ref A: 58C4A3BF33F04AFCA84C8D94E4825A39 Ref B: BN3EDGE0720 Ref C: 2023-12-27T14:01:39Z</TraceId><ResourceSets><ResourceSet><EstimatedTotal>1</EstimatedTotal><Resources><Location><Name>897 Reckart Mill Rd, Terra Alta, WV 26764</Name><Point><Latitude>39.5508922</Latitude><Longitude>-79.5126349</Longitude></Point><BoundingBox><SouthLatitude>39.547029482429323</SouthLatitude><WestLongitude>-79.519314027592046</WestLongitude><NorthLatitude>39.554754917570676</NorthLatitude><EastLongitude>-79.505955772407944</EastLongitude></BoundingBox><EntityType>Address</EntityType><Address><AddressLine>897 Reckart Mill Rd</AddressLine><AdminDistrict>WV</AdminDistrict><AdminDistrict2>Preston County</AdminDistrict2><CountryRegion>United States</CountryRegion><FormattedAddress>897 Reckart Mill Rd, Terra Alta, WV 26764</FormattedAddress><Locality>Terra Alta</Locality><PostalCode>26764</PostalCode></Address><Confidence>High</Confidence><MatchCode>Good</MatchCode><GeocodePoint><Latitude>39.5508922</Latitude><Longitude>-79.5126349</Longitude><CalculationMethod>Rooftop</CalculationMethod><UsageType>Display</UsageType></GeocodePoint><GeocodePoint><Latitude>39.5499435</Latitude><Longitude>-79.5126943</Longitude><CalculationMethod>Rooftop</CalculationMethod><UsageType>Route</UsageType></GeocodePoint></Location></Resources></ResourceSet></ResourceSets></Response>","<?xml version=\"1.0\" encoding=\"utf-8\"?><Response xmlns:xsi=\"http://www.w3.org/2001/XMLSchema-instance\" xmlns:xsd=\"http://www.w3.org/2001/XMLSchema\" xmlns=\"http://schemas.microsoft.com/search/local/ws/rest/v1\"><Copyright>Copyright © 2024 Microsoft and its suppliers. All rights reserved. This API cannot be accessed and the content and any results may not be used, reproduced or transmitted in any manner without express written permission from Microsoft Corporation.</Copyright><BrandLogoUri>https://dev.virtualearth.net/Branding/logo_powered_by.png</BrandLogoUri><StatusCode>200</StatusCode><StatusDescription>OK</StatusDescription><AuthenticationResultCode>ValidCredentials</AuthenticationResultCode><TraceId>bf1f8547278c7b4be8dd7db1fc2c3fec</TraceId><ResourceSets><ResourceSet><EstimatedTotal>1</EstimatedTotal><Resources><Resource xsi:type=\"DistanceMatrix\"><Origins><Coordinate><Latitude>38.890548</Latitude><Longitude>-79.845938</Longitude></Coordinate></Origins><Destinations><Coordinate><Latitude>39.5508922</Latitude><Longitude>-79.5126349</Longitude></Coordinate></Destinations><Results><Distance><DepartureTime xsi:nil=\"true\" /><OriginIndex>0</OriginIndex><DestinationIndex>0</DestinationIndex><TravelDistance>109.736</TravelDistance><TravelDuration>111.3333</TravelDuration><TotalWalkDuration>0</TotalWalkDuration></Distance></Results></Resource></Resources></ResourceSet></ResourceSets></Response>",68.186768056000005]
["Arcosa Aggregates","2480 Springhill Furnace Rd., Lake Lynn PA 15451",39.730638999999996,-79.801385999999994,"<?xml version=\"1.0\" encoding=\"utf-8\"?><Response xmlns:xsd=\"http://www.w3.org/2001/XMLSchema\" xmlns:xsi=\"http://www.w3.org/2001/XMLSchema-instance\" xmlns=\"http://schemas.microsoft.com/search/local/ws/rest/v1\"><Copyright>Copyright © 2023 Microsoft and its suppliers. All rights reserved. This API cannot be accessed and the content and any results may not be used, reproduced or transmitted in any manner without express written permission from Microsoft Corporation.</Copyright><BrandLogoUri>https://dev.virtualearth.net/Branding/logo_powered_by.png</BrandLogoUri><StatusCode>200</StatusCode><StatusDescription>OK</StatusDescription><AuthenticationResultCode>ValidCredentials</AuthenticationResultCode><TraceId>e39a54b4de6440f987d5fba61746c788|BN00006C39|0.0.0.1|Ref A: 22C80379C5724D56AE699C4131D0D979 Ref B: BN3EDGE0521 Ref C: 2023-12-27T14:01:39Z</TraceId><ResourceSets><ResourceSet><EstimatedTotal>1</EstimatedTotal><Resources><Location><Name>2480 Springhill Furnace Rd, Lake Lynn, PA 15451</Name><Point><Latitude>39.730639</Latitude><Longitude>-79.801386</Longitude></Point><BoundingBox><SouthLatitude>39.72677628242932</SouthLatitude><WestLongitude>-79.808082507243171</WestLongitude><NorthLatitude>39.734501717570673</NorthLatitude><EastLongitude>-79.794689492756817</EastLongitude></BoundingBox><EntityType>Address</EntityType><Address><AddressLine>2480 Springhill Furnace Rd</AddressLine><AdminDistrict>PA</AdminDistrict><AdminDistrict2>Fayette County</AdminDistrict2><CountryRegion>United States</CountryRegion><FormattedAddress>2480 Springhill Furnace Rd, Lake Lynn, PA 15451</FormattedAddress><Locality>Lake Lynn</Locality><PostalCode>15451</PostalCode></Address><Confidence>High</Confidence><MatchCode>Good</MatchCode><GeocodePoint><Latitude>39.730639</Latitude><Longitude>-79.801386</Longitude><CalculationMethod>Rooftop</CalculationMethod><UsageType>Display</UsageType></GeocodePoint><GeocodePoint><Latitude>39.7312578</Latitude><Longitude>-79.8013822</Longitude><CalculationMethod>Rooftop</CalculationMethod><UsageType>Route</UsageType></GeocodePoint></Location></Resources></ResourceSet></ResourceSets></Response>","<?xml version=\"1.0\" encoding=\"utf-8\"?><Response xmlns:xsi=\"http://www.w3.org/2001/XMLSchema-instance\" xmlns:xsd=\"http://www.w3.org/2001/XMLSchema\" xmlns=\"http://schemas.microsoft.com/search/local/ws/rest/v1\"><Copyright>Copyright © 2024 Microsoft and its suppliers. All rights reserved. This API cannot be accessed and the content and any results may not be used, reproduced or transmitted in any manner without express written permission from Microsoft Corporation.</Copyright><BrandLogoUri>https://dev.virtualearth.net/Branding/logo_powered_by.png</BrandLogoUri><StatusCode>200</StatusCode><StatusDescription>OK</StatusDescription><AuthenticationResultCode>ValidCredentials</AuthenticationResultCode><TraceId>5dc7907673c7bd99326ba5600ac18986</TraceId><ResourceSets><ResourceSet><EstimatedTotal>1</EstimatedTotal><Resources><Resource xsi:type=\"DistanceMatrix\"><Origins><Coordinate><Latitude>38.890548</Latitude><Longitude>-79.845938</Longitude></Coordinate></Origins><Destinations><Coordinate><Latitude>39.730639</Latitude><Longitude>-79.801386</Longitude></Coordinate></Destinations><Results><Distance><DepartureTime xsi:nil=\"true\" /><OriginIndex>0</OriginIndex><DestinationIndex>0</DestinationIndex><TravelDistance>171.022</TravelDistance><TravelDuration>105.3833</TravelDuration><TotalWalkDuration>0</TotalWalkDuration></Distance></Results></Resource></Resources></ResourceSet></ResourceSets></Response>",106.268111162]
["Martin Marietta","619 Sand Hill Way, Petroleum, WV 26161",39.264399599999997,-81.264562900000001,"<?xml version=\"1.0\" encoding=\"utf-8\"?><Response xmlns:xsd=\"http://www.w3.org/2001/XMLSchema\" xmlns:xsi=\"http://www.w3.org/2001/XMLSchema-instance\" xmlns=\"http://schemas.microsoft.com/search/local/ws/rest/v1\"><Copyright>Copyright © 2023 Microsoft and its suppliers. All rights reserved. This API cannot be accessed and the content and any results may not be used, reproduced or transmitted in any manner without express written permission from Microsoft Corporation.</Copyright><BrandLogoUri>https://dev.virtualearth.net/Branding/logo_powered_by.png</BrandLogoUri><StatusCode>200</StatusCode><StatusDescription>OK</StatusDescription><AuthenticationResultCode>ValidCredentials</AuthenticationResultCode><TraceId>38a301bb0dd64f26aaa54dd06cebc7a4|BN00006C72|0.0.0.1|Ref A: 884E2146D67E4AF59A3869F34903AB21 Ref B: BL2AA2030104021 Ref C: 2023-12-27T14:01:39Z</TraceId><ResourceSets><ResourceSet><EstimatedTotal>1</EstimatedTotal><Resources><Location><Name>619 Sand Hill Way, Petroleum, WV 26161</Name><Point><Latitude>39.2643996</Latitude><Longitude>-81.2645629</Longitude></Point><BoundingBox><SouthLatitude>39.260536882429321</SouthLatitude><WestLongitude>-81.271214647279649</WestLongitude><NorthLatitude>39.268262317570674</NorthLatitude><EastLongitude>-81.257911152720354</EastLongitude></BoundingBox><EntityType>Address</EntityType><Address><AddressLine>619 Sand Hill Way</AddressLine><AdminDistrict>WV</AdminDistrict><AdminDistrict2>Ritchie County</AdminDistrict2><CountryRegion>United States</CountryRegion><FormattedAddress>619 Sand Hill Way, Petroleum, WV 26161</FormattedAddress><Locality>Petroleum</Locality><PostalCode>26161</PostalCode></Address><Confidence>High</Confidence><MatchCode>Good</MatchCode><GeocodePoint><Latitude>39.2643996</Latitude><Longitude>-81.2645629</Longitude><CalculationMethod>Rooftop</CalculationMethod><UsageType>Display</UsageType></GeocodePoint><GeocodePoint><Latitude>39.2631096</Latitude><Longitude>-81.2640593</Longitude><CalculationMethod>Rooftop</CalculationMethod><UsageType>Route</UsageType></GeocodePoint></Location></Resources></ResourceSet></ResourceSets></Response>","<?xml version=\"1.0\" encoding=\"utf-8\"?><Response xmlns:xsi=\"http://www.w3.org/2001/XMLSchema-instance\" xmlns:xsd=\"http://www.w3.org/2001/XMLSchema\" xmlns=\"http://schemas.microsoft.com/search/local/ws/rest/v1\"><Copyright>Copyright © 2024 Microsoft and its suppliers. All rights reserved. This API cannot be accessed and the content and any results may not be used, reproduced or transmitted in any manner without express written permission from Microsoft Corporation.</Copyright><BrandLogoUri>https://dev.virtualearth.net/Branding/logo_powered_by.png</BrandLogoUri><StatusCode>200</StatusCode><StatusDescription>OK</StatusDescription><AuthenticationResultCode>ValidCredentials</AuthenticationResultCode><TraceId>e45f40f5eed35e47fcce0de14c5576f2</TraceId><ResourceSets><ResourceSet><EstimatedTotal>1</EstimatedTotal><Resources><Resource xsi:type=\"DistanceMatrix\"><Origins><Coordinate><Latitude>38.890548</Latitude><Longitude>-79.845938</Longitude></Coordinate></Origins><Destinations><Coordinate><Latitude>39.2643996</Latitude><Longitude>-81.2645629</Longitude></Coordinate></Destinations><Results><Distance><DepartureTime xsi:nil=\"true\" /><OriginIndex>0</OriginIndex><DestinationIndex>0</DestinationIndex><TravelDistance>192.41</TravelDistance><TravelDuration>122.1333</TravelDuration><TotalWalkDuration>0</TotalWalkDuration></Distance></Results></Resource></Resources></ResourceSet></ResourceSets></Response>",119.55799411]
["Martin Marietta","Foot of Wetzel St., New Martinsville WV",39.65348255,-80.857986800000006,"<?xml version=\"1.0\" encoding=\"utf-8\"?><Response xmlns:xsd=\"http://www.w3.org/2001/XMLSchema\" xmlns:xsi=\"http://www.w3.org/2001/XMLSchema-instance\" xmlns=\"http://schemas.microsoft.com/search/local/ws/rest/v1\"><Copyright>Copyright © 2023 Microsoft and its suppliers. All rights reserved. This API cannot be accessed and the content and any results may not be used, reproduced or transmitted in any manner without express written permission from Microsoft Corporation.</Copyright><BrandLogoUri>https://dev.virtualearth.net/Branding/logo_powered_by.png</BrandLogoUri><StatusCode>200</StatusCode><StatusDescription>OK</StatusDescription><AuthenticationResultCode>ValidCredentials</AuthenticationResultCode><TraceId>87feb5f12f4940e2a7c2f366ef4f2849|BN00006C7B|0.0.0.1|Ref A: 7BC456B7EF2E4C829B3E5993985BC6F0 Ref B: BN3EDGE0406 Ref C: 2023-12-27T14:01:39Z</TraceId><ResourceSets><ResourceSet><EstimatedTotal>1</EstimatedTotal><Resources><Location><Name>Wetzel St, New Martinsville, WV 26155</Name><Point><Latitude>39.65348255</Latitude><Longitude>-80.8579868</Longitude></Point><BoundingBox><SouthLatitude>39.649619835691723</SouthLatitude><WestLongitude>-80.864675826967186</WestLongitude><NorthLatitude>39.657345270833076</NorthLatitude><EastLongitude>-80.851297771201814</EastLongitude></BoundingBox><EntityType>RoadBlock</EntityType><Address><AddressLine>Wetzel St</AddressLine><AdminDistrict>WV</AdminDistrict><AdminDistrict2>Wetzel County</AdminDistrict2><CountryRegion>United States</CountryRegion><FormattedAddress>Wetzel St, New Martinsville, WV 26155</FormattedAddress><Locality>New Martinsville</Locality><PostalCode>26155</PostalCode></Address><Confidence>High</Confidence><MatchCode>Good</MatchCode><GeocodePoint><Latitude>39.65348255</Latitude><Longitude>-80.8579868</Longitude><CalculationMethod>Interpolation</CalculationMethod><UsageType>Display</UsageType></GeocodePoint></Location></Resources></ResourceSet></ResourceSets></Response>","<?xml version=\"1.0\" encoding=\"utf-8\"?><Response xmlns:xsi=\"http://www.w3.org/2001/XMLSchema-instance\" xmlns:xsd=\"http://www.w3.org/2001/XMLSchema\" xmlns=\"http://schemas.microsoft.com/search/local/ws/rest/v1\"><Copyright>Copyright © 2024 Microsoft and its suppliers. All rights reserved. This API cannot be accessed and the content and any results may not be used, reproduced or transmitted in any manner without express written permission from Microsoft Corporation.</Copyright><BrandLogoUri>https://dev.virtualearth.net/Branding/logo_powered_by.png</BrandLogoUri><StatusCode>200</StatusCode><StatusDescription>OK</StatusDescription><AuthenticationResultCode>ValidCredentials</AuthenticationResultCode><TraceId>9978f35f8808139d3f00e1cea5991da0</TraceId><ResourceSets><ResourceSet><EstimatedTotal>1</EstimatedTotal><Resources><Resource xsi:type=\"DistanceMatrix\"><Origins><Coordinate><Latitude>38.890548</Latitude><Longitude>-79.845938</Longitude></Coordinate></Origins><Destinations><Coordinate><Latitude>39.65348255</Latitude><Longitude>-80.8579868</Longitude></Coordinate></Destinations><Results><Distance><DepartureTime xsi:nil=\"true\" /><OriginIndex>0</OriginIndex><DestinationIndex>0</DestinationIndex><TravelDistance>197.095</TravelDistance><TravelDuration>150.5167</TravelDuration><TotalWalkDuration>0</TotalWalkDuration></Distance></Results></Resource></Resources></ResourceSet></ResourceSets></Response>",122.46911724500001]
["Martin Marietta","99 Kanawha St., Parkersburg, WV 26101",39.253315200000003,-81.533820199999994,"<?xml version=\"1.0\" encoding=\"utf-8\"?><Response xmlns:xsd=\"http://www.w3.org/2001/XMLSchema\" xmlns:xsi=\"http://www.w3.org/2001/XMLSchema-instance\" xmlns=\"http://schemas.microsoft.com/search/local/ws/rest/v1\"><Copyright>Copyright © 2023 Microsoft and its suppliers. All rights reserved. This API cannot be accessed and the content and any results may not be used, reproduced or transmitted in any manner without express written permission from Microsoft Corporation.</Copyright><BrandLogoUri>https://dev.virtualearth.net/Branding/logo_powered_by.png</BrandLogoUri><StatusCode>200</StatusCode><StatusDescription>OK</StatusDescription><AuthenticationResultCode>ValidCredentials</AuthenticationResultCode><TraceId>b6e5cc5ed8b34c89af61cb830993fae7|BN00006C40|0.0.0.1|Ref A: 0FC2B2CC01584C49AF1D0AC99F48314D Ref B: BL2AA2010202049 Ref C: 2023-12-27T14:01:39Z</TraceId><ResourceSets><ResourceSet><EstimatedTotal>1</EstimatedTotal><Resources><Location><Name>99 Kanawha St, Parkersburg, WV 26101</Name><Point><Latitude>39.2533152</Latitude><Longitude>-81.5338202</Longitude></Point><BoundingBox><SouthLatitude>39.249452482429326</SouthLatitude><WestLongitude>-81.540470895781482</WestLongitude><NorthLatitude>39.257177917570679</NorthLatitude><EastLongitude>-81.5271695042185</EastLongitude></BoundingBox><EntityType>Address</EntityType><Address><AddressLine>99 Kanawha St</AddressLine><AdminDistrict>WV</AdminDistrict><AdminDistrict2>Wood County</AdminDistrict2><CountryRegion>United States</CountryRegion><FormattedAddress>99 Kanawha St, Parkersburg, WV 26101</FormattedAddress><Locality>Parkersburg</Locality><PostalCode>26101</PostalCode></Address><Confidence>High</Confidence><MatchCode>Good</MatchCode><GeocodePoint><Latitude>39.2533152</Latitude><Longitude>-81.5338202</Longitude><CalculationMethod>Rooftop</CalculationMethod><UsageType>Display</UsageType></GeocodePoint><GeocodePoint><Latitude>39.2533244</Latitude><Longitude>-81.5337083</Longitude><CalculationMethod>Rooftop</CalculationMethod><UsageType>Route</UsageType></GeocodePoint></Location></Resources></ResourceSet></ResourceSets></Response>","<?xml version=\"1.0\" encoding=\"utf-8\"?><Response xmlns:xsi=\"http://www.w3.org/2001/XMLSchema-instance\" xmlns:xsd=\"http://www.w3.org/2001/XMLSchema\" xmlns=\"http://schemas.microsoft.com/search/local/ws/rest/v1\"><Copyright>Copyright © 2024 Microsoft and its suppliers. All rights reserved. This API cannot be accessed and the content and any results may not be used, reproduced or transmitted in any manner without express written permission from Microsoft Corporation.</Copyright><BrandLogoUri>https://dev.virtualearth.net/Branding/logo_powered_by.png</BrandLogoUri><StatusCode>200</StatusCode><StatusDescription>OK</StatusDescription><AuthenticationResultCode>ValidCredentials</AuthenticationResultCode><TraceId>9b95d1f448c3998b0fc7ca780d1cb100</TraceId><ResourceSets><ResourceSet><EstimatedTotal>1</EstimatedTotal><Resources><Resource xsi:type=\"DistanceMatrix\"><Origins><Coordinate><Latitude>38.890548</Latitude><Longitude>-79.845938</Longitude></Coordinate></Origins><Destinations><Coordinate><Latitude>39.2533152</Latitude><Longitude>-81.5338202</Longitude></Coordinate></Destinations><Results><Distance><DepartureTime xsi:nil=\"true\" /><OriginIndex>0</OriginIndex><DestinationIndex>0</DestinationIndex><TravelDistance>222.781</TravelDistance><TravelDuration>141.2</TravelDuration><TotalWalkDuration>0</TotalWalkDuration></Distance></Results></Resource></Resources></ResourceSet></ResourceSets></Response>",138.42965275099999]
["Martin Marietta","195 Wetzel St., New Martinsville, WV 26155",39.653449999999999,-80.860862999999995,"<?xml version=\"1.0\" encoding=\"utf-8\"?><Response xmlns:xsd=\"http://www.w3.org/2001/XMLSchema\" xmlns:xsi=\"http://www.w3.org/2001/XMLSchema-instance\" xmlns=\"http://schemas.microsoft.com/search/local/ws/rest/v1\"><Copyright>Copyright © 2023 Microsoft and its suppliers. All rights reserved. This API cannot be accessed and the content and any results may not be used, reproduced or transmitted in any manner without express written permission from Microsoft Corporation.</Copyright><BrandLogoUri>https://dev.virtualearth.net/Branding/logo_powered_by.png</BrandLogoUri><StatusCode>200</StatusCode><StatusDescription>OK</StatusDescription><AuthenticationResultCode>ValidCredentials</AuthenticationResultCode><TraceId>bc1532f581124bbf8290f594d91ec8ae|BN00006C62|0.0.0.1|Ref A: BE4F3E0EF3FB4CCAAA1474A15808F106 Ref B: BN3EDGE1008 Ref C: 2023-12-27T14:01:39Z</TraceId><ResourceSets><ResourceSet><EstimatedTotal>1</EstimatedTotal><Resources><Location><Name>195 Wetzel St, New Martinsville, WV 26155</Name><Point><Latitude>39.65345</Latitude><Longitude>-80.860863</Longitude></Point><BoundingBox><SouthLatitude>39.649587282429323</SouthLatitude><WestLongitude>-80.867552024733129</WestLongitude><NorthLatitude>39.657312717570676</NorthLatitude><EastLongitude>-80.85417397526686</EastLongitude></BoundingBox><EntityType>Address</EntityType><Address><AddressLine>195 Wetzel St</AddressLine><AdminDistrict>WV</AdminDistrict><AdminDistrict2>Wetzel County</AdminDistrict2><CountryRegion>United States</CountryRegion><FormattedAddress>195 Wetzel St, New Martinsville, WV 26155</FormattedAddress><Locality>New Martinsville</Locality><PostalCode>26155</PostalCode></Address><Confidence>High</Confidence><MatchCode>Good</MatchCode><GeocodePoint><Latitude>39.65345</Latitude><Longitude>-80.860863</Longitude><CalculationMethod>Rooftop</CalculationMethod><UsageType>Display</UsageType></GeocodePoint><GeocodePoint><Latitude>39.6536805</Latitude><Longitude>-80.8608791</Longitude><CalculationMethod>Rooftop</CalculationMethod><UsageType>Route</UsageType></GeocodePoint></Location></Resources></ResourceSet></ResourceSets></Response>","<?xml version=\"1.0\" encoding=\"utf-8\"?><Response xmlns:xsi=\"http://www.w3.org/2001/XMLSchema-instance\" xmlns:xsd=\"http://www.w3.org/2001/XMLSchema\" xmlns=\"http://schemas.microsoft.com/search/local/ws/rest/v1\"><Copyright>Copyright © 2024 Microsoft and its suppliers. All rights reserved. This API cannot be accessed and the content and any results may not be used, reproduced or transmitted in any manner without express written permission from Microsoft Corporation.</Copyright><BrandLogoUri>https://dev.virtualearth.net/Branding/logo_powered_by.png</BrandLogoUri><StatusCode>200</StatusCode><StatusDescription>OK</StatusDescription><AuthenticationResultCode>ValidCredentials</AuthenticationResultCode><TraceId>ef0db88d32bc553a7771745aa9551404</TraceId><ResourceSets><ResourceSet><EstimatedTotal>1</EstimatedTotal><Resources><Resource xsi:type=\"DistanceMatrix\"><Origins><Coordinate><Latitude>38.890548</Latitude><Longitude>-79.845938</Longitude></Coordinate></Origins><Destinations><Coordinate><Latitude>39.65345</Latitude><Longitude>-80.860863</Longitude></Coordinate></Destinations><Results><Distance><DepartureTime xsi:nil=\"true\" /><OriginIndex>0</OriginIndex><DestinationIndex>0</DestinationIndex><TravelDistance>197.383</TravelDistance><TravelDuration>151.2667</TravelDuration><TotalWalkDuration>0</TotalWalkDuration></Distance></Results></Resource></Resources></ResourceSet></ResourceSets></Response>",122.64807209300001]
["Mountain Materials- Valley Quarry","12434 US 60, Olive Hill KY",38.314320700000003,-83.136410799999993,"<?xml version=\"1.0\" encoding=\"utf-8\"?><Response xmlns:xsd=\"http://www.w3.org/2001/XMLSchema\" xmlns:xsi=\"http://www.w3.org/2001/XMLSchema-instance\" xmlns=\"http://schemas.microsoft.com/search/local/ws/rest/v1\"><Copyright>Copyright © 2023 Microsoft and its suppliers. All rights reserved. This API cannot be accessed and the content and any results may not be used, reproduced or transmitted in any manner without express written permission from Microsoft Corporation.</Copyright><BrandLogoUri>https://dev.virtualearth.net/Branding/logo_powered_by.png</BrandLogoUri><StatusCode>200</StatusCode><StatusDescription>OK</StatusDescription><AuthenticationResultCode>ValidCredentials</AuthenticationResultCode><TraceId>3766a4c698a44803b243635509dab1da|BN00006C48|0.0.0.1|Ref A: F6A0CA022BDD4F81A5532153874D7BDD Ref B: BN3EDGE0510 Ref C: 2023-12-27T14:01:40Z</TraceId><ResourceSets><ResourceSet><EstimatedTotal>1</EstimatedTotal><Resources><Location><Name>12434 US-60 E, Olive Hill, KY 41164</Name><Point><Latitude>38.3143207</Latitude><Longitude>-83.1364108</Longitude></Point><BoundingBox><SouthLatitude>38.310457982429327</SouthLatitude><WestLongitude>-83.142974494964434</WestLongitude><NorthLatitude>38.31818341757068</NorthLatitude><EastLongitude>-83.129847105035552</EastLongitude></BoundingBox><EntityType>Address</EntityType><Address><AddressLine>12434 US-60 E</AddressLine><AdminDistrict>KY</AdminDistrict><AdminDistrict2>Carter County</AdminDistrict2><CountryRegion>United States</CountryRegion><FormattedAddress>12434 US-60 E, Olive Hill, KY 41164</FormattedAddress><Locality>Olive Hill</Locality><PostalCode>41164</PostalCode></Address><Confidence>High</Confidence><MatchCode>Good</MatchCode><GeocodePoint><Latitude>38.3143207</Latitude><Longitude>-83.1364108</Longitude><CalculationMethod>Rooftop</CalculationMethod><UsageType>Display</UsageType></GeocodePoint><GeocodePoint><Latitude>38.314252</Latitude><Longitude>-83.136624</Longitude><CalculationMethod>Rooftop</CalculationMethod><UsageType>Route</UsageType></GeocodePoint></Location></Resources></ResourceSet></ResourceSets></Response>","<?xml version=\"1.0\" encoding=\"utf-8\"?><Response xmlns:xsi=\"http://www.w3.org/2001/XMLSchema-instance\" xmlns:xsd=\"http://www.w3.org/2001/XMLSchema\" xmlns=\"http://schemas.microsoft.com/search/local/ws/rest/v1\"><Copyright>Copyright © 2024 Microsoft and its suppliers. All rights reserved. This API cannot be accessed and the content and any results may not be used, reproduced or transmitted in any manner without express written permission from Microsoft Corporation.</Copyright><BrandLogoUri>https://dev.virtualearth.net/Branding/logo_powered_by.png</BrandLogoUri><StatusCode>200</StatusCode><StatusDescription>OK</StatusDescription><AuthenticationResultCode>ValidCredentials</AuthenticationResultCode><TraceId>f844c610ae83190040c710370568b48e</TraceId><ResourceSets><ResourceSet><EstimatedTotal>1</EstimatedTotal><Resources><Resource xsi:type=\"DistanceMatrix\"><Origins><Coordinate><Latitude>38.890548</Latitude><Longitude>-79.845938</Longitude></Coordinate></Origins><Destinations><Coordinate><Latitude>38.3143207</Latitude><Longitude>-83.1364108</Longitude></Coordinate></Destinations><Results><Distance><DepartureTime xsi:nil=\"true\" /><OriginIndex>0</OriginIndex><DestinationIndex>0</DestinationIndex><TravelDistance>370.636</TravelDistance><TravelDuration>208.15</TravelDuration><TotalWalkDuration>0</TotalWalkDuration></Distance></Results></Resource></Resources></ResourceSet></ResourceSets></Response>",230.30246195600003]
["Monterville Quarry","3401 Point Mountain Rd., Valley Head, WV 26294",38.547280100000002,-80.0775857,"<?xml version=\"1.0\" encoding=\"utf-8\"?><Response xmlns:xsd=\"http://www.w3.org/2001/XMLSchema\" xmlns:xsi=\"http://www.w3.org/2001/XMLSchema-instance\" xmlns=\"http://schemas.microsoft.com/search/local/ws/rest/v1\"><Copyright>Copyright © 2023 Microsoft and its suppliers. All rights reserved. This API cannot be accessed and the content and any results may not be used, reproduced or transmitted in any manner without express written permission from Microsoft Corporation.</Copyright><BrandLogoUri>https://dev.virtualearth.net/Branding/logo_powered_by.png</BrandLogoUri><StatusCode>200</StatusCode><StatusDescription>OK</StatusDescription><AuthenticationResultCode>ValidCredentials</AuthenticationResultCode><TraceId>37cfb3236dfd46c3a55163791b2af4af|BN00006C5F|0.0.0.1|Ref A: 0E2BF24E542C46D5A19ED34804C9D5C8 Ref B: BN3EDGE0519 Ref C: 2023-12-27T14:01:39Z</TraceId><ResourceSets><ResourceSet><EstimatedTotal>1</EstimatedTotal><Resources><Location><Name>3401 Point Mountain Rd, Valley Head, WV 26294</Name><Point><Latitude>38.5472801</Latitude><Longitude>-80.0775857</Longitude></Point><BoundingBox><SouthLatitude>38.543417382429325</SouthLatitude><WestLongitude>-80.084170601793645</WestLongitude><NorthLatitude>38.551142817570678</NorthLatitude><EastLongitude>-80.071000798206356</EastLongitude></BoundingBox><EntityType>Address</EntityType><Address><AddressLine>3401 Point Mountain Rd</AddressLine><AdminDistrict>WV</AdminDistrict><AdminDistrict2>Randolph County</AdminDistrict2><CountryRegion>United States</CountryRegion><FormattedAddress>3401 Point Mountain Rd, Valley Head, WV 26294</FormattedAddress><Locality>Valley Head</Locality><PostalCode>26294</PostalCode></Address><Confidence>High</Confidence><MatchCode>Good</MatchCode><GeocodePoint><Latitude>38.5472801</Latitude><Longitude>-80.0775857</Longitude><CalculationMethod>Rooftop</CalculationMethod><UsageType>Display</UsageType></GeocodePoint><GeocodePoint><Latitude>38.5473373</Latitude><Longitude>-80.0773168</Longitude><CalculationMethod>Rooftop</CalculationMethod><UsageType>Route</UsageType></GeocodePoint></Location></Resources></ResourceSet></ResourceSets></Response>","<?xml version=\"1.0\" encoding=\"utf-8\"?><Response xmlns:xsi=\"http://www.w3.org/2001/XMLSchema-instance\" xmlns:xsd=\"http://www.w3.org/2001/XMLSchema\" xmlns=\"http://schemas.microsoft.com/search/local/ws/rest/v1\"><Copyright>Copyright © 2024 Microsoft and its suppliers. All rights reserved. This API cannot be accessed and the content and any results may not be used, reproduced or transmitted in any manner without express written permission from Microsoft Corporation.</Copyright><BrandLogoUri>https://dev.virtualearth.net/Branding/logo_powered_by.png</BrandLogoUri><StatusCode>200</StatusCode><StatusDescription>OK</StatusDescription><AuthenticationResultCode>ValidCredentials</AuthenticationResultCode><TraceId>0a31126313a8d827a0824e8fbc86553c</TraceId><ResourceSets><ResourceSet><EstimatedTotal>1</EstimatedTotal><Resources><Resource xsi:type=\"DistanceMatrix\"><Origins><Coordinate><Latitude>38.890548</Latitude><Longitude>-79.845938</Longitude></Coordinate></Origins><Destinations><Coordinate><Latitude>38.5472801</Latitude><Longitude>-80.0775857</Longitude></Coordinate></Destinations><Results><Distance><DepartureTime xsi:nil=\"true\" /><OriginIndex>0</OriginIndex><DestinationIndex>0</DestinationIndex><TravelDistance>52.819</TravelDistance><TravelDuration>45.5833</TravelDuration><TotalWalkDuration>0</TotalWalkDuration></Distance></Results></Resource></Resources></ResourceSet></ResourceSets></Response>",32.820194849000004]
["National Lime and Stone","1601 North 1st St., Martins Ferry, OH 43935",40.110388999999998,-80.708506900000003,"<?xml version=\"1.0\" encoding=\"utf-8\"?><Response xmlns:xsd=\"http://www.w3.org/2001/XMLSchema\" xmlns:xsi=\"http://www.w3.org/2001/XMLSchema-instance\" xmlns=\"http://schemas.microsoft.com/search/local/ws/rest/v1\"><Copyright>Copyright © 2023 Microsoft and its suppliers. All rights reserved. This API cannot be accessed and the content and any results may not be used, reproduced or transmitted in any manner without express written permission from Microsoft Corporation.</Copyright><BrandLogoUri>https://dev.virtualearth.net/Branding/logo_powered_by.png</BrandLogoUri><StatusCode>200</StatusCode><StatusDescription>OK</StatusDescription><AuthenticationResultCode>ValidCredentials</AuthenticationResultCode><TraceId>801ff007b4af4f049170df7d3edb31ca|BN00006C47|0.0.0.1|Ref A: 1306733621324285B3C2987C45FB141A Ref B: BN3EDGE0512 Ref C: 2023-12-27T14:01:39Z</TraceId><ResourceSets><ResourceSet><EstimatedTotal>1</EstimatedTotal><Resources><Location><Name>1601 N 1st St, Martins Ferry, OH 43935</Name><Point><Latitude>40.110389</Latitude><Longitude>-80.7085069</Longitude></Point><BoundingBox><SouthLatitude>40.106526282429321</SouthLatitude><WestLongitude>-80.7152406430712</WestLongitude><NorthLatitude>40.114251717570674</NorthLatitude><EastLongitude>-80.701773156928809</EastLongitude></BoundingBox><EntityType>Address</EntityType><Address><AddressLine>1601 N 1st St</AddressLine><AdminDistrict>OH</AdminDistrict><AdminDistrict2>Belmont County</AdminDistrict2><CountryRegion>United States</CountryRegion><FormattedAddress>1601 N 1st St, Martins Ferry, OH 43935</FormattedAddress><Locality>Martins Ferry</Locality><PostalCode>43935</PostalCode></Address><Confidence>High</Confidence><MatchCode>Good</MatchCode><GeocodePoint><Latitude>40.110389</Latitude><Longitude>-80.7085069</Longitude><CalculationMethod>Rooftop</CalculationMethod><UsageType>Display</UsageType></GeocodePoint><GeocodePoint><Latitude>40.1103588</Latitude><Longitude>-80.7081764</Longitude><CalculationMethod>Rooftop</CalculationMethod><UsageType>Route</UsageType></GeocodePoint></Location></Resources></ResourceSet></ResourceSets></Response>","<?xml version=\"1.0\" encoding=\"utf-8\"?><Response xmlns:xsi=\"http://www.w3.org/2001/XMLSchema-instance\" xmlns:xsd=\"http://www.w3.org/2001/XMLSchema\" xmlns=\"http://schemas.microsoft.com/search/local/ws/rest/v1\"><Copyright>Copyright © 2024 Microsoft and its suppliers. All rights reserved. This API cannot be accessed and the content and any results may not be used, reproduced or transmitted in any manner without express written permission from Microsoft Corporation.</Copyright><BrandLogoUri>https://dev.virtualearth.net/Branding/logo_powered_by.png</BrandLogoUri><StatusCode>200</StatusCode><StatusDescription>OK</StatusDescription><AuthenticationResultCode>ValidCredentials</AuthenticationResultCode><TraceId>131f4a7f265aef1a47992ab1dedfa20d</TraceId><ResourceSets><ResourceSet><EstimatedTotal>1</EstimatedTotal><Resources><Resource xsi:type=\"DistanceMatrix\"><Origins><Coordinate><Latitude>38.890548</Latitude><Longitude>-79.845938</Longitude></Coordinate></Origins><Destinations><Coordinate><Latitude>40.110389</Latitude><Longitude>-80.7085069</Longitude></Coordinate></Destinations><Results><Distance><DepartureTime xsi:nil=\"true\" /><OriginIndex>0</OriginIndex><DestinationIndex>0</DestinationIndex><TravelDistance>279.786</TravelDistance><TravelDuration>163.7333</TravelDuration><TotalWalkDuration>0</TotalWalkDuration></Distance></Results></Resource></Resources></ResourceSet></ResourceSets></Response>",173.850906606]
["National Lime and Stone","1422 Co. HWY 7F, Toronto OH 43964",40.499512199999998,-80.617791999999994,"<?xml version=\"1.0\" encoding=\"utf-8\"?><Response xmlns:xsd=\"http://www.w3.org/2001/XMLSchema\" xmlns:xsi=\"http://www.w3.org/2001/XMLSchema-instance\" xmlns=\"http://schemas.microsoft.com/search/local/ws/rest/v1\"><Copyright>Copyright © 2023 Microsoft and its suppliers. All rights reserved. This API cannot be accessed and the content and any results may not be used, reproduced or transmitted in any manner without express written permission from Microsoft Corporation.</Copyright><BrandLogoUri>https://dev.virtualearth.net/Branding/logo_powered_by.png</BrandLogoUri><StatusCode>200</StatusCode><StatusDescription>OK</StatusDescription><AuthenticationResultCode>ValidCredentials</AuthenticationResultCode><TraceId>96cefa3b34e74184880a40a2b499688d|BN00006C65|0.0.0.1|Ref A: 75A56778E8B44C1C9DF228F2E29659AB Ref B: BN3EDGE1018 Ref C: 2023-12-27T14:01:39Z</TraceId><ResourceSets><ResourceSet><EstimatedTotal>1</EstimatedTotal><Resources><Location><Name>1422 County Hwy-7F, Toronto, OH 43964</Name><Point><Latitude>40.4995122</Latitude><Longitude>-80.617792</Longitude></Point><BoundingBox><SouthLatitude>40.495649482429322</SouthLatitude><WestLongitude>-80.624564640365733</WestLongitude><NorthLatitude>40.503374917570675</NorthLatitude><EastLongitude>-80.611019359634255</EastLongitude></BoundingBox><EntityType>Address</EntityType><Address><AddressLine>1422 County Hwy-7F</AddressLine><AdminDistrict>OH</AdminDistrict><AdminDistrict2>Jefferson County</AdminDistrict2><CountryRegion>United States</CountryRegion><FormattedAddress>1422 County Hwy-7F, Toronto, OH 43964</FormattedAddress><Locality>Toronto</Locality><PostalCode>43964</PostalCode></Address><Confidence>High</Confidence><MatchCode>Good</MatchCode><GeocodePoint><Latitude>40.4995122</Latitude><Longitude>-80.617792</Longitude><CalculationMethod>Rooftop</CalculationMethod><UsageType>Display</UsageType></GeocodePoint><GeocodePoint><Latitude>40.499516</Latitude><Longitude>-80.6177792</Longitude><CalculationMethod>Rooftop</CalculationMethod><UsageType>Route</UsageType></GeocodePoint></Location></Resources></ResourceSet></ResourceSets></Response>","<?xml version=\"1.0\" encoding=\"utf-8\"?><Response xmlns:xsi=\"http://www.w3.org/2001/XMLSchema-instance\" xmlns:xsd=\"http://www.w3.org/2001/XMLSchema\" xmlns=\"http://schemas.microsoft.com/search/local/ws/rest/v1\"><Copyright>Copyright © 2024 Microsoft and its suppliers. All rights reserved. This API cannot be accessed and the content and any results may not be used, reproduced or transmitted in any manner without express written permission from Microsoft Corporation.</Copyright><BrandLogoUri>https://dev.virtualearth.net/Branding/logo_powered_by.png</BrandLogoUri><StatusCode>200</StatusCode><StatusDescription>OK</StatusDescription><AuthenticationResultCode>ValidCredentials</AuthenticationResultCode><TraceId>1993b7fe4f777f99d40cc87f293f43ed</TraceId><ResourceSets><ResourceSet><EstimatedTotal>1</EstimatedTotal><Resources><Resource xsi:type=\"DistanceMatrix\"><Origins><Coordinate><Latitude>38.890548</Latitude><Longitude>-79.845938</Longitude></Coordinate></Origins><Destinations><Coordinate><Latitude>40.4995122</Latitude><Longitude>-80.617792</Longitude></Coordinate></Destinations><Results><Distance><DepartureTime xsi:nil=\"true\" /><OriginIndex>0</OriginIndex><DestinationIndex>0</DestinationIndex><TravelDistance>307.968</TravelDistance><TravelDuration>178.0333</TravelDuration><TotalWalkDuration>0</TotalWalkDuration></Distance></Results></Resource></Resources></ResourceSet></ResourceSets></Response>",191.362384128]
["Scary Creek Materials"," #9 Orders Way, Winfield, WV",38.443871000000001,-81.935260999999997,"<?xml version=\"1.0\" encoding=\"utf-8\"?><Response xmlns:xsd=\"http://www.w3.org/2001/XMLSchema\" xmlns:xsi=\"http://www.w3.org/2001/XMLSchema-instance\" xmlns=\"http://schemas.microsoft.com/search/local/ws/rest/v1\"><Copyright>Copyright © 2023 Microsoft and its suppliers. All rights reserved. This API cannot be accessed and the content and any results may not be used, reproduced or transmitted in any manner without express written permission from Microsoft Corporation.</Copyright><BrandLogoUri>https://dev.virtualearth.net/Branding/logo_powered_by.png</BrandLogoUri><StatusCode>200</StatusCode><StatusDescription>OK</StatusDescription><AuthenticationResultCode>ValidCredentials</AuthenticationResultCode><TraceId>d145276647c843449667512e2703e29d|BN00006C34|0.0.0.1|Ref A: 7714A96DDA9C4AE5AB66EB4B8C7FF75B Ref B: BN3EDGE0415 Ref C: 2023-12-27T14:01:39Z</TraceId><ResourceSets><ResourceSet><EstimatedTotal>1</EstimatedTotal><Resources><Location><Name>9 Orders Rd, Scott Depot, WV 25560</Name><Point><Latitude>38.443871</Latitude><Longitude>-81.935261</Longitude></Point><BoundingBox><SouthLatitude>38.440008282429325</SouthLatitude><WestLongitude>-81.941836457917844</WestLongitude><NorthLatitude>38.447733717570678</NorthLatitude><EastLongitude>-81.92868554208215</EastLongitude></BoundingBox><EntityType>Address</EntityType><Address><AddressLine>9 Orders Rd</AddressLine><AdminDistrict>WV</AdminDistrict><AdminDistrict2>Putnam County</AdminDistrict2><CountryRegion>United States</CountryRegion><FormattedAddress>9 Orders Rd, Scott Depot, WV 25560</FormattedAddress><Locality>Scott Depot</Locality><PostalCode>25560</PostalCode></Address><Confidence>Medium</Confidence><MatchCode>Good</MatchCode><GeocodePoint><Latitude>38.443871</Latitude><Longitude>-81.935261</Longitude><CalculationMethod>Rooftop</CalculationMethod><UsageType>Display</UsageType></GeocodePoint><GeocodePoint><Latitude>38.444059</Latitude><Longitude>-81.935359</Longitude><CalculationMethod>Rooftop</CalculationMethod><UsageType>Route</UsageType></GeocodePoint></Location></Resources></ResourceSet></ResourceSets></Response>","<?xml version=\"1.0\" encoding=\"utf-8\"?><Response xmlns:xsi=\"http://www.w3.org/2001/XMLSchema-instance\" xmlns:xsd=\"http://www.w3.org/2001/XMLSchema\" xmlns=\"http://schemas.microsoft.com/search/local/ws/rest/v1\"><Copyright>Copyright © 2024 Microsoft and its suppliers. All rights reserved. This API cannot be accessed and the content and any results may not be used, reproduced or transmitted in any manner without express written permission from Microsoft Corporation.</Copyright><BrandLogoUri>https://dev.virtualearth.net/Branding/logo_powered_by.png</BrandLogoUri><StatusCode>200</StatusCode><StatusDescription>OK</StatusDescription><AuthenticationResultCode>ValidCredentials</AuthenticationResultCode><TraceId>959054b6706662741a3dacc71d2d92e5</TraceId><ResourceSets><ResourceSet><EstimatedTotal>1</EstimatedTotal><Resources><Resource xsi:type=\"DistanceMatrix\"><Origins><Coordinate><Latitude>38.890548</Latitude><Longitude>-79.845938</Longitude></Coordinate></Origins><Destinations><Coordinate><Latitude>38.443871</Latitude><Longitude>-81.935261</Longitude></Coordinate></Destinations><Results><Distance><DepartureTime xsi:nil=\"true\" /><OriginIndex>0</OriginIndex><DestinationIndex>0</DestinationIndex><TravelDistance>259.351</TravelDistance><TravelDuration>152.2333</TravelDuration><TotalWalkDuration>0</TotalWalkDuration></Distance></Results></Resource></Resources></ResourceSet></ResourceSets></Response>",161.15319022099999]
["Shamblin Stone","658 Winfield Rd., St Albans, WV 25177",38.427327699999999,-81.854035499999995,"<?xml version=\"1.0\" encoding=\"utf-8\"?><Response xmlns:xsd=\"http://www.w3.org/2001/XMLSchema\" xmlns:xsi=\"http://www.w3.org/2001/XMLSchema-instance\" xmlns=\"http://schemas.microsoft.com/search/local/ws/rest/v1\"><Copyright>Copyright © 2023 Microsoft and its suppliers. All rights reserved. This API cannot be accessed and the content and any results may not be used, reproduced or transmitted in any manner without express written permission from Microsoft Corporation.</Copyright><BrandLogoUri>https://dev.virtualearth.net/Branding/logo_powered_by.png</BrandLogoUri><StatusCode>200</StatusCode><StatusDescription>OK</StatusDescription><AuthenticationResultCode>ValidCredentials</AuthenticationResultCode><TraceId>ccd6ed13bac744979a6ffd330036cd46|BN00006C70|0.0.0.1|Ref A: E886D0DF57A44B4ABBBE80F43CF1D961 Ref B: BN3EDGE0421 Ref C: 2023-12-27T14:01:40Z</TraceId><ResourceSets><ResourceSet><EstimatedTotal>1</EstimatedTotal><Resources><Location><Name>658 Winfield Rd, St Albans, WV 25177</Name><Point><Latitude>38.4273277</Latitude><Longitude>-81.8540355</Longitude></Point><BoundingBox><SouthLatitude>38.423464982429323</SouthLatitude><WestLongitude>-81.860609451593135</WestLongitude><NorthLatitude>38.431190417570676</NorthLatitude><EastLongitude>-81.847461548406855</EastLongitude></BoundingBox><EntityType>Address</EntityType><Address><AddressLine>658 Winfield Rd</AddressLine><AdminDistrict>WV</AdminDistrict><AdminDistrict2>Putnam County</AdminDistrict2><CountryRegion>United States</CountryRegion><FormattedAddress>658 Winfield Rd, St Albans, WV 25177</FormattedAddress><Locality>St Albans</Locality><PostalCode>25177</PostalCode></Address><Confidence>High</Confidence><MatchCode>Good</MatchCode><GeocodePoint><Latitude>38.4273277</Latitude><Longitude>-81.8540355</Longitude><CalculationMethod>Rooftop</CalculationMethod><UsageType>Display</UsageType></GeocodePoint><GeocodePoint><Latitude>38.427404</Latitude><Longitude>-81.854013</Longitude><CalculationMethod>Rooftop</CalculationMethod><UsageType>Route</UsageType></GeocodePoint></Location></Resources></ResourceSet></ResourceSets></Response>","<?xml version=\"1.0\" encoding=\"utf-8\"?><Response xmlns:xsi=\"http://www.w3.org/2001/XMLSchema-instance\" xmlns:xsd=\"http://www.w3.org/2001/XMLSchema\" xmlns=\"http://schemas.microsoft.com/search/local/ws/rest/v1\"><Copyright>Copyright © 2024 Microsoft and its suppliers. All rights reserved. This API cannot be accessed and the content and any results may not be used, reproduced or transmitted in any manner without express written permission from Microsoft Corporation.</Copyright><BrandLogoUri>https://dev.virtualearth.net/Branding/logo_powered_by.png</BrandLogoUri><StatusCode>200</StatusCode><StatusDescription>OK</StatusDescription><AuthenticationResultCode>ValidCredentials</AuthenticationResultCode><TraceId>ac30e555ae6ceab29bf8e7a3ddb99163</TraceId><ResourceSets><ResourceSet><EstimatedTotal>1</EstimatedTotal><Resources><Resource xsi:type=\"DistanceMatrix\"><Origins><Coordinate><Latitude>38.890548</Latitude><Longitude>-79.845938</Longitude></Coordinate></Origins><Destinations><Coordinate><Latitude>38.4273277</Latitude><Longitude>-81.8540355</Longitude></Coordinate></Destinations><Results><Distance><DepartureTime xsi:nil=\"true\" /><OriginIndex>0</OriginIndex><DestinationIndex>0</DestinationIndex><TravelDistance>252.405</TravelDistance><TravelDuration>146.2667</TravelDuration><TotalWalkDuration>0</TotalWalkDuration></Distance></Results></Resource></Resources></ResourceSet></ResourceSets></Response>",156.83714725499999]
["Shamblin Stone","70 Dunbar Ave., Dunbar WV 25064",38.362250500000002,-81.721563700000004,"<?xml version=\"1.0\" encoding=\"utf-8\"?><Response xmlns:xsd=\"http://www.w3.org/2001/XMLSchema\" xmlns:xsi=\"http://www.w3.org/2001/XMLSchema-instance\" xmlns=\"http://schemas.microsoft.com/search/local/ws/rest/v1\"><Copyright>Copyright © 2023 Microsoft and its suppliers. All rights reserved. This API cannot be accessed and the content and any results may not be used, reproduced or transmitted in any manner without express written permission from Microsoft Corporation.</Copyright><BrandLogoUri>https://dev.virtualearth.net/Branding/logo_powered_by.png</BrandLogoUri><StatusCode>200</StatusCode><StatusDescription>OK</StatusDescription><AuthenticationResultCode>ValidCredentials</AuthenticationResultCode><TraceId>3ba3989273ac4dbbb4e35e688155a9e8|BN00006C62|0.0.0.1|Ref A: 5FE2CE04BF93400B97753AEB1A639152 Ref B: BN3EDGE1008 Ref C: 2023-12-27T14:01:40Z</TraceId><ResourceSets><ResourceSet><EstimatedTotal>1</EstimatedTotal><Resources><Location><Name>70 Dunbar Ave, Dunbar, WV 25064</Name><Point><Latitude>38.3622505</Latitude><Longitude>-81.7215637</Longitude></Point><BoundingBox><SouthLatitude>38.358387782429325</SouthLatitude><WestLongitude>-81.728131738090084</WestLongitude><NorthLatitude>38.366113217570678</NorthLatitude><EastLongitude>-81.714995661909924</EastLongitude></BoundingBox><EntityType>Address</EntityType><Address><AddressLine>70 Dunbar Ave</AddressLine><AdminDistrict>WV</AdminDistrict><AdminDistrict2>Kanawha County</AdminDistrict2><CountryRegion>United States</CountryRegion><FormattedAddress>70 Dunbar Ave, Dunbar, WV 25064</FormattedAddress><Locality>Dunbar</Locality><PostalCode>25064</PostalCode></Address><Confidence>High</Confidence><MatchCode>Good</MatchCode><GeocodePoint><Latitude>38.3622505</Latitude><Longitude>-81.7215637</Longitude><CalculationMethod>Rooftop</CalculationMethod><UsageType>Display</UsageType></GeocodePoint><GeocodePoint><Latitude>38.3628794</Latitude><Longitude>-81.7220213</Longitude><CalculationMethod>Rooftop</CalculationMethod><UsageType>Route</UsageType></GeocodePoint></Location></Resources></ResourceSet></ResourceSets></Response>","<?xml version=\"1.0\" encoding=\"utf-8\"?><Response xmlns:xsi=\"http://www.w3.org/2001/XMLSchema-instance\" xmlns:xsd=\"http://www.w3.org/2001/XMLSchema\" xmlns=\"http://schemas.microsoft.com/search/local/ws/rest/v1\"><Copyright>Copyright © 2024 Microsoft and its suppliers. All rights reserved. This API cannot be accessed and the content and any results may not be used, reproduced or transmitted in any manner without express written permission from Microsoft Corporation.</Copyright><BrandLogoUri>https://dev.virtualearth.net/Branding/logo_powered_by.png</BrandLogoUri><StatusCode>200</StatusCode><StatusDescription>OK</StatusDescription><AuthenticationResultCode>ValidCredentials</AuthenticationResultCode><TraceId>31456e842e06dac0487a150f3a0305bb</TraceId><ResourceSets><ResourceSet><EstimatedTotal>1</EstimatedTotal><Resources><Resource xsi:type=\"DistanceMatrix\"><Origins><Coordinate><Latitude>38.890548</Latitude><Longitude>-79.845938</Longitude></Coordinate></Origins><Destinations><Coordinate><Latitude>38.3622505</Latitude><Longitude>-81.7215637</Longitude></Coordinate></Destinations><Results><Distance><DepartureTime xsi:nil=\"true\" /><OriginIndex>0</OriginIndex><DestinationIndex>0</DestinationIndex><TravelDistance>237.633</TravelDistance><TravelDuration>137.6333</TravelDuration><TotalWalkDuration>0</TotalWalkDuration></Distance></Results></Resource></Resources></ResourceSet></ResourceSets></Response>",147.65825484300001]
["Stone Asphalt LLC","164 V.I.P. Drive Masontown, WV 26542",39.521946900000003,-79.791995700000001,"<?xml version=\"1.0\" encoding=\"utf-8\"?><Response xmlns:xsd=\"http://www.w3.org/2001/XMLSchema\" xmlns:xsi=\"http://www.w3.org/2001/XMLSchema-instance\" xmlns=\"http://schemas.microsoft.com/search/local/ws/rest/v1\"><Copyright>Copyright © 2023 Microsoft and its suppliers. All rights reserved. This API cannot be accessed and the content and any results may not be used, reproduced or transmitted in any manner without express written permission from Microsoft Corporation.</Copyright><BrandLogoUri>https://dev.virtualearth.net/Branding/logo_powered_by.png</BrandLogoUri><StatusCode>200</StatusCode><StatusDescription>OK</StatusDescription><AuthenticationResultCode>ValidCredentials</AuthenticationResultCode><TraceId>79bfc87da31d42c9b2015154a6bd53c0|BN00006C54|0.0.0.1|Ref A: EC472BCE70824555AAE2BAEAB309AFB2 Ref B: BN3EDGE0514 Ref C: 2023-12-27T14:01:39Z</TraceId><ResourceSets><ResourceSet><EstimatedTotal>1</EstimatedTotal><Resources><Location><Name>164 V I P Dr, Masontown, WV 26542</Name><Point><Latitude>39.5219469</Latitude><Longitude>-79.7919957</Longitude></Point><BoundingBox><SouthLatitude>39.518084182429327</SouthLatitude><WestLongitude>-79.798672043447027</WestLongitude><NorthLatitude>39.52580961757068</NorthLatitude><EastLongitude>-79.785319356552975</EastLongitude></BoundingBox><EntityType>Address</EntityType><Address><AddressLine>164 V I P Dr</AddressLine><AdminDistrict>WV</AdminDistrict><AdminDistrict2>Preston County</AdminDistrict2><CountryRegion>United States</CountryRegion><FormattedAddress>164 V I P Dr, Masontown, WV 26542</FormattedAddress><Locality>Masontown</Locality><PostalCode>26542</PostalCode></Address><Confidence>High</Confidence><MatchCode>Good</MatchCode><GeocodePoint><Latitude>39.5219469</Latitude><Longitude>-79.7919957</Longitude><CalculationMethod>Rooftop</CalculationMethod><UsageType>Display</UsageType></GeocodePoint><GeocodePoint><Latitude>39.5225305</Latitude><Longitude>-79.792584</Longitude><CalculationMethod>Rooftop</CalculationMethod><UsageType>Route</UsageType></GeocodePoint></Location></Resources></ResourceSet></ResourceSets></Response>","<?xml version=\"1.0\" encoding=\"utf-8\"?><Response xmlns:xsi=\"http://www.w3.org/2001/XMLSchema-instance\" xmlns:xsd=\"http://www.w3.org/2001/XMLSchema\" xmlns=\"http://schemas.microsoft.com/search/local/ws/rest/v1\"><Copyright>Copyright © 2024 Microsoft and its suppliers. All rights reserved. This API cannot be accessed and the content and any results may not be used, reproduced or transmitted in any manner without express written permission from Microsoft Corporation.</Copyright><BrandLogoUri>https://dev.virtualearth.net/Branding/logo_powered_by.png</BrandLogoUri><StatusCode>200</StatusCode><StatusDescription>OK</StatusDescription><AuthenticationResultCode>ValidCredentials</AuthenticationResultCode><TraceId>dcb477cc5039ba57be848b3e7e7af569</TraceId><ResourceSets><ResourceSet><EstimatedTotal>1</EstimatedTotal><Resources><Resource xsi:type=\"DistanceMatrix\"><Origins><Coordinate><Latitude>38.890548</Latitude><Longitude>-79.845938</Longitude></Coordinate></Origins><Destinations><Coordinate><Latitude>39.5219469</Latitude><Longitude>-79.7919957</Longitude></Coordinate></Destinations><Results><Distance><DepartureTime xsi:nil=\"true\" /><OriginIndex>0</OriginIndex><DestinationIndex>0</DestinationIndex><TravelDistance>94.784</TravelDistance><TravelDuration>82.2</TravelDuration><TotalWalkDuration>0</TotalWalkDuration></Distance></Results></Resource></Resources></ResourceSet></ResourceSets></Response>",58.896028864000002]
["Valley Stone Yard","360 Valley Rd., Millwood WV, 25262",38.889375999999999,-81.846476999999993,"<?xml version=\"1.0\" encoding=\"utf-8\"?><Response xmlns:xsd=\"http://www.w3.org/2001/XMLSchema\" xmlns:xsi=\"http://www.w3.org/2001/XMLSchema-instance\" xmlns=\"http://schemas.microsoft.com/search/local/ws/rest/v1\"><Copyright>Copyright © 2023 Microsoft and its suppliers. All rights reserved. This API cannot be accessed and the content and any results may not be used, reproduced or transmitted in any manner without express written permission from Microsoft Corporation.</Copyright><BrandLogoUri>https://dev.virtualearth.net/Branding/logo_powered_by.png</BrandLogoUri><StatusCode>200</StatusCode><StatusDescription>OK</StatusDescription><AuthenticationResultCode>ValidCredentials</AuthenticationResultCode><TraceId>17e628dd6e33465e9ecd47fae6167e09|BN00006C7B|0.0.0.1|Ref A: 3BF256A0DCCD45C0A1DD9872BBBA959D Ref B: BN3EDGE0406 Ref C: 2023-12-27T14:01:40Z</TraceId><ResourceSets><ResourceSet><EstimatedTotal>1</EstimatedTotal><Resources><Location><Name>360 Valley Rd, Millwood, WV 25262</Name><Point><Latitude>38.889376</Latitude><Longitude>-81.846477</Longitude></Point><BoundingBox><SouthLatitude>38.885513282429322</SouthLatitude><WestLongitude>-81.853093492216075</WestLongitude><NorthLatitude>38.893238717570675</NorthLatitude><EastLongitude>-81.839860507783911</EastLongitude></BoundingBox><EntityType>Address</EntityType><Address><AddressLine>360 Valley Rd</AddressLine><AdminDistrict>WV</AdminDistrict><AdminDistrict2>Jackson County</AdminDistrict2><CountryRegion>United States</CountryRegion><FormattedAddress>360 Valley Rd, Millwood, WV 25262</FormattedAddress><Locality>Millwood</Locality><PostalCode>25262</PostalCode></Address><Confidence>High</Confidence><MatchCode>Good</MatchCode><GeocodePoint><Latitude>38.889376</Latitude><Longitude>-81.846477</Longitude><CalculationMethod>Rooftop</CalculationMethod><UsageType>Display</UsageType></GeocodePoint><GeocodePoint><Latitude>38.8893531</Latitude><Longitude>-81.8464342</Longitude><CalculationMethod>Rooftop</CalculationMethod><UsageType>Route</UsageType></GeocodePoint></Location></Resources></ResourceSet></ResourceSets></Response>","<?xml version=\"1.0\" encoding=\"utf-8\"?><Response xmlns:xsi=\"http://www.w3.org/2001/XMLSchema-instance\" xmlns:xsd=\"http://www.w3.org/2001/XMLSchema\" xmlns=\"http://schemas.microsoft.com/search/local/ws/rest/v1\"><Copyright>Copyright © 2024 Microsoft and its suppliers. All rights reserved. This API cannot be accessed and the content and any results may not be used, reproduced or transmitted in any manner without express written permission from Microsoft Corporation.</Copyright><BrandLogoUri>https://dev.virtualearth.net/Branding/logo_powered_by.png</BrandLogoUri><StatusCode>200</StatusCode><StatusDescription>OK</StatusDescription><AuthenticationResultCode>ValidCredentials</AuthenticationResultCode><TraceId>858f6aa4f5aaf5822a5d0a7cc5a99ad9</TraceId><ResourceSets><ResourceSet><EstimatedTotal>1</EstimatedTotal><Resources><Resource xsi:type=\"DistanceMatrix\"><Origins><Coordinate><Latitude>38.890548</Latitude><Longitude>-79.845938</Longitude></Coordinate></Origins><Destinations><Coordinate><Latitude>38.889376</Latitude><Longitude>-81.846477</Longitude></Coordinate></Destinations><Results><Distance><DepartureTime xsi:nil=\"true\" /><OriginIndex>0</OriginIndex><DestinationIndex>0</DestinationIndex><TravelDistance>278.868</TravelDistance><TravelDuration>171.4667</TravelDuration><TotalWalkDuration>0</TotalWalkDuration></Distance></Results></Resource></Resources></ResourceSet></ResourceSets></Response>",173.28048802800001]
["West Virginia Paving, Inc","4022 Ohio River Rd., Huntington, WV 25702",38.431615000000001,-82.372170999999994,"<?xml version=\"1.0\" encoding=\"utf-8\"?><Response xmlns:xsd=\"http://www.w3.org/2001/XMLSchema\" xmlns:xsi=\"http://www.w3.org/2001/XMLSchema-instance\" xmlns=\"http://schemas.microsoft.com/search/local/ws/rest/v1\"><Copyright>Copyright © 2023 Microsoft and its suppliers. All rights reserved. This API cannot be accessed and the content and any results may not be used, reproduced or transmitted in any manner without express written permission from Microsoft Corporation.</Copyright><BrandLogoUri>https://dev.virtualearth.net/Branding/logo_powered_by.png</BrandLogoUri><StatusCode>200</StatusCode><StatusDescription>OK</StatusDescription><AuthenticationResultCode>ValidCredentials</AuthenticationResultCode><TraceId>dfb5a4cc152849a1a69488f78d88786c|BN00006C5F|0.0.0.1|Ref A: 7D7EBE0925A442C7822897F1BAB7F755 Ref B: BN3EDGE0306 Ref C: 2023-12-27T14:01:39Z</TraceId><ResourceSets><ResourceSet><EstimatedTotal>1</EstimatedTotal><Resources><Location><Name>4022 Ohio River Rd, Huntington, WV 25702</Name><Point><Latitude>38.431615</Latitude><Longitude>-82.372171</Longitude></Point><BoundingBox><SouthLatitude>38.427752282429324</SouthLatitude><WestLongitude>-82.378745341847761</WestLongitude><NorthLatitude>38.435477717570677</NorthLatitude><EastLongitude>-82.365596658152228</EastLongitude></BoundingBox><EntityType>Address</EntityType><Address><AddressLine>4022 Ohio River Rd</AddressLine><AdminDistrict>WV</AdminDistrict><AdminDistrict2>Cabell County</AdminDistrict2><CountryRegion>United States</CountryRegion><FormattedAddress>4022 Ohio River Rd, Huntington, WV 25702</FormattedAddress><Locality>Huntington</Locality><PostalCode>25702</PostalCode></Address><Confidence>High</Confidence><MatchCode>Good</MatchCode><GeocodePoint><Latitude>38.431615</Latitude><Longitude>-82.372171</Longitude><CalculationMethod>Rooftop</CalculationMethod><UsageType>Display</UsageType></GeocodePoint><GeocodePoint><Latitude>38.4309331</Latitude><Longitude>-82.3717745</Longitude><CalculationMethod>Rooftop</CalculationMethod><UsageType>Route</UsageType></GeocodePoint></Location></Resources></ResourceSet></ResourceSets></Response>","<?xml version=\"1.0\" encoding=\"utf-8\"?><Response xmlns:xsi=\"http://www.w3.org/2001/XMLSchema-instance\" xmlns:xsd=\"http://www.w3.org/2001/XMLSchema\" xmlns=\"http://schemas.microsoft.com/search/local/ws/rest/v1\"><Copyright>Copyright © 2024 Microsoft and its suppliers. All rights reserved. This API cannot be accessed and the content and any results may not be used, reproduced or transmitted in any manner without express written permission from Microsoft Corporation.</Copyright><BrandLogoUri>https://dev.virtualearth.net/Branding/logo_powered_by.png</BrandLogoUri><StatusCode>200</StatusCode><StatusDescription>OK</StatusDescription><AuthenticationResultCode>ValidCredentials</AuthenticationResultCode><TraceId>054a5c1dd4c8882fafec9f218799e425</TraceId><ResourceSets><ResourceSet><EstimatedTotal>1</EstimatedTotal><Resources><Resource xsi:type=\"DistanceMatrix\"><Origins><Coordinate><Latitude>38.890548</Latitude><Longitude>-79.845938</Longitude></Coordinate></Origins><Destinations><Coordinate><Latitude>38.431615</Latitude><Longitude>-82.372171</Longitude></Coordinate></Destinations><Results><Distance><DepartureTime xsi:nil=\"true\" /><OriginIndex>0</OriginIndex><DestinationIndex>0</DestinationIndex><TravelDistance>303.197</TravelDistance><TravelDuration>175.05</TravelDuration><TotalWalkDuration>0</TotalWalkDuration></Distance></Results></Resource></Resources></ResourceSet></ResourceSets></Response>",188.39782308700001]
["West Virginia Paving, Inc","Route 7 North, Gallipolis OH, 45631",38.83738305,-82.151459700000004,"<?xml version=\"1.0\" encoding=\"utf-8\"?><Response xmlns:xsd=\"http://www.w3.org/2001/XMLSchema\" xmlns:xsi=\"http://www.w3.org/2001/XMLSchema-instance\" xmlns=\"http://schemas.microsoft.com/search/local/ws/rest/v1\"><Copyright>Copyright © 2023 Microsoft and its suppliers. All rights reserved. This API cannot be accessed and the content and any results may not be used, reproduced or transmitted in any manner without express written permission from Microsoft Corporation.</Copyright><BrandLogoUri>https://dev.virtualearth.net/Branding/logo_powered_by.png</BrandLogoUri><StatusCode>200</StatusCode><StatusDescription>OK</StatusDescription><AuthenticationResultCode>ValidCredentials</AuthenticationResultCode><TraceId>7bbb9b3a9b524a7ca846e453fd2c417f|BN00006C48|0.0.0.1|Ref A: 78E485DC384E4F80A08E990BA5B57A1C Ref B: BN3EDGE0510 Ref C: 2023-12-27T14:01:39Z</TraceId><ResourceSets><ResourceSet><EstimatedTotal>1</EstimatedTotal><Resources><Location><Name>State Route 7 N, Gallipolis, OH 45631</Name><Point><Latitude>38.83738305</Latitude><Longitude>-82.1514597</Longitude></Point><BoundingBox><SouthLatitude>38.833520332445026</SouthLatitude><WestLongitude>-82.158071356324072</WestLongitude><NorthLatitude>38.841245767586379</NorthLatitude><EastLongitude>-82.144848043790134</EastLongitude></BoundingBox><EntityType>RoadBlock</EntityType><Address><AddressLine>State Route 7 N</AddressLine><AdminDistrict>OH</AdminDistrict><AdminDistrict2>Gallia County</AdminDistrict2><CountryRegion>United States</CountryRegion><FormattedAddress>State Route 7 N, Gallipolis, OH 45631</FormattedAddress><Locality>Gallipolis</Locality><PostalCode>45631</PostalCode></Address><Confidence>High</Confidence><MatchCode>Good</MatchCode><GeocodePoint><Latitude>38.83738305</Latitude><Longitude>-82.1514597</Longitude><CalculationMethod>Interpolation</CalculationMethod><UsageType>Display</UsageType></GeocodePoint></Location></Resources></ResourceSet></ResourceSets></Response>","<?xml version=\"1.0\" encoding=\"utf-8\"?><Response xmlns:xsi=\"http://www.w3.org/2001/XMLSchema-instance\" xmlns:xsd=\"http://www.w3.org/2001/XMLSchema\" xmlns=\"http://schemas.microsoft.com/search/local/ws/rest/v1\"><Copyright>Copyright © 2024 Microsoft and its suppliers. All rights reserved. This API cannot be accessed and the content and any results may not be used, reproduced or transmitted in any manner without express written permission from Microsoft Corporation.</Copyright><BrandLogoUri>https://dev.virtualearth.net/Branding/logo_powered_by.png</BrandLogoUri><StatusCode>200</StatusCode><StatusDescription>OK</StatusDescription><AuthenticationResultCode>ValidCredentials</AuthenticationResultCode><TraceId>7671447f14ba4e7ed05cc15030c8a56b</TraceId><ResourceSets><ResourceSet><EstimatedTotal>1</EstimatedTotal><Resources><Resource xsi:type=\"DistanceMatrix\"><Origins><Coordinate><Latitude>38.890548</Latitude><Longitude>-79.845938</Longitude></Coordinate></Origins><Destinations><Coordinate><Latitude>38.83738305</Latitude><Longitude>-82.1514597</Longitude></Coordinate></Destinations><Results><Distance><DepartureTime xsi:nil=\"true\" /><OriginIndex>0</OriginIndex><DestinationIndex>0</DestinationIndex><TravelDistance>311.71</TravelDistance><TravelDuration>178.5333</TravelDuration><TotalWalkDuration>0</TotalWalkDuration></Distance></Results></Resource></Resources></ResourceSet></ResourceSets></Response>",193.68755440999999]
["West Virginia Paving, Inc","US 119 Whitman Creek Rd., Whitman, WV 25652",37.844814999999997,-82.018376700000005,"<?xml version=\"1.0\" encoding=\"utf-8\"?><Response xmlns:xsd=\"http://www.w3.org/2001/XMLSchema\" xmlns:xsi=\"http://www.w3.org/2001/XMLSchema-instance\" xmlns=\"http://schemas.microsoft.com/search/local/ws/rest/v1\"><Copyright>Copyright © 2023 Microsoft and its suppliers. All rights reserved. This API cannot be accessed and the content and any results may not be used, reproduced or transmitted in any manner without express written permission from Microsoft Corporation.</Copyright><BrandLogoUri>https://dev.virtualearth.net/Branding/logo_powered_by.png</BrandLogoUri><StatusCode>200</StatusCode><StatusDescription>OK</StatusDescription><AuthenticationResultCode>ValidCredentials</AuthenticationResultCode><TraceId>1a0decd80cb74c23861ec89afe546aa4|BN00006C55|0.0.0.1|Ref A: 679A092A0EED440091EDE0947BF25F99 Ref B: BN3EDGE0607 Ref C: 2023-12-27T14:01:40Z</TraceId><ResourceSets><ResourceSet><EstimatedTotal>1</EstimatedTotal><Resources><Location><Name>119 Whitman Creek Rd, Rossmore, WV 25652</Name><Point><Latitude>37.844815</Latitude><Longitude>-82.0183767</Longitude></Point><BoundingBox><SouthLatitude>37.840952282429321</SouthLatitude><WestLongitude>-82.0248983930073</WestLongitude><NorthLatitude>37.848677717570673</NorthLatitude><EastLongitude>-82.0118550069927</EastLongitude></BoundingBox><EntityType>Address</EntityType><Address><AddressLine>119 Whitman Creek Rd</AddressLine><AdminDistrict>WV</AdminDistrict><AdminDistrict2>Logan County</AdminDistrict2><CountryRegion>United States</CountryRegion><FormattedAddress>119 Whitman Creek Rd, Rossmore, WV 25652</FormattedAddress><Locality>Rossmore</Locality><PostalCode>25652</PostalCode></Address><Confidence>High</Confidence><MatchCode>Good</MatchCode><GeocodePoint><Latitude>37.844815</Latitude><Longitude>-82.0183767</Longitude><CalculationMethod>Rooftop</CalculationMethod><UsageType>Display</UsageType></GeocodePoint><GeocodePoint><Latitude>37.8446823</Latitude><Longitude>-82.0183083</Longitude><CalculationMethod>Rooftop</CalculationMethod><UsageType>Route</UsageType></GeocodePoint></Location></Resources></ResourceSet></ResourceSets></Response>","<?xml version=\"1.0\" encoding=\"utf-8\"?><Response xmlns:xsi=\"http://www.w3.org/2001/XMLSchema-instance\" xmlns:xsd=\"http://www.w3.org/2001/XMLSchema\" xmlns=\"http://schemas.microsoft.com/search/local/ws/rest/v1\"><Copyright>Copyright © 2024 Microsoft and its suppliers. All rights reserved. This API cannot be accessed and the content and any results may not be used, reproduced or transmitted in any manner without express written permission from Microsoft Corporation.</Copyright><BrandLogoUri>https://dev.virtualearth.net/Branding/logo_powered_by.png</BrandLogoUri><StatusCode>200</StatusCode><StatusDescription>OK</StatusDescription><AuthenticationResultCode>ValidCredentials</AuthenticationResultCode><TraceId>1a0aa8e95c9814ddd97e91bba075ada9</TraceId><ResourceSets><ResourceSet><EstimatedTotal>1</EstimatedTotal><Resources><Resource xsi:type=\"DistanceMatrix\"><Origins><Coordinate><Latitude>38.890548</Latitude><Longitude>-79.845938</Longitude></Coordinate></Origins><Destinations><Coordinate><Latitude>37.844815</Latitude><Longitude>-82.0183767</Longitude></Coordinate></Destinations><Results><Distance><DepartureTime xsi:nil=\"true\" /><OriginIndex>0</OriginIndex><DestinationIndex>0</DestinationIndex><TravelDistance>317.138</TravelDistance><TravelDuration>192.1833</TravelDuration><TotalWalkDuration>0</TotalWalkDuration></Distance></Results></Resource></Resources></ResourceSet></ResourceSets></Response>",197.06035619799999]
["W-L Construction","508 Quarry Lane, Clearbrook, VA 22624",39.255853999999999,-78.085194999999999,"<?xml version=\"1.0\" encoding=\"utf-8\"?><Response xmlns:xsd=\"http://www.w3.org/2001/XMLSchema\" xmlns:xsi=\"http://www.w3.org/2001/XMLSchema-instance\" xmlns=\"http://schemas.microsoft.com/search/local/ws/rest/v1\"><Copyright>Copyright © 2023 Microsoft and its suppliers. All rights reserved. This API cannot be accessed and the content and any results may not be used, reproduced or transmitted in any manner without express written permission from Microsoft Corporation.</Copyright><BrandLogoUri>https://dev.virtualearth.net/Branding/logo_powered_by.png</BrandLogoUri><StatusCode>200</StatusCode><StatusDescription>OK</StatusDescription><AuthenticationResultCode>ValidCredentials</AuthenticationResultCode><TraceId>3c3e3f12e9014e4285d2a6c1217f6f8c|BN00006C5F|0.0.0.1|Ref A: B634FA97573A480CA04D87FF6879518D Ref B: BN3EDGE0519 Ref C: 2023-12-27T14:01:39Z</TraceId><ResourceSets><ResourceSet><EstimatedTotal>1</EstimatedTotal><Resources><Location><Name>508 Quarry Ln, Clear Brook, VA 22624</Name><Point><Latitude>39.255854</Latitude><Longitude>-78.085195</Longitude></Point><BoundingBox><SouthLatitude>39.251991282429323</SouthLatitude><WestLongitude>-78.091845936568049</WestLongitude><NorthLatitude>39.259716717570676</NorthLatitude><EastLongitude>-78.078544063431949</EastLongitude></BoundingBox><EntityType>Address</EntityType><Address><AddressLine>508 Quarry Ln</AddressLine><AdminDistrict>VA</AdminDistrict><AdminDistrict2>Frederick County</AdminDistrict2><CountryRegion>United States</CountryRegion><FormattedAddress>508 Quarry Ln, Clear Brook, VA 22624</FormattedAddress><Locality>Clear Brook</Locality><PostalCode>22624</PostalCode></Address><Confidence>High</Confidence><MatchCode>Good</MatchCode><GeocodePoint><Latitude>39.255854</Latitude><Longitude>-78.085195</Longitude><CalculationMethod>Rooftop</CalculationMethod><UsageType>Display</UsageType></GeocodePoint><GeocodePoint><Latitude>39.2560983</Latitude><Longitude>-78.0855255</Longitude><CalculationMethod>Rooftop</CalculationMethod><UsageType>Route</UsageType></GeocodePoint></Location></Resources></ResourceSet></ResourceSets></Response>","<?xml version=\"1.0\" encoding=\"utf-8\"?><Response xmlns:xsi=\"http://www.w3.org/2001/XMLSchema-instance\" xmlns:xsd=\"http://www.w3.org/2001/XMLSchema\" xmlns=\"http://schemas.microsoft.com/search/local/ws/rest/v1\"><Copyright>Copyright © 2024 Microsoft and its suppliers. All rights reserved. This API cannot be accessed and the content and any results may not be used, reproduced or transmitted in any manner without express written permission from Microsoft Corporation.</Copyright><BrandLogoUri>https://dev.virtualearth.net/Branding/logo_powered_by.png</BrandLogoUri><StatusCode>200</StatusCode><StatusDescription>OK</StatusDescription><AuthenticationResultCode>ValidCredentials</AuthenticationResultCode><TraceId>228cbdb609267a12a8a6675e8ab8ab0f</TraceId><ResourceSets><ResourceSet><EstimatedTotal>1</EstimatedTotal><Resources><Resource xsi:type=\"DistanceMatrix\"><Origins><Coordinate><Latitude>38.890548</Latitude><Longitude>-79.845938</Longitude></Coordinate></Origins><Destinations><Coordinate><Latitude>39.255854</Latitude><Longitude>-78.085195</Longitude></Coordinate></Destinations><Results><Distance><DepartureTime xsi:nil=\"true\" /><OriginIndex>0</OriginIndex><DestinationIndex>0</DestinationIndex><TravelDistance>219.595</TravelDistance><TravelDuration>173.7333</TravelDuration><TotalWalkDuration>0</TotalWalkDuration></Distance></Results></Resource></Resources></ResourceSet></ResourceSets></Response>",136.44996474499999]
["W-L Construction","1696 Oranda Road, Strasburg, VA",39.019513000000003,-78.329526000000001,"<?xml version=\"1.0\" encoding=\"utf-8\"?><Response xmlns:xsd=\"http://www.w3.org/2001/XMLSchema\" xmlns:xsi=\"http://www.w3.org/2001/XMLSchema-instance\" xmlns=\"http://schemas.microsoft.com/search/local/ws/rest/v1\"><Copyright>Copyright © 2023 Microsoft and its suppliers. All rights reserved. This API cannot be accessed and the content and any results may not be used, reproduced or transmitted in any manner without express written permission from Microsoft Corporation.</Copyright><BrandLogoUri>https://dev.virtualearth.net/Branding/logo_powered_by.png</BrandLogoUri><StatusCode>200</StatusCode><StatusDescription>OK</StatusDescription><AuthenticationResultCode>ValidCredentials</AuthenticationResultCode><TraceId>cdc41fdec4754966801ed7c923b93eba|BN00006C5F|0.0.0.1|Ref A: AF45FD972F0848A79AF0F050203A9F3C Ref B: BN3EDGE0618 Ref C: 2023-12-27T14:01:40Z</TraceId><ResourceSets><ResourceSet><EstimatedTotal>1</EstimatedTotal><Resources><Location><Name>1696 Oranda Rd, Strasburg, VA 22657</Name><Point><Latitude>39.019513</Latitude><Longitude>-78.329526</Longitude></Point><BoundingBox><SouthLatitude>39.015650282429327</SouthLatitude><WestLongitude>-78.336154651505367</WestLongitude><NorthLatitude>39.02337571757068</NorthLatitude><EastLongitude>-78.322897348494635</EastLongitude></BoundingBox><EntityType>Address</EntityType><Address><AddressLine>1696 Oranda Rd</AddressLine><AdminDistrict>VA</AdminDistrict><AdminDistrict2>Shenandoah County</AdminDistrict2><CountryRegion>United States</CountryRegion><FormattedAddress>1696 Oranda Rd, Strasburg, VA 22657</FormattedAddress><Locality>Strasburg</Locality><PostalCode>22657</PostalCode></Address><Confidence>High</Confidence><MatchCode>Good</MatchCode><GeocodePoint><Latitude>39.019513</Latitude><Longitude>-78.329526</Longitude><CalculationMethod>Rooftop</CalculationMethod><UsageType>Display</UsageType></GeocodePoint><GeocodePoint><Latitude>39.0196159</Latitude><Longitude>-78.3296959</Longitude><CalculationMethod>Rooftop</CalculationMethod><UsageType>Route</UsageType></GeocodePoint></Location></Resources></ResourceSet></ResourceSets></Response>","<?xml version=\"1.0\" encoding=\"utf-8\"?><Response xmlns:xsi=\"http://www.w3.org/2001/XMLSchema-instance\" xmlns:xsd=\"http://www.w3.org/2001/XMLSchema\" xmlns=\"http://schemas.microsoft.com/search/local/ws/rest/v1\"><Copyright>Copyright © 2024 Microsoft and its suppliers. All rights reserved. This API cannot be accessed and the content and any results may not be used, reproduced or transmitted in any manner without express written permission from Microsoft Corporation.</Copyright><BrandLogoUri>https://dev.virtualearth.net/Branding/logo_powered_by.png</BrandLogoUri><StatusCode>200</StatusCode><StatusDescription>OK</StatusDescription><AuthenticationResultCode>ValidCredentials</AuthenticationResultCode><TraceId>358355e986c206e14d85fce11efe7093</TraceId><ResourceSets><ResourceSet><EstimatedTotal>1</EstimatedTotal><Resources><Resource xsi:type=\"DistanceMatrix\"><Origins><Coordinate><Latitude>38.890548</Latitude><Longitude>-79.845938</Longitude></Coordinate></Origins><Destinations><Coordinate><Latitude>39.019513</Latitude><Longitude>-78.329526</Longitude></Coordinate></Destinations><Results><Distance><DepartureTime xsi:nil=\"true\" /><OriginIndex>0</OriginIndex><DestinationIndex>0</DestinationIndex><TravelDistance>190.231</TravelDistance><TravelDuration>153.8167</TravelDuration><TotalWalkDuration>0</TotalWalkDuration></Distance></Results></Resource></Resources></ResourceSet></ResourceSets></Response>",118.204026701]
["W-L Construction","9171 Winchester Ave., Inwood, WV 25248",39.341743999999998,-78.041234000000003,"<?xml version=\"1.0\" encoding=\"utf-8\"?><Response xmlns:xsd=\"http://www.w3.org/2001/XMLSchema\" xmlns:xsi=\"http://www.w3.org/2001/XMLSchema-instance\" xmlns=\"http://schemas.microsoft.com/search/local/ws/rest/v1\"><Copyright>Copyright © 2023 Microsoft and its suppliers. All rights reserved. This API cannot be accessed and the content and any results may not be used, reproduced or transmitted in any manner without express written permission from Microsoft Corporation.</Copyright><BrandLogoUri>https://dev.virtualearth.net/Branding/logo_powered_by.png</BrandLogoUri><StatusCode>200</StatusCode><StatusDescription>OK</StatusDescription><AuthenticationResultCode>ValidCredentials</AuthenticationResultCode><TraceId>77fcfaf6437a41f090283399111dc6ce|BN00006C30|0.0.0.1|Ref A: B678C5E567A947D1BFC5F0A180FBBAA0 Ref B: BN3EDGE1008 Ref C: 2023-12-27T14:01:40Z</TraceId><ResourceSets><ResourceSet><EstimatedTotal>1</EstimatedTotal><Resources><Location><Name>9171 Winchester Ave, Inwood, WV 25428</Name><Point><Latitude>39.341744</Latitude><Longitude>-78.041234</Longitude></Point><BoundingBox><SouthLatitude>39.337881282429322</SouthLatitude><WestLongitude>-78.047893100599467</WestLongitude><NorthLatitude>39.345606717570675</NorthLatitude><EastLongitude>-78.034574899400539</EastLongitude></BoundingBox><EntityType>Address</EntityType><Address><AddressLine>9171 Winchester Ave</AddressLine><AdminDistrict>WV</AdminDistrict><AdminDistrict2>Berkeley County</AdminDistrict2><CountryRegion>United States</CountryRegion><FormattedAddress>9171 Winchester Ave, Inwood, WV 25428</FormattedAddress><Locality>Inwood</Locality><PostalCode>25428</PostalCode></Address><Confidence>Medium</Confidence><MatchCode>Ambiguous</MatchCode><GeocodePoint><Latitude>39.341744</Latitude><Longitude>-78.041234</Longitude><CalculationMethod>Rooftop</CalculationMethod><UsageType>Display</UsageType></GeocodePoint><GeocodePoint><Latitude>39.3417717</Latitude><Longitude>-78.041417</Longitude><CalculationMethod>Rooftop</CalculationMethod><UsageType>Route</UsageType></GeocodePoint></Location></Resources></ResourceSet></ResourceSets></Response>","<?xml version=\"1.0\" encoding=\"utf-8\"?><Response xmlns:xsi=\"http://www.w3.org/2001/XMLSchema-instance\" xmlns:xsd=\"http://www.w3.org/2001/XMLSchema\" xmlns=\"http://schemas.microsoft.com/search/local/ws/rest/v1\"><Copyright>Copyright © 2024 Microsoft and its suppliers. All rights reserved. This API cannot be accessed and the content and any results may not be used, reproduced or transmitted in any manner without express written permission from Microsoft Corporation.</Copyright><BrandLogoUri>https://dev.virtualearth.net/Branding/logo_powered_by.png</BrandLogoUri><StatusCode>200</StatusCode><StatusDescription>OK</StatusDescription><AuthenticationResultCode>ValidCredentials</AuthenticationResultCode><TraceId>246ce0e73647743aa91c6e693947b274</TraceId><ResourceSets><ResourceSet><EstimatedTotal>1</EstimatedTotal><Resources><Resource xsi:type=\"DistanceMatrix\"><Origins><Coordinate><Latitude>38.890548</Latitude><Longitude>-79.845938</Longitude></Coordinate></Origins><Destinations><Coordinate><Latitude>39.341744</Latitude><Longitude>-78.041234</Longitude></Coordinate></Destinations><Results><Distance><DepartureTime xsi:nil=\"true\" /><OriginIndex>0</OriginIndex><DestinationIndex>0</DestinationIndex><TravelDistance>234.778</TravelDistance><TravelDuration>182.8833</TravelDuration><TotalWalkDuration>0</TotalWalkDuration></Distance></Results></Resource></Resources></ResourceSet></ResourceSets></Response>",145.88424063799999]
["W-L Construction","57 Blair Rd., Harpers Ferry, WV 25425",39.289485999999997,-77.791533000000001,"<?xml version=\"1.0\" encoding=\"utf-8\"?><Response xmlns:xsd=\"http://www.w3.org/2001/XMLSchema\" xmlns:xsi=\"http://www.w3.org/2001/XMLSchema-instance\" xmlns=\"http://schemas.microsoft.com/search/local/ws/rest/v1\"><Copyright>Copyright © 2023 Microsoft and its suppliers. All rights reserved. This API cannot be accessed and the content and any results may not be used, reproduced or transmitted in any manner without express written permission from Microsoft Corporation.</Copyright><BrandLogoUri>https://dev.virtualearth.net/Branding/logo_powered_by.png</BrandLogoUri><StatusCode>200</StatusCode><StatusDescription>OK</StatusDescription><AuthenticationResultCode>ValidCredentials</AuthenticationResultCode><TraceId>5625845485564fbdbdf1c372a6aca079|BN00006C41|0.0.0.1|Ref A: D8051F13A288401E840F80B91CDF97E0 Ref B: BN3EDGE0616 Ref C: 2023-12-27T14:01:40Z</TraceId><ResourceSets><ResourceSet><EstimatedTotal>1</EstimatedTotal><Resources><Location><Name>57 Blair Rd, Harpers Ferry, WV 25425</Name><Point><Latitude>39.289486</Latitude><Longitude>-77.791533</Longitude></Point><BoundingBox><SouthLatitude>39.28562328242932</SouthLatitude><WestLongitude>-77.798187129196023</WestLongitude><NorthLatitude>39.293348717570673</NorthLatitude><EastLongitude>-77.784878870803979</EastLongitude></BoundingBox><EntityType>Address</EntityType><Address><AddressLine>57 Blair Rd</AddressLine><AdminDistrict>WV</AdminDistrict><AdminDistrict2>Jefferson County</AdminDistrict2><CountryRegion>United States</CountryRegion><FormattedAddress>57 Blair Rd, Harpers Ferry, WV 25425</FormattedAddress><Locality>Harpers Ferry</Locality><PostalCode>25425</PostalCode></Address><Confidence>High</Confidence><MatchCode>Good</MatchCode><GeocodePoint><Latitude>39.289486</Latitude><Longitude>-77.791533</Longitude><CalculationMethod>Rooftop</CalculationMethod><UsageType>Display</UsageType></GeocodePoint><GeocodePoint><Latitude>39.2895014</Latitude><Longitude>-77.7915789</Longitude><CalculationMethod>Rooftop</CalculationMethod><UsageType>Route</UsageType></GeocodePoint></Location></Resources></ResourceSet></ResourceSets></Response>","<?xml version=\"1.0\" encoding=\"utf-8\"?><Response xmlns:xsi=\"http://www.w3.org/2001/XMLSchema-instance\" xmlns:xsd=\"http://www.w3.org/2001/XMLSchema\" xmlns=\"http://schemas.microsoft.com/search/local/ws/rest/v1\"><Copyright>Copyright © 2024 Microsoft and its suppliers. All rights reserved. This API cannot be accessed and the content and any results may not be used, reproduced or transmitted in any manner without express written permission from Microsoft Corporation.</Copyright><BrandLogoUri>https://dev.virtualearth.net/Branding/logo_powered_by.png</BrandLogoUri><StatusCode>200</StatusCode><StatusDescription>OK</StatusDescription><AuthenticationResultCode>ValidCredentials</AuthenticationResultCode><TraceId>a920f1313d6136cb6ceba34651756c1c</TraceId><ResourceSets><ResourceSet><EstimatedTotal>1</EstimatedTotal><Resources><Resource xsi:type=\"DistanceMatrix\"><Origins><Coordinate><Latitude>38.890548</Latitude><Longitude>-79.845938</Longitude></Coordinate></Origins><Destinations><Coordinate><Latitude>39.289486</Latitude><Longitude>-77.791533</Longitude></Coordinate></Destinations><Results><Distance><DepartureTime xsi:nil=\"true\" /><OriginIndex>0</OriginIndex><DestinationIndex>0</DestinationIndex><TravelDistance>259.737</TravelDistance><TravelDuration>202.05</TravelDuration><TotalWalkDuration>0</TotalWalkDuration></Distance></Results></Resource></Resources></ResourceSet></ResourceSets></Response>",161.39303942700002]
["Yeager Materials","4260 Freedom Way, Weirton, WV 26062",40.388728800000003,-80.599987200000001,"<?xml version=\"1.0\" encoding=\"utf-8\"?><Response xmlns:xsd=\"http://www.w3.org/2001/XMLSchema\" xmlns:xsi=\"http://www.w3.org/2001/XMLSchema-instance\" xmlns=\"http://schemas.microsoft.com/search/local/ws/rest/v1\"><Copyright>Copyright © 2023 Microsoft and its suppliers. All rights reserved. This API cannot be accessed and the content and any results may not be used, reproduced or transmitted in any manner without express written permission from Microsoft Corporation.</Copyright><BrandLogoUri>https://dev.virtualearth.net/Branding/logo_powered_by.png</BrandLogoUri><StatusCode>200</StatusCode><StatusDescription>OK</StatusDescription><AuthenticationResultCode>ValidCredentials</AuthenticationResultCode><TraceId>ab96c03322ac4ae38af9e9a96204e96e|BN00006C79|0.0.0.1|Ref A: 9A7EF6AA7A8B47B6AE888D341B650054 Ref B: BN3EDGE1012 Ref C: 2023-12-27T14:01:40Z</TraceId><ResourceSets><ResourceSet><EstimatedTotal>1</EstimatedTotal><Resources><Location><Name>4260 Freedom Way, Weirton, WV 26062</Name><Point><Latitude>40.3887288</Latitude><Longitude>-80.5999872</Longitude></Point><BoundingBox><SouthLatitude>40.384866082429326</SouthLatitude><WestLongitude>-80.606748688839772</WestLongitude><NorthLatitude>40.392591517570679</NorthLatitude><EastLongitude>-80.59322571116023</EastLongitude></BoundingBox><EntityType>Address</EntityType><Address><AddressLine>4260 Freedom Way</AddressLine><AdminDistrict>WV</AdminDistrict><AdminDistrict2>Hancock County</AdminDistrict2><CountryRegion>United States</CountryRegion><FormattedAddress>4260 Freedom Way, Weirton, WV 26062</FormattedAddress><Locality>Weirton</Locality><PostalCode>26062</PostalCode></Address><Confidence>High</Confidence><MatchCode>Good</MatchCode><GeocodePoint><Latitude>40.3887288</Latitude><Longitude>-80.5999872</Longitude><CalculationMethod>Rooftop</CalculationMethod><UsageType>Display</UsageType></GeocodePoint><GeocodePoint><Latitude>40.3895425</Latitude><Longitude>-80.6006314</Longitude><CalculationMethod>Rooftop</CalculationMethod><UsageType>Route</UsageType></GeocodePoint></Location></Resources></ResourceSet></ResourceSets></Response>","<?xml version=\"1.0\" encoding=\"utf-8\"?><Response xmlns:xsi=\"http://www.w3.org/2001/XMLSchema-instance\" xmlns:xsd=\"http://www.w3.org/2001/XMLSchema\" xmlns=\"http://schemas.microsoft.com/search/local/ws/rest/v1\"><Copyright>Copyright © 2024 Microsoft and its suppliers. All rights reserved. This API cannot be accessed and the content and any results may not be used, reproduced or transmitted in any manner without express written permission from Microsoft Corporation.</Copyright><BrandLogoUri>https://dev.virtualearth.net/Branding/logo_powered_by.png</BrandLogoUri><StatusCode>200</StatusCode><StatusDescription>OK</StatusDescription><AuthenticationResultCode>ValidCredentials</AuthenticationResultCode><TraceId>ca876c84384dcaa4f581a5702c079bfc</TraceId><ResourceSets><ResourceSet><EstimatedTotal>1</EstimatedTotal><Resources><Resource xsi:type=\"DistanceMatrix\"><Origins><Coordinate><Latitude>38.890548</Latitude><Longitude>-79.845938</Longitude></Coordinate></Origins><Destinations><Coordinate><Latitude>40.3887288</Latitude><Longitude>-80.5999872</Longitude></Coordinate></Destinations><Results><Distance><DepartureTime xsi:nil=\"true\" /><OriginIndex>0</OriginIndex><DestinationIndex>0</DestinationIndex><TravelDistance>290.447</TravelDistance><TravelDuration>168.2</TravelDuration><TotalWalkDuration>0</TotalWalkDuration></Distance></Results></Resource></Resources></ResourceSet></ResourceSets></Response>",180.475342837]
["Yeager Materials","1 Industrial Park Dr., Benwood, WV 26031",39.994008999999998,-80.734493999999998,"<?xml version=\"1.0\" encoding=\"utf-8\"?><Response xmlns:xsd=\"http://www.w3.org/2001/XMLSchema\" xmlns:xsi=\"http://www.w3.org/2001/XMLSchema-instance\" xmlns=\"http://schemas.microsoft.com/search/local/ws/rest/v1\"><Copyright>Copyright © 2023 Microsoft and its suppliers. All rights reserved. This API cannot be accessed and the content and any results may not be used, reproduced or transmitted in any manner without express written permission from Microsoft Corporation.</Copyright><BrandLogoUri>https://dev.virtualearth.net/Branding/logo_powered_by.png</BrandLogoUri><StatusCode>200</StatusCode><StatusDescription>OK</StatusDescription><AuthenticationResultCode>ValidCredentials</AuthenticationResultCode><TraceId>0f751397f3ae41b1a93c79e8ee1ded70|BN00006C30|0.0.0.1|Ref A: 5E4123BE636543AEA067B47CA5CECEB0 Ref B: BN3EDGE1008 Ref C: 2023-12-27T14:01:39Z</TraceId><ResourceSets><ResourceSet><EstimatedTotal>1</EstimatedTotal><Resources><Location><Name>1 Industrial Park Rd, Benwood, WV 26031</Name><Point><Latitude>39.994009</Latitude><Longitude>-80.734494</Longitude></Point><BoundingBox><SouthLatitude>39.990146282429322</SouthLatitude><WestLongitude>-80.741216256264238</WestLongitude><NorthLatitude>39.997871717570675</NorthLatitude><EastLongitude>-80.727771743735758</EastLongitude></BoundingBox><EntityType>Address</EntityType><Address><AddressLine>1 Industrial Park Rd</AddressLine><AdminDistrict>WV</AdminDistrict><AdminDistrict2>Marshall County</AdminDistrict2><CountryRegion>United States</CountryRegion><FormattedAddress>1 Industrial Park Rd, Benwood, WV 26031</FormattedAddress><Locality>Benwood</Locality><PostalCode>26031</PostalCode></Address><Confidence>High</Confidence><MatchCode>Good</MatchCode><GeocodePoint><Latitude>39.994009</Latitude><Longitude>-80.734494</Longitude><CalculationMethod>Rooftop</CalculationMethod><UsageType>Display</UsageType></GeocodePoint><GeocodePoint><Latitude>39.9938548</Latitude><Longitude>-80.7343514</Longitude><CalculationMethod>Rooftop</CalculationMethod><UsageType>Route</UsageType></GeocodePoint></Location></Resources></ResourceSet></ResourceSets></Response>","<?xml version=\"1.0\" encoding=\"utf-8\"?><Response xmlns:xsi=\"http://www.w3.org/2001/XMLSchema-instance\" xmlns:xsd=\"http://www.w3.org/2001/XMLSchema\" xmlns=\"http://schemas.microsoft.com/search/local/ws/rest/v1\"><Copyright>Copyright © 2024 Microsoft and its suppliers. All rights reserved. This API cannot be accessed and the content and any results may not be used, reproduced or transmitted in any manner without express written permission from Microsoft Corporation.</Copyright><BrandLogoUri>https://dev.virtualearth.net/Branding/logo_powered_by.png</BrandLogoUri><StatusCode>200</StatusCode><StatusDescription>OK</StatusDescription><AuthenticationResultCode>ValidCredentials</AuthenticationResultCode><TraceId>ca25fdd9abebddcd9ad0e126d0dfbd14</TraceId><ResourceSets><ResourceSet><EstimatedTotal>1</EstimatedTotal><Resources><Resource xsi:type=\"DistanceMatrix\"><Origins><Coordinate><Latitude>38.890548</Latitude><Longitude>-79.845938</Longitude></Coordinate></Origins><Destinations><Coordinate><Latitude>39.994009</Latitude><Longitude>-80.734494</Longitude></Coordinate></Destinations><Results><Distance><DepartureTime xsi:nil=\"true\" /><OriginIndex>0</OriginIndex><DestinationIndex>0</DestinationIndex><TravelDistance>279.296</TravelDistance><TravelDuration>162.1</TravelDuration><TotalWalkDuration>0</TotalWalkDuration></Distance></Results></Resource></Resources></ResourceSet></ResourceSets></Response>",173.54643481599999]
["Yeager Materials","1601 Layfayette Ave., Moundsville, WV 26041",39.908026,-80.753407999999993,"<?xml version=\"1.0\" encoding=\"utf-8\"?><Response xmlns:xsd=\"http://www.w3.org/2001/XMLSchema\" xmlns:xsi=\"http://www.w3.org/2001/XMLSchema-instance\" xmlns=\"http://schemas.microsoft.com/search/local/ws/rest/v1\"><Copyright>Copyright © 2023 Microsoft and its suppliers. All rights reserved. This API cannot be accessed and the content and any results may not be used, reproduced or transmitted in any manner without express written permission from Microsoft Corporation.</Copyright><BrandLogoUri>https://dev.virtualearth.net/Branding/logo_powered_by.png</BrandLogoUri><StatusCode>200</StatusCode><StatusDescription>OK</StatusDescription><AuthenticationResultCode>ValidCredentials</AuthenticationResultCode><TraceId>5cc226a1369444dbb37e02c4045fc2d5|BN00006C5F|0.0.0.1|Ref A: BCB985D894014F3FBA85ED1981BAACC6 Ref B: BN3EDGE0509 Ref C: 2023-12-27T14:01:39Z</TraceId><ResourceSets><ResourceSet><EstimatedTotal>1</EstimatedTotal><Resources><Location><Name>1601 Lafayette Ave, Moundsville, WV 26041</Name><Point><Latitude>39.908026</Latitude><Longitude>-80.753408</Longitude></Point><BoundingBox><SouthLatitude>39.904163282429323</SouthLatitude><WestLongitude>-80.760121812576017</WestLongitude><NorthLatitude>39.911888717570676</NorthLatitude><EastLongitude>-80.746694187423969</EastLongitude></BoundingBox><EntityType>Address</EntityType><Address><AddressLine>1601 Lafayette Ave</AddressLine><AdminDistrict>WV</AdminDistrict><AdminDistrict2>Marshall County</AdminDistrict2><CountryRegion>United States</CountryRegion><FormattedAddress>1601 Lafayette Ave, Moundsville, WV 26041</FormattedAddress><Locality>Moundsville</Locality><PostalCode>26041</PostalCode></Address><Confidence>High</Confidence><MatchCode>Good</MatchCode><GeocodePoint><Latitude>39.908026</Latitude><Longitude>-80.753408</Longitude><CalculationMethod>Rooftop</CalculationMethod><UsageType>Display</UsageType></GeocodePoint><GeocodePoint><Latitude>39.9075383</Latitude><Longitude>-80.7530457</Longitude><CalculationMethod>Rooftop</CalculationMethod><UsageType>Route</UsageType></GeocodePoint></Location></Resources></ResourceSet></ResourceSets></Response>","<?xml version=\"1.0\" encoding=\"utf-8\"?><Response xmlns:xsi=\"http://www.w3.org/2001/XMLSchema-instance\" xmlns:xsd=\"http://www.w3.org/2001/XMLSchema\" xmlns=\"http://schemas.microsoft.com/search/local/ws/rest/v1\"><Copyright>Copyright © 2024 Microsoft and its suppliers. All rights reserved. This API cannot be accessed and the content and any results may not be used, reproduced or transmitted in any manner without express written permission from Microsoft Corporation.</Copyright><BrandLogoUri>https://dev.virtualearth.net/Branding/logo_powered_by.png</BrandLogoUri><StatusCode>200</StatusCode><StatusDescription>OK</StatusDescription><AuthenticationResultCode>ValidCredentials</AuthenticationResultCode><TraceId>f530d9f8c88f0ed99667834901fab0c1</TraceId><ResourceSets><ResourceSet><EstimatedTotal>1</EstimatedTotal><Resources><Resource xsi:type=\"DistanceMatrix\"><Origins><Coordinate><Latitude>38.890548</Latitude><Longitude>-79.845938</Longitude></Coordinate></Origins><Destinations><Coordinate><Latitude>39.908026</Latitude><Longitude>-80.753408</Longitude></Coordinate></Destinations><Results><Distance><DepartureTime xsi:nil=\"true\" /><OriginIndex>0</OriginIndex><DestinationIndex>0</DestinationIndex><TravelDistance>292.516</TravelDistance><TravelDuration>171.65</TravelDuration><TotalWalkDuration>0</TotalWalkDuration></Distance></Results></Resource></Resources></ResourceSet></ResourceSets></Response>",181.76095943600001]
["US Silica ","2496 Hancoc Rd., Berkeley Springs, WV 25411",39.545765660000001,-78.200828909999998,"<?xml version=\"1.0\" encoding=\"utf-8\"?><Response xmlns:xsd=\"http://www.w3.org/2001/XMLSchema\" xmlns:xsi=\"http://www.w3.org/2001/XMLSchema-instance\" xmlns=\"http://schemas.microsoft.com/search/local/ws/rest/v1\"><Copyright>Copyright © 2023 Microsoft and its suppliers. All rights reserved. This API cannot be accessed and the content and any results may not be used, reproduced or transmitted in any manner without express written permission from Microsoft Corporation.</Copyright><BrandLogoUri>https://dev.virtualearth.net/Branding/logo_powered_by.png</BrandLogoUri><StatusCode>200</StatusCode><StatusDescription>OK</StatusDescription><AuthenticationResultCode>ValidCredentials</AuthenticationResultCode><TraceId>bd65d8d2245d4959978e7b83ec8ab58c|BN00006C3B|0.0.0.1|Ref A: C73421B5B311486F93B406F2EBBEF0EA Ref B: BN3EDGE0521 Ref C: 2023-12-27T14:01:40Z</TraceId><ResourceSets><ResourceSet><EstimatedTotal>1</EstimatedTotal><Resources><Location><Name>2496 Spriggs Rd, Johnsons Mill, WV 25411</Name><Point><Latitude>39.54576566</Latitude><Longitude>-78.20082891</Longitude></Point><BoundingBox><SouthLatitude>39.541902941796394</SouthLatitude><WestLongitude>-78.207507544113469</WestLongitude><NorthLatitude>39.549628376937747</NorthLatitude><EastLongitude>-78.194150275723473</EastLongitude></BoundingBox><EntityType>Address</EntityType><Address><AddressLine>2496 Spriggs Rd</AddressLine><AdminDistrict>WV</AdminDistrict><AdminDistrict2>Morgan County</AdminDistrict2><CountryRegion>United States</CountryRegion><FormattedAddress>2496 Spriggs Rd, Johnsons Mill, WV 25411</FormattedAddress><Locality>Johnsons Mill</Locality><PostalCode>25411</PostalCode></Address><Confidence>Low</Confidence><MatchCode>Good</MatchCode><GeocodePoint><Latitude>39.54576566</Latitude><Longitude>-78.20082891</Longitude><CalculationMethod>InterpolationOffset</CalculationMethod><UsageType>Display</UsageType></GeocodePoint><GeocodePoint><Latitude>39.54579641</Latitude><Longitude>-78.20087146</Longitude><CalculationMethod>Interpolation</CalculationMethod><UsageType>Route</UsageType></GeocodePoint></Location></Resources></ResourceSet></ResourceSets></Response>","<?xml version=\"1.0\" encoding=\"utf-8\"?><Response xmlns:xsi=\"http://www.w3.org/2001/XMLSchema-instance\" xmlns:xsd=\"http://www.w3.org/2001/XMLSchema\" xmlns=\"http://schemas.microsoft.com/search/local/ws/rest/v1\"><Copyright>Copyright © 2024 Microsoft and its suppliers. All rights reserved. This API cannot be accessed and the content and any results may not be used, reproduced or transmitted in any manner without express written permission from Microsoft Corporation.</Copyright><BrandLogoUri>https://dev.virtualearth.net/Branding/logo_powered_by.png</BrandLogoUri><StatusCode>200</StatusCode><StatusDescription>OK</StatusDescription><AuthenticationResultCode>ValidCredentials</AuthenticationResultCode><TraceId>d0945b9df7b99b6abf1c528ee1bbd424</TraceId><ResourceSets><ResourceSet><EstimatedTotal>1</EstimatedTotal><Resources><Resource xsi:type=\"DistanceMatrix\"><Origins><Coordinate><Latitude>38.890548</Latitude><Longitude>-79.845938</Longitude></Coordinate></Origins><Destinations><Coordinate><Latitude>39.54576566</Latitude><Longitude>-78.20082891</Longitude></Coordinate></Destinations><Results><Distance><DepartureTime xsi:nil=\"true\" /><OriginIndex>0</OriginIndex><DestinationIndex>0</DestinationIndex><TravelDistance>239.621</TravelDistance><TravelDuration>190.6333</TravelDuration><TotalWalkDuration>0</TotalWalkDuration></Distance></Results></Resource></Resources></ResourceSet></ResourceSets></Response>",148.89354039100002]

{"sheet":"Order Details","index":5,"n_rows":59,"n_cols":16,"rows_kept":59,"cut":false,"hidden":false,"merged":[[11,1,11,5]]}
["HOT-LAID BITUMINOUS CONCRETE PROJECT COST"]
[null,"County",null,"District",null,null,null,null,null,null,null,null,"Estimated Asphalt Quantities",null,null,"Unit(s)"]
[null,"Fayette",null,{"$f":"VLOOKUP(B3,tables!A2:C56,3,0)","v":"09"},null,null,null,null,null,null,null,null,"HMA Required for Pavement",null,{"$f":"E24*B26*110/2000","v":3097.6},"TONS"]
[null,{"$f":"VLOOKUP(B3,tables!A2:B56,2,0)","v":10},null,null,null,null,null,null,null,null,null,null,"HMA Required for Shoulders",null,{"$f":"E28*B30*110/2000","v":580.79999999999995},"TONS"]
[]
["Sign","Interstate",null,"BMP",81,null,null,"Item","Description","Quantity","Unit(s)",null,"Item","Description","Quantity","Unit(s)"]
["Route",79,null,"EMP",90,null,null,1,"Asphalt Section 401 - Base I",null,"TON",null,48,"Additional Heel-In Joints",null,"LF"]
["Subroute",0,null,"Latitude",38.890548000000003,null,null,2,"Asphalt Section 401 - 25mm Superpave",null,"TON",null,49,"Skip Paving Surcharge",null,"TON"]
["Supplemental Designation","00",null,"Longitude",-79.845938000000004,null,null,3,"Asphalt Section 401 - Base II",null,"TON",null,50,"Pavement Profiling/Milling-WVDOH Owns Millings 0 to 250 ",null,"SY"]
["Designation",null,null,null,null,null,null,4,"Asphalt Section 401 - Patch and Level",null,"TON",null,51,"Pavement Profiling/Milling-WVDOH Owns Millings 251 to 500 ",null,"SY"]
[null,null,null,null,null,null,null,5,"Asphalt Section 401 - Wearing IV",null,"TON",null,52,"Pavement Profiling/Milling-WVDOH Owns Millings 501 to 1000 ",null,"SY"]
["Route ID Builder Link: ","https://gis.transportation.wv.gov/routeidbuilder/",null,null,null,null,null,6,"Asphalt Section 402 - Wearing IV",null,"TON",null,53,"Pavement Profiling/Milling-WVDOH Owns Millings 1001 to 2500 ",null,"SY"]
["GIS Route ID",123456789123,null,null,null,null,null,7,"Asphalt Section 401 - 19mm Superpave",null,"TON",null,54,"Pavement Profiling/Milling-WVDOH Owns Millings 2501 to 5000 ",null,"SY"]
["Begin","start",null,null,null,null,null,8,"Asphalt Section 401 - Scratch Course",null,"TON",null,55,"Pavement Profiling/Milling-WVDOH Owns Millings 5001+ ",null,"SY"]
["End","end",null,null,null,null,null,9,"Asphalt Section 402 - 9.5mm Superpave",null,"TON",null,56,"Pavement Profiling/Milling-Vendor Owns Millings 0 to 250 ",null,"SY"]
["Project Location","Rt. 33 Kelly Mountain Rd., Elkins, WV 26241",null,null,null,null,null,10,"Asphalt Section 401 - Wearing 1",null,"TON",null,57,"Pavement Profiling/Milling-Vendor Owns Millings 251 to 500 ",null,"SY"]
["Project Type","pave",null,null,null,null,null,11,"Asphalt Section 402 - Wearing 1",null,"TON",null,58,"Pavement Profiling/Milling-Vendor Owns Millings 501 to 1000 ",null,"SY"]
["Project Description","paving roads",null,null,null,null,null,12,"Asphalt Section 401 - 4.75mm Superpave",null,"TON",null,59,"Pavement Profiling/Milling-Vendor Owns Millings 1001 to 2500 ",null,"SY"]
["Agency Release No.:",12345,null,null,null,null,null,13,"Asphalt Section 402 - 4.75mm Superpave",null,"TON",null,60,"Pavement Profiling/Milling-Vendor Owns Millings 2501 to 5000 ",null,"SY"]
["Project #",111111111,null,null,null,null,null,14,"Asphalt Section 401 - Wearing III",null,"TON",null,61,"Pavement Profiling/Milling-Vendor Owns Millings 5001+  ",null,"SY"]
["Authorization #",22222222,null,null,null,null,null,15,"Asphalt Section 402 - Wearing III",null,"TON",null,62,"Mobilization - Pavement Profiling/Milling ",null,"LUMP SUM"]
[null,null,null,null,null,null,null,16,"Asphalt Section 401 - 12.5mm Superpave",null,"TON",null,65,"Pavement Repair - Asphalt Base II",null,"TON"]
["Paving",null,null,null,"Area",null,null,17,"Asphalt Section 402 - 12.5mm Superpave",null,"TON",null,66,"Asphalt HPTO - SP496 - PG 64E-22 ordered 400 Ton increments",null,"TON"]
["Length",2,"Miles",">>>>>>>>",{"$f":"B24*1760*B25/3","v":14080},"Square Yards",null,18,"Shoulder Stone Placement for Asphalt Section 307 - Class 10",null,"TON",null,67,"Non-Tracking Tack - to be used with #65",null,"GAL"]
["Average Width",12,"Feet",null,{"$f":"B27*B24","v":4},"Lane Miles",null,19,"Shoulder Stone Mobilization ",null,"LUMP SUM",null,68,"Lay Down of Materials - to be used with #65 - 400+ ",null,"TON"]
["Average Thickness",4,"Inches",null,null,null,null,22,"Surcharge for PG Binder 58-28S",null,"TON",null,69,"Ultra-Thin Asphalt Overlay - SP498",null,"TON"]
["Lanes",2,null,null,"Area",null,null,23,"Surcharge for PG Binder - 64H - 22",null,"TON",null,70,"Fine Milling -WVDOH Owns Millings 0 to 250 ",null,"SY"]
["Shoulder Excavation Depth",4,"Inches",">>>>>>>",{"$f":"B24*1760*B29/3","v":3520},"Square Yards",null,24,"Surcharge for PG Binder 64E - 22 ordered in 400 Ton increments",null,"TON",null,71,"Fine Milling -WVDOH Owns Millings 251 to 500 ",null,"SY"]
["Avg Shoulder Width",3,"Feet",null,null,null,null,25,"ESAL Surcharge - 3 million to 20 million ESALs ",null,"TON",null,72,"Fine Milling -WVDOH Owns Millings 501 to 1000 ",null,"SY"]
["Avg Shoulder Thickness",3,"Inches",null,null,null,null,26,"ESAL Surcharge - Greater than 20 million ESALs ",null,"TON",null,73,"Fine Milling -WVDOH Owns Millings 1001 to 2500 ",null,"SY"]
[null,{"$f":"(EVEN(B28))/2","v":2},null,null,null,null,null,29,"Laydown of Materials. Items #1-17 and #67, Each Site 0-100",null,"TON",null,74,"Fine Milling -WVDOH Owns Millings 2501 to 5000 ",null,"SY"]
["Milling",{"$f":"(EVEN(B33))/2","v":2},null,null,"Millings Owned",null,null,30,"Laydown of Materials. Items #1-17 and #67, Each Site 101 to 200 ",null,"TON",null,75,"Fine Milling -WVDOH Owns Millings 5001+ ",null,"SY"]
["Average Thickness",4,"Inches",null,"VENDOR","WVDOH",null,31,"Laydown of Materials. Items #1-17 and #67, Each Site 201 to 500 ",null,"TON",null,76,"Fine Milling- Vendor Owns Millings 0 to 250 ",null,"SY"]
["Density",165,"lb/yd^2/in",null,"Yes","No",null,32,"Laydown of Materials. Items #1-17 and #67, Each Site 501+ ",null,"TON",null,77,"Fine Milling- Vendor Owns Millings 251 to 500 ",null,"SY"]
["Tons",{"$f":"IF(AND(E34=\"Yes\",F34=\"No\"),(B33*B34*(SUM(Vendownmill)/2000)),IF(AND(F34=\"Yes\",E34=\"No\"),(B33*B34*(SUM(WVownmill)/2000)),\"Error\"))","v":0},null,null,null,null,null,33,"Mobilization - Daytime Paving ",null,"LUMP SUM",null,78,"Fine Milling- Vendor Owns Millings 501 to 1000 ",null,"SY"]
[null,null,null,null,null,null,null,34,"Mobilization - Nighttime Paving ",null,"LUMP SUM",null,79,"Fine Milling- Vendor Owns Millings 1001 to 2500 ",null,"SY"]
[null,null,null,null,null,null,null,35,"Excavation for Shoulder Paving - 0 to 1000 ",null,"SY",null,80,"Fine Milling- Vendor Owns Millings 2501 to 5000 ",null,"SY"]
[null,null,null,null,null,null,null,36,"Excavation for Shoulder Paving - 1001 to 2000 ",null,"SY",null,81,"Fine Milling- Vendor Owns Millings 5001+ ",null,"SY"]
[null,null,null,null,null,null,null,37,"Excavation for Shoulder Paving - 2001 to 3000 ",null,"SY",null,82,"Milled Rumble Strips",null,"LF"]
[null,null,null,null,null,null,null,38,"Excavation for Shoulder Paving - 3001+ ",null,"SY",null,83,"Mobilization - Milled Rumble Strips ",null,"LUMP SUM"]
[null,null,null,null,null,null,null,39,"Asphalt Base I Shoulder Paving Surcharge - 0 to 100 ",null,"TON",null,84,"Surcharge for Parking Lot and Facility Paving ",null,"TON"]
[null,null,null,null,null,null,null,40,"Asphalt Base I Shoulder Paving Surcharge - 101 to 200 ",null,"TON",null,85,"Cleaning and Sweeping",null,"SY"]
[null,null,null,null,null,null,null,41,"Asphalt Base I Shoulder Paving Surcharge - 201 to 500 ",null,"TON",null,86,"Maintaining Traffic - Pilot Truck and Driver",null,"DAY"]
[null,null,null,null,null,null,null,42,"Asphalt Base I Shoulder Paving Surcharge - 501+ ",null,"TON",null,87,"Maintaining Traffic - Traffic Control Devices",null,"UNIT"]
[null,null,null,null,null,null,null,43,"Asphalt Base II Shoulder Paving Surcharge - 0 to 100 ",null,"TON",null,88,"Maintaining Traffic - Flagger",null,"HOUR"]
[null,null,null,null,null,null,null,44,"Asphalt Base II Shoulder Paving Surcharge - 101 to 200 ",null,"TON",null,89,"Maintaining Traffic - Arrow Board",null,"DAY"]
[null,null,null,null,null,null,null,45,"Asphalt Base II Shoulder Paving Surcharge - 201 to 500 ",null,"TON",null,90,"Off-Season Plant Opening - First Day",null,"DAY"]
[null,null,null,null,null,null,null,46,"Asphalt Base II Shoulder Paving Surcharge - 501+ ",null,"TON",null,91,"Off-Season Plant Opening - Each Additional Day",null,"DAY"]
[null,null,null,null,null,null,null,47,"Asphalt Material for Tack Coat or Prime Material",null,"GAL",null,92,"Raised Pavement Marker (RPM), Type P-2 with Installation",null,"EACH"]
[null,null,null,null,null,null,null,null,null,null,null,null,93,"Raised Pavement Marker (RPM), Type R-4 with Installation",null,"EACH"]
[null,null,null,null,null,null,null,null,null,null,null,null,94,"Mobilization - RPM Installation",null,"LUMP SUM"]
[null,null,null,null,null,null,null,null,null,null,null,null,95,"Raised Pavement Marker (RPM) Removal",null,"EACH"]
[null,null,null,null,null,null,null,null,null,null,null,null,96,"Mobilization - RPM Removal ",null,"LUMP SUM"]
[null,null,null,null,null,null,null,null,null,null,null,null,97,"VRAM (Void Reducing Asphalt Membrane) 0-1000 LF",null,"LF"]
[null,null,null,null,null,null,null,null,null,null,null,null,98,"VRAM (Void Reducing Asphalt Membrane) 1001-2000 LF",null,"LF"]
[null,null,null,null,null,null,null,null,null,null,null,null,99,"VRAM (Void Reducing Asphalt Membrane) 2001-5,000 LF",null,"LF"]
[null,null,null,null,null,null,null,null,null,null,null,null,100,"VRAM (Void Reducing Asphalt Membrane) 5,001 LF or greater",null,"LF"]
[null,null,null,null,null,null,null,null,null,null,null,null,101,"VRAM Preparation, Removal of Center Line",null,"LF"]
[null,null,null,null,null,null,null,null,null,null,null,null,102,"Mobilization - VRAM ",null,"LUMP SUM"]

{"sheet":"Mileages","index":6,"n_rows":38,"n_cols":26,"rows_kept":38,"cut":false,"hidden":false,"merged":[[0,15,1,15],[0,8,1,8],[0,10,1,10],[0,9,1,9],[0,11,1,11],[0,14,1,14]]}
[null,{"$f":"'Order Details'!B3","v":"Fayette"},null,null,null,null,null,null,"HMA Haul Distance\n(miles)","HMA Haul \nTon/Miles (Addn'l)","Milling Waste Haul\n(miles)","Milling Waste\nTon/Miles (Addn'l)",null,null,"Stone Haul Distance\n(miles)","Stone Haul \nTon/Miles\n(Addn'l)"]
[null,"County#","PID","Vendor Asphalt",null,null,"City",null,null,null,null,null,"Stone Supplier","City",null,null,null,null,null,"County# ","PID","District","Vendor","Vendor Asphalt Location","Vendor Stone Plant","Shoulder Stone Location"]
[null,{"$f":"IF(T3=\"\",\"\",T3)","v":10},{"$f":"IF(U3=\"\",\"\",U3)","v":9001},{"$f":"IF(W3=\"\",\"\",W3)","v":"AAA Paving and Sealing, Inc."},null,null,{"$f":"IF(X3=\"\",\"\",X3)","v":"560 Turnpike Industrial Park Road,Princeton, WV 24739"},null,{"$f":"IF(OR(D3=\"\",D3=\"No Bid\"),0,VLOOKUP(G3,'Addresses Helper'!$B$5:$G$48,6,0))","v":190.27871310399999},{"$f":"IF(I3>1,(SUM('Order Details'!$J$7:$J$23,'Order Details'!$O$23,'Order Details'!$O$26)*(Mileages!I3-1)),0)","v":0},20,{"$f":"IF(K3>10,('Order Details'!$B$35*(Mileages!K3-10)),0)","v":0},{"$f":"IF(Y3=\"\",\"\",Y3)","v":"East River Aggregates"},{"$f":"IF(Z3=\"\",\"\",Z3)","v":"388 Blake Hollow Road, Princeton, WV 24739"},{"$f":"IF(OR(M3=\"\",M3=\"No Bid\"),0,VLOOKUP(N3,'Addresses Helper'!$B$52:$G$93,6,0))","v":193.96033627899999},{"$f":"IF(AND(O3>1,O3<>\"No Bid\"),'Order Details'!$J$24*(Mileages!O3-1),0)","v":0},null,null,null,10,9001,"09","AAA Paving and Sealing, Inc.","560 Turnpike Industrial Park Road,Princeton, WV 24739","East River Aggregates","388 Blake Hollow Road, Princeton, WV 24739"]
[null,{"$f":"IF(T4=\"\",\"\",T4)","v":10},{"$f":"IF(U4=\"\",\"\",U4)","v":9006},{"$f":"IF(W4=\"\",\"\",W4)","v":"BTI Contracting Inc. St. Albans"},null,null,{"$f":"IF(X4=\"\",\"\",X4)","v":"484 Industrial Rd, St Albans, WV 25177"},null,{"$f":"IF(OR(D4=\"\",D4=\"No Bid\"),0,VLOOKUP(G4,'Addresses Helper'!$B$5:$G$48,6,0))","v":158.860331231},{"$f":"IF(I4>1,(SUM('Order Details'!$J$7:$J$23,'Order Details'!$O$23,'Order Details'!$O$26)*(Mileages!I4-1)),0)","v":0},{"$f":"IF(C4=\"\",\"\",K3)","v":20},{"$f":"IF(C4=\"\",\"\",IF(K4>10,('Order Details'!$B$35*(Mileages!K4-10)),0))","v":0},{"$f":"IF(Y4=\"\",\"\",Y4)","v":"Scary Creek Materials"},{"$f":"IF(Z4=\"\",\"\",Z4)","v":" #9 Orders Way, Winfield, WV"},{"$f":"IF(OR(M4=\"\",M4=\"No Bid\"),0,VLOOKUP(N4,'Addresses Helper'!$B$52:$G$93,6,0))","v":161.15319022099999},{"$f":"IF(AND(O4>1,O4<>\"No Bid\"),'Order Details'!$J$24*(Mileages!O4-1),0)","v":0},null,null,null,10,9006,"09","BTI Contracting Inc. St. Albans","484 Industrial Rd, St Albans, WV 25177","Scary Creek Materials"," #9 Orders Way, Winfield, WV"]
[null,10,9008,"BTI Contracting Inc. St. Albans",null,null,"484 Industrial Rd, St Albans, WV 25177",null,{"$f":"IF(OR(D5=\"\",D5=\"No Bid\"),0,VLOOKUP(G5,'Addresses Helper'!$B$5:$G$48,6,0))","v":158.860331231},{"$f":"IF(I5>1,(SUM('Order Details'!$J$7:$J$23,'Order Details'!$O$23,'Order Details'!$O$26)*(Mileages!I5-1)),0)","v":0},{"$f":"IF(C5=\"\",\"\",K4)","v":20},{"$f":"IF(C5=\"\",\"\",IF(K5>10,('Order Details'!$B$35*(Mileages!K5-10)),0))","v":0},"Valley Stone Yard","360 Valley Rd., Millwood WV, 25262",{"$f":"IF(OR(M5=\"\",M5=\"No Bid\"),0,VLOOKUP(N5,'Addresses Helper'!$B$52:$G$93,6,0))","v":173.28048802800001},{"$f":"IF(AND(O5>1,O5<>\"No Bid\"),'Order Details'!$J$24*(Mileages!O5-1),0)","v":0},null,null,null,10,9008,"09","BTI Contracting Inc. St. Albans","484 Industrial Rd, St Albans, WV 25177","Valley Stone Yard","360 Valley Rd., Millwood WV, 25262"]
[null,10,9010,"Greenbrier Excavating & Paving Inc.",null,null,"232 Rambler Rd., Lewisburg, WV24901",null,{"$f":"IF(OR(D6=\"\",D6=\"No Bid\"),0,VLOOKUP(G6,'Addresses Helper'!$B$5:$G$48,6,0))","v":105.145915136},{"$f":"IF(I6>1,(SUM('Order Details'!$J$7:$J$23,'Order Details'!$O$23,'Order Details'!$O$26)*(Mileages!I6-1)),0)","v":0},20,{"$f":"IF(C6=\"\",\"\",IF(K6>10,('Order Details'!$B$35*(Mileages!K6-10)),0))","v":0},"Appalachian Aggregates","21071 Midland Trail, Lewisburg, WV 24901",{"$f":"IF(OR(M6=\"\",M6=\"No Bid\"),0,VLOOKUP(N6,'Addresses Helper'!$B$52:$G$93,6,0))","v":109.87579118800001},{"$f":"IF(AND(O6>1,O6<>\"No Bid\"),'Order Details'!$J$24*(Mileages!O6-1),0)","v":0},null,null,null,10,9010,"09","Greenbrier Excavating & Paving Inc.","232 Rambler Rd., Lewisburg, WV24901","Appalachian Aggregates","21071 Midland Trail, Lewisburg, WV 24901"]
[null,10,9021,"West Virginia Paving, Inc., Beaver Plant",null,null,"195 Southern Industrial Dr., Beaver, WV 25813",null,{"$f":"IF(OR(D7=\"\",D7=\"No Bid\"),0,VLOOKUP(G7,'Addresses Helper'!$B$5:$G$48,6,0))","v":164.89073678599999},{"$f":"IF(I7>1,(SUM('Order Details'!$J$7:$J$23,'Order Details'!$O$23,'Order Details'!$O$26)*(Mileages!I7-1)),0)","v":0},20,{"$f":"IF(C7=\"\",\"\",IF(K7>10,('Order Details'!$B$35*(Mileages!K7-10)),0))","v":0},"Appalachian Aggregates","1111 Blake Hollow Rd., Princeton WV 24740",{"$f":"IF(OR(M7=\"\",M7=\"No Bid\"),0,VLOOKUP(N7,'Addresses Helper'!$B$52:$G$93,6,0))","v":194.67491292899999},{"$f":"IF(AND(O7>1,O7<>\"No Bid\"),'Order Details'!$J$24*(Mileages!O7-1),0)","v":0},null,null,null,10,9021,"09","West Virginia Paving, Inc., Beaver Plant","195 Southern Industrial Dr., Beaver, WV 25813","Appalachian Aggregates","1111 Blake Hollow Rd., Princeton WV 24740"]
[null,10,9022,"West Virginia Paving, Inc., Beaver Plant",null,null,"195 Southern Industrial Dr., Beaver, WV 25813",null,{"$f":"IF(OR(D8=\"\",D8=\"No Bid\"),0,VLOOKUP(G8,'Addresses Helper'!$B$5:$G$48,6,0))","v":164.89073678599999},{"$f":"IF(I8>1,(SUM('Order Details'!$J$7:$J$23,'Order Details'!$O$23,'Order Details'!$O$26)*(Mileages!I8-1)),0)","v":0},20,{"$f":"IF(C8=\"\",\"\",IF(K8>10,('Order Details'!$B$35*(Mileages!K8-10)),0))","v":0},"Appalachian Aggregates","400 Stamping Creek Rd., Hillsboro WV 25880",{"$f":"IF(OR(M8=\"\",M8=\"No Bid\"),0,VLOOKUP(N8,'Addresses Helper'!$B$52:$G$93,6,0))","v":70.181990337000002},{"$f":"IF(AND(O8>1,O8<>\"No Bid\"),'Order Details'!$J$24*(Mileages!O8-1),0)","v":0},null,null,null,10,9022,"09","West Virginia Paving, Inc., Beaver Plant","195 Southern Industrial Dr., Beaver, WV 25813","Appalachian Aggregates","400 Stamping Creek Rd., Hillsboro WV 25880"]
[null,10,9026,"West Virginia Paving, Inc., Summersville, WV",null,null,"2816 Frontage Rd., Summersville, WV 26651",null,{"$f":"IF(OR(D9=\"\",D9=\"No Bid\"),0,VLOOKUP(G9,'Addresses Helper'!$B$5:$G$48,6,0))","v":105.6952071},{"$f":"IF(I9>1,(SUM('Order Details'!$J$7:$J$23,'Order Details'!$O$23,'Order Details'!$O$26)*(Mileages!I9-1)),0)","v":0},20,{"$f":"IF(C9=\"\",\"\",IF(K9>10,('Order Details'!$B$35*(Mileages!K9-10)),0))","v":0},"Appalachian Aggregates","1111 Blake Hollow Rd., Princeton WV 24740",{"$f":"IF(OR(M9=\"\",M9=\"No Bid\"),0,VLOOKUP(N9,'Addresses Helper'!$B$52:$G$93,6,0))","v":194.67491292899999},{"$f":"IF(AND(O9>1,O9<>\"No Bid\"),'Order Details'!$J$24*(Mileages!O9-1),0)","v":0},null,null,null,10,9026,"09","West Virginia Paving, Inc., Summersville, WV","2816 Frontage Rd., Summersville, WV 26651","Appalachian Aggregates","1111 Blake Hollow Rd., Princeton WV 24740"]
[null,10,9027,"West Virginia Paving, Inc., Summersville, WV",null,null,"2816 Frontage Rd., Summersville, WV 26651",null,{"$f":"IF(OR(D10=\"\",D10=\"No Bid\"),0,VLOOKUP(G10,'Addresses Helper'!$B$5:$G$48,6,0))","v":105.6952071},{"$f":"IF(I10>1,(SUM('Order Details'!$J$7:$J$23,'Order Details'!$O$23,'Order Details'!$O$26)*(Mileages!I10-1)),0)","v":0},20,{"$f":"IF(C10=\"\",\"\",IF(K10>10,('Order Details'!$B$35*(Mileages!K10-10)),0))","v":0},"Appalachian Aggregates","400 Stamping Creek Rd., Hillsboro WV 25880",{"$f":"IF(OR(M10=\"\",M10=\"No Bid\"),0,VLOOKUP(N10,'Addresses Helper'!$B$52:$G$93,6,0))","v":70.181990337000002},{"$f":"IF(AND(O10>1,O10<>\"No Bid\"),'Order Details'!$J$24*(Mileages!O10-1),0)","v":0},null,null,null,10,9027,"09","West Virginia Paving, Inc., Summersville, WV","2816 Frontage Rd., Summersville, WV 26651","Appalachian Aggregates","400 Stamping Creek Rd., Hillsboro WV 25880"]
[null,10,9029,"West Virginia Paving, Inc., Asbury (Alta), WV",null,null,"Rt. 60, West Lewisburg, Alta, Asbury WV 24916",null,{"$f":"IF(OR(D11=\"\",D11=\"No Bid\"),0,VLOOKUP(G11,'Addresses Helper'!$B$5:$G$48,6,0))","v":109.51663875},{"$f":"IF(I11>1,(SUM('Order Details'!$J$7:$J$23,'Order Details'!$O$23,'Order Details'!$O$26)*(Mileages!I11-1)),0)","v":0},20,{"$f":"IF(C11=\"\",\"\",IF(K11>10,('Order Details'!$B$35*(Mileages!K11-10)),0))","v":0},"Appalachian Aggregates","1111 Blake Hollow Rd., Princeton WV 24740",{"$f":"IF(OR(M11=\"\",M11=\"No Bid\"),0,VLOOKUP(N11,'Addresses Helper'!$B$52:$G$93,6,0))","v":194.67491292899999},{"$f":"IF(AND(O11>1,O11<>\"No Bid\"),'Order Details'!$J$24*(Mileages!O11-1),0)","v":0},null,null,null,10,9029,"09","West Virginia Paving, Inc., Asbury (Alta), WV","Rt. 60, West Lewisburg, Alta, Asbury WV 24916","Appalachian Aggregates","1111 Blake Hollow Rd., Princeton WV 24740"]
[null,10,9030,"West Virginia Paving, Inc., Asbury (Alta), WV",null,null,"Rt. 60, West Lewisburg, Alta, Asbury WV 24916",null,{"$f":"IF(OR(D12=\"\",D12=\"No Bid\"),0,VLOOKUP(G12,'Addresses Helper'!$B$5:$G$48,6,0))","v":109.51663875},{"$f":"IF(I12>1,(SUM('Order Details'!$J$7:$J$23,'Order Details'!$O$23,'Order Details'!$O$26)*(Mileages!I12-1)),0)","v":0},20,{"$f":"IF(C12=\"\",\"\",IF(K12>10,('Order Details'!$B$35*(Mileages!K12-10)),0))","v":0},"Appalachian Aggregates","400 Stamping Creek Rd., Hillsboro WV 25880",{"$f":"IF(OR(M12=\"\",M12=\"No Bid\"),0,VLOOKUP(N12,'Addresses Helper'!$B$52:$G$93,6,0))","v":70.181990337000002},{"$f":"IF(AND(O12>1,O12<>\"No Bid\"),'Order Details'!$J$24*(Mileages!O12-1),0)","v":0},null,null,null,10,9030,"09","West Virginia Paving, Inc., Asbury (Alta), WV","Rt. 60, West Lewisburg, Alta, Asbury WV 24916","Appalachian Aggregates","400 Stamping Creek Rd., Hillsboro WV 25880"]
[null,"","","",null,null,"",null,{"$f":"IF(OR(D13=\"\",D13=\"No Bid\"),0,VLOOKUP(G13,'Addresses Helper'!$B$5:$G$48,6,0))","v":0},{"$f":"IF(I13>1,(SUM('Order Details'!$J$7:$J$23,'Order Details'!$O$23,'Order Details'!$O$26)*(Mileages!I13-1)),0)","v":0},"",{"$f":"IF(C13=\"\",\"\",IF(K13>10,('Order Details'!$B$35*(Mileages!K13-10)),0))","v":""},"","",{"$f":"IF(OR(M13=\"\",M13=\"No Bid\"),0,VLOOKUP(N13,'Addresses Helper'!$B$52:$G$93,6,0))","v":0},{"$f":"IF(AND(O13>1,O13<>\"No Bid\"),'Order Details'!$J$24*(Mileages!O13-1),0)","v":0}]
[null,"","","",null,null,"",null,{"$f":"IF(OR(D14=\"\",D14=\"No Bid\"),0,VLOOKUP(G14,'Addresses Helper'!$B$5:$G$48,6,0))","v":0},{"$f":"IF(I14>1,(SUM('Order Details'!$J$7:$J$23,'Order Details'!$O$23,'Order Details'!$O$26)*(Mileages!I14-1)),0)","v":0},"",{"$f":"IF(C14=\"\",\"\",IF(K14>10,('Order Details'!$B$35*(Mileages!K14-10)),0))","v":""},"","",{"$f":"IF(OR(M14=\"\",M14=\"No Bid\"),0,VLOOKUP(N14,'Addresses Helper'!$B$52:$G$93,6,0))","v":0},{"$f":"IF(AND(O14>1,O14<>\"No Bid\"),'Order Details'!$J$24*(Mileages!O14-1),0)","v":0}]
[null,"","","",null,null,"",null,{"$f":"IF(OR(D15=\"\",D15=\"No Bid\"),0,VLOOKUP(G15,'Addresses Helper'!$B$5:$G$48,6,0))","v":0},{"$f":"IF(I15>1,(SUM('Order Details'!$J$7:$J$23,'Order Details'!$O$23,'Order Details'!$O$26)*(Mileages!I15-1)),0)","v":0},"",{"$f":"IF(C15=\"\",\"\",IF(K15>10,('Order Details'!$B$35*(Mileages!K15-10)),0))","v":""},"","",{"$f":"IF(OR(M15=\"\",M15=\"No Bid\"),0,VLOOKUP(N15,'Addresses Helper'!$B$52:$G$93,6,0))","v":0},{"$f":"IF(AND(O15>1,O15<>\"No Bid\"),'Order Details'!$J$24*(Mileages!O15-1),0)","v":0}]
[null,"","","",null,null,"",null,{"$f":"IF(OR(D16=\"\",D16=\"No Bid\"),0,VLOOKUP(G16,'Addresses Helper'!$B$5:$G$48,6,0))","v":0},{"$f":"IF(I16>1,(SUM('Order Details'!$J$7:$J$23,'Order Details'!$O$23,'Order Details'!$O$26)*(Mileages!I16-1)),0)","v":0},"",{"$f":"IF(C16=\"\",\"\",IF(K16>10,('Order Details'!$B$35*(Mileages!K16-10)),0))","v":""},"","",{"$f":"IF(OR(M16=\"\",M16=\"No Bid\"),0,VLOOKUP(N16,'Addresses Helper'!$B$52:$G$93,6,0))","v":0},{"$f":"IF(AND(O16>1,O16<>\"No Bid\"),'Order Details'!$J$24*(Mileages!O16-1),0)","v":0}]
[null,"","","",null,null,"",null,{"$f":"IF(OR(D17=\"\",D17=\"No Bid\"),0,VLOOKUP(G17,'Addresses Helper'!$B$5:$G$48,6,0))","v":0},{"$f":"IF(I17>1,(SUM('Order Details'!$J$7:$J$23,'Order Details'!$O$23,'Order Details'!$O$26)*(Mileages!I17-1)),0)","v":0},"",{"$f":"IF(C17=\"\",\"\",IF(K17>10,('Order Details'!$B$35*(Mileages!K17-10)),0))","v":""},"","",{"$f":"IF(OR(M17=\"\",M17=\"No Bid\"),0,VLOOKUP(N17,'Addresses Helper'!$B$52:$G$93,6,0))","v":0},{"$f":"IF(AND(O17>1,O17<>\"No Bid\"),'Order Details'!$J$24*(Mileages!O17-1),0)","v":0}]
[null,"","","",null,null,"",null,{"$f":"IF(OR(D18=\"\",D18=\"No Bid\"),0,VLOOKUP(G18,'Addresses Helper'!$B$5:$G$48,6,0))","v":0},{"$f":"IF(I18>1,(SUM('Order Details'!$J$7:$J$23,'Order Details'!$O$23,'Order Details'!$O$26)*(Mileages!I18-1)),0)","v":0},"",{"$f":"IF(C18=\"\",\"\",IF(K18>10,('Order Details'!$B$35*(Mileages!K18-10)),0))","v":""},"","",{"$f":"IF(OR(M18=\"\",M18=\"No Bid\"),0,VLOOKUP(N18,'Addresses Helper'!$B$52:$G$93,6,0))","v":0},{"$f":"IF(AND(O18>1,O18<>\"No Bid\"),'Order Details'!$J$24*(Mileages!O18-1),0)","v":0}]
[null,"","","",null,null,"",null,{"$f":"IF(OR(D19=\"\",D19=\"No Bid\"),0,VLOOKUP(G19,'Addresses Helper'!$B$5:$G$48,6,0))","v":0},{"$f":"IF(I19>1,(SUM('Order Details'!$J$7:$J$23,'Order Details'!$O$23,'Order Details'!$O$26)*(Mileages!I19-1)),0)","v":0},"",{"$f":"IF(C19=\"\",\"\",IF(K19>10,('Order Details'!$B$35*(Mileages!K19-10)),0))","v":""},"","",{"$f":"IF(OR(M19=\"\",M19=\"No Bid\"),0,VLOOKUP(N19,'Addresses Helper'!$B$52:$G$93,6,0))","v":0},{"$f":"IF(AND(O19>1,O19<>\"No Bid\"),'Order Details'!$J$24*(Mileages!O19-1),0)","v":0}]
[null,"","","",null,null,"",null,{"$f":"IF(OR(D20=\"\",D20=\"No Bid\"),0,VLOOKUP(G20,'Addresses Helper'!$B$5:$G$48,6,0))","v":0},{"$f":"IF(I20>1,(SUM('Order Details'!$J$7:$J$23,'Order Details'!$O$23,'Order Details'!$O$26)*(Mileages!I20-1)),0)","v":0},"",{"$f":"IF(C20=\"\",\"\",IF(K20>10,('Order Details'!$B$35*(Mileages!K20-10)),0))","v":""},"","",{"$f":"IF(OR(M20=\"\",M20=\"No Bid\"),0,VLOOKUP(N20,'Addresses Helper'!$B$52:$G$93,6,0))","v":0},{"$f":"IF(AND(O20>1,O20<>\"No Bid\"),'Order Details'!$J$24*(Mileages!O20-1),0)","v":0}]
[null,"","","",null,null,"",null,{"$f":"IF(OR(D21=\"\",D21=\"No Bid\"),0,VLOOKUP(G21,'Addresses Helper'!$B$5:$G$48,6,0))","v":0},{"$f":"IF(I21>1,(SUM('Order Details'!$J$7:$J$23,'Order Details'!$O$23,'Order Details'!$O$26)*(Mileages!I21-1)),0)","v":0},"",{"$f":"IF(C21=\"\",\"\",IF(K21>10,('Order Details'!$B$35*(Mileages!K21-10)),0))","v":""},"","",{"$f":"IF(OR(M21=\"\",M21=\"No Bid\"),0,VLOOKUP(N21,'Addresses Helper'!$B$52:$G$93,6,0))","v":0},{"$f":"IF(AND(O21>1,O21<>\"No Bid\"),'Order Details'!$J$24*(Mileages!O21-1),0)","v":0}]
[null,"","","",null,null,"",null,{"$f":"IF(OR(D22=\"\",D22=\"No Bid\"),0,VLOOKUP(G22,'Addresses Helper'!$B$5:$G$48,6,0))","v":0},{"$f":"IF(I22>1,(SUM('Order Details'!$J$7:$J$23,'Order Details'!$O$23,'Order Details'!$O$26)*(Mileages!I22-1)),0)","v":0},"",{"$f":"IF(C22=\"\",\"\",IF(K22>10,('Order Details'!$B$35*(Mileages!K22-10)),0))","v":""},"","",{"$f":"IF(OR(M22=\"\",M22=\"No Bid\"),0,VLOOKUP(N22,'Addresses Helper'!$B$52:$G$93,6,0))","v":0},{"$f":"IF(AND(O22>1,O22<>\"No Bid\"),'Order Details'!$J$24*(Mileages!O22-1),0)","v":0}]
[null,"","","",null,null,"",null,{"$f":"IF(OR(D23=\"\",D23=\"No Bid\"),0,VLOOKUP(G23,'Addresses Helper'!$B$5:$G$48,6,0))","v":0},{"$f":"IF(I23>1,(SUM('Order Details'!$J$7:$J$23,'Order Details'!$O$23,'Order Details'!$O$26)*(Mileages!I23-1)),0)","v":0},"",{"$f":"IF(C23=\"\",\"\",IF(K23>10,('Order Details'!$B$35*(Mileages!K23-10)),0))","v":""},"","",{"$f":"IF(OR(M23=\"\",M23=\"No Bid\"),0,VLOOKUP(N23,'Addresses Helper'!$B$52:$G$93,6,0))","v":0},{"$f":"IF(AND(O23>1,O23<>\"No Bid\"),'Order Details'!$J$24*(Mileages!O23-1),0)","v":0}]
[null,"","","",null,null,"",null,{"$f":"IF(OR(D24=\"\",D24=\"No Bid\"),0,VLOOKUP(G24,'Addresses Helper'!$B$5:$G$48,6,0))","v":0},{"$f":"IF(I24>1,(SUM('Order Details'!$J$7:$J$23,'Order Details'!$O$23,'Order Details'!$O$26)*(Mileages!I24-1)),0)","v":0},"",{"$f":"IF(C24=\"\",\"\",IF(K24>10,('Order Details'!$B$35*(Mileages!K24-10)),0))","v":""},"","",{"$f":"IF(OR(M24=\"\",M24=\"No Bid\"),0,VLOOKUP(N24,'Addresses Helper'!$B$52:$G$93,6,0))","v":0},{"$f":"IF(AND(O24>1,O24<>\"No Bid\"),'Order Details'!$J$24*(Mileages!O24-1),0)","v":0}]
[null,"","","",null,null,"",null,{"$f":"IF(OR(D25=\"\",D25=\"No Bid\"),0,VLOOKUP(G25,'Addresses Helper'!$B$5:$G$48,6,0))","v":0},{"$f":"IF(I25>1,(SUM('Order Details'!$J$7:$J$23,'Order Details'!$O$23,'Order Details'!$O$26)*(Mileages!I25-1)),0)","v":0},"",{"$f":"IF(C25=\"\",\"\",IF(K25>10,('Order Details'!$B$35*(Mileages!K25-10)),0))","v":""},"","",{"$f":"IF(OR(M25=\"\",M25=\"No Bid\"),0,VLOOKUP(N25,'Addresses Helper'!$B$52:$G$93,6,0))","v":0},{"$f":"IF(AND(O25>1,O25<>\"No Bid\"),'Order Details'!$J$24*(Mileages!O25-1),0)","v":0}]
[null,"","","",null,null,"",null,{"$f":"IF(OR(D26=\"\",D26=\"No Bid\"),0,VLOOKUP(G26,'Addresses Helper'!$B$5:$G$48,6,0))","v":0},{"$f":"IF(I26>1,(SUM('Order Details'!$J$7:$J$23,'Order Details'!$O$23,'Order Details'!$O$26)*(Mileages!I26-1)),0)","v":0},"",{"$f":"IF(C26=\"\",\"\",IF(K26>10,('Order Details'!$B$35*(Mileages!K26-10)),0))","v":""},"","",{"$f":"IF(OR(M26=\"\",M26=\"No Bid\"),0,VLOOKUP(N26,'Addresses Helper'!$B$52:$G$93,6,0))","v":0},{"$f":"IF(AND(O26>1,O26<>\"No Bid\"),'Order Details'!$J$24*(Mileages!O26-1),0)","v":0}]
[null,"","","",null,null,"",null,{"$f":"IF(OR(D27=\"\",D27=\"No Bid\"),0,VLOOKUP(G27,'Addresses Helper'!$B$5:$G$48,6,0))","v":0},{"$f":"IF(I27>1,(SUM('Order Details'!$J$7:$J$23,'Order Details'!$O$23,'Order Details'!$O$26)*(Mileages!I27-1)),0)","v":0},"",{"$f":"IF(C27=\"\",\"\",IF(K27>10,('Order Details'!$B$35*(Mileages!K27-10)),0))","v":""},"","",{"$f":"IF(OR(M27=\"\",M27=\"No Bid\"),0,VLOOKUP(N27,'Addresses Helper'!$B$52:$G$93,6,0))","v":0},{"$f":"IF(AND(O27>1,O27<>\"No Bid\"),'Order Details'!$J$24*(Mileages!O27-1),0)","v":0}]
[null,"","","",null,null,"",null,{"$f":"IF(OR(D28=\"\",D28=\"No Bid\"),0,VLOOKUP(G28,'Addresses Helper'!$B$5:$G$48,6,0))","v":0},{"$f":"IF(I28>1,(SUM('Order Details'!$J$7:$J$23,'Order Details'!$O$23,'Order Details'!$O$26)*(Mileages!I28-1)),0)","v":0},"",{"$f":"IF(C28=\"\",\"\",IF(K28>10,('Order Details'!$B$35*(Mileages!K28-10)),0))","v":""},"","",{"$f":"IF(OR(M28=\"\",M28=\"No Bid\"),0,VLOOKUP(N28,'Addresses Helper'!$B$52:$G$93,6,0))","v":0},{"$f":"IF(AND(O28>1,O28<>\"No Bid\"),'Order Details'!$J$24*(Mileages!O28-1),0)","v":0}]
[null,"","","",null,null,"",null,{"$f":"IF(OR(D29=\"\",D29=\"No Bid\"),0,VLOOKUP(G29,'Addresses Helper'!$B$5:$G$48,6,0))","v":0},{"$f":"IF(I29>1,(SUM('Order Details'!$J$7:$J$23,'Order Details'!$O$23,'Order Details'!$O$26)*(Mileages!I29-1)),0)","v":0},"",{"$f":"IF(C29=\"\",\"\",IF(K29>10,('Order Details'!$B$35*(Mileages!K29-10)),0))","v":""},"","",{"$f":"IF(OR(M29=\"\",M29=\"No Bid\"),0,VLOOKUP(N29,'Addresses Helper'!$B$52:$G$93,6,0))","v":0},{"$f":"IF(AND(O29>1,O29<>\"No Bid\"),'Order Details'!$J$24*(Mileages!O29-1),0)","v":0}]
[null,"","","",null,null,"",null,{"$f":"IF(OR(D30=\"\",D30=\"No Bid\"),0,VLOOKUP(G30,'Addresses Helper'!$B$5:$G$48,6,0))","v":0},{"$f":"IF(I30>1,(SUM('Order Details'!$J$7:$J$23,'Order Details'!$O$23,'Order Details'!$O$26)*(Mileages!I30-1)),0)","v":0},"",{"$f":"IF(C30=\"\",\"\",IF(K30>10,('Order Details'!$B$35*(Mileages!K30-10)),0))","v":""},"","",{"$f":"IF(OR(M30=\"\",M30=\"No Bid\"),0,VLOOKUP(N30,'Addresses Helper'!$B$52:$G$93,6,0))","v":0},{"$f":"IF(AND(O30>1,O30<>\"No Bid\"),'Order Details'!$J$24*(Mileages!O30-1),0)","v":0}]
[null,"","","",null,null,"",null,{"$f":"IF(OR(D31=\"\",D31=\"No Bid\"),0,VLOOKUP(G31,'Addresses Helper'!$B$5:$G$48,6,0))","v":0},{"$f":"IF(I31>1,(SUM('Order Details'!$J$7:$J$23,'Order Details'!$O$23,'Order Details'!$O$26)*(Mileages!I31-1)),0)","v":0},"",{"$f":"IF(C31=\"\",\"\",IF(K31>10,('Order Details'!$B$35*(Mileages!K31-10)),0))","v":""},"","",{"$f":"IF(OR(M31=\"\",M31=\"No Bid\"),0,VLOOKUP(N31,'Addresses Helper'!$B$52:$G$93,6,0))","v":0},{"$f":"IF(AND(O31>1,O31<>\"No Bid\"),'Order Details'!$J$24*(Mileages!O31-1),0)","v":0}]
[null,"","","",null,null,"",null,{"$f":"IF(OR(D32=\"\",D32=\"No Bid\"),0,VLOOKUP(G32,'Addresses Helper'!$B$5:$G$48,6,0))","v":0},{"$f":"IF(I32>1,(SUM('Order Details'!$J$7:$J$23,'Order Details'!$O$23,'Order Details'!$O$26)*(Mileages!I32-1)),0)","v":0},"",{"$f":"IF(C32=\"\",\"\",IF(K32>10,('Order Details'!$B$35*(Mileages!K32-10)),0))","v":""},"","",{"$f":"IF(OR(M32=\"\",M32=\"No Bid\"),0,VLOOKUP(N32,'Addresses Helper'!$B$52:$G$93,6,0))","v":0},{"$f":"IF(AND(O32>1,O32<>\"No Bid\"),'Order Details'!$J$24*(Mileages!O32-1),0)","v":0}]
[null,"","","",null,null,"",null,{"$f":"IF(OR(D33=\"\",D33=\"No Bid\"),0,VLOOKUP(G33,'Addresses Helper'!$B$5:$G$48,6,0))","v":0},{"$f":"IF(I33>1,(SUM('Order Details'!$J$7:$J$23,'Order Details'!$O$23,'Order Details'!$O$26)*(Mileages!I33-1)),0)","v":0},"",{"$f":"IF(C33=\"\",\"\",IF(K33>10,('Order Details'!$B$35*(Mileages!K33-10)),0))","v":""},"","",{"$f":"IF(OR(M33=\"\",M33=\"No Bid\"),0,VLOOKUP(N33,'Addresses Helper'!$B$52:$G$93,6,0))","v":0},{"$f":"IF(AND(O33>1,O33<>\"No Bid\"),'Order Details'!$J$24*(Mileages!O33-1),0)","v":0}]
[null,"","","",null,null,"",null,{"$f":"IF(OR(D34=\"\",D34=\"No Bid\"),0,VLOOKUP(G34,'Addresses Helper'!$B$5:$G$48,6,0))","v":0},{"$f":"IF(I34>1,(SUM('Order Details'!$J$7:$J$23,'Order Details'!$O$23,'Order Details'!$O$26)*(Mileages!I34-1)),0)","v":0},"",{"$f":"IF(C34=\"\",\"\",IF(K34>10,('Order Details'!$B$35*(Mileages!K34-10)),0))","v":""},"","",{"$f":"IF(OR(M34=\"\",M34=\"No Bid\"),0,VLOOKUP(N34,'Addresses Helper'!$B$52:$G$93,6,0))","v":0},{"$f":"IF(AND(O34>1,O34<>\"No Bid\"),'Order Details'!$J$24*(Mileages!O34-1),0)","v":0}]
[null,"","","",null,null,"",null,{"$f":"IF(OR(D35=\"\",D35=\"No Bid\"),0,VLOOKUP(G35,'Addresses Helper'!$B$5:$G$48,6,0))","v":0},{"$f":"IF(I35>1,(SUM('Order Details'!$J$7:$J$23,'Order Details'!$O$23,'Order Details'!$O$26)*(Mileages!I35-1)),0)","v":0},"",{"$f":"IF(C35=\"\",\"\",IF(K35>10,('Order Details'!$B$35*(Mileages!K35-10)),0))","v":""},"","",{"$f":"IF(OR(M35=\"\",M35=\"No Bid\"),0,VLOOKUP(N35,'Addresses Helper'!$B$52:$G$93,6,0))","v":0},{"$f":"IF(AND(O35>1,O35<>\"No Bid\"),'Order Details'!$J$24*(Mileages!O35-1),0)","v":0}]
[null,"","","",null,null,"",null,{"$f":"IF(OR(D36=\"\",D36=\"No Bid\"),0,VLOOKUP(G36,'Addresses Helper'!$B$5:$G$48,6,0))","v":0},{"$f":"IF(I36>1,(SUM('Order Details'!$J$7:$J$23,'Order Details'!$O$23,'Order Details'!$O$26)*(Mileages!I36-1)),0)","v":0},"",{"$f":"IF(C36=\"\",\"\",IF(K36>10,('Order Details'!$B$35*(Mileages!K36-10)),0))","v":""},"","",{"$f":"IF(OR(M36=\"\",M36=\"No Bid\"),0,VLOOKUP(N36,'Addresses Helper'!$B$52:$G$93,6,0))","v":0},{"$f":"IF(AND(O36>1,O36<>\"No Bid\"),'Order Details'!$J$24*(Mileages!O36-1),0)","v":0}]
[null,"","","",null,null,"",null,{"$f":"IF(OR(D37=\"\",D37=\"No Bid\"),0,VLOOKUP(G37,'Addresses Helper'!$B$5:$G$48,6,0))","v":0},{"$f":"IF(I37>1,(SUM('Order Details'!$J$7:$J$23,'Order Details'!$O$23,'Order Details'!$O$26)*(Mileages!I37-1)),0)","v":0},"",{"$f":"IF(C37=\"\",\"\",IF(K37>10,('Order Details'!$B$35*(Mileages!K37-10)),0))","v":""},"","",{"$f":"IF(OR(M37=\"\",M37=\"No Bid\"),0,VLOOKUP(N37,'Addresses Helper'!$B$52:$G$93,6,0))","v":0},{"$f":"IF(AND(O37>1,O37<>\"No Bid\"),'Order Details'!$J$24*(Mileages!O37-1),0)","v":0}]
[null,"","","",null,null,"",null,{"$f":"IF(OR(D38=\"\",D38=\"No Bid\"),0,VLOOKUP(G38,'Addresses Helper'!$B$5:$G$48,6,0))","v":0},{"$f":"IF(I38>1,(SUM('Order Details'!$J$7:$J$23,'Order Details'!$O$23,'Order Details'!$O$26)*(Mileages!I38-1)),0)","v":0},"",{"$f":"IF(C38=\"\",\"\",IF(K38>10,('Order Details'!$B$35*(Mileages!K38-10)),0))","v":""},"","",{"$f":"IF(OR(M38=\"\",M38=\"No Bid\"),0,VLOOKUP(N38,'Addresses Helper'!$B$52:$G$93,6,0))","v":0},{"$f":"IF(AND(O38>1,O38<>\"No Bid\"),'Order Details'!$J$24*(Mileages!O38-1),0)","v":0}]

{"sheet":"Vendor Totals","index":7,"n_rows":114,"n_cols":136,"rows_kept":114,"cut":false,"hidden":false,"merged":[[1,24,1,25],[1,28,1,29],[1,32,1,33],[1,36,1,37],[1,40,1,41],[1,4,1,5],[1,8,1,9],[1,12,1,13],[1,16,1,17],[1,20,1,21],[0,1,1,1],[1,124,1,125],[3,124,3,126],[4,124,4,126],[1,128,1,129],[3,128,3,130],[4,128,4,130],[1,116,1,117],[3,116,3,118],[4,116,4,118],[1,120,1,121],[3,120,3,122],[4,120,4,122],[1,108,1,109],[3,108,3,110],[4,108,4,110],[1,112,1,113],[3,112,3,114],[4,112,4,114],[1,100,1,101],[3,100,3,102],[4,100,4,102],[1,104,1,105],[3,104,3,106],[4,104,4,106],[1,92,1,93],[3,92,3,94],[4,92,4,94],[1,96,1,97],[3,96,3,98],[4,96,4,98],[1,84,1,85],[3,84,3,86],[4,84,4,86],[1,88,1,89],[3,88,3,90],[4,88,4,90],[1,76,1,77],[3,76,3,78],[4,76,4,78],[1,80,1,81],[3,80,3,82],[4,80,4,82],[1,68,1,69],[3,68,3,70],[4,68,4,70],[1,72,1,73],[3,72,3,74],[4,72,4,74],[3,4,3,6],[4,4,4,6],[3,8,3,10],[4,8,4,10],[3,12,3,14],[4,12,4,14],[3,16,3,18],[4,16,4,18],[3,20,3,22],[4,20,4,22],[3,24,3,26],[4,24,4,26],[3,28,3,30],[4,28,4,30],[3,32,3,34],[4,32,4,34],[3,36,3,38],[4,36,4,38],[3,40,3,42],[4,40,4,42],[1,44,1,45],[3,44,3,46],[4,44,4,46],[1,48,1,49],[3,48,3,50],[4,48,4,50],[1,52,1,53],[3,52,3,54],[4,52,4,54],[1,64,1,65],[3,64,3,66],[4,64,4,66],[1,56,1,57],[3,56,3,58],[4,56,4,58],[1,60,1,61],[3,60,3,62],[4,60,4,62]]}
[null,"Lowest\nBid",{"$f":"IFERROR(SMALL(EE8:EE40,COUNTIF($EE$8:$EE$40,0)+1),\"Incomplete\")","v":"Incomplete"}]
[null,null,{"$f":"VLOOKUP($B$3,Mileages!$C$3:$N$38,2,0)","v":{"$error":"#N/A"}},null,"Vendor A",null,null,null,"Vendor B",null,null,null,"Vendor C",null,null,null,"Vendor D",null,null,null,"Vendor E",null,null,null,"Vendor F",null,null,null,"Vendor G",null,null,null,"Vendor H",null,null,null,"Vendor I",null,null,null,"Vendor J",null,null,null,"Vendor K",null,null,null,"Vendor L",null,null,null,"Vendor M",null,null,null,"Vendor N",null,null,null,"Vendor O",null,null,null,"Vendor P",null,null,null,"Vendor Q",null,null,null,"Vendor R",null,null,null,"Vendor S",null,null,null,"Vendor T",null,null,null,"Vendor U",null,null,null,"Vendor V",null,null,null,"Vendor W",null,null,null,"Vendor X",null,null,null,"Vendor Y",null,null,null,"Vendor Z",null,null,null,"Vendor AA",null,null,null,"Vendor AB",null,null,null,"Vendor AC",null,null,null,"Vendor AD",null,null,null,"Vendor AE",null,null,null,"Vendor AF"]
[null,{"$f":"VLOOKUP($C$1,$EE$8:$EF$40,2,0)","v":{"$error":"#N/A"}},{"$f":"VLOOKUP($B$3,Mileages!$C$3:$N$38,5,0)","v":{"$error":"#N/A"}},null,{"$f":"G3","v":9001},null,{"$f":"Mileages!$U3","v":9001},null,{"$f":"K3","v":9006},null,{"$f":"Mileages!$U4","v":9006},null,{"$f":"O3","v":9008},null,{"$f":"Mileages!$U5","v":9008},null,{"$f":"S3","v":9010},null,{"$f":"Mileages!$U6","v":9010},null,{"$f":"W3","v":9021},null,{"$f":"Mileages!$U7","v":9021},null,{"$f":"AA3","v":9022},null,{"$f":"Mileages!$U8","v":9022},null,{"$f":"AE3","v":9026},null,{"$f":"Mileages!$U9","v":9026},null,{"$f":"AI3","v":9027},null,{"$f":"Mileages!$U10","v":9027},null,{"$f":"AM3","v":9029},null,{"$f":"Mileages!$U11","v":9029},null,{"$f":"AQ3","v":9030},null,{"$f":"Mileages!$U12","v":9030},null,{"$f":"AU3","v":0},null,{"$f":"Mileages!$U13","v":0},null,{"$f":"AY3","v":0},null,{"$f":"Mileages!$U14","v":0},null,{"$f":"BC3","v":0},null,{"$f":"Mileages!$U15","v":0},null,{"$f":"BG3","v":0},null,{"$f":"Mileages!$U16","v":0},null,{"$f":"BK3","v":0},null,{"$f":"Mileages!$U17","v":0},null,{"$f":"BO3","v":0},null,{"$f":"Mileages!$U18","v":0},null,{"$f":"BS3","v":0},null,{"$f":"Mileages!$U19","v":0},null,{"$f":"BW3","v":0},null,{"$f":"Mileages!$U20","v":0},null,{"$f":"CA3","v":0},null,{"$f":"Mileages!$U21","v":0},null,{"$f":"CE3","v":0},null,{"$f":"Mileages!$U22","v":0},null,{"$f":"CI3","v":0},null,{"$f":"Mileages!$U23","v":0},null,{"$f":"CM3","v":0},null,{"$f":"Mileages!$U24","v":0},null,{"$f":"CQ3","v":0},null,{"$f":"Mileages!$U25","v":0},null,{"$f":"CU3","v":0},null,{"$f":"Mileages!$U26","v":0},null,{"$f":"CY3","v":0},null,{"$f":"Mileages!$U28","v":0},null,{"$f":"DC3","v":0},null,{"$f":"Mileages!$U28","v":0},null,{"$f":"DG3","v":0},null,{"$f":"Mileages!$U29","v":0},null,{"$f":"DK3","v":0},null,{"$f":"Mileages!$U30","v":0},null,{"$f":"DO3","v":0},null,{"$f":"Mileages!$U31","v":0},null,{"$f":"DS3","v":0},null,{"$f":"Mileages!$U32","v":0},null,{"$f":"DW3","v":0},null,{"$f":"Mileages!$U33","v":0},null,{"$f":"EA3","v":0},null,{"$f":"Mileages!$U34","v":0}]
[null,null,{"$f":"VLOOKUP($B$3,Mileages!$C$3:$N$38,11,0)","v":{"$error":"#N/A"}},null,{"$f":"Mileages!$W3","v":"AAA Paving and Sealing, Inc."},null,null,null,{"$f":"Mileages!$W4","v":"BTI Contracting Inc. St. Albans"},null,null,null,{"$f":"Mileages!$W5","v":"BTI Contracting Inc. St. Albans"},null,null,null,{"$f":"Mileages!$W6","v":"Greenbrier Excavating & Paving Inc."},null,null,null,{"$f":"Mileages!$W7","v":"West Virginia Paving, Inc., Beaver Plant"},null,null,null,{"$f":"Mileages!$W8","v":"West Virginia Paving, Inc., Beaver Plant"},null,null,null,{"$f":"Mileages!$W9","v":"West Virginia Paving, Inc., Summersville, WV"},null,null,null,{"$f":"Mileages!$W10","v":"West Virginia Paving, Inc., Summersville, WV"},null,null,null,{"$f":"Mileages!$W11","v":"West Virginia Paving, Inc., Asbury (Alta), WV"},null,null,null,{"$f":"Mileages!$W12","v":"West Virginia Paving, Inc., Asbury (Alta), WV"},null,null,null,{"$f":"Mileages!$W13","v":0},null,null,null,{"$f":"Mileages!$W14","v":0},null,null,null,{"$f":"Mileages!$W15","v":0},null,null,null,{"$f":"Mileages!$W16","v":0},null,null,null,{"$f":"Mileages!$W17","v":0},null,null,null,{"$f":"Mileages!$W18","v":0},null,null,null,{"$f":"Mileages!$W19","v":0},null,null,null,{"$f":"Mileages!$W20","v":0},null,null,null,{"$f":"Mileages!$W21","v":0},null,null,null,{"$f":"Mileages!$W22","v":0},null,null,null,{"$f":"Mileages!$W23","v":0},null,null,null,{"$f":"Mileages!$W24","v":0},null,null,null,{"$f":"Mileages!$W25","v":0},null,null,null,{"$f":"Mileages!$W26","v":0},null,null,null,{"$f":"Mileages!$W27","v":0},null,null,null,{"$f":"Mileages!$W28","v":0},null,null,null,{"$f":"Mileages!$W29","v":0},null,null,null,{"$f":"Mileages!$W30","v":0},null,null,null,{"$f":"Mileages!$W31","v":0},null,null,null,{"$f":"Mileages!$W32","v":0},null,null,null,{"$f":"Mileages!$W33","v":0},null,null,null,{"$f":"Mileages!$W34","v":0}]
[null,null,{"$f":"VLOOKUP($B$3,Mileages!$C$3:$N$38,12,0)","v":{"$error":"#N/A"}},null,{"$f":"Mileages!$Y3","v":"East River Aggregates"},null,null,null,{"$f":"Mileages!$Y4","v":"Scary Creek Materials"},null,null,null,{"$f":"Mileages!$Y5","v":"Valley Stone Yard"},null,null,null,{"$f":"Mileages!$Y6","v":"Appalachian Aggregates"},null,null,null,{"$f":"Mileages!$Y7","v":"Appalachian Aggregates"},null,null,null,{"$f":"Mileages!$Y8","v":"Appalachian Aggregates"},null,null,null,{"$f":"Mileages!$Y9","v":"Appalachian Aggregates"},null,null,null,{"$f":"Mileages!$Y10","v":"Appalachian Aggregates"},null,null,null,{"$f":"Mileages!$Y11","v":"Appalachian Aggregates"},null,null,null,{"$f":"Mileages!$Y12","v":"Appalachian Aggregates"},null,null,null,{"$f":"Mileages!$Y13","v":0},null,null,null,{"$f":"Mileages!$Y14","v":0},null,null,null,{"$f":"Mileages!$Y15","v":0},null,null,null,{"$f":"Mileages!$Y16","v":0},null,null,null,{"$f":"Mileages!$Y17","v":0},null,null,null,{"$f":"Mileages!$Y18","v":0},null,null,null,{"$f":"Mileages!$Y19","v":0},null,null,null,{"$f":"Mileages!$Y20","v":0},null,null,null,{"$f":"Mileages!$Y21","v":0},null,null,null,{"$f":"Mileages!$Y22","v":0},null,null,null,{"$f":"Mileages!$Y23","v":0},null,null,null,{"$f":"Mileages!$Y24","v":0},null,null,null,{"$f":"Mileages!$Y25","v":0},null,null,null,{"$f":"Mileages!$Y26","v":0},null,null,null,{"$f":"Mileages!$Y27","v":0},null,null,null,{"$f":"Mileages!$Y28","v":0},null,null,null,{"$f":"Mileages!$Y29","v":0},null,null,null,{"$f":"Mileages!$Y30","v":0},null,null,null,{"$f":"Mileages!$Y31","v":0},null,null,null,{"$f":"Mileages!$Y32","v":0},null,null,null,{"$f":"Mileages!$Y33","v":0},null,null,null,{"$f":"Mileages!$Y34","v":0}]
[null,null,null,null,"PROJECT TOTAL",null,{"$f":"SUM(G8:G103,G109:G114)","v":0},null,"PROJECT TOTAL",null,{"$f":"SUM(K8:K103,K109:K114)","v":0},null,"PROJECT TOTAL",null,{"$f":"SUM(O8:O103,O109:O114)","v":0},null,"PROJECT TOTAL",null,{"$f":"SUM(S8:S103,S109:S114)","v":0},null,"PROJECT TOTAL",null,{"$f":"SUM(W8:W103,W109:W114)","v":0},null,"PROJECT TOTAL",null,{"$f":"SUM(AA8:AA103,AA109:AA114)","v":0},null,"PROJECT TOTAL",null,{"$f":"SUM(AE8:AE103,AE109:AE114)","v":0},null,"PROJECT TOTAL",null,{"$f":"SUM(AI8:AI103,AI109:AI114)","v":0},null,"PROJECT TOTAL",null,{"$f":"SUM(AM8:AM103,AM109:AM114)","v":0},null,"PROJECT TOTAL",null,{"$f":"SUM(AQ8:AQ103,AQ109:AQ114)","v":0},null,"PROJECT TOTAL",null,{"$f":"SUM(AU8:AU103,AU109:AU114)","v":{"$error":"#VALUE!"}},null,"PROJECT TOTAL",null,{"$f":"SUM(AY8:AY103,AY109:AY114)","v":{"$error":"#VALUE!"}},null,"PROJECT TOTAL",null,{"$f":"SUM(BC8:BC103,BC109:BC114)","v":{"$error":"#VALUE!"}},null,"PROJECT TOTAL",null,{"$f":"SUM(BG8:BG103,BG109:BG114)","v":{"$error":"#VALUE!"}},null,"PROJECT TOTAL",null,{"$f":"SUM(BK8:BK103,BK109:BK114)","v":{"$error":"#VALUE!"}},null,"PROJECT TOTAL",null,{"$f":"SUM(BO8:BO103,BO109:BO114)","v":{"$error":"#VALUE!"}},null,"PROJECT TOTAL",null,{"$f":"SUM(BS8:BS103,BS109:BS114)","v":{"$error":"#VALUE!"}},null,"PROJECT TOTAL",null,{"$f":"SUM(BW8:BW103,BW109:BW114)","v":{"$error":"#VALUE!"}},null,"PROJECT TOTAL",null,{"$f":"SUM(CA8:CA103,CA109:CA114)","v":{"$error":"#VALUE!"}},null,"PROJECT TOTAL",null,{"$f":"SUM(CE8:CE103,CE109:CE114)","v":{"$error":"#VALUE!"}},null,"PROJECT TOTAL",null,{"$f":"SUM(CI8:CI103,CI109:CI114)","v":{"$error":"#VALUE!"}},null,"PROJECT TOTAL",null,{"$f":"SUM(CM8:CM103,CM109:CM114)","v":{"$error":"#VALUE!"}},null,"PROJECT TOTAL",null,{"$f":"SUM(CQ8:CQ103,CQ109:CQ114)","v":{"$error":"#VALUE!"}},null,"PROJECT TOTAL",null,{"$f":"SUM(CU8:CU103,CU109:CU114)","v":{"$error":"#VALUE!"}},null,"PROJECT TOTAL",null,{"$f":"SUM(CY8:CY103,CY109:CY114)","v":{"$error":"#VALUE!"}},null,"PROJECT TOTAL",null,{"$f":"SUM(DC8:DC103,DC109:DC114)","v":{"$error":"#VALUE!"}},null,"PROJECT TOTAL",null,{"$f":"SUM(DG8:DG103,DG109:DG114)","v":{"$error":"#VALUE!"}},null,"PROJECT TOTAL",null,{"$f":"SUM(DK8:DK103,DK109:DK114)","v":{"$error":"#VALUE!"}},null,"PROJECT TOTAL",null,{"$f":"SUM(DO8:DO103,DO109:DO114)","v":{"$error":"#VALUE!"}},null,"PROJECT TOTAL",null,{"$f":"SUM(DS8:DS103,DS109:DS114)","v":{"$error":"#VALUE!"}},null,"PROJECT TOTAL",null,{"$f":"SUM(DW8:DW103,DW109:DW114)","v":{"$error":"#VALUE!"}},null,"PROJECT TOTAL",null,{"$f":"SUM(EA8:EA103,EA109:EA114)","v":{"$error":"#VALUE!"}}]
[null,"Item","Description    ","Quantity","Unit $","Unit $ with Qty","Adjusted",null,"Unit $","Unit $ with Qty","Adjusted",null,"Unit $","Unit $ with Qty","Adjusted",null,"Unit $","Unit $ with Qty","Adjusted",null,"Unit $","Unit $ with Qty","Adjusted",null,"Unit $","Unit $ with Qty","Adjusted",null,"Unit $","Unit $ with Qty","Adjusted",null,"Unit $","Unit $ with Qty","Adjusted",null,"Unit $","Unit $ with Qty","Adjusted",null,"Unit $","Unit $ with Qty","Adjusted",null,"Unit $","Unit $ with Qty","Adjusted",null,"Unit $","Unit $ with Qty","Adjusted",null,"Unit $","Unit $ with Qty","Adjusted",null,"Unit $","Unit $ with Qty","Adjusted",null,"Unit $","Unit $ with Qty","Adjusted",null,"Unit $","Unit $ with Qty","Adjusted",null,"Unit $","Unit $ with Qty","Adjusted",null,"Unit $","Unit $ with Qty","Adjusted",null,"Unit $","Unit $ with Qty","Adjusted",null,"Unit $","Unit $ with Qty","Adjusted",null,"Unit $","Unit $ with Qty","Adjusted",null,"Unit $","Unit $ with Qty","Adjusted",null,"Unit $","Unit $ with Qty","Adjusted",null,"Unit $","Unit $ with Qty","Adjusted",null,"Unit $","Unit $ with Qty","Adjusted",null,"Unit $","Unit $ with Qty","Adjusted",null,"Unit $","Unit $ with Qty","Adjusted",null,"Unit $","Unit $ with Qty","Adjusted",null,"Unit $","Unit $ with Qty","Adjusted",null,"Unit $","Unit $ with Qty","Adjusted",null,"Unit $","Unit $ with Qty","Adjusted",null,"Unit $","Unit $ with Qty","Adjusted"]
[null,1,"Asphalt Section 401 - Base I",{"$f":"'Order Details'!J7","v":0},{"$f":"IFERROR(VLOOKUP(G$3,'District Bids'!$C$5:$CU$511,7,0),\"\")","v":70},{"$f":"IFERROR(E8*$D8,\"\")","v":0},{"$f":"IFERROR(IF(E$8=0,0,($D$8*E$8+($D$8*'Complicated Price Adjustment'!$E32))),\"\")","v":0},{"$f":"IF(AND($D8>0,E8=0),\"Incomplete\",\"\")","v":""},{"$f":"IFERROR(VLOOKUP(K$3,'District Bids'!$C$5:$CU$511,7,0),\"\")","v":78.94},{"$f":"IFERROR(I8*$D8,\"\")","v":0},{"$f":"IFERROR(IF(I$8=0,0,($D$8*I$8+($D$8*'Complicated Price Adjustment'!$E32))),\"\")","v":0},{"$f":"IF(AND($D8>0,I8=0),\"Incomplete\",\"\")","v":""},{"$f":"IFERROR(VLOOKUP(O$3,'District Bids'!$C$5:$CU$511,7,0),\"\")","v":78.94},{"$f":"IFERROR(M8*$D8,\"\")","v":0},{"$f":"IFERROR(IF(M$8=0,0,($D$8*M$8+($D$8*'Complicated Price Adjustment'!$E32))),\"\")","v":0},{"$f":"IF(AND($D8>0,M8=0),\"Incomplete\",\"\")","v":""},{"$f":"IFERROR(VLOOKUP(S$3,'District Bids'!$C$5:$CU$511,7,0),\"\")","v":65},{"$f":"IFERROR(Q8*$D8,\"\")","v":0},{"$f":"IFERROR(IF(Q$8=0,0,($D$8*Q$8+($D$8*'Complicated Price Adjustment'!$E32))),\"\")","v":0},{"$f":"IF(AND($D8>0,Q8=0),\"Incomplete\",\"\")","v":""},{"$f":"IFERROR(VLOOKUP(W$3,'District Bids'!$C$5:$CU$511,7,0),\"\")","v":97.5},{"$f":"IFERROR(U8*$D8,\"\")","v":0},{"$f":"IFERROR(IF(U$8=0,0,($D$8*U$8+($D$8*'Complicated Price Adjustment'!$E32))),\"\")","v":0},{"$f":"IF(AND($D8>0,U8=0),\"Incomplete\",\"\")","v":""},{"$f":"IFERROR(VLOOKUP(AA$3,'District Bids'!$C$5:$CU$511,7,0),\"\")","v":97.5},{"$f":"IFERROR(Y8*$D8,\"\")","v":0},{"$f":"IFERROR(IF(Y$8=0,0,($D$8*Y$8+($D$8*'Complicated Price Adjustment'!$E32))),\"\")","v":0},{"$f":"IF(AND($D8>0,Y8=0),\"Incomplete\",\"\")","v":""},{"$f":"IFERROR(VLOOKUP(AE$3,'District Bids'!$C$5:$CU$511,7,0),\"\")","v":95},{"$f":"IFERROR(AC8*$D8,\"\")","v":0},{"$f":"IFERROR(IF(AC$8=0,0,($D$8*AC$8+($D$8*'Complicated Price Adjustment'!$E32))),\"\")","v":0},{"$f":"IF(AND($D8>0,AC8=0),\"Incomplete\",\"\")","v":""},{"$f":"IFERROR(VLOOKUP(AI$3,'District Bids'!$C$5:$CU$511,7,0),\"\")","v":95},{"$f":"IFERROR(AG8*$D8,\"\")","v":0},{"$f":"IFERROR(IF(AG$8=0,0,($D$8*AG$8+($D$8*'Complicated Price Adjustment'!$E32))),\"\")","v":0},{"$f":"IF(AND($D8>0,AG8=0),\"Incomplete\",\"\")","v":""},{"$f":"IFERROR(VLOOKUP(AM$3,'District Bids'!$C$5:$CU$511,7,0),\"\")","v":86},{"$f":"IFERROR(AK8*$D8,\"\")","v":0},{"$f":"IFERROR(IF(AK$8=0,0,($D$8*AK$8+($D$8*'Complicated Price Adjustment'!$E32))),\"\")","v":0},{"$f":"IF(AND($D8>0,AK8=0),\"Incomplete\",\"\")","v":""},{"$f":"IFERROR(VLOOKUP(AQ$3,'District Bids'!$C$5:$CU$511,7,0),\"\")","v":86},{"$f":"IFERROR(AO8*$D8,\"\")","v":0},{"$f":"IFERROR(IF(AO$8=0,0,($D$8*AO$8+($D$8*'Complicated Price Adjustment'!$E32))),\"\")","v":0},{"$f":"IF(AND($D8>0,AO8=0),\"Incomplete\",\"\")","v":""},{"$f":"IFERROR(VLOOKUP(AU$3,'District Bids'!$C$5:$CU$511,7,0),\"\")","v":""},{"$f":"IFERROR(AS8*$D8,\"\")","v":""},{"$f":"IFERROR(IF(AS$8=0,0,($D$8*AS$8+($D$8*'Complicated Price Adjustment'!$E32))),\"\")","v":""},{"$f":"IF(AND($D8>0,AS8=0),\"Incomplete\",\"\")","v":""},{"$f":"IFERROR(VLOOKUP(AY$3,'District Bids'!$C$5:$CU$511,7,0),\"\")","v":""},{"$f":"IFERROR(AW8*$D8,\"\")","v":""},{"$f":"IFERROR(IF(AW$8=0,0,($D$8*AW$8+($D$8*'Complicated Price Adjustment'!$E32))),\"\")","v":""},{"$f":"IF(AND($D8>0,AW8=0),\"Incomplete\",\"\")","v":""},{"$f":"IFERROR(VLOOKUP(BC$3,'District Bids'!$C$5:$CU$511,7,0),\"\")","v":""},{"$f":"IFERROR(BA8*$D8,\"\")","v":""},{"$f":"IFERROR(IF(BA$8=0,0,($D$8*BA$8+($D$8*'Complicated Price Adjustment'!$E32))),\"\")","v":""},{"$f":"IF(AND($D8>0,BA8=0),\"Incomplete\",\"\")","v":""},{"$f":"IFERROR(VLOOKUP(BG$3,'District Bids'!$C$5:$CU$511,7,0),\"\")","v":""},{"$f":"IFERROR(BE8*$D8,\"\")","v":""},{"$f":"IFERROR(IF(BE$8=0,0,($D$8*BE$8+($D$8*'Complicated Price Adjustment'!$E32))),\"\")","v":""},{"$f":"IF(AND($D8>0,BE8=0),\"Incomplete\",\"\")","v":""},{"$f":"IFERROR(VLOOKUP(BK$3,'District Bids'!$C$5:$CU$511,7,0),\"\")","v":""},{"$f":"IFERROR(BI8*$D8,\"\")","v":""},{"$f":"IFERROR(IF(BI$8=0,0,($D$8*BI$8+($D$8*'Complicated Price Adjustment'!$E32))),\"\")","v":""},{"$f":"IF(AND($D8>0,BI8=0),\"Incomplete\",\"\")","v":""},{"$f":"IFERROR(VLOOKUP(BO$3,'District Bids'!$C$5:$CU$511,7,0),\"\")","v":""},{"$f":"IFERROR(BM8*$D8,\"\")","v":""},{"$f":"IFERROR(IF(BM$8=0,0,($D$8*BM$8+($D$8*'Complicated Price Adjustment'!$E32))),\"\")","v":""},{"$f":"IF(AND($D8>0,BM8=0),\"Incomplete\",\"\")","v":""},{"$f":"IFERROR(VLOOKUP(BS$3,'District Bids'!$C$5:$CU$511,7,0),\"\")","v":""},{"$f":"IFERROR(BQ8*$D8,\"\")","v":""},{"$f":"IFERROR(IF(BQ$8=0,0,($D$8*BQ$8+($D$8*'Complicated Price Adjustment'!$E32))),\"\")","v":""},{"$f":"IF(AND($D8>0,BQ8=0),\"Incomplete\",\"\")","v":""},{"$f":"IFERROR(VLOOKUP(BW$3,'District Bids'!$C$5:$CU$511,7,0),\"\")","v":""},{"$f":"IFERROR(BU8*$D8,\"\")","v":""},{"$f":"IFERROR(IF(BU$8=0,0,($D$8*BU$8+($D$8*'Complicated Price Adjustment'!$E32))),\"\")","v":""},{"$f":"IF(AND($D8>0,BU8=0),\"Incomplete\",\"\")","v":""},{"$f":"IFERROR(VLOOKUP(CA$3,'District Bids'!$C$5:$CU$511,7,0),\"\")","v":""},{"$f":"IFERROR(BY8*$D8,\"\")","v":""},{"$f":"IFERROR(IF(BY$8=0,0,($D$8*BY$8+($D$8*'Complicated Price Adjustment'!$E32))),\"\")","v":""},{"$f":"IF(AND($D8>0,BY8=0),\"Incomplete\",\"\")","v":""},{"$f":"IFERROR(VLOOKUP(CE$3,'District Bids'!$C$5:$CU$511,7,0),\"\")","v":""},{"$f":"IFERROR(CC8*$D8,\"\")","v":""},{"$f":"IFERROR(IF(CC$8=0,0,($D$8*CC$8+($D$8*'Complicated Price Adjustment'!$E32))),\"\")","v":""},{"$f":"IF(AND($D8>0,CC8=0),\"Incomplete\",\"\")","v":""},{"$f":"IFERROR(VLOOKUP(CI$3,'District Bids'!$C$5:$CU$511,7,0),\"\")","v":""},{"$f":"IFERROR(CG8*$D8,\"\")","v":""},{"$f":"IFERROR(IF(CG$8=0,0,($D$8*CG$8+($D$8*'Complicated Price Adjustment'!$E32))),\"\")","v":""},{"$f":"IF(AND($D8>0,CG8=0),\"Incomplete\",\"\")","v":""},{"$f":"IFERROR(VLOOKUP(CM$3,'District Bids'!$C$5:$CU$511,7,0),\"\")","v":""},{"$f":"IFERROR(CK8*$D8,\"\")","v":""},{"$f":"IFERROR(IF(CK$8=0,0,($D$8*CK$8+($D$8*'Complicated Price Adjustment'!$E32))),\"\")","v":""},{"$f":"IF(AND($D8>0,CK8=0),\"Incomplete\",\"\")","v":""},{"$f":"IFERROR(VLOOKUP(CQ$3,'District Bids'!$C$5:$CU$511,7,0),\"\")","v":""},{"$f":"IFERROR(CO8*$D8,\"\")","v":""},{"$f":"IFERROR(IF(CO$8=0,0,($D$8*CO$8+($D$8*'Complicated Price Adjustment'!$E32))),\"\")","v":""},{"$f":"IF(AND($D8>0,CO8=0),\"Incomplete\",\"\")","v":""},{"$f":"IFERROR(VLOOKUP(CU$3,'District Bids'!$C$5:$CU$511,7,0),\"\")","v":""},{"$f":"IFERROR(CS8*$D8,\"\")","v":""},{"$f":"IFERROR(IF(CS$8=0,0,($D$8*CS$8+($D$8*'Complicated Price Adjustment'!$E32))),\"\")","v":""},{"$f":"IF(AND($D8>0,CS8=0),\"Incomplete\",\"\")","v":""},{"$f":"IFERROR(VLOOKUP(CY$3,'District Bids'!$C$5:$CU$511,7,0),\"\")","v":""},{"$f":"IFERROR(CW8*$D8,\"\")","v":""},{"$f":"IFERROR(IF(CW$8=0,0,($D$8*CW$8+($D$8*'Complicated Price Adjustment'!$E32))),\"\")","v":""},{"$f":"IF(AND($D8>0,CW8=0),\"Incomplete\",\"\")","v":""},{"$f":"IFERROR(VLOOKUP(DC$3,'District Bids'!$C$5:$CU$511,7,0),\"\")","v":""},{"$f":"IFERROR(DA8*$D8,\"\")","v":""},{"$f":"IFERROR(IF(DA$8=0,0,($D$8*DA$8+($D$8*'Complicated Price Adjustment'!$E32))),\"\")","v":""},{"$f":"IF(AND($D8>0,DA8=0),\"Incomplete\",\"\")","v":""},{"$f":"IFERROR(VLOOKUP(DG$3,'District Bids'!$C$5:$CU$511,7,0),\"\")","v":""},{"$f":"IFERROR(DE8*$D8,\"\")","v":""},{"$f":"IFERROR(IF(DE$8=0,0,($D$8*DE$8+($D$8*'Complicated Price Adjustment'!$E32))),\"\")","v":""},{"$f":"IF(AND($D8>0,DE8=0),\"Incomplete\",\"\")","v":""},{"$f":"IFERROR(VLOOKUP(DK$3,'District Bids'!$C$5:$CU$511,7,0),\"\")","v":""},{"$f":"IFERROR(DI8*$D8,\"\")","v":""},{"$f":"IFERROR(IF(DI$8=0,0,($D$8*DI$8+($D$8*'Complicated Price Adjustment'!$E32))),\"\")","v":""},{"$f":"IF(AND($D8>0,DI8=0),\"Incomplete\",\"\")","v":""},{"$f":"IFERROR(VLOOKUP(DO$3,'District Bids'!$C$5:$CU$511,7,0),\"\")","v":""},{"$f":"IFERROR(DM8*$D8,\"\")","v":""},{"$f":"IFERROR(IF(DM$8=0,0,($D$8*DM$8+($D$8*'Complicated Price Adjustment'!$E32))),\"\")","v":""},{"$f":"IF(AND($D8>0,DM8=0),\"Incomplete\",\"\")","v":""},{"$f":"IFERROR(VLOOKUP(DS$3,'District Bids'!$C$5:$CU$511,7,0),\"\")","v":""},{"$f":"IFERROR(DQ8*$D8,\"\")","v":""},{"$f":"IFERROR(IF(DQ$8=0,0,($D$8*DQ$8+($D$8*'Complicated Price Adjustment'!$E32))),\"\")","v":""},{"$f":"IF(AND($D8>0,DQ8=0),\"Incomplete\",\"\")","v":""},{"$f":"IFERROR(VLOOKUP(DW$3,'District Bids'!$C$5:$CU$511,7,0),\"\")","v":""},{"$f":"IFERROR(DU8*$D8,\"\")","v":""},{"$f":"IFERROR(IF(DU$8=0,0,($D$8*DU$8+($D$8*'Complicated Price Adjustment'!$E32))),\"\")","v":""},{"$f":"IF(AND($D8>0,DU8=0),\"Incomplete\",\"\")","v":""},{"$f":"IFERROR(VLOOKUP(EA$3,'District Bids'!$C$5:$CU$511,7,0),\"\")","v":""},{"$f":"IFERROR(DY8*$D8,\"\")","v":""},{"$f":"IFERROR(IF(DY$8=0,0,($D$8*DY$8+($D$8*'Complicated Price Adjustment'!$E32))),\"\")","v":""},{"$f":"IF(AND($D8>0,DY8=0),\"Incomplete\",\"\")","v":""},null,{"$f":"G$6","v":0},{"$f":"IF(G104=\"Incomplete\",0,IF(G104<>\"Incomplete\",ED8))","v":0},{"$f":"$G3","v":9001}]
[null,2,"Asphalt Section 401 - 25mm Superpave",{"$f":"'Order Details'!J8","v":0},{"$f":"IFERROR(VLOOKUP(G$3,'District Bids'!$C$5:$CU$511,8,0),\"\")","v":70},{"$f":"IFERROR(E9*$D9,\"\")","v":0},{"$f":"IFERROR(IF(E$9=0,0,($D$9*E$9+($D$9*'Complicated Price Adjustment'!$E33))),\"\")","v":0},{"$f":"IF(AND($D9>0,E9=0),\"Incomplete\",\"\")","v":""},{"$f":"IFERROR(VLOOKUP(K$3,'District Bids'!$C$5:$CU$511,8,0),\"\")","v":79.89},{"$f":"IFERROR(I9*$D9,\"\")","v":0},{"$f":"IFERROR(IF(I$9=0,0,($D$9*I$9+($D$9*'Complicated Price Adjustment'!$E33))),\"\")","v":0},{"$f":"IF(AND($D9>0,I9=0),\"Incomplete\",\"\")","v":""},{"$f":"IFERROR(VLOOKUP(O$3,'District Bids'!$C$5:$CU$511,8,0),\"\")","v":79.89},{"$f":"IFERROR(M9*$D9,\"\")","v":0},{"$f":"IFERROR(IF(M$9=0,0,($D$9*M$9+($D$9*'Complicated Price Adjustment'!$E33))),\"\")","v":0},{"$f":"IF(AND($D9>0,M9=0),\"Incomplete\",\"\")","v":""},{"$f":"IFERROR(VLOOKUP(S$3,'District Bids'!$C$5:$CU$511,8,0),\"\")","v":0},{"$f":"IFERROR(Q9*$D9,\"\")","v":0},{"$f":"IFERROR(IF(Q$9=0,0,($D$9*Q$9+($D$9*'Complicated Price Adjustment'!$E33))),\"\")","v":0},{"$f":"IF(AND($D9>0,Q9=0),\"Incomplete\",\"\")","v":""},{"$f":"IFERROR(VLOOKUP(W$3,'District Bids'!$C$5:$CU$511,8,0),\"\")","v":97.5},{"$f":"IFERROR(U9*$D9,\"\")","v":0},{"$f":"IFERROR(IF(U$9=0,0,($D$9*U$9+($D$9*'Complicated Price Adjustment'!$E33))),\"\")","v":0},{"$f":"IF(AND($D9>0,U9=0),\"Incomplete\",\"\")","v":""},{"$f":"IFERROR(VLOOKUP(AA$3,'District Bids'!$C$5:$CU$511,8,0),\"\")","v":97.5},{"$f":"IFERROR(Y9*$D9,\"\")","v":0},{"$f":"IFERROR(IF(Y$9=0,0,($D$9*Y$9+($D$9*'Complicated Price Adjustment'!$E33))),\"\")","v":0},{"$f":"IF(AND($D9>0,Y9=0),\"Incomplete\",\"\")","v":""},{"$f":"IFERROR(VLOOKUP(AE$3,'District Bids'!$C$5:$CU$511,8,0),\"\")","v":95},{"$f":"IFERROR(AC9*$D9,\"\")","v":0},{"$f":"IFERROR(IF(AC$9=0,0,($D$9*AC$9+($D$9*'Complicated Price Adjustment'!$E33))),\"\")","v":0},{"$f":"IF(AND($D9>0,AC9=0),\"Incomplete\",\"\")","v":""},{"$f":"IFERROR(VLOOKUP(AI$3,'District Bids'!$C$5:$CU$511,8,0),\"\")","v":95},{"$f":"IFERROR(AG9*$D9,\"\")","v":0},{"$f":"IFERROR(IF(AG$9=0,0,($D$9*AG$9+($D$9*'Complicated Price Adjustment'!$E33))),\"\")","v":0},{"$f":"IF(AND($D9>0,AG9=0),\"Incomplete\",\"\")","v":""},{"$f":"IFERROR(VLOOKUP(AM$3,'District Bids'!$C$5:$CU$511,8,0),\"\")","v":86},{"$f":"IFERROR(AK9*$D9,\"\")","v":0},{"$f":"IFERROR(IF(AK$9=0,0,($D$9*AK$9+($D$9*'Complicated Price Adjustment'!$E33))),\"\")","v":0},{"$f":"IF(AND($D9>0,AK9=0),\"Incomplete\",\"\")","v":""},{"$f":"IFERROR(VLOOKUP(AQ$3,'District Bids'!$C$5:$CU$511,8,0),\"\")","v":86},{"$f":"IFERROR(AO9*$D9,\"\")","v":0},{"$f":"IFERROR(IF(AO$9=0,0,($D$9*AO$9+($D$9*'Complicated Price Adjustment'!$E33))),\"\")","v":0},{"$f":"IF(AND($D9>0,AO9=0),\"Incomplete\",\"\")","v":""},{"$f":"IFERROR(VLOOKUP(AU$3,'District Bids'!$C$5:$CU$511,8,0),\"\")","v":""},{"$f":"IFERROR(AS9*$D9,\"\")","v":""},{"$f":"IFERROR(IF(AS$9=0,0,($D$9*AS$9+($D$9*'Complicated Price Adjustment'!$E33))),\"\")","v":""},{"$f":"IF(AND($D9>0,AS9=0),\"Incomplete\",\"\")","v":""},{"$f":"IFERROR(VLOOKUP(AY$3,'District Bids'!$C$5:$CU$511,8,0),\"\")","v":""},{"$f":"IFERROR(AW9*$D9,\"\")","v":""},{"$f":"IFERROR(IF(AW$9=0,0,($D$9*AW$9+($D$9*'Complicated Price Adjustment'!$E33))),\"\")","v":""},{"$f":"IF(AND($D9>0,AW9=0),\"Incomplete\",\"\")","v":""},{"$f":"IFERROR(VLOOKUP(BC$3,'District Bids'!$C$5:$CU$511,8,0),\"\")","v":""},{"$f":"IFERROR(BA9*$D9,\"\")","v":""},{"$f":"IFERROR(IF(BA$9=0,0,($D$9*BA$9+($D$9*'Complicated Price Adjustment'!$E33))),\"\")","v":""},{"$f":"IF(AND($D9>0,BA9=0),\"Incomplete\",\"\")","v":""},{"$f":"IFERROR(VLOOKUP(BG$3,'District Bids'!$C$5:$CU$511,8,0),\"\")","v":""},{"$f":"IFERROR(BE9*$D9,\"\")","v":""},{"$f":"IFERROR(IF(BE$9=0,0,($D$9*BE$9+($D$9*'Complicated Price Adjustment'!$E33))),\"\")","v":""},{"$f":"IF(AND($D9>0,BE9=0),\"Incomplete\",\"\")","v":""},{"$f":"IFERROR(VLOOKUP(BK$3,'District Bids'!$C$5:$CU$511,8,0),\"\")","v":""},{"$f":"IFERROR(BI9*$D9,\"\")","v":""},{"$f":"IFERROR(IF(BI$9=0,0,($D$9*BI$9+($D$9*'Complicated Price Adjustment'!$E33))),\"\")","v":""},{"$f":"IF(AND($D9>0,BI9=0),\"Incomplete\",\"\")","v":""},{"$f":"IFERROR(VLOOKUP(BO$3,'District Bids'!$C$5:$CU$511,8,0),\"\")","v":""},{"$f":"IFERROR(BM9*$D9,\"\")","v":""},{"$f":"IFERROR(IF(BM$9=0,0,($D$9*BM$9+($D$9*'Complicated Price Adjustment'!$E33))),\"\")","v":""},{"$f":"IF(AND($D9>0,BM9=0),\"Incomplete\",\"\")","v":""},{"$f":"IFERROR(VLOOKUP(BS$3,'District Bids'!$C$5:$CU$511,8,0),\"\")","v":""},{"$f":"IFERROR(BQ9*$D9,\"\")","v":""},{"$f":"IFERROR(IF(BQ$9=0,0,($D$9*BQ$9+($D$9*'Complicated Price Adjustment'!$E33))),\"\")","v":""},{"$f":"IF(AND($D9>0,BQ9=0),\"Incomplete\",\"\")","v":""},{"$f":"IFERROR(VLOOKUP(BW$3,'District Bids'!$C$5:$CU$511,8,0),\"\")","v":""},{"$f":"IFERROR(BU9*$D9,\"\")","v":""},{"$f":"IFERROR(IF(BU$9=0,0,($D$9*BU$9+($D$9*'Complicated Price Adjustment'!$E33))),\"\")","v":""},{"$f":"IF(AND($D9>0,BU9=0),\"Incomplete\",\"\")","v":""},{"$f":"IFERROR(VLOOKUP(CA$3,'District Bids'!$C$5:$CU$511,8,0),\"\")","v":""},{"$f":"IFERROR(BY9*$D9,\"\")","v":""},{"$f":"IFERROR(IF(BY$9=0,0,($D$9*BY$9+($D$9*'Complicated Price Adjustment'!$E33))),\"\")","v":""},{"$f":"IF(AND($D9>0,BY9=0),\"Incomplete\",\"\")","v":""},{"$f":"IFERROR(VLOOKUP(CE$3,'District Bids'!$C$5:$CU$511,8,0),\"\")","v":""},{"$f":"IFERROR(CC9*$D9,\"\")","v":""},{"$f":"IFERROR(IF(CC$9=0,0,($D$9*CC$9+($D$9*'Complicated Price Adjustment'!$E33))),\"\")","v":""},{"$f":"IF(AND($D9>0,CC9=0),\"Incomplete\",\"\")","v":""},{"$f":"IFERROR(VLOOKUP(CI$3,'District Bids'!$C$5:$CU$511,8,0),\"\")","v":""},{"$f":"IFERROR(CG9*$D9,\"\")","v":""},{"$f":"IFERROR(IF(CG$9=0,0,($D$9*CG$9+($D$9*'Complicated Price Adjustment'!$E33))),\"\")","v":""},{"$f":"IF(AND($D9>0,CG9=0),\"Incomplete\",\"\")","v":""},{"$f":"IFERROR(VLOOKUP(CM$3,'District Bids'!$C$5:$CU$511,8,0),\"\")","v":""},{"$f":"IFERROR(CK9*$D9,\"\")","v":""},{"$f":"IFERROR(IF(CK$9=0,0,($D$9*CK$9+($D$9*'Complicated Price Adjustment'!$E33))),\"\")","v":""},{"$f":"IF(AND($D9>0,CK9=0),\"Incomplete\",\"\")","v":""},{"$f":"IFERROR(VLOOKUP(CQ$3,'District Bids'!$C$5:$CU$511,8,0),\"\")","v":""},{"$f":"IFERROR(CO9*$D9,\"\")","v":""},{"$f":"IFERROR(IF(CO$9=0,0,($D$9*CO$9+($D$9*'Complicated Price Adjustment'!$E33))),\"\")","v":""},{"$f":"IF(AND($D9>0,CO9=0),\"Incomplete\",\"\")","v":""},{"$f":"IFERROR(VLOOKUP(CU$3,'District Bids'!$C$5:$CU$511,8,0),\"\")","v":""},{"$f":"IFERROR(CS9*$D9,\"\")","v":""},{"$f":"IFERROR(IF(CS$9=0,0,($D$9*CS$9+($D$9*'Complicated Price Adjustment'!$E33))),\"\")","v":""},{"$f":"IF(AND($D9>0,CS9=0),\"Incomplete\",\"\")","v":""},{"$f":"IFERROR(VLOOKUP(CY$3,'District Bids'!$C$5:$CU$511,8,0),\"\")","v":""},{"$f":"IFERROR(CW9*$D9,\"\")","v":""},{"$f":"IFERROR(IF(CW$9=0,0,($D$9*CW$9+($D$9*'Complicated Price Adjustment'!$E33))),\"\")","v":""},{"$f":"IF(AND($D9>0,CW9=0),\"Incomplete\",\"\")","v":""},{"$f":"IFERROR(VLOOKUP(DC$3,'District Bids'!$C$5:$CU$511,8,0),\"\")","v":""},{"$f":"IFERROR(DA9*$D9,\"\")","v":""},{"$f":"IFERROR(IF(DA$9=0,0,($D$9*DA$9+($D$9*'Complicated Price Adjustment'!$E33))),\"\")","v":""},{"$f":"IF(AND($D9>0,DA9=0),\"Incomplete\",\"\")","v":""},{"$f":"IFERROR(VLOOKUP(DG$3,'District Bids'!$C$5:$CU$511,8,0),\"\")","v":""},{"$f":"IFERROR(DE9*$D9,\"\")","v":""},{"$f":"IFERROR(IF(DE$9=0,0,($D$9*DE$9+($D$9*'Complicated Price Adjustment'!$E33))),\"\")","v":""},{"$f":"IF(AND($D9>0,DE9=0),\"Incomplete\",\"\")","v":""},{"$f":"IFERROR(VLOOKUP(DK$3,'District Bids'!$C$5:$CU$511,8,0),\"\")","v":""},{"$f":"IFERROR(DI9*$D9,\"\")","v":""},{"$f":"IFERROR(IF(DI$9=0,0,($D$9*DI$9+($D$9*'Complicated Price Adjustment'!$E33))),\"\")","v":""},{"$f":"IF(AND($D9>0,DI9=0),\"Incomplete\",\"\")","v":""},{"$f":"IFERROR(VLOOKUP(DO$3,'District Bids'!$C$5:$CU$511,8,0),\"\")","v":""},{"$f":"IFERROR(DM9*$D9,\"\")","v":""},{"$f":"IFERROR(IF(DM$9=0,0,($D$9*DM$9+($D$9*'Complicated Price Adjustment'!$E33))),\"\")","v":""},{"$f":"IF(AND($D9>0,DM9=0),\"Incomplete\",\"\")","v":""},{"$f":"IFERROR(VLOOKUP(DS$3,'District Bids'!$C$5:$CU$511,8,0),\"\")","v":""},{"$f":"IFERROR(DQ9*$D9,\"\")","v":""},{"$f":"IFERROR(IF(DQ$9=0,0,($D$9*DQ$9+($D$9*'Complicated Price Adjustment'!$E33))),\"\")","v":""},{"$f":"IF(AND($D9>0,DQ9=0),\"Incomplete\",\"\")","v":""},{"$f":"IFERROR(VLOOKUP(DW$3,'District Bids'!$C$5:$CU$511,8,0),\"\")","v":""},{"$f":"IFERROR(DU9*$D9,\"\")","v":""},{"$f":"IFERROR(IF(DU$9=0,0,($D$9*DU$9+($D$9*'Complicated Price Adjustment'!$E33))),\"\")","v":""},{"$f":"IF(AND($D9>0,DU9=0),\"Incomplete\",\"\")","v":""},{"$f":"IFERROR(VLOOKUP(EA$3,'District Bids'!$C$5:$CU$511,8,0),\"\")","v":""},{"$f":"IFERROR(DY9*$D9,\"\")","v":""},{"$f":"IFERROR(IF(DY$9=0,0,($D$9*DY$9+($D$9*'Complicated Price Adjustment'!$E33))),\"\")","v":""},{"$f":"IF(AND($D9>0,DY9=0),\"Incomplete\",\"\")","v":""},null,{"$f":"K$6","v":0},{"$f":"IF(K$104=\"Incomplete\",0,IF(K$104<>\"Incomplete\",ED9))","v":0},{"$f":"$K3","v":9006}]
[null,3,"Asphalt Section 401 - Base II",{"$f":"'Order Details'!J9","v":0},{"$f":"IFERROR(VLOOKUP(G$3,'District Bids'!$C$5:$CU$511,9,0),\"\")","v":80},0,{"$f":"IFERROR(IF(E$10=0,0,($D$10*E$10+($D$10*'Complicated Price Adjustment'!$E34))),\"\")","v":0},"",{"$f":"IFERROR(VLOOKUP(K$3,'District Bids'!$C$5:$CU$511,9,0),\"\")","v":80.72},0,{"$f":"IFERROR(IF(I$10=0,0,($D$10*I$10+($D$10*'Complicated Price Adjustment'!$E34))),\"\")","v":0},"",{"$f":"IFERROR(VLOOKUP(O$3,'District Bids'!$C$5:$CU$511,9,0),\"\")","v":80.72},0,{"$f":"IFERROR(IF(M$10=0,0,($D$10*M$10+($D$10*'Complicated Price Adjustment'!$E34))),\"\")","v":0},"",{"$f":"IFERROR(VLOOKUP(S$3,'District Bids'!$C$5:$CU$511,9,0),\"\")","v":74.5},0,{"$f":"IFERROR(IF(Q$10=0,0,($D$10*Q$10+($D$10*'Complicated Price Adjustment'!$E34))),\"\")","v":0},"",{"$f":"IFERROR(VLOOKUP(W$3,'District Bids'!$C$5:$CU$511,9,0),\"\")","v":100.5},0,{"$f":"IFERROR(IF(U$10=0,0,($D$10*U$10+($D$10*'Complicated Price Adjustment'!$E34))),\"\")","v":0},"",{"$f":"IFERROR(VLOOKUP(AA$3,'District Bids'!$C$5:$CU$511,9,0),\"\")","v":100.5},0,{"$f":"IFERROR(IF(Y$10=0,0,($D$10*Y$10+($D$10*'Complicated Price Adjustment'!$E34))),\"\")","v":0},"",{"$f":"IFERROR(VLOOKUP(AE$3,'District Bids'!$C$5:$CU$511,9,0),\"\")","v":99},0,{"$f":"IFERROR(IF(AC$10=0,0,($D$10*AC$10+($D$10*'Complicated Price Adjustment'!$E34))),\"\")","v":0},"",{"$f":"IFERROR(VLOOKUP(AI$3,'District Bids'!$C$5:$CU$511,9,0),\"\")","v":99},0,{"$f":"IFERROR(IF(AG$10=0,0,($D$10*AG$10+($D$10*'Complicated Price Adjustment'!$E34))),\"\")","v":0},"",{"$f":"IFERROR(VLOOKUP(AM$3,'District Bids'!$C$5:$CU$511,9,0),\"\")","v":94},0,{"$f":"IFERROR(IF(AK$10=0,0,($D$10*AK$10+($D$10*'Complicated Price Adjustment'!$E34))),\"\")","v":0},"",{"$f":"IFERROR(VLOOKUP(AQ$3,'District Bids'!$C$5:$CU$511,9,0),\"\")","v":94},0,{"$f":"IFERROR(IF(AO$10=0,0,($D$10*AO$10+($D$10*'Complicated Price Adjustment'!$E34))),\"\")","v":0},"",{"$f":"IFERROR(VLOOKUP(AU$3,'District Bids'!$C$5:$CU$511,9,0),\"\")","v":""},"",{"$f":"IFERROR(IF(AS$10=0,0,($D$10*AS$10+($D$10*'Complicated Price Adjustment'!$E34))),\"\")","v":""},"",{"$f":"IFERROR(VLOOKUP(AY$3,'District Bids'!$C$5:$CU$511,9,0),\"\")","v":""},"",{"$f":"IFERROR(IF(AW$10=0,0,($D$10*AW$10+($D$10*'Complicated Price Adjustment'!$E34))),\"\")","v":""},"",{"$f":"IFERROR(VLOOKUP(BC$3,'District Bids'!$C$5:$CU$511,9,0),\"\")","v":""},"",{"$f":"IFERROR(IF(BA$10=0,0,($D$10*BA$10+($D$10*'Complicated Price Adjustment'!$E34))),\"\")","v":""},"",{"$f":"IFERROR(VLOOKUP(BG$3,'District Bids'!$C$5:$CU$511,9,0),\"\")","v":""},"",{"$f":"IFERROR(IF(BE$10=0,0,($D$10*BE$10+($D$10*'Complicated Price Adjustment'!$E34))),\"\")","v":""},"",{"$f":"IFERROR(VLOOKUP(BK$3,'District Bids'!$C$5:$CU$511,9,0),\"\")","v":""},"",{"$f":"IFERROR(IF(BI$10=0,0,($D$10*BI$10+($D$10*'Complicated Price Adjustment'!$E34))),\"\")","v":""},"",{"$f":"IFERROR(VLOOKUP(BO$3,'District Bids'!$C$5:$CU$511,9,0),\"\")","v":""},"",{"$f":"IFERROR(IF(BM$10=0,0,($D$10*BM$10+($D$10*'Complicated Price Adjustment'!$E34))),\"\")","v":""},"",{"$f":"IFERROR(VLOOKUP(BS$3,'District Bids'!$C$5:$CU$511,9,0),\"\")","v":""},"",{"$f":"IFERROR(IF(BQ$10=0,0,($D$10*BQ$10+($D$10*'Complicated Price Adjustment'!$E34))),\"\")","v":""},"",{"$f":"IFERROR(VLOOKUP(BW$3,'District Bids'!$C$5:$CU$511,9,0),\"\")","v":""},"",{"$f":"IFERROR(IF(BU$10=0,0,($D$10*BU$10+($D$10*'Complicated Price Adjustment'!$E34))),\"\")","v":""},"",{"$f":"IFERROR(VLOOKUP(CA$3,'District Bids'!$C$5:$CU$511,9,0),\"\")","v":""},"",{"$f":"IFERROR(IF(BY$10=0,0,($D$10*BY$10+($D$10*'Complicated Price Adjustment'!$E34))),\"\")","v":""},"",{"$f":"IFERROR(VLOOKUP(CE$3,'District Bids'!$C$5:$CU$511,9,0),\"\")","v":""},"",{"$f":"IFERROR(IF(CC$10=0,0,($D$10*CC$10+($D$10*'Complicated Price Adjustment'!$E34))),\"\")","v":""},"",{"$f":"IFERROR(VLOOKUP(CI$3,'District Bids'!$C$5:$CU$511,9,0),\"\")","v":""},"",{"$f":"IFERROR(IF(CG$10=0,0,($D$10*CG$10+($D$10*'Complicated Price Adjustment'!$E34))),\"\")","v":""},"",{"$f":"IFERROR(VLOOKUP(CM$3,'District Bids'!$C$5:$CU$511,9,0),\"\")","v":""},"",{"$f":"IFERROR(IF(CK$10=0,0,($D$10*CK$10+($D$10*'Complicated Price Adjustment'!$E34))),\"\")","v":""},"",{"$f":"IFERROR(VLOOKUP(CQ$3,'District Bids'!$C$5:$CU$511,9,0),\"\")","v":""},"",{"$f":"IFERROR(IF(CO$10=0,0,($D$10*CO$10+($D$10*'Complicated Price Adjustment'!$E34))),\"\")","v":""},"",{"$f":"IFERROR(VLOOKUP(CU$3,'District Bids'!$C$5:$CU$511,9,0),\"\")","v":""},"",{"$f":"IFERROR(IF(CS$10=0,0,($D$10*CS$10+($D$10*'Complicated Price Adjustment'!$E34))),\"\")","v":""},"",{"$f":"IFERROR(VLOOKUP(CY$3,'District Bids'!$C$5:$CU$511,9,0),\"\")","v":""},"",{"$f":"IFERROR(IF(CW$10=0,0,($D$10*CW$10+($D$10*'Complicated Price Adjustment'!$E34))),\"\")","v":""},"",{"$f":"IFERROR(VLOOKUP(DC$3,'District Bids'!$C$5:$CU$511,9,0),\"\")","v":""},"",{"$f":"IFERROR(IF(DA$10=0,0,($D$10*DA$10+($D$10*'Complicated Price Adjustment'!$E34))),\"\")","v":""},"",{"$f":"IFERROR(VLOOKUP(DG$3,'District Bids'!$C$5:$CU$511,9,0),\"\")","v":""},"",{"$f":"IFERROR(IF(DE$10=0,0,($D$10*DE$10+($D$10*'Complicated Price Adjustment'!$E34))),\"\")","v":""},"",{"$f":"IFERROR(VLOOKUP(DK$3,'District Bids'!$C$5:$CU$511,9,0),\"\")","v":""},"",{"$f":"IFERROR(IF(DI$10=0,0,($D$10*DI$10+($D$10*'Complicated Price Adjustment'!$E34))),\"\")","v":""},"",{"$f":"IFERROR(VLOOKUP(DO$3,'District Bids'!$C$5:$CU$511,9,0),\"\")","v":""},"",{"$f":"IFERROR(IF(DM$10=0,0,($D$10*DM$10+($D$10*'Complicated Price Adjustment'!$E34))),\"\")","v":""},"",{"$f":"IFERROR(VLOOKUP(DS$3,'District Bids'!$C$5:$CU$511,9,0),\"\")","v":""},"",{"$f":"IFERROR(IF(DQ$10=0,0,($D$10*DQ$10+($D$10*'Complicated Price Adjustment'!$E34))),\"\")","v":""},"",{"$f":"IFERROR(VLOOKUP(DW$3,'District Bids'!$C$5:$CU$511,9,0),\"\")","v":""},"",{"$f":"IFERROR(IF(DU$10=0,0,($D$10*DU$10+($D$10*'Complicated Price Adjustment'!$E34))),\"\")","v":""},"",{"$f":"IFERROR(VLOOKUP(EA$3,'District Bids'!$C$5:$CU$511,9,0),\"\")","v":""},"",{"$f":"IFERROR(IF(DY$10=0,0,($D$10*DY$10+($D$10*'Complicated Price Adjustment'!$E34))),\"\")","v":""},"",null,{"$f":"O$6","v":0},{"$f":"IF(O$104=\"Incomplete\",0,IF(O$104<>\"Incomplete\",ED10))","v":0},{"$f":"$O3","v":9008}]
[null,4,"Asphalt Section 401 - Patch and Level",{"$f":"'Order Details'!J10","v":0},{"$f":"IFERROR(VLOOKUP(G$3,'District Bids'!$C$5:$CU$511,10,0),\"\")","v":80},0,{"$f":"IFERROR(IF(E$11=0,0,($D$11*E$11+($D$11*'Complicated Price Adjustment'!$E35))),\"\")","v":0},"",{"$f":"IFERROR(VLOOKUP(K$3,'District Bids'!$C$5:$CU$511,10,0),\"\")","v":80.72},0,{"$f":"IFERROR(IF(I$11=0,0,($D$11*I$11+($D$11*'Complicated Price Adjustment'!$E35))),\"\")","v":0},"",{"$f":"IFERROR(VLOOKUP(O$3,'District Bids'!$C$5:$CU$511,10,0),\"\")","v":80.72},0,{"$f":"IFERROR(IF(M$11=0,0,($D$11*M$11+($D$11*'Complicated Price Adjustment'!$E35))),\"\")","v":0},"",{"$f":"IFERROR(VLOOKUP(S$3,'District Bids'!$C$5:$CU$511,10,0),\"\")","v":74.5},0,{"$f":"IFERROR(IF(Q$11=0,0,($D$11*Q$11+($D$11*'Complicated Price Adjustment'!$E35))),\"\")","v":0},"",{"$f":"IFERROR(VLOOKUP(W$3,'District Bids'!$C$5:$CU$511,10,0),\"\")","v":100.5},0,{"$f":"IFERROR(IF(U$11=0,0,($D$11*U$11+($D$11*'Complicated Price Adjustment'!$E35))),\"\")","v":0},"",{"$f":"IFERROR(VLOOKUP(AA$3,'District Bids'!$C$5:$CU$511,10,0),\"\")","v":100.5},0,{"$f":"IFERROR(IF(Y$11=0,0,($D$11*Y$11+($D$11*'Complicated Price Adjustment'!$E35))),\"\")","v":0},"",{"$f":"IFERROR(VLOOKUP(AE$3,'District Bids'!$C$5:$CU$511,10,0),\"\")","v":99},0,{"$f":"IFERROR(IF(AC$11=0,0,($D$11*AC$11+($D$11*'Complicated Price Adjustment'!$E35))),\"\")","v":0},"",{"$f":"IFERROR(VLOOKUP(AI$3,'District Bids'!$C$5:$CU$511,10,0),\"\")","v":99},0,{"$f":"IFERROR(IF(AG$11=0,0,($D$11*AG$11+($D$11*'Complicated Price Adjustment'!$E35))),\"\")","v":0},"",{"$f":"IFERROR(VLOOKUP(AM$3,'District Bids'!$C$5:$CU$511,10,0),\"\")","v":94},0,{"$f":"IFERROR(IF(AK$11=0,0,($D$11*AK$11+($D$11*'Complicated Price Adjustment'!$E35))),\"\")","v":0},"",{"$f":"IFERROR(VLOOKUP(AQ$3,'District Bids'!$C$5:$CU$511,10,0),\"\")","v":94},0,{"$f":"IFERROR(IF(AO$11=0,0,($D$11*AO$11+($D$11*'Complicated Price Adjustment'!$E35))),\"\")","v":0},"",{"$f":"IFERROR(VLOOKUP(AU$3,'District Bids'!$C$5:$CU$511,10,0),\"\")","v":""},"",{"$f":"IFERROR(IF(AS$11=0,0,($D$11*AS$11+($D$11*'Complicated Price Adjustment'!$E35))),\"\")","v":""},"",{"$f":"IFERROR(VLOOKUP(AY$3,'District Bids'!$C$5:$CU$511,10,0),\"\")","v":""},"",{"$f":"IFERROR(IF(AW$11=0,0,($D$11*AW$11+($D$11*'Complicated Price Adjustment'!$E35))),\"\")","v":""},"",{"$f":"IFERROR(VLOOKUP(BC$3,'District Bids'!$C$5:$CU$511,10,0),\"\")","v":""},"",{"$f":"IFERROR(IF(BA$11=0,0,($D$11*BA$11+($D$11*'Complicated Price Adjustment'!$E35))),\"\")","v":""},"",{"$f":"IFERROR(VLOOKUP(BG$3,'District Bids'!$C$5:$CU$511,10,0),\"\")","v":""},"",{"$f":"IFERROR(IF(BE$11=0,0,($D$11*BE$11+($D$11*'Complicated Price Adjustment'!$E35))),\"\")","v":""},"",{"$f":"IFERROR(VLOOKUP(BK$3,'District Bids'!$C$5:$CU$511,10,0),\"\")","v":""},"",{"$f":"IFERROR(IF(BI$11=0,0,($D$11*BI$11+($D$11*'Complicated Price Adjustment'!$E35))),\"\")","v":""},"",{"$f":"IFERROR(VLOOKUP(BO$3,'District Bids'!$C$5:$CU$511,10,0),\"\")","v":""},"",{"$f":"IFERROR(IF(BM$11=0,0,($D$11*BM$11+($D$11*'Complicated Price Adjustment'!$E35))),\"\")","v":""},"",{"$f":"IFERROR(VLOOKUP(BS$3,'District Bids'!$C$5:$CU$511,10,0),\"\")","v":""},"",{"$f":"IFERROR(IF(BQ$11=0,0,($D$11*BQ$11+($D$11*'Complicated Price Adjustment'!$E35))),\"\")","v":""},"",{"$f":"IFERROR(VLOOKUP(BW$3,'District Bids'!$C$5:$CU$511,10,0),\"\")","v":""},"",{"$f":"IFERROR(IF(BU$11=0,0,($D$11*BU$11+($D$11*'Complicated Price Adjustment'!$E35))),\"\")","v":""},"",{"$f":"IFERROR(VLOOKUP(CA$3,'District Bids'!$C$5:$CU$511,10,0),\"\")","v":""},"",{"$f":"IFERROR(IF(BY$11=0,0,($D$11*BY$11+($D$11*'Complicated Price Adjustment'!$E35))),\"\")","v":""},"",{"$f":"IFERROR(VLOOKUP(CE$3,'District Bids'!$C$5:$CU$511,10,0),\"\")","v":""},"",{"$f":"IFERROR(IF(CC$11=0,0,($D$11*CC$11+($D$11*'Complicated Price Adjustment'!$E35))),\"\")","v":""},"",{"$f":"IFERROR(VLOOKUP(CI$3,'District Bids'!$C$5:$CU$511,10,0),\"\")","v":""},"",{"$f":"IFERROR(IF(CG$11=0,0,($D$11*CG$11+($D$11*'Complicated Price Adjustment'!$E35))),\"\")","v":""},"",{"$f":"IFERROR(VLOOKUP(CM$3,'District Bids'!$C$5:$CU$511,10,0),\"\")","v":""},"",{"$f":"IFERROR(IF(CK$11=0,0,($D$11*CK$11+($D$11*'Complicated Price Adjustment'!$E35))),\"\")","v":""},"",{"$f":"IFERROR(VLOOKUP(CQ$3,'District Bids'!$C$5:$CU$511,10,0),\"\")","v":""},"",{"$f":"IFERROR(IF(CO$11=0,0,($D$11*CO$11+($D$11*'Complicated Price Adjustment'!$E35))),\"\")","v":""},"",{"$f":"IFERROR(VLOOKUP(CU$3,'District Bids'!$C$5:$CU$511,10,0),\"\")","v":""},"",{"$f":"IFERROR(IF(CS$11=0,0,($D$11*CS$11+($D$11*'Complicated Price Adjustment'!$E35))),\"\")","v":""},"",{"$f":"IFERROR(VLOOKUP(CY$3,'District Bids'!$C$5:$CU$511,10,0),\"\")","v":""},"",{"$f":"IFERROR(IF(CW$11=0,0,($D$11*CW$11+($D$11*'Complicated Price Adjustment'!$E35))),\"\")","v":""},"",{"$f":"IFERROR(VLOOKUP(DC$3,'District Bids'!$C$5:$CU$511,10,0),\"\")","v":""},"",{"$f":"IFERROR(IF(DA$11=0,0,($D$11*DA$11+($D$11*'Complicated Price Adjustment'!$E35))),\"\")","v":""},"",{"$f":"IFERROR(VLOOKUP(DG$3,'District Bids'!$C$5:$CU$511,10,0),\"\")","v":""},"",{"$f":"IFERROR(IF(DE$11=0,0,($D$11*DE$11+($D$11*'Complicated Price Adjustment'!$E35))),\"\")","v":""},"",{"$f":"IFERROR(VLOOKUP(DK$3,'District Bids'!$C$5:$CU$511,10,0),\"\")","v":""},"",{"$f":"IFERROR(IF(DI$11=0,0,($D$11*DI$11+($D$11*'Complicated Price Adjustment'!$E35))),\"\")","v":""},"",{"$f":"IFERROR(VLOOKUP(DO$3,'District Bids'!$C$5:$CU$511,10,0),\"\")","v":""},"",{"$f":"IFERROR(IF(DM$11=0,0,($D$11*DM$11+($D$11*'Complicated Price Adjustment'!$E35))),\"\")","v":""},"",{"$f":"IFERROR(VLOOKUP(DS$3,'District Bids'!$C$5:$CU$511,10,0),\"\")","v":""},"",{"$f":"IFERROR(IF(DQ$11=0,0,($D$11*DQ$11+($D$11*'Complicated Price Adjustment'!$E35))),\"\")","v":""},"",{"$f":"IFERROR(VLOOKUP(DW$3,'District Bids'!$C$5:$CU$511,10,0),\"\")","v":""},"",{"$f":"IFERROR(IF(DU$11=0,0,($D$11*DU$11+($D$11*'Complicated Price Adjustment'!$E35))),\"\")","v":""},"",{"$f":"IFERROR(VLOOKUP(EA$3,'District Bids'!$C$5:$CU$511,10,0),\"\")","v":""},"",{"$f":"IFERROR(IF(DY$11=0,0,($D$11*DY$11+($D$11*'Complicated Price Adjustment'!$E35))),\"\")","v":""},"",null,{"$f":"S6","v":0},{"$f":"IF(S$104=\"Incomplete\",0,IF(S$104<>\"Incomplete\",ED11))","v":0},{"$f":"$S3","v":9010}]
[null,5,"Asphalt Section 401 - Wearing IV",{"$f":"'Order Details'!J11","v":0},{"$f":"IFERROR(VLOOKUP(G$3,'District Bids'!$C$5:$CU$511,11,0),\"\")","v":80},0,{"$f":"IFERROR(IF(E$12=0,0,($D$12*E$12+($D$12*'Complicated Price Adjustment'!$E36))),\"\")","v":0},"",{"$f":"IFERROR(VLOOKUP(K$3,'District Bids'!$C$5:$CU$511,11,0),\"\")","v":81.39},0,{"$f":"IFERROR(IF(I$12=0,0,($D$12*I$12+($D$12*'Complicated Price Adjustment'!$E36))),\"\")","v":0},"",{"$f":"IFERROR(VLOOKUP(O$3,'District Bids'!$C$5:$CU$511,11,0),\"\")","v":81.39},0,{"$f":"IFERROR(IF(M$12=0,0,($D$12*M$12+($D$12*'Complicated Price Adjustment'!$E36))),\"\")","v":0},"",{"$f":"IFERROR(VLOOKUP(S$3,'District Bids'!$C$5:$CU$511,11,0),\"\")","v":78.5},0,{"$f":"IFERROR(IF(Q$12=0,0,($D$12*Q$12+($D$12*'Complicated Price Adjustment'!$E36))),\"\")","v":0},"",{"$f":"IFERROR(VLOOKUP(W$3,'District Bids'!$C$5:$CU$511,11,0),\"\")","v":102.5},0,{"$f":"IFERROR(IF(U$12=0,0,($D$12*U$12+($D$12*'Complicated Price Adjustment'!$E36))),\"\")","v":0},"",{"$f":"IFERROR(VLOOKUP(AA$3,'District Bids'!$C$5:$CU$511,11,0),\"\")","v":102.5},0,{"$f":"IFERROR(IF(Y$12=0,0,($D$12*Y$12+($D$12*'Complicated Price Adjustment'!$E36))),\"\")","v":0},"",{"$f":"IFERROR(VLOOKUP(AE$3,'District Bids'!$C$5:$CU$511,11,0),\"\")","v":99},0,{"$f":"IFERROR(IF(AC$12=0,0,($D$12*AC$12+($D$12*'Complicated Price Adjustment'!$E36))),\"\")","v":0},"",{"$f":"IFERROR(VLOOKUP(AI$3,'District Bids'!$C$5:$CU$511,11,0),\"\")","v":99},0,{"$f":"IFERROR(IF(AG$12=0,0,($D$12*AG$12+($D$12*'Complicated Price Adjustment'!$E36))),\"\")","v":0},"",{"$f":"IFERROR(VLOOKUP(AM$3,'District Bids'!$C$5:$CU$511,11,0),\"\")","v":94},0,{"$f":"IFERROR(IF(AK$12=0,0,($D$12*AK$12+($D$12*'Complicated Price Adjustment'!$E36))),\"\")","v":0},"",{"$f":"IFERROR(VLOOKUP(AQ$3,'District Bids'!$C$5:$CU$511,11,0),\"\")","v":94},0,{"$f":"IFERROR(IF(AO$12=0,0,($D$12*AO$12+($D$12*'Complicated Price Adjustment'!$E36))),\"\")","v":0},"",{"$f":"IFERROR(VLOOKUP(AU$3,'District Bids'!$C$5:$CU$511,11,0),\"\")","v":""},"",{"$f":"IFERROR(IF(AS$12=0,0,($D$12*AS$12+($D$12*'Complicated Price Adjustment'!$E36))),\"\")","v":""},"",{"$f":"IFERROR(VLOOKUP(AY$3,'District Bids'!$C$5:$CU$511,11,0),\"\")","v":""},"",{"$f":"IFERROR(IF(AW$12=0,0,($D$12*AW$12+($D$12*'Complicated Price Adjustment'!$E36))),\"\")","v":""},"",{"$f":"IFERROR(VLOOKUP(BC$3,'District Bids'!$C$5:$CU$511,11,0),\"\")","v":""},"",{"$f":"IFERROR(IF(BA$12=0,0,($D$12*BA$12+($D$12*'Complicated Price Adjustment'!$E36))),\"\")","v":""},"",{"$f":"IFERROR(VLOOKUP(BG$3,'District Bids'!$C$5:$CU$511,11,0),\"\")","v":""},"",{"$f":"IFERROR(IF(BE$12=0,0,($D$12*BE$12+($D$12*'Complicated Price Adjustment'!$E36))),\"\")","v":""},"",{"$f":"IFERROR(VLOOKUP(BK$3,'District Bids'!$C$5:$CU$511,11,0),\"\")","v":""},"",{"$f":"IFERROR(IF(BI$12=0,0,($D$12*BI$12+($D$12*'Complicated Price Adjustment'!$E36))),\"\")","v":""},"",{"$f":"IFERROR(VLOOKUP(BO$3,'District Bids'!$C$5:$CU$511,11,0),\"\")","v":""},"",{"$f":"IFERROR(IF(BM$12=0,0,($D$12*BM$12+($D$12*'Complicated Price Adjustment'!$E36))),\"\")","v":""},"",{"$f":"IFERROR(VLOOKUP(BS$3,'District Bids'!$C$5:$CU$511,11,0),\"\")","v":""},"",{"$f":"IFERROR(IF(BQ$12=0,0,($D$12*BQ$12+($D$12*'Complicated Price Adjustment'!$E36))),\"\")","v":""},"",{"$f":"IFERROR(VLOOKUP(BW$3,'District Bids'!$C$5:$CU$511,11,0),\"\")","v":""},"",{"$f":"IFERROR(IF(BU$12=0,0,($D$12*BU$12+($D$12*'Complicated Price Adjustment'!$E36))),\"\")","v":""},"",{"$f":"IFERROR(VLOOKUP(CA$3,'District Bids'!$C$5:$CU$511,11,0),\"\")","v":""},"",{"$f":"IFERROR(IF(BY$12=0,0,($D$12*BY$12+($D$12*'Complicated Price Adjustment'!$E36))),\"\")","v":""},"",{"$f":"IFERROR(VLOOKUP(CE$3,'District Bids'!$C$5:$CU$511,11,0),\"\")","v":""},"",{"$f":"IFERROR(IF(CC$12=0,0,($D$12*CC$12+($D$12*'Complicated Price Adjustment'!$E36))),\"\")","v":""},"",{"$f":"IFERROR(VLOOKUP(CI$3,'District Bids'!$C$5:$CU$511,11,0),\"\")","v":""},"",{"$f":"IFERROR(IF(CG$12=0,0,($D$12*CG$12+($D$12*'Complicated Price Adjustment'!$E36))),\"\")","v":""},"",{"$f":"IFERROR(VLOOKUP(CM$3,'District Bids'!$C$5:$CU$511,11,0),\"\")","v":""},"",{"$f":"IFERROR(IF(CK$12=0,0,($D$12*CK$12+($D$12*'Complicated Price Adjustment'!$E36))),\"\")","v":""},"",{"$f":"IFERROR(VLOOKUP(CQ$3,'District Bids'!$C$5:$CU$511,11,0),\"\")","v":""},"",{"$f":"IFERROR(IF(CO$12=0,0,($D$12*CO$12+($D$12*'Complicated Price Adjustment'!$E36))),\"\")","v":""},"",{"$f":"IFERROR(VLOOKUP(CU$3,'District Bids'!$C$5:$CU$511,11,0),\"\")","v":""},"",{"$f":"IFERROR(IF(CS$12=0,0,($D$12*CS$12+($D$12*'Complicated Price Adjustment'!$E36))),\"\")","v":""},"",{"$f":"IFERROR(VLOOKUP(CY$3,'District Bids'!$C$5:$CU$511,11,0),\"\")","v":""},"",{"$f":"IFERROR(IF(CW$12=0,0,($D$12*CW$12+($D$12*'Complicated Price Adjustment'!$E36))),\"\")","v":""},"",{"$f":"IFERROR(VLOOKUP(DC$3,'District Bids'!$C$5:$CU$511,11,0),\"\")","v":""},"",{"$f":"IFERROR(IF(DA$12=0,0,($D$12*DA$12+($D$12*'Complicated Price Adjustment'!$E36))),\"\")","v":""},"",{"$f":"IFERROR(VLOOKUP(DG$3,'District Bids'!$C$5:$CU$511,11,0),\"\")","v":""},"",{"$f":"IFERROR(IF(DE$12=0,0,($D$12*DE$12+($D$12*'Complicated Price Adjustment'!$E36))),\"\")","v":""},"",{"$f":"IFERROR(VLOOKUP(DK$3,'District Bids'!$C$5:$CU$511,11,0),\"\")","v":""},"",{"$f":"IFERROR(IF(DI$12=0,0,($D$12*DI$12+($D$12*'Complicated Price Adjustment'!$E36))),\"\")","v":""},"",{"$f":"IFERROR(VLOOKUP(DO$3,'District Bids'!$C$5:$CU$511,11,0),\"\")","v":""},"",{"$f":"IFERROR(IF(DM$12=0,0,($D$12*DM$12+($D$12*'Complicated Price Adjustment'!$E36))),\"\")","v":""},"",{"$f":"IFERROR(VLOOKUP(DS$3,'District Bids'!$C$5:$CU$511,11,0),\"\")","v":""},"",{"$f":"IFERROR(IF(DQ$12=0,0,($D$12*DQ$12+($D$12*'Complicated Price Adjustment'!$E36))),\"\")","v":""},"",{"$f":"IFERROR(VLOOKUP(DW$3,'District Bids'!$C$5:$CU$511,11,0),\"\")","v":""},"",{"$f":"IFERROR(IF(DU$12=0,0,($D$12*DU$12+($D$12*'Complicated Price Adjustment'!$E36))),\"\")","v":""},"",{"$f":"IFERROR(VLOOKUP(EA$3,'District Bids'!$C$5:$CU$511,11,0),\"\")","v":""},"",{"$f":"IFERROR(IF(DY$12=0,0,($D$12*DY$12+($D$12*'Complicated Price Adjustment'!$E36))),\"\")","v":""},"",null,{"$f":"IFERROR(W$6,\"\")","v":0},{"$f":"IFERROR(IF(W$104=\"Incomplete\",0,IF(W$104<>\"Incomplete\",ED12)),\"\")","v":0},{"$f":"$W3","v":9021}]
[null,6,"Asphalt Section 402 - Wearing IV",{"$f":"'Order Details'!J12","v":0},{"$f":"IFERROR(VLOOKUP(G$3,'District Bids'!$C$5:$CU$511,12,0),\"\")","v":0},0,{"$f":"IFERROR(IF(E$13=0,0,($D$13*E$13+($D$13*'Complicated Price Adjustment'!$E37))),\"\")","v":0},"",{"$f":"IFERROR(VLOOKUP(K$3,'District Bids'!$C$5:$CU$511,12,0),\"\")","v":91.22},0,{"$f":"IFERROR(IF(I$13=0,0,($D$13*I$13+($D$13*'Complicated Price Adjustment'!$E37))),\"\")","v":0},"",{"$f":"IFERROR(VLOOKUP(O$3,'District Bids'!$C$5:$CU$511,12,0),\"\")","v":91.22},0,{"$f":"IFERROR(IF(M$13=0,0,($D$13*M$13+($D$13*'Complicated Price Adjustment'!$E37))),\"\")","v":0},"",{"$f":"IFERROR(VLOOKUP(S$3,'District Bids'!$C$5:$CU$511,12,0),\"\")","v":0},0,{"$f":"IFERROR(IF(Q$13=0,0,($D$13*Q$13+($D$13*'Complicated Price Adjustment'!$E37))),\"\")","v":0},"",{"$f":"IFERROR(VLOOKUP(W$3,'District Bids'!$C$5:$CU$511,12,0),\"\")","v":0},0,{"$f":"IFERROR(IF(U$13=0,0,($D$13*U$13+($D$13*'Complicated Price Adjustment'!$E37))),\"\")","v":0},"",{"$f":"IFERROR(VLOOKUP(AA$3,'District Bids'!$C$5:$CU$511,12,0),\"\")","v":0},0,{"$f":"IFERROR(IF(Y$13=0,0,($D$13*Y$13+($D$13*'Complicated Price Adjustment'!$E37))),\"\")","v":0},"",{"$f":"IFERROR(VLOOKUP(AE$3,'District Bids'!$C$5:$CU$511,12,0),\"\")","v":0},0,{"$f":"IFERROR(IF(AC$13=0,0,($D$13*AC$13+($D$13*'Complicated Price Adjustment'!$E37))),\"\")","v":0},"",{"$f":"IFERROR(VLOOKUP(AI$3,'District Bids'!$C$5:$CU$511,12,0),\"\")","v":0},0,{"$f":"IFERROR(IF(AG$13=0,0,($D$13*AG$13+($D$13*'Complicated Price Adjustment'!$E37))),\"\")","v":0},"",{"$f":"IFERROR(VLOOKUP(AM$3,'District Bids'!$C$5:$CU$511,12,0),\"\")","v":0},0,{"$f":"IFERROR(IF(AK$13=0,0,($D$13*AK$13+($D$13*'Complicated Price Adjustment'!$E37))),\"\")","v":0},"",{"$f":"IFERROR(VLOOKUP(AQ$3,'District Bids'!$C$5:$CU$511,12,0),\"\")","v":0},0,{"$f":"IFERROR(IF(AO$13=0,0,($D$13*AO$13+($D$13*'Complicated Price Adjustment'!$E37))),\"\")","v":0},"",{"$f":"IFERROR(VLOOKUP(AU$3,'District Bids'!$C$5:$CU$511,12,0),\"\")","v":""},"",{"$f":"IFERROR(IF(AS$13=0,0,($D$13*AS$13+($D$13*'Complicated Price Adjustment'!$E37))),\"\")","v":""},"",{"$f":"IFERROR(VLOOKUP(AY$3,'District Bids'!$C$5:$CU$511,12,0),\"\")","v":""},"",{"$f":"IFERROR(IF(AW$13=0,0,($D$13*AW$13+($D$13*'Complicated Price Adjustment'!$E37))),\"\")","v":""},"",{"$f":"IFERROR(VLOOKUP(BC$3,'District Bids'!$C$5:$CU$511,12,0),\"\")","v":""},"",{"$f":"IFERROR(IF(BA$13=0,0,($D$13*BA$13+($D$13*'Complicated Price Adjustment'!$E37))),\"\")","v":""},"",{"$f":"IFERROR(VLOOKUP(BG$3,'District Bids'!$C$5:$CU$511,12,0),\"\")","v":""},"",{"$f":"IFERROR(IF(BE$13=0,0,($D$13*BE$13+($D$13*'Complicated Price Adjustment'!$E37))),\"\")","v":""},"",{"$f":"IFERROR(VLOOKUP(BK$3,'District Bids'!$C$5:$CU$511,12,0),\"\")","v":""},"",{"$f":"IFERROR(IF(BI$13=0,0,($D$13*BI$13+($D$13*'Complicated Price Adjustment'!$E37))),\"\")","v":""},"",{"$f":"IFERROR(VLOOKUP(BO$3,'District Bids'!$C$5:$CU$511,12,0),\"\")","v":""},"",{"$f":"IFERROR(IF(BM$13=0,0,($D$13*BM$13+($D$13*'Complicated Price Adjustment'!$E37))),\"\")","v":""},"",{"$f":"IFERROR(VLOOKUP(BS$3,'District Bids'!$C$5:$CU$511,12,0),\"\")","v":""},"",{"$f":"IFERROR(IF(BQ$13=0,0,($D$13*BQ$13+($D$13*'Complicated Price Adjustment'!$E37))),\"\")","v":""},"",{"$f":"IFERROR(VLOOKUP(BW$3,'District Bids'!$C$5:$CU$511,12,0),\"\")","v":""},"",{"$f":"IFERROR(IF(BU$13=0,0,($D$13*BU$13+($D$13*'Complicated Price Adjustment'!$E37))),\"\")","v":""},"",{"$f":"IFERROR(VLOOKUP(CA$3,'District Bids'!$C$5:$CU$511,12,0),\"\")","v":""},"",{"$f":"IFERROR(IF(BY$13=0,0,($D$13*BY$13+($D$13*'Complicated Price Adjustment'!$E37))),\"\")","v":""},"",{"$f":"IFERROR(VLOOKUP(CE$3,'District Bids'!$C$5:$CU$511,12,0),\"\")","v":""},"",{"$f":"IFERROR(IF(CC$13=0,0,($D$13*CC$13+($D$13*'Complicated Price Adjustment'!$E37))),\"\")","v":""},"",{"$f":"IFERROR(VLOOKUP(CI$3,'District Bids'!$C$5:$CU$511,12,0),\"\")","v":""},"",{"$f":"IFERROR(IF(CG$13=0,0,($D$13*CG$13+($D$13*'Complicated Price Adjustment'!$E37))),\"\")","v":""},"",{"$f":"IFERROR(VLOOKUP(CM$3,'District Bids'!$C$5:$CU$511,12,0),\"\")","v":""},"",{"$f":"IFERROR(IF(CK$13=0,0,($D$13*CK$13+($D$13*'Complicated Price Adjustment'!$E37))),\"\")","v":""},"",{"$f":"IFERROR(VLOOKUP(CQ$3,'District Bids'!$C$5:$CU$511,12,0),\"\")","v":""},"",{"$f":"IFERROR(IF(CO$13=0,0,($D$13*CO$13+($D$13*'Complicated Price Adjustment'!$E37))),\"\")","v":""},"",{"$f":"IFERROR(VLOOKUP(CU$3,'District Bids'!$C$5:$CU$511,12,0),\"\")","v":""},"",{"$f":"IFERROR(IF(CS$13=0,0,($D$13*CS$13+($D$13*'Complicated Price Adjustment'!$E37))),\"\")","v":""},"",{"$f":"IFERROR(VLOOKUP(CY$3,'District Bids'!$C$5:$CU$511,12,0),\"\")","v":""},"",{"$f":"IFERROR(IF(CW$13=0,0,($D$13*CW$13+($D$13*'Complicated Price Adjustment'!$E37))),\"\")","v":""},"",{"$f":"IFERROR(VLOOKUP(DC$3,'District Bids'!$C$5:$CU$511,12,0),\"\")","v":""},"",{"$f":"IFERROR(IF(DA$13=0,0,($D$13*DA$13+($D$13*'Complicated Price Adjustment'!$E37))),\"\")","v":""},"",{"$f":"IFERROR(VLOOKUP(DG$3,'District Bids'!$C$5:$CU$511,12,0),\"\")","v":""},"",{"$f":"IFERROR(IF(DE$13=0,0,($D$13*DE$13+($D$13*'Complicated Price Adjustment'!$E37))),\"\")","v":""},"",{"$f":"IFERROR(VLOOKUP(DK$3,'District Bids'!$C$5:$CU$511,12,0),\"\")","v":""},"",{"$f":"IFERROR(IF(DI$13=0,0,($D$13*DI$13+($D$13*'Complicated Price Adjustment'!$E37))),\"\")","v":""},"",{"$f":"IFERROR(VLOOKUP(DO$3,'District Bids'!$C$5:$CU$511,12,0),\"\")","v":""},"",{"$f":"IFERROR(IF(DM$13=0,0,($D$13*DM$13+($D$13*'Complicated Price Adjustment'!$E37))),\"\")","v":""},"",{"$f":"IFERROR(VLOOKUP(DS$3,'District Bids'!$C$5:$CU$511,12,0),\"\")","v":""},"",{"$f":"IFERROR(IF(DQ$13=0,0,($D$13*DQ$13+($D$13*'Complicated Price Adjustment'!$E37))),\"\")","v":""},"",{"$f":"IFERROR(VLOOKUP(DW$3,'District Bids'!$C$5:$CU$511,12,0),\"\")","v":""},"",{"$f":"IFERROR(IF(DU$13=0,0,($D$13*DU$13+($D$13*'Complicated Price Adjustment'!$E37))),\"\")","v":""},"",{"$f":"IFERROR(VLOOKUP(EA$3,'District Bids'!$C$5:$CU$511,12,0),\"\")","v":""},"",{"$f":"IFERROR(IF(DY$13=0,0,($D$13*DY$13+($D$13*'Complicated Price Adjustment'!$E37))),\"\")","v":""},"",null,{"$f":"IFERROR(AA$6,\"\")","v":0},{"$f":"IFERROR(IF(AA$104=\"Incomplete\",0,IF(AA$104<>\"Incomplete\",ED13)),\"\")","v":0},{"$f":"$AA3","v":9022}]
[null,7,"Asphalt Section 401 - 19mm Superpave",{"$f":"'Order Details'!J13","v":0},{"$f":"IFERROR(VLOOKUP(G$3,'District Bids'!$C$5:$CU$511,13,0),\"\")","v":80},0,{"$f":"IFERROR(IF(E$14=0,0,($D$14*E$14+($D$14*'Complicated Price Adjustment'!$E38))),\"\")","v":0},"",{"$f":"IFERROR(VLOOKUP(K$3,'District Bids'!$C$5:$CU$511,13,0),\"\")","v":83.54},0,{"$f":"IFERROR(IF(I$14=0,0,($D$14*I$14+($D$14*'Complicated Price Adjustment'!$E38))),\"\")","v":0},"",{"$f":"IFERROR(VLOOKUP(O$3,'District Bids'!$C$5:$CU$511,13,0),\"\")","v":83.54},0,{"$f":"IFERROR(IF(M$14=0,0,($D$14*M$14+($D$14*'Complicated Price Adjustment'!$E38))),\"\")","v":0},"",{"$f":"IFERROR(VLOOKUP(S$3,'District Bids'!$C$5:$CU$511,13,0),\"\")","v":0},0,{"$f":"IFERROR(IF(Q$14=0,0,($D$14*Q$14+($D$14*'Complicated Price Adjustment'!$E38))),\"\")","v":0},"",{"$f":"IFERROR(VLOOKUP(W$3,'District Bids'!$C$5:$CU$511,13,0),\"\")","v":101.25},0,{"$f":"IFERROR(IF(U$14=0,0,($D$14*U$14+($D$14*'Complicated Price Adjustment'!$E38))),\"\")","v":0},"",{"$f":"IFERROR(VLOOKUP(AA$3,'District Bids'!$C$5:$CU$511,13,0),\"\")","v":101.25},0,{"$f":"IFERROR(IF(Y$14=0,0,($D$14*Y$14+($D$14*'Complicated Price Adjustment'!$E38))),\"\")","v":0},"",{"$f":"IFERROR(VLOOKUP(AE$3,'District Bids'!$C$5:$CU$511,13,0),\"\")","v":98.5},0,{"$f":"IFERROR(IF(AC$14=0,0,($D$14*AC$14+($D$14*'Complicated Price Adjustment'!$E38))),\"\")","v":0},"",{"$f":"IFERROR(VLOOKUP(AI$3,'District Bids'!$C$5:$CU$511,13,0),\"\")","v":98.5},0,{"$f":"IFERROR(IF(AG$14=0,0,($D$14*AG$14+($D$14*'Complicated Price Adjustment'!$E38))),\"\")","v":0},"",{"$f":"IFERROR(VLOOKUP(AM$3,'District Bids'!$C$5:$CU$511,13,0),\"\")","v":94},0,{"$f":"IFERROR(IF(AK$14=0,0,($D$14*AK$14+($D$14*'Complicated Price Adjustment'!$E38))),\"\")","v":0},"",{"$f":"IFERROR(VLOOKUP(AQ$3,'District Bids'!$C$5:$CU$511,13,0),\"\")","v":94},0,{"$f":"IFERROR(IF(AO$14=0,0,($D$14*AO$14+($D$14*'Complicated Price Adjustment'!$E38))),\"\")","v":0},"",{"$f":"IFERROR(VLOOKUP(AU$3,'District Bids'!$C$5:$CU$511,13,0),\"\")","v":""},"",{"$f":"IFERROR(IF(AS$14=0,0,($D$14*AS$14+($D$14*'Complicated Price Adjustment'!$E38))),\"\")","v":""},"",{"$f":"IFERROR(VLOOKUP(AY$3,'District Bids'!$C$5:$CU$511,13,0),\"\")","v":""},"",{"$f":"IFERROR(IF(AW$14=0,0,($D$14*AW$14+($D$14*'Complicated Price Adjustment'!$E38))),\"\")","v":""},"",{"$f":"IFERROR(VLOOKUP(BC$3,'District Bids'!$C$5:$CU$511,13,0),\"\")","v":""},"",{"$f":"IFERROR(IF(BA$14=0,0,($D$14*BA$14+($D$14*'Complicated Price Adjustment'!$E38))),\"\")","v":""},"",{"$f":"IFERROR(VLOOKUP(BG$3,'District Bids'!$C$5:$CU$511,13,0),\"\")","v":""},"",{"$f":"IFERROR(IF(BE$14=0,0,($D$14*BE$14+($D$14*'Complicated Price Adjustment'!$E38))),\"\")","v":""},"",{"$f":"IFERROR(VLOOKUP(BK$3,'District Bids'!$C$5:$CU$511,13,0),\"\")","v":""},"",{"$f":"IFERROR(IF(BI$14=0,0,($D$14*BI$14+($D$14*'Complicated Price Adjustment'!$E38))),\"\")","v":""},"",{"$f":"IFERROR(VLOOKUP(BO$3,'District Bids'!$C$5:$CU$511,13,0),\"\")","v":""},"",{"$f":"IFERROR(IF(BM$14=0,0,($D$14*BM$14+($D$14*'Complicated Price Adjustment'!$E38))),\"\")","v":""},"",{"$f":"IFERROR(VLOOKUP(BS$3,'District Bids'!$C$5:$CU$511,13,0),\"\")","v":""},"",{"$f":"IFERROR(IF(BQ$14=0,0,($D$14*BQ$14+($D$14*'Complicated Price Adjustment'!$E38))),\"\")","v":""},"",{"$f":"IFERROR(VLOOKUP(BW$3,'District Bids'!$C$5:$CU$511,13,0),\"\")","v":""},"",{"$f":"IFERROR(IF(BU$14=0,0,($D$14*BU$14+($D$14*'Complicated Price Adjustment'!$E38))),\"\")","v":""},"",{"$f":"IFERROR(VLOOKUP(CA$3,'District Bids'!$C$5:$CU$511,13,0),\"\")","v":""},"",{"$f":"IFERROR(IF(BY$14=0,0,($D$14*BY$14+($D$14*'Complicated Price Adjustment'!$E38))),\"\")","v":""},"",{"$f":"IFERROR(VLOOKUP(CE$3,'District Bids'!$C$5:$CU$511,13,0),\"\")","v":""},"",{"$f":"IFERROR(IF(CC$14=0,0,($D$14*CC$14+($D$14*'Complicated Price Adjustment'!$E38))),\"\")","v":""},"",{"$f":"IFERROR(VLOOKUP(CI$3,'District Bids'!$C$5:$CU$511,13,0),\"\")","v":""},"",{"$f":"IFERROR(IF(CG$14=0,0,($D$14*CG$14+($D$14*'Complicated Price Adjustment'!$E38))),\"\")","v":""},"",{"$f":"IFERROR(VLOOKUP(CM$3,'District Bids'!$C$5:$CU$511,13,0),\"\")","v":""},"",{"$f":"IFERROR(IF(CK$14=0,0,($D$14*CK$14+($D$14*'Complicated Price Adjustment'!$E38))),\"\")","v":""},"",{"$f":"IFERROR(VLOOKUP(CQ$3,'District Bids'!$C$5:$CU$511,13,0),\"\")","v":""},"",{"$f":"IFERROR(IF(CO$14=0,0,($D$14*CO$14+($D$14*'Complicated Price Adjustment'!$E38))),\"\")","v":""},"",{"$f":"IFERROR(VLOOKUP(CU$3,'District Bids'!$C$5:$CU$511,13,0),\"\")","v":""},"",{"$f":"IFERROR(IF(CS$14=0,0,($D$14*CS$14+($D$14*'Complicated Price Adjustment'!$E38))),\"\")","v":""},"",{"$f":"IFERROR(VLOOKUP(CY$3,'District Bids'!$C$5:$CU$511,13,0),\"\")","v":""},"",{"$f":"IFERROR(IF(CW$14=0,0,($D$14*CW$14+($D$14*'Complicated Price Adjustment'!$E38))),\"\")","v":""},"",{"$f":"IFERROR(VLOOKUP(DC$3,'District Bids'!$C$5:$CU$511,13,0),\"\")","v":""},"",{"$f":"IFERROR(IF(DA$14=0,0,($D$14*DA$14+($D$14*'Complicated Price Adjustment'!$E38))),\"\")","v":""},"",{"$f":"IFERROR(VLOOKUP(DG$3,'District Bids'!$C$5:$CU$511,13,0),\"\")","v":""},"",{"$f":"IFERROR(IF(DE$14=0,0,($D$14*DE$14+($D$14*'Complicated Price Adjustment'!$E38))),\"\")","v":""},"",{"$f":"IFERROR(VLOOKUP(DK$3,'District Bids'!$C$5:$CU$511,13,0),\"\")","v":""},"",{"$f":"IFERROR(IF(DI$14=0,0,($D$14*DI$14+($D$14*'Complicated Price Adjustment'!$E38))),\"\")","v":""},"",{"$f":"IFERROR(VLOOKUP(DO$3,'District Bids'!$C$5:$CU$511,13,0),\"\")","v":""},"",{"$f":"IFERROR(IF(DM$14=0,0,($D$14*DM$14+($D$14*'Complicated Price Adjustment'!$E38))),\"\")","v":""},"",{"$f":"IFERROR(VLOOKUP(DS$3,'District Bids'!$C$5:$CU$511,13,0),\"\")","v":""},"",{"$f":"IFERROR(IF(DQ$14=0,0,($D$14*DQ$14+($D$14*'Complicated Price Adjustment'!$E38))),\"\")","v":""},"",{"$f":"IFERROR(VLOOKUP(DW$3,'District Bids'!$C$5:$CU$511,13,0),\"\")","v":""},"",{"$f":"IFERROR(IF(DU$14=0,0,($D$14*DU$14+($D$14*'Complicated Price Adjustment'!$E38))),\"\")","v":""},"",{"$f":"IFERROR(VLOOKUP(EA$3,'District Bids'!$C$5:$CU$511,13,0),\"\")","v":""},"",{"$f":"IFERROR(IF(DY$14=0,0,($D$14*DY$14+($D$14*'Complicated Price Adjustment'!$E38))),\"\")","v":""},"",null,{"$f":"IFERROR(AE$6,\"\")","v":0},{"$f":"IFERROR(IF(AE$104=\"Incomplete\",0,IF(AE$104<>\"Incomplete\",ED14)),\"\")","v":0},{"$f":"$AE3","v":9026}]
[null,8,"Asphalt Section 401 - Scratch Course",{"$f":"'Order Details'!J14","v":0},{"$f":"IFERROR(VLOOKUP(G$3,'District Bids'!$C$5:$CU$511,14,0),\"\")","v":82},0,{"$f":"IFERROR(IF(E$15=0,0,($D$15*E$15+($D$15*'Complicated Price Adjustment'!$E39))),\"\")","v":0},"",{"$f":"IFERROR(VLOOKUP(K$3,'District Bids'!$C$5:$CU$511,14,0),\"\")","v":88.1},0,{"$f":"IFERROR(IF(I$15=0,0,($D$15*I$15+($D$15*'Complicated Price Adjustment'!$E39))),\"\")","v":0},"",{"$f":"IFERROR(VLOOKUP(O$3,'District Bids'!$C$5:$CU$511,14,0),\"\")","v":88.1},0,{"$f":"IFERROR(IF(M$15=0,0,($D$15*M$15+($D$15*'Complicated Price Adjustment'!$E39))),\"\")","v":0},"",{"$f":"IFERROR(VLOOKUP(S$3,'District Bids'!$C$5:$CU$511,14,0),\"\")","v":79.5},0,{"$f":"IFERROR(IF(Q$15=0,0,($D$15*Q$15+($D$15*'Complicated Price Adjustment'!$E39))),\"\")","v":0},"",{"$f":"IFERROR(VLOOKUP(W$3,'District Bids'!$C$5:$CU$511,14,0),\"\")","v":106.5},0,{"$f":"IFERROR(IF(U$15=0,0,($D$15*U$15+($D$15*'Complicated Price Adjustment'!$E39))),\"\")","v":0},"",{"$f":"IFERROR(VLOOKUP(AA$3,'District Bids'!$C$5:$CU$511,14,0),\"\")","v":106.5},0,{"$f":"IFERROR(IF(Y$15=0,0,($D$15*Y$15+($D$15*'Complicated Price Adjustment'!$E39))),\"\")","v":0},"",{"$f":"IFERROR(VLOOKUP(AE$3,'District Bids'!$C$5:$CU$511,14,0),\"\")","v":108},0,{"$f":"IFERROR(IF(AC$15=0,0,($D$15*AC$15+($D$15*'Complicated Price Adjustment'!$E39))),\"\")","v":0},"",{"$f":"IFERROR(VLOOKUP(AI$3,'District Bids'!$C$5:$CU$511,14,0),\"\")","v":108},0,{"$f":"IFERROR(IF(AG$15=0,0,($D$15*AG$15+($D$15*'Complicated Price Adjustment'!$E39))),\"\")","v":0},"",{"$f":"IFERROR(VLOOKUP(AM$3,'District Bids'!$C$5:$CU$511,14,0),\"\")","v":100},0,{"$f":"IFERROR(IF(AK$15=0,0,($D$15*AK$15+($D$15*'Complicated Price Adjustment'!$E39))),\"\")","v":0},"",{"$f":"IFERROR(VLOOKUP(AQ$3,'District Bids'!$C$5:$CU$511,14,0),\"\")","v":100},0,{"$f":"IFERROR(IF(AO$15=0,0,($D$15*AO$15+($D$15*'Complicated Price Adjustment'!$E39))),\"\")","v":0},"",{"$f":"IFERROR(VLOOKUP(AU$3,'District Bids'!$C$5:$CU$511,14,0),\"\")","v":""},"",{"$f":"IFERROR(IF(AS$15=0,0,($D$15*AS$15+($D$15*'Complicated Price Adjustment'!$E39))),\"\")","v":""},"",{"$f":"IFERROR(VLOOKUP(AY$3,'District Bids'!$C$5:$CU$511,14,0),\"\")","v":""},"",{"$f":"IFERROR(IF(AW$15=0,0,($D$15*AW$15+($D$15*'Complicated Price Adjustment'!$E39))),\"\")","v":""},"",{"$f":"IFERROR(VLOOKUP(BC$3,'District Bids'!$C$5:$CU$511,14,0),\"\")","v":""},"",{"$f":"IFERROR(IF(BA$15=0,0,($D$15*BA$15+($D$15*'Complicated Price Adjustment'!$E39))),\"\")","v":""},"",{"$f":"IFERROR(VLOOKUP(BG$3,'District Bids'!$C$5:$CU$511,14,0),\"\")","v":""},"",{"$f":"IFERROR(IF(BE$15=0,0,($D$15*BE$15+($D$15*'Complicated Price Adjustment'!$E39))),\"\")","v":""},"",{"$f":"IFERROR(VLOOKUP(BK$3,'District Bids'!$C$5:$CU$511,14,0),\"\")","v":""},"",{"$f":"IFERROR(IF(BI$15=0,0,($D$15*BI$15+($D$15*'Complicated Price Adjustment'!$E39))),\"\")","v":""},"",{"$f":"IFERROR(VLOOKUP(BO$3,'District Bids'!$C$5:$CU$511,14,0),\"\")","v":""},"",{"$f":"IFERROR(IF(BM$15=0,0,($D$15*BM$15+($D$15*'Complicated Price Adjustment'!$E39))),\"\")","v":""},"",{"$f":"IFERROR(VLOOKUP(BS$3,'District Bids'!$C$5:$CU$511,14,0),\"\")","v":""},"",{"$f":"IFERROR(IF(BQ$15=0,0,($D$15*BQ$15+($D$15*'Complicated Price Adjustment'!$E39))),\"\")","v":""},"",{"$f":"IFERROR(VLOOKUP(BW$3,'District Bids'!$C$5:$CU$511,14,0),\"\")","v":""},"",{"$f":"IFERROR(IF(BU$15=0,0,($D$15*BU$15+($D$15*'Complicated Price Adjustment'!$E39))),\"\")","v":""},"",{"$f":"IFERROR(VLOOKUP(CA$3,'District Bids'!$C$5:$CU$511,14,0),\"\")","v":""},"",{"$f":"IFERROR(IF(BY$15=0,0,($D$15*BY$15+($D$15*'Complicated Price Adjustment'!$E39))),\"\")","v":""},"",{"$f":"IFERROR(VLOOKUP(CE$3,'District Bids'!$C$5:$CU$511,14,0),\"\")","v":""},"",{"$f":"IFERROR(IF(CC$15=0,0,($D$15*CC$15+($D$15*'Complicated Price Adjustment'!$E39))),\"\")","v":""},"",{"$f":"IFERROR(VLOOKUP(CI$3,'District Bids'!$C$5:$CU$511,14,0),\"\")","v":""},"",{"$f":"IFERROR(IF(CG$15=0,0,($D$15*CG$15+($D$15*'Complicated Price Adjustment'!$E39))),\"\")","v":""},"",{"$f":"IFERROR(VLOOKUP(CM$3,'District Bids'!$C$5:$CU$511,14,0),\"\")","v":""},"",{"$f":"IFERROR(IF(CK$15=0,0,($D$15*CK$15+($D$15*'Complicated Price Adjustment'!$E39))),\"\")","v":""},"",{"$f":"IFERROR(VLOOKUP(CQ$3,'District Bids'!$C$5:$CU$511,14,0),\"\")","v":""},"",{"$f":"IFERROR(IF(CO$15=0,0,($D$15*CO$15+($D$15*'Complicated Price Adjustment'!$E39))),\"\")","v":""},"",{"$f":"IFERROR(VLOOKUP(CU$3,'District Bids'!$C$5:$CU$511,14,0),\"\")","v":""},"",{"$f":"IFERROR(IF(CS$15=0,0,($D$15*CS$15+($D$15*'Complicated Price Adjustment'!$E39))),\"\")","v":""},"",{"$f":"IFERROR(VLOOKUP(CY$3,'District Bids'!$C$5:$CU$511,14,0),\"\")","v":""},"",{"$f":"IFERROR(IF(CW$15=0,0,($D$15*CW$15+($D$15*'Complicated Price Adjustment'!$E39))),\"\")","v":""},"",{"$f":"IFERROR(VLOOKUP(DC$3,'District Bids'!$C$5:$CU$511,14,0),\"\")","v":""},"",{"$f":"IFERROR(IF(DA$15=0,0,($D$15*DA$15+($D$15*'Complicated Price Adjustment'!$E39))),\"\")","v":""},"",{"$f":"IFERROR(VLOOKUP(DG$3,'District Bids'!$C$5:$CU$511,14,0),\"\")","v":""},"",{"$f":"IFERROR(IF(DE$15=0,0,($D$15*DE$15+($D$15*'Complicated Price Adjustment'!$E39))),\"\")","v":""},"",{"$f":"IFERROR(VLOOKUP(DK$3,'District Bids'!$C$5:$CU$511,14,0),\"\")","v":""},"",{"$f":"IFERROR(IF(DI$15=0,0,($D$15*DI$15+($D$15*'Complicated Price Adjustment'!$E39))),\"\")","v":""},"",{"$f":"IFERROR(VLOOKUP(DO$3,'District Bids'!$C$5:$CU$511,14,0),\"\")","v":""},"",{"$f":"IFERROR(IF(DM$15=0,0,($D$15*DM$15+($D$15*'Complicated Price Adjustment'!$E39))),\"\")","v":""},"",{"$f":"IFERROR(VLOOKUP(DS$3,'District Bids'!$C$5:$CU$511,14,0),\"\")","v":""},"",{"$f":"IFERROR(IF(DQ$15=0,0,($D$15*DQ$15+($D$15*'Complicated Price Adjustment'!$E39))),\"\")","v":""},"",{"$f":"IFERROR(VLOOKUP(DW$3,'District Bids'!$C$5:$CU$511,14,0),\"\")","v":""},"",{"$f":"IFERROR(IF(DU$15=0,0,($D$15*DU$15+($D$15*'Complicated Price Adjustment'!$E39))),\"\")","v":""},"",{"$f":"IFERROR(VLOOKUP(EA$3,'District Bids'!$C$5:$CU$511,14,0),\"\")","v":""},"",{"$f":"IFERROR(IF(DY$15=0,0,($D$15*DY$15+($D$15*'Complicated Price Adjustment'!$E39))),\"\")","v":""},"",null,{"$f":"IFERROR(AI$6,\"\")","v":0},{"$f":"IFERROR(IF(AI$104=\"Incomplete\",0,IF(AI$104<>\"Incomplete\",ED15)),\"\")","v":0},{"$f":"$AI3","v":9027}]
[null,9,"Asphalt Section 402 - 9.5mm Superpave",{"$f":"'Order Details'!J15","v":0},{"$f":"IFERROR(VLOOKUP(G$3,'District Bids'!$C$5:$CU$511,15,0),\"\")","v":95},0,{"$f":"IFERROR(IF(E$16=0,0,($D$16*E$16+($D$16*'Complicated Price Adjustment'!$E40))),\"\")","v":0},"",{"$f":"IFERROR(VLOOKUP(K$3,'District Bids'!$C$5:$CU$511,15,0),\"\")","v":97.57},0,{"$f":"IFERROR(IF(I$16=0,0,($D$16*I$16+($D$16*'Complicated Price Adjustment'!$E40))),\"\")","v":0},"",{"$f":"IFERROR(VLOOKUP(O$3,'District Bids'!$C$5:$CU$511,15,0),\"\")","v":97.57},0,{"$f":"IFERROR(IF(M$16=0,0,($D$16*M$16+($D$16*'Complicated Price Adjustment'!$E40))),\"\")","v":0},"",{"$f":"IFERROR(VLOOKUP(S$3,'District Bids'!$C$5:$CU$511,15,0),\"\")","v":0},0,{"$f":"IFERROR(IF(Q$16=0,0,($D$16*Q$16+($D$16*'Complicated Price Adjustment'!$E40))),\"\")","v":0},"",{"$f":"IFERROR(VLOOKUP(W$3,'District Bids'!$C$5:$CU$511,15,0),\"\")","v":112},0,{"$f":"IFERROR(IF(U$16=0,0,($D$16*U$16+($D$16*'Complicated Price Adjustment'!$E40))),\"\")","v":0},"",{"$f":"IFERROR(VLOOKUP(AA$3,'District Bids'!$C$5:$CU$511,15,0),\"\")","v":112},0,{"$f":"IFERROR(IF(Y$16=0,0,($D$16*Y$16+($D$16*'Complicated Price Adjustment'!$E40))),\"\")","v":0},"",{"$f":"IFERROR(VLOOKUP(AE$3,'District Bids'!$C$5:$CU$511,15,0),\"\")","v":110},0,{"$f":"IFERROR(IF(AC$16=0,0,($D$16*AC$16+($D$16*'Complicated Price Adjustment'!$E40))),\"\")","v":0},"",{"$f":"IFERROR(VLOOKUP(AI$3,'District Bids'!$C$5:$CU$511,15,0),\"\")","v":110},0,{"$f":"IFERROR(IF(AG$16=0,0,($D$16*AG$16+($D$16*'Complicated Price Adjustment'!$E40))),\"\")","v":0},"",{"$f":"IFERROR(VLOOKUP(AM$3,'District Bids'!$C$5:$CU$511,15,0),\"\")","v":110},0,{"$f":"IFERROR(IF(AK$16=0,0,($D$16*AK$16+($D$16*'Complicated Price Adjustment'!$E40))),\"\")","v":0},"",{"$f":"IFERROR(VLOOKUP(AQ$3,'District Bids'!$C$5:$CU$511,15,0),\"\")","v":110},0,{"$f":"IFERROR(IF(AO$16=0,0,($D$16*AO$16+($D$16*'Complicated Price Adjustment'!$E40))),\"\")","v":0},"",{"$f":"IFERROR(VLOOKUP(AU$3,'District Bids'!$C$5:$CU$511,15,0),\"\")","v":""},"",{"$f":"IFERROR(IF(AS$16=0,0,($D$16*AS$16+($D$16*'Complicated Price Adjustment'!$E40))),\"\")","v":""},"",{"$f":"IFERROR(VLOOKUP(AY$3,'District Bids'!$C$5:$CU$511,15,0),\"\")","v":""},"",{"$f":"IFERROR(IF(AW$16=0,0,($D$16*AW$16+($D$16*'Complicated Price Adjustment'!$E40))),\"\")","v":""},"",{"$f":"IFERROR(VLOOKUP(BC$3,'District Bids'!$C$5:$CU$511,15,0),\"\")","v":""},"",{"$f":"IFERROR(IF(BA$16=0,0,($D$16*BA$16+($D$16*'Complicated Price Adjustment'!$E40))),\"\")","v":""},"",{"$f":"IFERROR(VLOOKUP(BG$3,'District Bids'!$C$5:$CU$511,15,0),\"\")","v":""},"",{"$f":"IFERROR(IF(BE$16=0,0,($D$16*BE$16+($D$16*'Complicated Price Adjustment'!$E40))),\"\")","v":""},"",{"$f":"IFERROR(VLOOKUP(BK$3,'District Bids'!$C$5:$CU$511,15,0),\"\")","v":""},"",{"$f":"IFERROR(IF(BI$16=0,0,($D$16*BI$16+($D$16*'Complicated Price Adjustment'!$E40))),\"\")","v":""},"",{"$f":"IFERROR(VLOOKUP(BO$3,'District Bids'!$C$5:$CU$511,15,0),\"\")","v":""},"",{"$f":"IFERROR(IF(BM$16=0,0,($D$16*BM$16+($D$16*'Complicated Price Adjustment'!$E40))),\"\")","v":""},"",{"$f":"IFERROR(VLOOKUP(BS$3,'District Bids'!$C$5:$CU$511,15,0),\"\")","v":""},"",{"$f":"IFERROR(IF(BQ$16=0,0,($D$16*BQ$16+($D$16*'Complicated Price Adjustment'!$E40))),\"\")","v":""},"",{"$f":"IFERROR(VLOOKUP(BW$3,'District Bids'!$C$5:$CU$511,15,0),\"\")","v":""},"",{"$f":"IFERROR(IF(BU$16=0,0,($D$16*BU$16+($D$16*'Complicated Price Adjustment'!$E40))),\"\")","v":""},"",{"$f":"IFERROR(VLOOKUP(CA$3,'District Bids'!$C$5:$CU$511,15,0),\"\")","v":""},"",{"$f":"IFERROR(IF(BY$16=0,0,($D$16*BY$16+($D$16*'Complicated Price Adjustment'!$E40))),\"\")","v":""},"",{"$f":"IFERROR(VLOOKUP(CE$3,'District Bids'!$C$5:$CU$511,15,0),\"\")","v":""},"",{"$f":"IFERROR(IF(CC$16=0,0,($D$16*CC$16+($D$16*'Complicated Price Adjustment'!$E40))),\"\")","v":""},"",{"$f":"IFERROR(VLOOKUP(CI$3,'District Bids'!$C$5:$CU$511,15,0),\"\")","v":""},"",{"$f":"IFERROR(IF(CG$16=0,0,($D$16*CG$16+($D$16*'Complicated Price Adjustment'!$E40))),\"\")","v":""},"",{"$f":"IFERROR(VLOOKUP(CM$3,'District Bids'!$C$5:$CU$511,15,0),\"\")","v":""},"",{"$f":"IFERROR(IF(CK$16=0,0,($D$16*CK$16+($D$16*'Complicated Price Adjustment'!$E40))),\"\")","v":""},"",{"$f":"IFERROR(VLOOKUP(CQ$3,'District Bids'!$C$5:$CU$511,15,0),\"\")","v":""},"",{"$f":"IFERROR(IF(CO$16=0,0,($D$16*CO$16+($D$16*'Complicated Price Adjustment'!$E40))),\"\")","v":""},"",{"$f":"IFERROR(VLOOKUP(CU$3,'District Bids'!$C$5:$CU$511,15,0),\"\")","v":""},"",{"$f":"IFERROR(IF(CS$16=0,0,($D$16*CS$16+($D$16*'Complicated Price Adjustment'!$E40))),\"\")","v":""},"",{"$f":"IFERROR(VLOOKUP(CY$3,'District Bids'!$C$5:$CU$511,15,0),\"\")","v":""},"",{"$f":"IFERROR(IF(CW$16=0,0,($D$16*CW$16+($D$16*'Complicated Price Adjustment'!$E40))),\"\")","v":""},"",{"$f":"IFERROR(VLOOKUP(DC$3,'District Bids'!$C$5:$CU$511,15,0),\"\")","v":""},"",{"$f":"IFERROR(IF(DA$16=0,0,($D$16*DA$16+($D$16*'Complicated Price Adjustment'!$E40))),\"\")","v":""},"",{"$f":"IFERROR(VLOOKUP(DG$3,'District Bids'!$C$5:$CU$511,15,0),\"\")","v":""},"",{"$f":"IFERROR(IF(DE$16=0,0,($D$16*DE$16+($D$16*'Complicated Price Adjustment'!$E40))),\"\")","v":""},"",{"$f":"IFERROR(VLOOKUP(DK$3,'District Bids'!$C$5:$CU$511,15,0),\"\")","v":""},"",{"$f":"IFERROR(IF(DI$16=0,0,($D$16*DI$16+($D$16*'Complicated Price Adjustment'!$E40))),\"\")","v":""},"",{"$f":"IFERROR(VLOOKUP(DO$3,'District Bids'!$C$5:$CU$511,15,0),\"\")","v":""},"",{"$f":"IFERROR(IF(DM$16=0,0,($D$16*DM$16+($D$16*'Complicated Price Adjustment'!$E40))),\"\")","v":""},"",{"$f":"IFERROR(VLOOKUP(DS$3,'District Bids'!$C$5:$CU$511,15,0),\"\")","v":""},"",{"$f":"IFERROR(IF(DQ$16=0,0,($D$16*DQ$16+($D$16*'Complicated Price Adjustment'!$E40))),\"\")","v":""},"",{"$f":"IFERROR(VLOOKUP(DW$3,'District Bids'!$C$5:$CU$511,15,0),\"\")","v":""},"",{"$f":"IFERROR(IF(DU$16=0,0,($D$16*DU$16+($D$16*'Complicated Price Adjustment'!$E40))),\"\")","v":""},"",{"$f":"IFERROR(VLOOKUP(EA$3,'District Bids'!$C$5:$CU$511,15,0),\"\")","v":""},"",{"$f":"IFERROR(IF(DY$16=0,0,($D$16*DY$16+($D$16*'Complicated Price Adjustment'!$E40))),\"\")","v":""},"",null,{"$f":"IFERROR(AM$6,\"\")","v":0},{"$f":"IFERROR(IF(AM$104=\"Incomplete\",0,IF(AM$104<>\"Incomplete\",ED16)),\"\")","v":0},{"$f":"$AM3","v":9029}]
[null,10,"Asphalt Section 401 - Wearing 1",{"$f":"'Order Details'!J16","v":0},{"$f":"IFERROR(VLOOKUP(G$3,'District Bids'!$C$5:$CU$511,16,0),\"\")","v":83},0,{"$f":"IFERROR(IF(E$17=0,0,($D$17*E$17+($D$17*'Complicated Price Adjustment'!$E41))),\"\")","v":0},"",{"$f":"IFERROR(VLOOKUP(K$3,'District Bids'!$C$5:$CU$511,16,0),\"\")","v":88.1},0,{"$f":"IFERROR(IF(I$17=0,0,($D$17*I$17+($D$17*'Complicated Price Adjustment'!$E41))),\"\")","v":0},"",{"$f":"IFERROR(VLOOKUP(O$3,'District Bids'!$C$5:$CU$511,16,0),\"\")","v":88.1},0,{"$f":"IFERROR(IF(M$17=0,0,($D$17*M$17+($D$17*'Complicated Price Adjustment'!$E41))),\"\")","v":0},"",{"$f":"IFERROR(VLOOKUP(S$3,'District Bids'!$C$5:$CU$511,16,0),\"\")","v":79.5},0,{"$f":"IFERROR(IF(Q$17=0,0,($D$17*Q$17+($D$17*'Complicated Price Adjustment'!$E41))),\"\")","v":0},"",{"$f":"IFERROR(VLOOKUP(W$3,'District Bids'!$C$5:$CU$511,16,0),\"\")","v":106.5},0,{"$f":"IFERROR(IF(U$17=0,0,($D$17*U$17+($D$17*'Complicated Price Adjustment'!$E41))),\"\")","v":0},"",{"$f":"IFERROR(VLOOKUP(AA$3,'District Bids'!$C$5:$CU$511,16,0),\"\")","v":106.5},0,{"$f":"IFERROR(IF(Y$17=0,0,($D$17*Y$17+($D$17*'Complicated Price Adjustment'!$E41))),\"\")","v":0},"",{"$f":"IFERROR(VLOOKUP(AE$3,'District Bids'!$C$5:$CU$511,16,0),\"\")","v":108},0,{"$f":"IFERROR(IF(AC$17=0,0,($D$17*AC$17+($D$17*'Complicated Price Adjustment'!$E41))),\"\")","v":0},"",{"$f":"IFERROR(VLOOKUP(AI$3,'District Bids'!$C$5:$CU$511,16,0),\"\")","v":108},0,{"$f":"IFERROR(IF(AG$17=0,0,($D$17*AG$17+($D$17*'Complicated Price Adjustment'!$E41))),\"\")","v":0},"",{"$f":"IFERROR(VLOOKUP(AM$3,'District Bids'!$C$5:$CU$511,16,0),\"\")","v":100},0,{"$f":"IFERROR(IF(AK$17=0,0,($D$17*AK$17+($D$17*'Complicated Price Adjustment'!$E41))),\"\")","v":0},"",{"$f":"IFERROR(VLOOKUP(AQ$3,'District Bids'!$C$5:$CU$511,16,0),\"\")","v":100},0,{"$f":"IFERROR(IF(AO$17=0,0,($D$17*AO$17+($D$17*'Complicated Price Adjustment'!$E41))),\"\")","v":0},"",{"$f":"IFERROR(VLOOKUP(AU$3,'District Bids'!$C$5:$CU$511,16,0),\"\")","v":""},"",{"$f":"IFERROR(IF(AS$17=0,0,($D$17*AS$17+($D$17*'Complicated Price Adjustment'!$E41))),\"\")","v":""},"",{"$f":"IFERROR(VLOOKUP(AY$3,'District Bids'!$C$5:$CU$511,16,0),\"\")","v":""},"",{"$f":"IFERROR(IF(AW$17=0,0,($D$17*AW$17+($D$17*'Complicated Price Adjustment'!$E41))),\"\")","v":""},"",{"$f":"IFERROR(VLOOKUP(BC$3,'District Bids'!$C$5:$CU$511,16,0),\"\")","v":""},"",{"$f":"IFERROR(IF(BA$17=0,0,($D$17*BA$17+($D$17*'Complicated Price Adjustment'!$E41))),\"\")","v":""},"",{"$f":"IFERROR(VLOOKUP(BG$3,'District Bids'!$C$5:$CU$511,16,0),\"\")","v":""},"",{"$f":"IFERROR(IF(BE$17=0,0,($D$17*BE$17+($D$17*'Complicated Price Adjustment'!$E41))),\"\")","v":""},"",{"$f":"IFERROR(VLOOKUP(BK$3,'District Bids'!$C$5:$CU$511,16,0),\"\")","v":""},"",{"$f":"IFERROR(IF(BI$17=0,0,($D$17*BI$17+($D$17*'Complicated Price Adjustment'!$E41))),\"\")","v":""},"",{"$f":"IFERROR(VLOOKUP(BO$3,'District Bids'!$C$5:$CU$511,16,0),\"\")","v":""},"",{"$f":"IFERROR(IF(BM$17=0,0,($D$17*BM$17+($D$17*'Complicated Price Adjustment'!$E41))),\"\")","v":""},"",{"$f":"IFERROR(VLOOKUP(BS$3,'District Bids'!$C$5:$CU$511,16,0),\"\")","v":""},"",{"$f":"IFERROR(IF(BQ$17=0,0,($D$17*BQ$17+($D$17*'Complicated Price Adjustment'!$E41))),\"\")","v":""},"",{"$f":"IFERROR(VLOOKUP(BW$3,'District Bids'!$C$5:$CU$511,16,0),\"\")","v":""},"",{"$f":"IFERROR(IF(BU$17=0,0,($D$17*BU$17+($D$17*'Complicated Price Adjustment'!$E41))),\"\")","v":""},"",{"$f":"IFERROR(VLOOKUP(CA$3,'District Bids'!$C$5:$CU$511,16,0),\"\")","v":""},"",{"$f":"IFERROR(IF(BY$17=0,0,($D$17*BY$17+($D$17*'Complicated Price Adjustment'!$E41))),\"\")","v":""},"",{"$f":"IFERROR(VLOOKUP(CE$3,'District Bids'!$C$5:$CU$511,16,0),\"\")","v":""},"",{"$f":"IFERROR(IF(CC$17=0,0,($D$17*CC$17+($D$17*'Complicated Price Adjustment'!$E41))),\"\")","v":""},"",{"$f":"IFERROR(VLOOKUP(CI$3,'District Bids'!$C$5:$CU$511,16,0),\"\")","v":""},"",{"$f":"IFERROR(IF(CG$17=0,0,($D$17*CG$17+($D$17*'Complicated Price Adjustment'!$E41))),\"\")","v":""},"",{"$f":"IFERROR(VLOOKUP(CM$3,'District Bids'!$C$5:$CU$511,16,0),\"\")","v":""},"",{"$f":"IFERROR(IF(CK$17=0,0,($D$17*CK$17+($D$17*'Complicated Price Adjustment'!$E41))),\"\")","v":""},"",{"$f":"IFERROR(VLOOKUP(CQ$3,'District Bids'!$C$5:$CU$511,16,0),\"\")","v":""},"",{"$f":"IFERROR(IF(CO$17=0,0,($D$17*CO$17+($D$17*'Complicated Price Adjustment'!$E41))),\"\")","v":""},"",{"$f":"IFERROR(VLOOKUP(CU$3,'District Bids'!$C$5:$CU$511,16,0),\"\")","v":""},"",{"$f":"IFERROR(IF(CS$17=0,0,($D$17*CS$17+($D$17*'Complicated Price Adjustment'!$E41))),\"\")","v":""},"",{"$f":"IFERROR(VLOOKUP(CY$3,'District Bids'!$C$5:$CU$511,16,0),\"\")","v":""},"",{"$f":"IFERROR(IF(CW$17=0,0,($D$17*CW$17+($D$17*'Complicated Price Adjustment'!$E41))),\"\")","v":""},"",{"$f":"IFERROR(VLOOKUP(DC$3,'District Bids'!$C$5:$CU$511,16,0),\"\")","v":""},"",{"$f":"IFERROR(IF(DA$17=0,0,($D$17*DA$17+($D$17*'Complicated Price Adjustment'!$E41))),\"\")","v":""},"",{"$f":"IFERROR(VLOOKUP(DG$3,'District Bids'!$C$5:$CU$511,16,0),\"\")","v":""},"",{"$f":"IFERROR(IF(DE$17=0,0,($D$17*DE$17+($D$17*'Complicated Price Adjustment'!$E41))),\"\")","v":""},"",{"$f":"IFERROR(VLOOKUP(DK$3,'District Bids'!$C$5:$CU$511,16,0),\"\")","v":""},"",{"$f":"IFERROR(IF(DI$17=0,0,($D$17*DI$17+($D$17*'Complicated Price Adjustment'!$E41))),\"\")","v":""},"",{"$f":"IFERROR(VLOOKUP(DO$3,'District Bids'!$C$5:$CU$511,16,0),\"\")","v":""},"",{"$f":"IFERROR(IF(DM$17=0,0,($D$17*DM$17+($D$17*'Complicated Price Adjustment'!$E41))),\"\")","v":""},"",{"$f":"IFERROR(VLOOKUP(DS$3,'District Bids'!$C$5:$CU$511,16,0),\"\")","v":""},"",{"$f":"IFERROR(IF(DQ$17=0,0,($D$17*DQ$17+($D$17*'Complicated Price Adjustment'!$E41))),\"\")","v":""},"",{"$f":"IFERROR(VLOOKUP(DW$3,'District Bids'!$C$5:$CU$511,16,0),\"\")","v":""},"",{"$f":"IFERROR(IF(DU$17=0,0,($D$17*DU$17+($D$17*'Complicated Price Adjustment'!$E41))),\"\")","v":""},"",{"$f":"IFERROR(VLOOKUP(EA$3,'District Bids'!$C$5:$CU$511,16,0),\"\")","v":""},"",{"$f":"IFERROR(IF(DY$17=0,0,($D$17*DY$17+($D$17*'Complicated Price Adjustment'!$E41))),\"\")","v":""},"",null,{"$f":"IFERROR(AQ$6,\"\")","v":0},{"$f":"IFERROR(IF(AQ$104=\"Incomplete\",0,IF(AQ$104<>\"Incomplete\",ED17)),\"\")","v":0},{"$f":"$AQ3","v":9030}]
[null,11,"Asphalt Section 402 - Wearing 1",{"$f":"'Order Details'!J17","v":0},{"$f":"IFERROR(VLOOKUP(G$3,'District Bids'!$C$5:$CU$511,17,0),\"\")","v":94},0,{"$f":"IFERROR(IF(E$18=0,0,($D$18*E$18+($D$18*'Complicated Price Adjustment'!$E42))),\"\")","v":0},"",{"$f":"IFERROR(VLOOKUP(K$3,'District Bids'!$C$5:$CU$511,17,0),\"\")","v":97.57},0,{"$f":"IFERROR(IF(I$18=0,0,($D$18*I$18+($D$18*'Complicated Price Adjustment'!$E42))),\"\")","v":0},"",{"$f":"IFERROR(VLOOKUP(O$3,'District Bids'!$C$5:$CU$511,17,0),\"\")","v":97.57},0,{"$f":"IFERROR(IF(M$18=0,0,($D$18*M$18+($D$18*'Complicated Price Adjustment'!$E42))),\"\")","v":0},"",{"$f":"IFERROR(VLOOKUP(S$3,'District Bids'!$C$5:$CU$511,17,0),\"\")","v":85},0,{"$f":"IFERROR(IF(Q$18=0,0,($D$18*Q$18+($D$18*'Complicated Price Adjustment'!$E42))),\"\")","v":0},"",{"$f":"IFERROR(VLOOKUP(W$3,'District Bids'!$C$5:$CU$511,17,0),\"\")","v":109},0,{"$f":"IFERROR(IF(U$18=0,0,($D$18*U$18+($D$18*'Complicated Price Adjustment'!$E42))),\"\")","v":0},"",{"$f":"IFERROR(VLOOKUP(AA$3,'District Bids'!$C$5:$CU$511,17,0),\"\")","v":109},0,{"$f":"IFERROR(IF(Y$18=0,0,($D$18*Y$18+($D$18*'Complicated Price Adjustment'!$E42))),\"\")","v":0},"",{"$f":"IFERROR(VLOOKUP(AE$3,'District Bids'!$C$5:$CU$511,17,0),\"\")","v":110},0,{"$f":"IFERROR(IF(AC$18=0,0,($D$18*AC$18+($D$18*'Complicated Price Adjustment'!$E42))),\"\")","v":0},"",{"$f":"IFERROR(VLOOKUP(AI$3,'District Bids'!$C$5:$CU$511,17,0),\"\")","v":110},0,{"$f":"IFERROR(IF(AG$18=0,0,($D$18*AG$18+($D$18*'Complicated Price Adjustment'!$E42))),\"\")","v":0},"",{"$f":"IFERROR(VLOOKUP(AM$3,'District Bids'!$C$5:$CU$511,17,0),\"\")","v":110},0,{"$f":"IFERROR(IF(AK$18=0,0,($D$18*AK$18+($D$18*'Complicated Price Adjustment'!$E42))),\"\")","v":0},"",{"$f":"IFERROR(VLOOKUP(AQ$3,'District Bids'!$C$5:$CU$511,17,0),\"\")","v":110},0,{"$f":"IFERROR(IF(AO$18=0,0,($D$18*AO$18+($D$18*'Complicated Price Adjustment'!$E42))),\"\")","v":0},"",{"$f":"IFERROR(VLOOKUP(AU$3,'District Bids'!$C$5:$CU$511,17,0),\"\")","v":""},"",{"$f":"IFERROR(IF(AS$18=0,0,($D$18*AS$18+($D$18*'Complicated Price Adjustment'!$E42))),\"\")","v":""},"",{"$f":"IFERROR(VLOOKUP(AY$3,'District Bids'!$C$5:$CU$511,17,0),\"\")","v":""},"",{"$f":"IFERROR(IF(AW$18=0,0,($D$18*AW$18+($D$18*'Complicated Price Adjustment'!$E42))),\"\")","v":""},"",{"$f":"IFERROR(VLOOKUP(BC$3,'District Bids'!$C$5:$CU$511,17,0),\"\")","v":""},"",{"$f":"IFERROR(IF(BA$18=0,0,($D$18*BA$18+($D$18*'Complicated Price Adjustment'!$E42))),\"\")","v":""},"",{"$f":"IFERROR(VLOOKUP(BG$3,'District Bids'!$C$5:$CU$511,17,0),\"\")","v":""},"",{"$f":"IFERROR(IF(BE$18=0,0,($D$18*BE$18+($D$18*'Complicated Price Adjustment'!$E42))),\"\")","v":""},"",{"$f":"IFERROR(VLOOKUP(BK$3,'District Bids'!$C$5:$CU$511,17,0),\"\")","v":""},"",{"$f":"IFERROR(IF(BI$18=0,0,($D$18*BI$18+($D$18*'Complicated Price Adjustment'!$E42))),\"\")","v":""},"",{"$f":"IFERROR(VLOOKUP(BO$3,'District Bids'!$C$5:$CU$511,17,0),\"\")","v":""},"",{"$f":"IFERROR(IF(BM$18=0,0,($D$18*BM$18+($D$18*'Complicated Price Adjustment'!$E42))),\"\")","v":""},"",{"$f":"IFERROR(VLOOKUP(BS$3,'District Bids'!$C$5:$CU$511,17,0),\"\")","v":""},"",{"$f":"IFERROR(IF(BQ$18=0,0,($D$18*BQ$18+($D$18*'Complicated Price Adjustment'!$E42))),\"\")","v":""},"",{"$f":"IFERROR(VLOOKUP(BW$3,'District Bids'!$C$5:$CU$511,17,0),\"\")","v":""},"",{"$f":"IFERROR(IF(BU$18=0,0,($D$18*BU$18+($D$18*'Complicated Price Adjustment'!$E42))),\"\")","v":""},"",{"$f":"IFERROR(VLOOKUP(CA$3,'District Bids'!$C$5:$CU$511,17,0),\"\")","v":""},"",{"$f":"IFERROR(IF(BY$18=0,0,($D$18*BY$18+($D$18*'Complicated Price Adjustment'!$E42))),\"\")","v":""},"",{"$f":"IFERROR(VLOOKUP(CE$3,'District Bids'!$C$5:$CU$511,17,0),\"\")","v":""},"",{"$f":"IFERROR(IF(CC$18=0,0,($D$18*CC$18+($D$18*'Complicated Price Adjustment'!$E42))),\"\")","v":""},"",{"$f":"IFERROR(VLOOKUP(CI$3,'District Bids'!$C$5:$CU$511,17,0),\"\")","v":""},"",{"$f":"IFERROR(IF(CG$18=0,0,($D$18*CG$18+($D$18*'Complicated Price Adjustment'!$E42))),\"\")","v":""},"",{"$f":"IFERROR(VLOOKUP(CM$3,'District Bids'!$C$5:$CU$511,17,0),\"\")","v":""},"",{"$f":"IFERROR(IF(CK$18=0,0,($D$18*CK$18+($D$18*'Complicated Price Adjustment'!$E42))),\"\")","v":""},"",{"$f":"IFERROR(VLOOKUP(CQ$3,'District Bids'!$C$5:$CU$511,17,0),\"\")","v":""},"",{"$f":"IFERROR(IF(CO$18=0,0,($D$18*CO$18+($D$18*'Complicated Price Adjustment'!$E42))),\"\")","v":""},"",{"$f":"IFERROR(VLOOKUP(CU$3,'District Bids'!$C$5:$CU$511,17,0),\"\")","v":""},"",{"$f":"IFERROR(IF(CS$18=0,0,($D$18*CS$18+($D$18*'Complicated Price Adjustment'!$E42))),\"\")","v":""},"",{"$f":"IFERROR(VLOOKUP(CY$3,'District Bids'!$C$5:$CU$511,17,0),\"\")","v":""},"",{"$f":"IFERROR(IF(CW$18=0,0,($D$18*CW$18+($D$18*'Complicated Price Adjustment'!$E42))),\"\")","v":""},"",{"$f":"IFERROR(VLOOKUP(DC$3,'District Bids'!$C$5:$CU$511,17,0),\"\")","v":""},"",{"$f":"IFERROR(IF(DA$18=0,0,($D$18*DA$18+($D$18*'Complicated Price Adjustment'!$E42))),\"\")","v":""},"",{"$f":"IFERROR(VLOOKUP(DG$3,'District Bids'!$C$5:$CU$511,17,0),\"\")","v":""},"",{"$f":"IFERROR(IF(DE$18=0,0,($D$18*DE$18+($D$18*'Complicated Price Adjustment'!$E42))),\"\")","v":""},"",{"$f":"IFERROR(VLOOKUP(DK$3,'District Bids'!$C$5:$CU$511,17,0),\"\")","v":""},"",{"$f":"IFERROR(IF(DI$18=0,0,($D$18*DI$18+($D$18*'Complicated Price Adjustment'!$E42))),\"\")","v":""},"",{"$f":"IFERROR(VLOOKUP(DO$3,'District Bids'!$C$5:$CU$511,17,0),\"\")","v":""},"",{"$f":"IFERROR(IF(DM$18=0,0,($D$18*DM$18+($D$18*'Complicated Price Adjustment'!$E42))),\"\")","v":""},"",{"$f":"IFERROR(VLOOKUP(DS$3,'District Bids'!$C$5:$CU$511,17,0),\"\")","v":""},"",{"$f":"IFERROR(IF(DQ$18=0,0,($D$18*DQ$18+($D$18*'Complicated Price Adjustment'!$E42))),\"\")","v":""},"",{"$f":"IFERROR(VLOOKUP(DW$3,'District Bids'!$C$5:$CU$511,17,0),\"\")","v":""},"",{"$f":"IFERROR(IF(DU$18=0,0,($D$18*DU$18+($D$18*'Complicated Price Adjustment'!$E42))),\"\")","v":""},"",{"$f":"IFERROR(VLOOKUP(EA$3,'District Bids'!$C$5:$CU$511,17,0),\"\")","v":""},"",{"$f":"IFERROR(IF(DY$18=0,0,($D$18*DY$18+($D$18*'Complicated Price Adjustment'!$E42))),\"\")","v":""},"",null,{"$f":"IFERROR(AU$6,\"\")","v":""},{"$f":"IFERROR(IF(AU$104=\"Incomplete\",0,IF(AU$104<>\"Incomplete\",ED18)),\"\")","v":""},{"$f":"$AU3","v":0}]
[null,12,"Asphalt Section 401 - 4.75mm Superpave",{"$f":"'Order Details'!J18","v":0},{"$f":"IFERROR(VLOOKUP(G$3,'District Bids'!$C$5:$CU$511,18,0),\"\")","v":0},0,{"$f":"IFERROR(IF(E$19=0,0,($D$19*E$19+($D$19*'Complicated Price Adjustment'!$E43))),\"\")","v":0},"",{"$f":"IFERROR(VLOOKUP(K$3,'District Bids'!$C$5:$CU$511,18,0),\"\")","v":118.91},0,{"$f":"IFERROR(IF(I$19=0,0,($D$19*I$19+($D$19*'Complicated Price Adjustment'!$E43))),\"\")","v":0},"",{"$f":"IFERROR(VLOOKUP(O$3,'District Bids'!$C$5:$CU$511,18,0),\"\")","v":118.91},0,{"$f":"IFERROR(IF(M$19=0,0,($D$19*M$19+($D$19*'Complicated Price Adjustment'!$E43))),\"\")","v":0},"",{"$f":"IFERROR(VLOOKUP(S$3,'District Bids'!$C$5:$CU$511,18,0),\"\")","v":0},0,{"$f":"IFERROR(IF(Q$19=0,0,($D$19*Q$19+($D$19*'Complicated Price Adjustment'!$E43))),\"\")","v":0},"",{"$f":"IFERROR(VLOOKUP(W$3,'District Bids'!$C$5:$CU$511,18,0),\"\")","v":0},0,{"$f":"IFERROR(IF(U$19=0,0,($D$19*U$19+($D$19*'Complicated Price Adjustment'!$E43))),\"\")","v":0},"",{"$f":"IFERROR(VLOOKUP(AA$3,'District Bids'!$C$5:$CU$511,18,0),\"\")","v":0},0,{"$f":"IFERROR(IF(Y$19=0,0,($D$19*Y$19+($D$19*'Complicated Price Adjustment'!$E43))),\"\")","v":0},"",{"$f":"IFERROR(VLOOKUP(AE$3,'District Bids'!$C$5:$CU$511,18,0),\"\")","v":0},0,{"$f":"IFERROR(IF(AC$19=0,0,($D$19*AC$19+($D$19*'Complicated Price Adjustment'!$E43))),\"\")","v":0},"",{"$f":"IFERROR(VLOOKUP(AI$3,'District Bids'!$C$5:$CU$511,18,0),\"\")","v":0},0,{"$f":"IFERROR(IF(AG$19=0,0,($D$19*AG$19+($D$19*'Complicated Price Adjustment'!$E43))),\"\")","v":0},"",{"$f":"IFERROR(VLOOKUP(AM$3,'District Bids'!$C$5:$CU$511,18,0),\"\")","v":0},0,{"$f":"IFERROR(IF(AK$19=0,0,($D$19*AK$19+($D$19*'Complicated Price Adjustment'!$E43))),\"\")","v":0},"",{"$f":"IFERROR(VLOOKUP(AQ$3,'District Bids'!$C$5:$CU$511,18,0),\"\")","v":0},0,{"$f":"IFERROR(IF(AO$19=0,0,($D$19*AO$19+($D$19*'Complicated Price Adjustment'!$E43))),\"\")","v":0},"",{"$f":"IFERROR(VLOOKUP(AU$3,'District Bids'!$C$5:$CU$511,18,0),\"\")","v":""},"",{"$f":"IFERROR(IF(AS$19=0,0,($D$19*AS$19+($D$19*'Complicated Price Adjustment'!$E43))),\"\")","v":""},"",{"$f":"IFERROR(VLOOKUP(AY$3,'District Bids'!$C$5:$CU$511,18,0),\"\")","v":""},"",{"$f":"IFERROR(IF(AW$19=0,0,($D$19*AW$19+($D$19*'Complicated Price Adjustment'!$E43))),\"\")","v":""},"",{"$f":"IFERROR(VLOOKUP(BC$3,'District Bids'!$C$5:$CU$511,18,0),\"\")","v":""},"",{"$f":"IFERROR(IF(BA$19=0,0,($D$19*BA$19+($D$19*'Complicated Price Adjustment'!$E43))),\"\")","v":""},"",{"$f":"IFERROR(VLOOKUP(BG$3,'District Bids'!$C$5:$CU$511,18,0),\"\")","v":""},"",{"$f":"IFERROR(IF(BE$19=0,0,($D$19*BE$19+($D$19*'Complicated Price Adjustment'!$E43))),\"\")","v":""},"",{"$f":"IFERROR(VLOOKUP(BK$3,'District Bids'!$C$5:$CU$511,18,0),\"\")","v":""},"",{"$f":"IFERROR(IF(BI$19=0,0,($D$19*BI$19+($D$19*'Complicated Price Adjustment'!$E43))),\"\")","v":""},"",{"$f":"IFERROR(VLOOKUP(BO$3,'District Bids'!$C$5:$CU$511,18,0),\"\")","v":""},"",{"$f":"IFERROR(IF(BM$19=0,0,($D$19*BM$19+($D$19*'Complicated Price Adjustment'!$E43))),\"\")","v":""},"",{"$f":"IFERROR(VLOOKUP(BS$3,'District Bids'!$C$5:$CU$511,18,0),\"\")","v":""},"",{"$f":"IFERROR(IF(BQ$19=0,0,($D$19*BQ$19+($D$19*'Complicated Price Adjustment'!$E43))),\"\")","v":""},"",{"$f":"IFERROR(VLOOKUP(BW$3,'District Bids'!$C$5:$CU$511,18,0),\"\")","v":""},"",{"$f":"IFERROR(IF(BU$19=0,0,($D$19*BU$19+($D$19*'Complicated Price Adjustment'!$E43))),\"\")","v":""},"",{"$f":"IFERROR(VLOOKUP(CA$3,'District Bids'!$C$5:$CU$511,18,0),\"\")","v":""},"",{"$f":"IFERROR(IF(BY$19=0,0,($D$19*BY$19+($D$19*'Complicated Price Adjustment'!$E43))),\"\")","v":""},"",{"$f":"IFERROR(VLOOKUP(CE$3,'District Bids'!$C$5:$CU$511,18,0),\"\")","v":""},"",{"$f":"IFERROR(IF(CC$19=0,0,($D$19*CC$19+($D$19*'Complicated Price Adjustment'!$E43))),\"\")","v":""},"",{"$f":"IFERROR(VLOOKUP(CI$3,'District Bids'!$C$5:$CU$511,18,0),\"\")","v":""},"",{"$f":"IFERROR(IF(CG$19=0,0,($D$19*CG$19+($D$19*'Complicated Price Adjustment'!$E43))),\"\")","v":""},"",{"$f":"IFERROR(VLOOKUP(CM$3,'District Bids'!$C$5:$CU$511,18,0),\"\")","v":""},"",{"$f":"IFERROR(IF(CK$19=0,0,($D$19*CK$19+($D$19*'Complicated Price Adjustment'!$E43))),\"\")","v":""},"",{"$f":"IFERROR(VLOOKUP(CQ$3,'District Bids'!$C$5:$CU$511,18,0),\"\")","v":""},"",{"$f":"IFERROR(IF(CO$19=0,0,($D$19*CO$19+($D$19*'Complicated Price Adjustment'!$E43))),\"\")","v":""},"",{"$f":"IFERROR(VLOOKUP(CU$3,'District Bids'!$C$5:$CU$511,18,0),\"\")","v":""},"",{"$f":"IFERROR(IF(CS$19=0,0,($D$19*CS$19+($D$19*'Complicated Price Adjustment'!$E43))),\"\")","v":""},"",{"$f":"IFERROR(VLOOKUP(CY$3,'District Bids'!$C$5:$CU$511,18,0),\"\")","v":""},"",{"$f":"IFERROR(IF(CW$19=0,0,($D$19*CW$19+($D$19*'Complicated Price Adjustment'!$E43))),\"\")","v":""},"",{"$f":"IFERROR(VLOOKUP(DC$3,'District Bids'!$C$5:$CU$511,18,0),\"\")","v":""},"",{"$f":"IFERROR(IF(DA$19=0,0,($D$19*DA$19+($D$19*'Complicated Price Adjustment'!$E43))),\"\")","v":""},"",{"$f":"IFERROR(VLOOKUP(DG$3,'District Bids'!$C$5:$CU$511,18,0),\"\")","v":""},"",{"$f":"IFERROR(IF(DE$19=0,0,($D$19*DE$19+($D$19*'Complicated Price Adjustment'!$E43))),\"\")","v":""},"",{"$f":"IFERROR(VLOOKUP(DK$3,'District Bids'!$C$5:$CU$511,18,0),\"\")","v":""},"",{"$f":"IFERROR(IF(DI$19=0,0,($D$19*DI$19+($D$19*'Complicated Price Adjustment'!$E43))),\"\")","v":""},"",{"$f":"IFERROR(VLOOKUP(DO$3,'District Bids'!$C$5:$CU$511,18,0),\"\")","v":""},"",{"$f":"IFERROR(IF(DM$19=0,0,($D$19*DM$19+($D$19*'Complicated Price Adjustment'!$E43))),\"\")","v":""},"",{"$f":"IFERROR(VLOOKUP(DS$3,'District Bids'!$C$5:$CU$511,18,0),\"\")","v":""},"",{"$f":"IFERROR(IF(DQ$19=0,0,($D$19*DQ$19+($D$19*'Complicated Price Adjustment'!$E43))),\"\")","v":""},"",{"$f":"IFERROR(VLOOKUP(DW$3,'District Bids'!$C$5:$CU$511,18,0),\"\")","v":""},"",{"$f":"IFERROR(IF(DU$19=0,0,($D$19*DU$19+($D$19*'Complicated Price Adjustment'!$E43))),\"\")","v":""},"",{"$f":"IFERROR(VLOOKUP(EA$3,'District Bids'!$C$5:$CU$511,18,0),\"\")","v":""},"",{"$f":"IFERROR(IF(DY$19=0,0,($D$19*DY$19+($D$19*'Complicated Price Adjustment'!$E43))),\"\")","v":""},"",null,{"$f":"IFERROR(AY$6,\"\")","v":""},{"$f":"IFERROR(IF(AY$104=\"Incomplete\",0,IF(AY$104<>\"Incomplete\",ED19)),\"\")","v":""},{"$f":"$AY3","v":0}]
[null,13,"Asphalt Section 402 - 4.75mm Superpave",{"$f":"'Order Details'!J19","v":0},{"$f":"IFERROR(VLOOKUP(G$3,'District Bids'!$C$5:$CU$511,19,0),\"\")","v":0},0,{"$f":"IFERROR(IF(E$20=0,0,($D$20*E$20+($D$20*'Complicated Price Adjustment'!$E44))),\"\")","v":0},"",{"$f":"IFERROR(VLOOKUP(K$3,'District Bids'!$C$5:$CU$511,19,0),\"\")","v":118.95},0,{"$f":"IFERROR(IF(I$20=0,0,($D$20*I$20+($D$20*'Complicated Price Adjustment'!$E44))),\"\")","v":0},"",{"$f":"IFERROR(VLOOKUP(O$3,'District Bids'!$C$5:$CU$511,19,0),\"\")","v":118.95},0,{"$f":"IFERROR(IF(M$20=0,0,($D$20*M$20+($D$20*'Complicated Price Adjustment'!$E44))),\"\")","v":0},"",{"$f":"IFERROR(VLOOKUP(S$3,'District Bids'!$C$5:$CU$511,19,0),\"\")","v":0},0,{"$f":"IFERROR(IF(Q$20=0,0,($D$20*Q$20+($D$20*'Complicated Price Adjustment'!$E44))),\"\")","v":0},"",{"$f":"IFERROR(VLOOKUP(W$3,'District Bids'!$C$5:$CU$511,19,0),\"\")","v":0},0,{"$f":"IFERROR(IF(U$20=0,0,($D$20*U$20+($D$20*'Complicated Price Adjustment'!$E44))),\"\")","v":0},"",{"$f":"IFERROR(VLOOKUP(AA$3,'District Bids'!$C$5:$CU$511,19,0),\"\")","v":0},0,{"$f":"IFERROR(IF(Y$20=0,0,($D$20*Y$20+($D$20*'Complicated Price Adjustment'!$E44))),\"\")","v":0},"",{"$f":"IFERROR(VLOOKUP(AE$3,'District Bids'!$C$5:$CU$511,19,0),\"\")","v":0},0,{"$f":"IFERROR(IF(AC$20=0,0,($D$20*AC$20+($D$20*'Complicated Price Adjustment'!$E44))),\"\")","v":0},"",{"$f":"IFERROR(VLOOKUP(AI$3,'District Bids'!$C$5:$CU$511,19,0),\"\")","v":0},0,{"$f":"IFERROR(IF(AG$20=0,0,($D$20*AG$20+($D$20*'Complicated Price Adjustment'!$E44))),\"\")","v":0},"",{"$f":"IFERROR(VLOOKUP(AM$3,'District Bids'!$C$5:$CU$511,19,0),\"\")","v":0},0,{"$f":"IFERROR(IF(AK$20=0,0,($D$20*AK$20+($D$20*'Complicated Price Adjustment'!$E44))),\"\")","v":0},"",{"$f":"IFERROR(VLOOKUP(AQ$3,'District Bids'!$C$5:$CU$511,19,0),\"\")","v":0},0,{"$f":"IFERROR(IF(AO$20=0,0,($D$20*AO$20+($D$20*'Complicated Price Adjustment'!$E44))),\"\")","v":0},"",{"$f":"IFERROR(VLOOKUP(AU$3,'District Bids'!$C$5:$CU$511,19,0),\"\")","v":""},"",{"$f":"IFERROR(IF(AS$20=0,0,($D$20*AS$20+($D$20*'Complicated Price Adjustment'!$E44))),\"\")","v":""},"",{"$f":"IFERROR(VLOOKUP(AY$3,'District Bids'!$C$5:$CU$511,19,0),\"\")","v":""},"",{"$f":"IFERROR(IF(AW$20=0,0,($D$20*AW$20+($D$20*'Complicated Price Adjustment'!$E44))),\"\")","v":""},"",{"$f":"IFERROR(VLOOKUP(BC$3,'District Bids'!$C$5:$CU$511,19,0),\"\")","v":""},"",{"$f":"IFERROR(IF(BA$20=0,0,($D$20*BA$20+($D$20*'Complicated Price Adjustment'!$E44))),\"\")","v":""},"",{"$f":"IFERROR(VLOOKUP(BG$3,'District Bids'!$C$5:$CU$511,19,0),\"\")","v":""},"",{"$f":"IFERROR(IF(BE$20=0,0,($D$20*BE$20+($D$20*'Complicated Price Adjustment'!$E44))),\"\")","v":""},"",{"$f":"IFERROR(VLOOKUP(BK$3,'District Bids'!$C$5:$CU$511,19,0),\"\")","v":""},"",{"$f":"IFERROR(IF(BI$20=0,0,($D$20*BI$20+($D$20*'Complicated Price Adjustment'!$E44))),\"\")","v":""},"",{"$f":"IFERROR(VLOOKUP(BO$3,'District Bids'!$C$5:$CU$511,19,0),\"\")","v":""},"",{"$f":"IFERROR(IF(BM$20=0,0,($D$20*BM$20+($D$20*'Complicated Price Adjustment'!$E44))),\"\")","v":""},"",{"$f":"IFERROR(VLOOKUP(BS$3,'District Bids'!$C$5:$CU$511,19,0),\"\")","v":""},"",{"$f":"IFERROR(IF(BQ$20=0,0,($D$20*BQ$20+($D$20*'Complicated Price Adjustment'!$E44))),\"\")","v":""},"",{"$f":"IFERROR(VLOOKUP(BW$3,'District Bids'!$C$5:$CU$511,19,0),\"\")","v":""},"",{"$f":"IFERROR(IF(BU$20=0,0,($D$20*BU$20+($D$20*'Complicated Price Adjustment'!$E44))),\"\")","v":""},"",{"$f":"IFERROR(VLOOKUP(CA$3,'District Bids'!$C$5:$CU$511,19,0),\"\")","v":""},"",{"$f":"IFERROR(IF(BY$20=0,0,($D$20*BY$20+($D$20*'Complicated Price Adjustment'!$E44))),\"\")","v":""},"",{"$f":"IFERROR(VLOOKUP(CE$3,'District Bids'!$C$5:$CU$511,19,0),\"\")","v":""},"",{"$f":"IFERROR(IF(CC$20=0,0,($D$20*CC$20+($D$20*'Complicated Price Adjustment'!$E44))),\"\")","v":""},"",{"$f":"IFERROR(VLOOKUP(CI$3,'District Bids'!$C$5:$CU$511,19,0),\"\")","v":""},"",{"$f":"IFERROR(IF(CG$20=0,0,($D$20*CG$20+($D$20*'Complicated Price Adjustment'!$E44))),\"\")","v":""},"",{"$f":"IFERROR(VLOOKUP(CM$3,'District Bids'!$C$5:$CU$511,19,0),\"\")","v":""},"",{"$f":"IFERROR(IF(CK$20=0,0,($D$20*CK$20+($D$20*'Complicated Price Adjustment'!$E44))),\"\")","v":""},"",{"$f":"IFERROR(VLOOKUP(CQ$3,'District Bids'!$C$5:$CU$511,19,0),\"\")","v":""},"",{"$f":"IFERROR(IF(CO$20=0,0,($D$20*CO$20+($D$20*'Complicated Price Adjustment'!$E44))),\"\")","v":""},"",{"$f":"IFERROR(VLOOKUP(CU$3,'District Bids'!$C$5:$CU$511,19,0),\"\")","v":""},"",{"$f":"IFERROR(IF(CS$20=0,0,($D$20*CS$20+($D$20*'Complicated Price Adjustment'!$E44))),\"\")","v":""},"",{"$f":"IFERROR(VLOOKUP(CY$3,'District Bids'!$C$5:$CU$511,19,0),\"\")","v":""},"",{"$f":"IFERROR(IF(CW$20=0,0,($D$20*CW$20+($D$20*'Complicated Price Adjustment'!$E44))),\"\")","v":""},"",{"$f":"IFERROR(VLOOKUP(DC$3,'District Bids'!$C$5:$CU$511,19,0),\"\")","v":""},"",{"$f":"IFERROR(IF(DA$20=0,0,($D$20*DA$20+($D$20*'Complicated Price Adjustment'!$E44))),\"\")","v":""},"",{"$f":"IFERROR(VLOOKUP(DG$3,'District Bids'!$C$5:$CU$511,19,0),\"\")","v":""},"",{"$f":"IFERROR(IF(DE$20=0,0,($D$20*DE$20+($D$20*'Complicated Price Adjustment'!$E44))),\"\")","v":""},"",{"$f":"IFERROR(VLOOKUP(DK$3,'District Bids'!$C$5:$CU$511,19,0),\"\")","v":""},"",{"$f":"IFERROR(IF(DI$20=0,0,($D$20*DI$20+($D$20*'Complicated Price Adjustment'!$E44))),\"\")","v":""},"",{"$f":"IFERROR(VLOOKUP(DO$3,'District Bids'!$C$5:$CU$511,19,0),\"\")","v":""},"",{"$f":"IFERROR(IF(DM$20=0,0,($D$20*DM$20+($D$20*'Complicated Price Adjustment'!$E44))),\"\")","v":""},"",{"$f":"IFERROR(VLOOKUP(DS$3,'District Bids'!$C$5:$CU$511,19,0),\"\")","v":""},"",{"$f":"IFERROR(IF(DQ$20=0,0,($D$20*DQ$20+($D$20*'Complicated Price Adjustment'!$E44))),\"\")","v":""},"",{"$f":"IFERROR(VLOOKUP(DW$3,'District Bids'!$C$5:$CU$511,19,0),\"\")","v":""},"",{"$f":"IFERROR(IF(DU$20=0,0,($D$20*DU$20+($D$20*'Complicated Price Adjustment'!$E44))),\"\")","v":""},"",{"$f":"IFERROR(VLOOKUP(EA$3,'District Bids'!$C$5:$CU$511,19,0),\"\")","v":""},"",{"$f":"IFERROR(IF(DY$20=0,0,($D$20*DY$20+($D$20*'Complicated Price Adjustment'!$E44))),\"\")","v":""},"",null,{"$f":"IFERROR(BC$6,\"\")","v":""},{"$f":"IFERROR(IF(BC$104=\"Incomplete\",0,IF(BC$104<>\"Incomplete\",ED20)),\"\")","v":""},{"$f":"$BC3","v":0}]
[null,14,"Asphalt Section 401 - Wearing III",{"$f":"'Order Details'!J20","v":0},{"$f":"IFERROR(VLOOKUP(G$3,'District Bids'!$C$5:$CU$511,20,0),\"\")","v":0},0,{"$f":"IFERROR(IF(E$21=0,0,($D$21*E$21+($D$21*'Complicated Price Adjustment'!$E45))),\"\")","v":0},"",{"$f":"IFERROR(VLOOKUP(K$3,'District Bids'!$C$5:$CU$511,20,0),\"\")","v":113.94},0,{"$f":"IFERROR(IF(I$21=0,0,($D$21*I$21+($D$21*'Complicated Price Adjustment'!$E45))),\"\")","v":0},"",{"$f":"IFERROR(VLOOKUP(O$3,'District Bids'!$C$5:$CU$511,20,0),\"\")","v":113.94},0,{"$f":"IFERROR(IF(M$21=0,0,($D$21*M$21+($D$21*'Complicated Price Adjustment'!$E45))),\"\")","v":0},"",{"$f":"IFERROR(VLOOKUP(S$3,'District Bids'!$C$5:$CU$511,20,0),\"\")","v":0},0,{"$f":"IFERROR(IF(Q$21=0,0,($D$21*Q$21+($D$21*'Complicated Price Adjustment'!$E45))),\"\")","v":0},"",{"$f":"IFERROR(VLOOKUP(W$3,'District Bids'!$C$5:$CU$511,20,0),\"\")","v":119},0,{"$f":"IFERROR(IF(U$21=0,0,($D$21*U$21+($D$21*'Complicated Price Adjustment'!$E45))),\"\")","v":0},"",{"$f":"IFERROR(VLOOKUP(AA$3,'District Bids'!$C$5:$CU$511,20,0),\"\")","v":119},0,{"$f":"IFERROR(IF(Y$21=0,0,($D$21*Y$21+($D$21*'Complicated Price Adjustment'!$E45))),\"\")","v":0},"",{"$f":"IFERROR(VLOOKUP(AE$3,'District Bids'!$C$5:$CU$511,20,0),\"\")","v":117},0,{"$f":"IFERROR(IF(AC$21=0,0,($D$21*AC$21+($D$21*'Complicated Price Adjustment'!$E45))),\"\")","v":0},"",{"$f":"IFERROR(VLOOKUP(AI$3,'District Bids'!$C$5:$CU$511,20,0),\"\")","v":117},0,{"$f":"IFERROR(IF(AG$21=0,0,($D$21*AG$21+($D$21*'Complicated Price Adjustment'!$E45))),\"\")","v":0},"",{"$f":"IFERROR(VLOOKUP(AM$3,'District Bids'!$C$5:$CU$511,20,0),\"\")","v":0},0,{"$f":"IFERROR(IF(AK$21=0,0,($D$21*AK$21+($D$21*'Complicated Price Adjustment'!$E45))),\"\")","v":0},"",{"$f":"IFERROR(VLOOKUP(AQ$3,'District Bids'!$C$5:$CU$511,20,0),\"\")","v":0},0,{"$f":"IFERROR(IF(AO$21=0,0,($D$21*AO$21+($D$21*'Complicated Price Adjustment'!$E45))),\"\")","v":0},"",{"$f":"IFERROR(VLOOKUP(AU$3,'District Bids'!$C$5:$CU$511,20,0),\"\")","v":""},"",{"$f":"IFERROR(IF(AS$21=0,0,($D$21*AS$21+($D$21*'Complicated Price Adjustment'!$E45))),\"\")","v":""},"",{"$f":"IFERROR(VLOOKUP(AY$3,'District Bids'!$C$5:$CU$511,20,0),\"\")","v":""},"",{"$f":"IFERROR(IF(AW$21=0,0,($D$21*AW$21+($D$21*'Complicated Price Adjustment'!$E45))),\"\")","v":""},"",{"$f":"IFERROR(VLOOKUP(BC$3,'District Bids'!$C$5:$CU$511,20,0),\"\")","v":""},"",{"$f":"IFERROR(IF(BA$21=0,0,($D$21*BA$21+($D$21*'Complicated Price Adjustment'!$E45))),\"\")","v":""},"",{"$f":"IFERROR(VLOOKUP(BG$3,'District Bids'!$C$5:$CU$511,20,0),\"\")","v":""},"",{"$f":"IFERROR(IF(BE$21=0,0,($D$21*BE$21+($D$21*'Complicated Price Adjustment'!$E45))),\"\")","v":""},"",{"$f":"IFERROR(VLOOKUP(BK$3,'District Bids'!$C$5:$CU$511,20,0),\"\")","v":""},"",{"$f":"IFERROR(IF(BI$21=0,0,($D$21*BI$21+($D$21*'Complicated Price Adjustment'!$E45))),\"\")","v":""},"",{"$f":"IFERROR(VLOOKUP(BO$3,'District Bids'!$C$5:$CU$511,20,0),\"\")","v":""},"",{"$f":"IFERROR(IF(BM$21=0,0,($D$21*BM$21+($D$21*'Complicated Price Adjustment'!$E45))),\"\")","v":""},"",{"$f":"IFERROR(VLOOKUP(BS$3,'District Bids'!$C$5:$CU$511,20,0),\"\")","v":""},"",{"$f":"IFERROR(IF(BQ$21=0,0,($D$21*BQ$21+($D$21*'Complicated Price Adjustment'!$E45))),\"\")","v":""},"",{"$f":"IFERROR(VLOOKUP(BW$3,'District Bids'!$C$5:$CU$511,20,0),\"\")","v":""},"",{"$f":"IFERROR(IF(BU$21=0,0,($D$21*BU$21+($D$21*'Complicated Price Adjustment'!$E45))),\"\")","v":""},"",{"$f":"IFERROR(VLOOKUP(CA$3,'District Bids'!$C$5:$CU$511,20,0),\"\")","v":""},"",{"$f":"IFERROR(IF(BY$21=0,0,($D$21*BY$21+($D$21*'Complicated Price Adjustment'!$E45))),\"\")","v":""},"",{"$f":"IFERROR(VLOOKUP(CE$3,'District Bids'!$C$5:$CU$511,20,0),\"\")","v":""},"",{"$f":"IFERROR(IF(CC$21=0,0,($D$21*CC$21+($D$21*'Complicated Price Adjustment'!$E45))),\"\")","v":""},"",{"$f":"IFERROR(VLOOKUP(CI$3,'District Bids'!$C$5:$CU$511,20,0),\"\")","v":""},"",{"$f":"IFERROR(IF(CG$21=0,0,($D$21*CG$21+($D$21*'Complicated Price Adjustment'!$E45))),\"\")","v":""},"",{"$f":"IFERROR(VLOOKUP(CM$3,'District Bids'!$C$5:$CU$511,20,0),\"\")","v":""},"",{"$f":"IFERROR(IF(CK$21=0,0,($D$21*CK$21+($D$21*'Complicated Price Adjustment'!$E45))),\"\")","v":""},"",{"$f":"IFERROR(VLOOKUP(CQ$3,'District Bids'!$C$5:$CU$511,20,0),\"\")","v":""},"",{"$f":"IFERROR(IF(CO$21=0,0,($D$21*CO$21+($D$21*'Complicated Price Adjustment'!$E45))),\"\")","v":""},"",{"$f":"IFERROR(VLOOKUP(CU$3,'District Bids'!$C$5:$CU$511,20,0),\"\")","v":""},"",{"$f":"IFERROR(IF(CS$21=0,0,($D$21*CS$21+($D$21*'Complicated Price Adjustment'!$E45))),\"\")","v":""},"",{"$f":"IFERROR(VLOOKUP(CY$3,'District Bids'!$C$5:$CU$511,20,0),\"\")","v":""},"",{"$f":"IFERROR(IF(CW$21=0,0,($D$21*CW$21+($D$21*'Complicated Price Adjustment'!$E45))),\"\")","v":""},"",{"$f":"IFERROR(VLOOKUP(DC$3,'District Bids'!$C$5:$CU$511,20,0),\"\")","v":""},"",{"$f":"IFERROR(IF(DA$21=0,0,($D$21*DA$21+($D$21*'Complicated Price Adjustment'!$E45))),\"\")","v":""},"",{"$f":"IFERROR(VLOOKUP(DG$3,'District Bids'!$C$5:$CU$511,20,0),\"\")","v":""},"",{"$f":"IFERROR(IF(DE$21=0,0,($D$21*DE$21+($D$21*'Complicated Price Adjustment'!$E45))),\"\")","v":""},"",{"$f":"IFERROR(VLOOKUP(DK$3,'District Bids'!$C$5:$CU$511,20,0),\"\")","v":""},"",{"$f":"IFERROR(IF(DI$21=0,0,($D$21*DI$21+($D$21*'Complicated Price Adjustment'!$E45))),\"\")","v":""},"",{"$f":"IFERROR(VLOOKUP(DO$3,'District Bids'!$C$5:$CU$511,20,0),\"\")","v":""},"",{"$f":"IFERROR(IF(DM$21=0,0,($D$21*DM$21+($D$21*'Complicated Price Adjustment'!$E45))),\"\")","v":""},"",{"$f":"IFERROR(VLOOKUP(DS$3,'District Bids'!$C$5:$CU$511,20,0),\"\")","v":""},"",{"$f":"IFERROR(IF(DQ$21=0,0,($D$21*DQ$21+($D$21*'Complicated Price Adjustment'!$E45))),\"\")","v":""},"",{"$f":"IFERROR(VLOOKUP(DW$3,'District Bids'!$C$5:$CU$511,20,0),\"\")","v":""},"",{"$f":"IFERROR(IF(DU$21=0,0,($D$21*DU$21+($D$21*'Complicated Price Adjustment'!$E45))),\"\")","v":""},"",{"$f":"IFERROR(VLOOKUP(EA$3,'District Bids'!$C$5:$CU$511,20,0),\"\")","v":""},"",{"$f":"IFERROR(IF(DY$21=0,0,($D$21*DY$21+($D$21*'Complicated Price Adjustment'!$E45))),\"\")","v":""},"",null,{"$f":"IFERROR(BG$6,\"\")","v":""},{"$f":"IFERROR(IF(BG$104=\"Incomplete\",0,IF(BG$104<>\"Incomplete\",ED21)),\"\")","v":""},{"$f":"$BG3","v":0}]
[null,15,"Asphalt Section 402 - Wearing III",{"$f":"'Order Details'!J21","v":0},{"$f":"IFERROR(VLOOKUP(G$3,'District Bids'!$C$5:$CU$511,21,0),\"\")","v":0},0,{"$f":"IFERROR(IF(E$22=0,0,($D$22*E$22+($D$22*'Complicated Price Adjustment'!$E46))),\"\")","v":0},"",{"$f":"IFERROR(VLOOKUP(K$3,'District Bids'!$C$5:$CU$511,21,0),\"\")","v":118.92},0,{"$f":"IFERROR(IF(I$22=0,0,($D$22*I$22+($D$22*'Complicated Price Adjustment'!$E46))),\"\")","v":0},"",{"$f":"IFERROR(VLOOKUP(O$3,'District Bids'!$C$5:$CU$511,21,0),\"\")","v":118.92},0,{"$f":"IFERROR(IF(M$22=0,0,($D$22*M$22+($D$22*'Complicated Price Adjustment'!$E46))),\"\")","v":0},"",{"$f":"IFERROR(VLOOKUP(S$3,'District Bids'!$C$5:$CU$511,21,0),\"\")","v":0},0,{"$f":"IFERROR(IF(Q$22=0,0,($D$22*Q$22+($D$22*'Complicated Price Adjustment'!$E46))),\"\")","v":0},"",{"$f":"IFERROR(VLOOKUP(W$3,'District Bids'!$C$5:$CU$511,21,0),\"\")","v":0},0,{"$f":"IFERROR(IF(U$22=0,0,($D$22*U$22+($D$22*'Complicated Price Adjustment'!$E46))),\"\")","v":0},"",{"$f":"IFERROR(VLOOKUP(AA$3,'District Bids'!$C$5:$CU$511,21,0),\"\")","v":0},0,{"$f":"IFERROR(IF(Y$22=0,0,($D$22*Y$22+($D$22*'Complicated Price Adjustment'!$E46))),\"\")","v":0},"",{"$f":"IFERROR(VLOOKUP(AE$3,'District Bids'!$C$5:$CU$511,21,0),\"\")","v":0},0,{"$f":"IFERROR(IF(AC$22=0,0,($D$22*AC$22+($D$22*'Complicated Price Adjustment'!$E46))),\"\")","v":0},"",{"$f":"IFERROR(VLOOKUP(AI$3,'District Bids'!$C$5:$CU$511,21,0),\"\")","v":0},0,{"$f":"IFERROR(IF(AG$22=0,0,($D$22*AG$22+($D$22*'Complicated Price Adjustment'!$E46))),\"\")","v":0},"",{"$f":"IFERROR(VLOOKUP(AM$3,'District Bids'!$C$5:$CU$511,21,0),\"\")","v":0},0,{"$f":"IFERROR(IF(AK$22=0,0,($D$22*AK$22+($D$22*'Complicated Price Adjustment'!$E46))),\"\")","v":0},"",{"$f":"IFERROR(VLOOKUP(AQ$3,'District Bids'!$C$5:$CU$511,21,0),\"\")","v":0},0,{"$f":"IFERROR(IF(AO$22=0,0,($D$22*AO$22+($D$22*'Complicated Price Adjustment'!$E46))),\"\")","v":0},"",{"$f":"IFERROR(VLOOKUP(AU$3,'District Bids'!$C$5:$CU$511,21,0),\"\")","v":""},"",{"$f":"IFERROR(IF(AS$22=0,0,($D$22*AS$22+($D$22*'Complicated Price Adjustment'!$E46))),\"\")","v":""},"",{"$f":"IFERROR(VLOOKUP(AY$3,'District Bids'!$C$5:$CU$511,21,0),\"\")","v":""},"",{"$f":"IFERROR(IF(AW$22=0,0,($D$22*AW$22+($D$22*'Complicated Price Adjustment'!$E46))),\"\")","v":""},"",{"$f":"IFERROR(VLOOKUP(BC$3,'District Bids'!$C$5:$CU$511,21,0),\"\")","v":""},"",{"$f":"IFERROR(IF(BA$22=0,0,($D$22*BA$22+($D$22*'Complicated Price Adjustment'!$E46))),\"\")","v":""},"",{"$f":"IFERROR(VLOOKUP(BG$3,'District Bids'!$C$5:$CU$511,21,0),\"\")","v":""},"",{"$f":"IFERROR(IF(BE$22=0,0,($D$22*BE$22+($D$22*'Complicated Price Adjustment'!$E46))),\"\")","v":""},"",{"$f":"IFERROR(VLOOKUP(BK$3,'District Bids'!$C$5:$CU$511,21,0),\"\")","v":""},"",{"$f":"IFERROR(IF(BI$22=0,0,($D$22*BI$22+($D$22*'Complicated Price Adjustment'!$E46))),\"\")","v":""},"",{"$f":"IFERROR(VLOOKUP(BO$3,'District Bids'!$C$5:$CU$511,21,0),\"\")","v":""},"",{"$f":"IFERROR(IF(BM$22=0,0,($D$22*BM$22+($D$22*'Complicated Price Adjustment'!$E46))),\"\")","v":""},"",{"$f":"IFERROR(VLOOKUP(BS$3,'District Bids'!$C$5:$CU$511,21,0),\"\")","v":""},"",{"$f":"IFERROR(IF(BQ$22=0,0,($D$22*BQ$22+($D$22*'Complicated Price Adjustment'!$E46))),\"\")","v":""},"",{"$f":"IFERROR(VLOOKUP(BW$3,'District Bids'!$C$5:$CU$511,21,0),\"\")","v":""},"",{"$f":"IFERROR(IF(BU$22=0,0,($D$22*BU$22+($D$22*'Complicated Price Adjustment'!$E46))),\"\")","v":""},"",{"$f":"IFERROR(VLOOKUP(CA$3,'District Bids'!$C$5:$CU$511,21,0),\"\")","v":""},"",{"$f":"IFERROR(IF(BY$22=0,0,($D$22*BY$22+($D$22*'Complicated Price Adjustment'!$E46))),\"\")","v":""},"",{"$f":"IFERROR(VLOOKUP(CE$3,'District Bids'!$C$5:$CU$511,21,0),\"\")","v":""},"",{"$f":"IFERROR(IF(CC$22=0,0,($D$22*CC$22+($D$22*'Complicated Price Adjustment'!$E46))),\"\")","v":""},"",{"$f":"IFERROR(VLOOKUP(CI$3,'District Bids'!$C$5:$CU$511,21,0),\"\")","v":""},"",{"$f":"IFERROR(IF(CG$22=0,0,($D$22*CG$22+($D$22*'Complicated Price Adjustment'!$E46))),\"\")","v":""},"",{"$f":"IFERROR(VLOOKUP(CM$3,'District Bids'!$C$5:$CU$511,21,0),\"\")","v":""},"",{"$f":"IFERROR(IF(CK$22=0,0,($D$22*CK$22+($D$22*'Complicated Price Adjustment'!$E46))),\"\")","v":""},"",{"$f":"IFERROR(VLOOKUP(CQ$3,'District Bids'!$C$5:$CU$511,21,0),\"\")","v":""},"",{"$f":"IFERROR(IF(CO$22=0,0,($D$22*CO$22+($D$22*'Complicated Price Adjustment'!$E46))),\"\")","v":""},"",{"$f":"IFERROR(VLOOKUP(CU$3,'District Bids'!$C$5:$CU$511,21,0),\"\")","v":""},"",{"$f":"IFERROR(IF(CS$22=0,0,($D$22*CS$22+($D$22*'Complicated Price Adjustment'!$E46))),\"\")","v":""},"",{"$f":"IFERROR(VLOOKUP(CY$3,'District Bids'!$C$5:$CU$511,21,0),\"\")","v":""},"",{"$f":"IFERROR(IF(CW$22=0,0,($D$22*CW$22+($D$22*'Complicated Price Adjustment'!$E46))),\"\")","v":""},"",{"$f":"IFERROR(VLOOKUP(DC$3,'District Bids'!$C$5:$CU$511,21,0),\"\")","v":""},"",{"$f":"IFERROR(IF(DA$22=0,0,($D$22*DA$22+($D$22*'Complicated Price Adjustment'!$E46))),\"\")","v":""},"",{"$f":"IFERROR(VLOOKUP(DG$3,'District Bids'!$C$5:$CU$511,21,0),\"\")","v":""},"",{"$f":"IFERROR(IF(DE$22=0,0,($D$22*DE$22+($D$22*'Complicated Price Adjustment'!$E46))),\"\")","v":""},"",{"$f":"IFERROR(VLOOKUP(DK$3,'District Bids'!$C$5:$CU$511,21,0),\"\")","v":""},"",{"$f":"IFERROR(IF(DI$22=0,0,($D$22*DI$22+($D$22*'Complicated Price Adjustment'!$E46))),\"\")","v":""},"",{"$f":"IFERROR(VLOOKUP(DO$3,'District Bids'!$C$5:$CU$511,21,0),\"\")","v":""},"",{"$f":"IFERROR(IF(DM$22=0,0,($D$22*DM$22+($D$22*'Complicated Price Adjustment'!$E46))),\"\")","v":""},"",{"$f":"IFERROR(VLOOKUP(DS$3,'District Bids'!$C$5:$CU$511,21,0),\"\")","v":""},"",{"$f":"IFERROR(IF(DQ$22=0,0,($D$22*DQ$22+($D$22*'Complicated Price Adjustment'!$E46))),\"\")","v":""},"",{"$f":"IFERROR(VLOOKUP(DW$3,'District Bids'!$C$5:$CU$511,21,0),\"\")","v":""},"",{"$f":"IFERROR(IF(DU$22=0,0,($D$22*DU$22+($D$22*'Complicated Price Adjustment'!$E46))),\"\")","v":""},"",{"$f":"IFERROR(VLOOKUP(EA$3,'District Bids'!$C$5:$CU$511,21,0),\"\")","v":""},"",{"$f":"IFERROR(IF(DY$22=0,0,($D$22*DY$22+($D$22*'Complicated Price Adjustment'!$E46))),\"\")","v":""},"",null,{"$f":"IFERROR(BK$6,\"\")","v":""},{"$f":"IFERROR(IF(BK$104=\"Incomplete\",0,IF(BK$104<>\"Incomplete\",ED22)),\"\")","v":""},{"$f":"$BK3","v":0}]
[null,16,"Asphalt Section 401 - 12.5mm Superpave",{"$f":"'Order Details'!J22","v":0},{"$f":"IFERROR(VLOOKUP(G$3,'District Bids'!$C$5:$CU$511,22,0),\"\")","v":94},0,{"$f":"IFERROR(IF(E$23=0,0,($D$23*E$23+($D$23*'Complicated Price Adjustment'!$E47))),\"\")","v":0},"",{"$f":"IFERROR(VLOOKUP(K$3,'District Bids'!$C$5:$CU$511,22,0),\"\")","v":96.22},0,{"$f":"IFERROR(IF(I$23=0,0,($D$23*I$23+($D$23*'Complicated Price Adjustment'!$E47))),\"\")","v":0},"",{"$f":"IFERROR(VLOOKUP(O$3,'District Bids'!$C$5:$CU$511,22,0),\"\")","v":96.22},0,{"$f":"IFERROR(IF(M$23=0,0,($D$23*M$23+($D$23*'Complicated Price Adjustment'!$E47))),\"\")","v":0},"",{"$f":"IFERROR(VLOOKUP(S$3,'District Bids'!$C$5:$CU$511,22,0),\"\")","v":0},0,{"$f":"IFERROR(IF(Q$23=0,0,($D$23*Q$23+($D$23*'Complicated Price Adjustment'!$E47))),\"\")","v":0},"",{"$f":"IFERROR(VLOOKUP(W$3,'District Bids'!$C$5:$CU$511,22,0),\"\")","v":106},0,{"$f":"IFERROR(IF(U$23=0,0,($D$23*U$23+($D$23*'Complicated Price Adjustment'!$E47))),\"\")","v":0},"",{"$f":"IFERROR(VLOOKUP(AA$3,'District Bids'!$C$5:$CU$511,22,0),\"\")","v":106},0,{"$f":"IFERROR(IF(Y$23=0,0,($D$23*Y$23+($D$23*'Complicated Price Adjustment'!$E47))),\"\")","v":0},"",{"$f":"IFERROR(VLOOKUP(AE$3,'District Bids'!$C$5:$CU$511,22,0),\"\")","v":105},0,{"$f":"IFERROR(IF(AC$23=0,0,($D$23*AC$23+($D$23*'Complicated Price Adjustment'!$E47))),\"\")","v":0},"",{"$f":"IFERROR(VLOOKUP(AI$3,'District Bids'!$C$5:$CU$511,22,0),\"\")","v":105},0,{"$f":"IFERROR(IF(AG$23=0,0,($D$23*AG$23+($D$23*'Complicated Price Adjustment'!$E47))),\"\")","v":0},"",{"$f":"IFERROR(VLOOKUP(AM$3,'District Bids'!$C$5:$CU$511,22,0),\"\")","v":108},0,{"$f":"IFERROR(IF(AK$23=0,0,($D$23*AK$23+($D$23*'Complicated Price Adjustment'!$E47))),\"\")","v":0},"",{"$f":"IFERROR(VLOOKUP(AQ$3,'District Bids'!$C$5:$CU$511,22,0),\"\")","v":108},0,{"$f":"IFERROR(IF(AO$23=0,0,($D$23*AO$23+($D$23*'Complicated Price Adjustment'!$E47))),\"\")","v":0},"",{"$f":"IFERROR(VLOOKUP(AU$3,'District Bids'!$C$5:$CU$511,22,0),\"\")","v":""},"",{"$f":"IFERROR(IF(AS$23=0,0,($D$23*AS$23+($D$23*'Complicated Price Adjustment'!$E47))),\"\")","v":""},"",{"$f":"IFERROR(VLOOKUP(AY$3,'District Bids'!$C$5:$CU$511,22,0),\"\")","v":""},"",{"$f":"IFERROR(IF(AW$23=0,0,($D$23*AW$23+($D$23*'Complicated Price Adjustment'!$E47))),\"\")","v":""},"",{"$f":"IFERROR(VLOOKUP(BC$3,'District Bids'!$C$5:$CU$511,22,0),\"\")","v":""},"",{"$f":"IFERROR(IF(BA$23=0,0,($D$23*BA$23+($D$23*'Complicated Price Adjustment'!$E47))),\"\")","v":""},"",{"$f":"IFERROR(VLOOKUP(BG$3,'District Bids'!$C$5:$CU$511,22,0),\"\")","v":""},"",{"$f":"IFERROR(IF(BE$23=0,0,($D$23*BE$23+($D$23*'Complicated Price Adjustment'!$E47))),\"\")","v":""},"",{"$f":"IFERROR(VLOOKUP(BK$3,'District Bids'!$C$5:$CU$511,22,0),\"\")","v":""},"",{"$f":"IFERROR(IF(BI$23=0,0,($D$23*BI$23+($D$23*'Complicated Price Adjustment'!$E47))),\"\")","v":""},"",{"$f":"IFERROR(VLOOKUP(BO$3,'District Bids'!$C$5:$CU$511,22,0),\"\")","v":""},"",{"$f":"IFERROR(IF(BM$23=0,0,($D$23*BM$23+($D$23*'Complicated Price Adjustment'!$E47))),\"\")","v":""},"",{"$f":"IFERROR(VLOOKUP(BS$3,'District Bids'!$C$5:$CU$511,22,0),\"\")","v":""},"",{"$f":"IFERROR(IF(BQ$23=0,0,($D$23*BQ$23+($D$23*'Complicated Price Adjustment'!$E47))),\"\")","v":""},"",{"$f":"IFERROR(VLOOKUP(BW$3,'District Bids'!$C$5:$CU$511,22,0),\"\")","v":""},"",{"$f":"IFERROR(IF(BU$23=0,0,($D$23*BU$23+($D$23*'Complicated Price Adjustment'!$E47))),\"\")","v":""},"",{"$f":"IFERROR(VLOOKUP(CA$3,'District Bids'!$C$5:$CU$511,22,0),\"\")","v":""},"",{"$f":"IFERROR(IF(BY$23=0,0,($D$23*BY$23+($D$23*'Complicated Price Adjustment'!$E47))),\"\")","v":""},"",{"$f":"IFERROR(VLOOKUP(CE$3,'District Bids'!$C$5:$CU$511,22,0),\"\")","v":""},"",{"$f":"IFERROR(IF(CC$23=0,0,($D$23*CC$23+($D$23*'Complicated Price Adjustment'!$E47))),\"\")","v":""},"",{"$f":"IFERROR(VLOOKUP(CI$3,'District Bids'!$C$5:$CU$511,22,0),\"\")","v":""},"",{"$f":"IFERROR(IF(CG$23=0,0,($D$23*CG$23+($D$23*'Complicated Price Adjustment'!$E47))),\"\")","v":""},"",{"$f":"IFERROR(VLOOKUP(CM$3,'District Bids'!$C$5:$CU$511,22,0),\"\")","v":""},"",{"$f":"IFERROR(IF(CK$23=0,0,($D$23*CK$23+($D$23*'Complicated Price Adjustment'!$E47))),\"\")","v":""},"",{"$f":"IFERROR(VLOOKUP(CQ$3,'District Bids'!$C$5:$CU$511,22,0),\"\")","v":""},"",{"$f":"IFERROR(IF(CO$23=0,0,($D$23*CO$23+($D$23*'Complicated Price Adjustment'!$E47))),\"\")","v":""},"",{"$f":"IFERROR(VLOOKUP(CU$3,'District Bids'!$C$5:$CU$511,22,0),\"\")","v":""},"",{"$f":"IFERROR(IF(CS$23=0,0,($D$23*CS$23+($D$23*'Complicated Price Adjustment'!$E47))),\"\")","v":""},"",{"$f":"IFERROR(VLOOKUP(CY$3,'District Bids'!$C$5:$CU$511,22,0),\"\")","v":""},"",{"$f":"IFERROR(IF(CW$23=0,0,($D$23*CW$23+($D$23*'Complicated Price Adjustment'!$E47))),\"\")","v":""},"",{"$f":"IFERROR(VLOOKUP(DC$3,'District Bids'!$C$5:$CU$511,22,0),\"\")","v":""},"",{"$f":"IFERROR(IF(DA$23=0,0,($D$23*DA$23+($D$23*'Complicated Price Adjustment'!$E47))),\"\")","v":""},"",{"$f":"IFERROR(VLOOKUP(DG$3,'District Bids'!$C$5:$CU$511,22,0),\"\")","v":""},"",{"$f":"IFERROR(IF(DE$23=0,0,($D$23*DE$23+($D$23*'Complicated Price Adjustment'!$E47))),\"\")","v":""},"",{"$f":"IFERROR(VLOOKUP(DK$3,'District Bids'!$C$5:$CU$511,22,0),\"\")","v":""},"",{"$f":"IFERROR(IF(DI$23=0,0,($D$23*DI$23+($D$23*'Complicated Price Adjustment'!$E47))),\"\")","v":""},"",{"$f":"IFERROR(VLOOKUP(DO$3,'District Bids'!$C$5:$CU$511,22,0),\"\")","v":""},"",{"$f":"IFERROR(IF(DM$23=0,0,($D$23*DM$23+($D$23*'Complicated Price Adjustment'!$E47))),\"\")","v":""},"",{"$f":"IFERROR(VLOOKUP(DS$3,'District Bids'!$C$5:$CU$511,22,0),\"\")","v":""},"",{"$f":"IFERROR(IF(DQ$23=0,0,($D$23*DQ$23+($D$23*'Complicated Price Adjustment'!$E47))),\"\")","v":""},"",{"$f":"IFERROR(VLOOKUP(DW$3,'District Bids'!$C$5:$CU$511,22,0),\"\")","v":""},"",{"$f":"IFERROR(IF(DU$23=0,0,($D$23*DU$23+($D$23*'Complicated Price Adjustment'!$E47))),\"\")","v":""},"",{"$f":"IFERROR(VLOOKUP(EA$3,'District Bids'!$C$5:$CU$511,22,0),\"\")","v":""},"",{"$f":"IFERROR(IF(DY$23=0,0,($D$23*DY$23+($D$23*'Complicated Price Adjustment'!$E47))),\"\")","v":""},"",null,{"$f":"IFERROR(BO$6,\"\")","v":""},{"$f":"IFERROR(IF(BO$104=\"Incomplete\",0,IF(BO$104<>\"Incomplete\",ED23)),\"\")","v":""},{"$f":"$BO3","v":0}]
[null,17,"Asphalt Section 402 - 12.5mm Superpave",{"$f":"'Order Details'!J23","v":0},{"$f":"IFERROR(VLOOKUP(G$3,'District Bids'!$C$5:$CU$511,23,0),\"\")","v":94},0,{"$f":"IFERROR(IF(E$24=0,0,($D$24*E$24+($D$24*'Complicated Price Adjustment'!$E48))),\"\")","v":0},"",{"$f":"IFERROR(VLOOKUP(K$3,'District Bids'!$C$5:$CU$511,23,0),\"\")","v":96.22},0,{"$f":"IFERROR(IF(I$24=0,0,($D$24*I$24+($D$24*'Complicated Price Adjustment'!$E48))),\"\")","v":0},"",{"$f":"IFERROR(VLOOKUP(O$3,'District Bids'!$C$5:$CU$511,23,0),\"\")","v":96.22},0,{"$f":"IFERROR(IF(M$24=0,0,($D$24*M$24+($D$24*'Complicated Price Adjustment'!$E48))),\"\")","v":0},"",{"$f":"IFERROR(VLOOKUP(S$3,'District Bids'!$C$5:$CU$511,23,0),\"\")","v":0},0,{"$f":"IFERROR(IF(Q$24=0,0,($D$24*Q$24+($D$24*'Complicated Price Adjustment'!$E48))),\"\")","v":0},"",{"$f":"IFERROR(VLOOKUP(W$3,'District Bids'!$C$5:$CU$511,23,0),\"\")","v":106},0,{"$f":"IFERROR(IF(U$24=0,0,($D$24*U$24+($D$24*'Complicated Price Adjustment'!$E48))),\"\")","v":0},"",{"$f":"IFERROR(VLOOKUP(AA$3,'District Bids'!$C$5:$CU$511,23,0),\"\")","v":106},0,{"$f":"IFERROR(IF(Y$24=0,0,($D$24*Y$24+($D$24*'Complicated Price Adjustment'!$E48))),\"\")","v":0},"",{"$f":"IFERROR(VLOOKUP(AE$3,'District Bids'!$C$5:$CU$511,23,0),\"\")","v":105},0,{"$f":"IFERROR(IF(AC$24=0,0,($D$24*AC$24+($D$24*'Complicated Price Adjustment'!$E48))),\"\")","v":0},"",{"$f":"IFERROR(VLOOKUP(AI$3,'District Bids'!$C$5:$CU$511,23,0),\"\")","v":105},0,{"$f":"IFERROR(IF(AG$24=0,0,($D$24*AG$24+($D$24*'Complicated Price Adjustment'!$E48))),\"\")","v":0},"",{"$f":"IFERROR(VLOOKUP(AM$3,'District Bids'!$C$5:$CU$511,23,0),\"\")","v":108},0,{"$f":"IFERROR(IF(AK$24=0,0,($D$24*AK$24+($D$24*'Complicated Price Adjustment'!$E48))),\"\")","v":0},"",{"$f":"IFERROR(VLOOKUP(AQ$3,'District Bids'!$C$5:$CU$511,23,0),\"\")","v":108},0,{"$f":"IFERROR(IF(AO$24=0,0,($D$24*AO$24+($D$24*'Complicated Price Adjustment'!$E48))),\"\")","v":0},"",{"$f":"IFERROR(VLOOKUP(AU$3,'District Bids'!$C$5:$CU$511,23,0),\"\")","v":""},"",{"$f":"IFERROR(IF(AS$24=0,0,($D$24*AS$24+($D$24*'Complicated Price Adjustment'!$E48))),\"\")","v":""},"",{"$f":"IFERROR(VLOOKUP(AY$3,'District Bids'!$C$5:$CU$511,23,0),\"\")","v":""},"",{"$f":"IFERROR(IF(AW$24=0,0,($D$24*AW$24+($D$24*'Complicated Price Adjustment'!$E48))),\"\")","v":""},"",{"$f":"IFERROR(VLOOKUP(BC$3,'District Bids'!$C$5:$CU$511,23,0),\"\")","v":""},"",{"$f":"IFERROR(IF(BA$24=0,0,($D$24*BA$24+($D$24*'Complicated Price Adjustment'!$E48))),\"\")","v":""},"",{"$f":"IFERROR(VLOOKUP(BG$3,'District Bids'!$C$5:$CU$511,23,0),\"\")","v":""},"",{"$f":"IFERROR(IF(BE$24=0,0,($D$24*BE$24+($D$24*'Complicated Price Adjustment'!$E48))),\"\")","v":""},"",{"$f":"IFERROR(VLOOKUP(BK$3,'District Bids'!$C$5:$CU$511,23,0),\"\")","v":""},"",{"$f":"IFERROR(IF(BI$24=0,0,($D$24*BI$24+($D$24*'Complicated Price Adjustment'!$E48))),\"\")","v":""},"",{"$f":"IFERROR(VLOOKUP(BO$3,'District Bids'!$C$5:$CU$511,23,0),\"\")","v":""},"",{"$f":"IFERROR(IF(BM$24=0,0,($D$24*BM$24+($D$24*'Complicated Price Adjustment'!$E48))),\"\")","v":""},"",{"$f":"IFERROR(VLOOKUP(BS$3,'District Bids'!$C$5:$CU$511,23,0),\"\")","v":""},"",{"$f":"IFERROR(IF(BQ$24=0,0,($D$24*BQ$24+($D$24*'Complicated Price Adjustment'!$E48))),\"\")","v":""},"",{"$f":"IFERROR(VLOOKUP(BW$3,'District Bids'!$C$5:$CU$511,23,0),\"\")","v":""},"",{"$f":"IFERROR(IF(BU$24=0,0,($D$24*BU$24+($D$24*'Complicated Price Adjustment'!$E48))),\"\")","v":""},"",{"$f":"IFERROR(VLOOKUP(CA$3,'District Bids'!$C$5:$CU$511,23,0),\"\")","v":""},"",{"$f":"IFERROR(IF(BY$24=0,0,($D$24*BY$24+($D$24*'Complicated Price Adjustment'!$E48))),\"\")","v":""},"",{"$f":"IFERROR(VLOOKUP(CE$3,'District Bids'!$C$5:$CU$511,23,0),\"\")","v":""},"",{"$f":"IFERROR(IF(CC$24=0,0,($D$24*CC$24+($D$24*'Complicated Price Adjustment'!$E48))),\"\")","v":""},"",{"$f":"IFERROR(VLOOKUP(CI$3,'District Bids'!$C$5:$CU$511,23,0),\"\")","v":""},"",{"$f":"IFERROR(IF(CG$24=0,0,($D$24*CG$24+($D$24*'Complicated Price Adjustment'!$E48))),\"\")","v":""},"",{"$f":"IFERROR(VLOOKUP(CM$3,'District Bids'!$C$5:$CU$511,23,0),\"\")","v":""},"",{"$f":"IFERROR(IF(CK$24=0,0,($D$24*CK$24+($D$24*'Complicated Price Adjustment'!$E48))),\"\")","v":""},"",{"$f":"IFERROR(VLOOKUP(CQ$3,'District Bids'!$C$5:$CU$511,23,0),\"\")","v":""},"",{"$f":"IFERROR(IF(CO$24=0,0,($D$24*CO$24+($D$24*'Complicated Price Adjustment'!$E48))),\"\")","v":""},"",{"$f":"IFERROR(VLOOKUP(CU$3,'District Bids'!$C$5:$CU$511,23,0),\"\")","v":""},"",{"$f":"IFERROR(IF(CS$24=0,0,($D$24*CS$24+($D$24*'Complicated Price Adjustment'!$E48))),\"\")","v":""},"",{"$f":"IFERROR(VLOOKUP(CY$3,'District Bids'!$C$5:$CU$511,23,0),\"\")","v":""},"",{"$f":"IFERROR(IF(CW$24=0,0,($D$24*CW$24+($D$24*'Complicated Price Adjustment'!$E48))),\"\")","v":""},"",{"$f":"IFERROR(VLOOKUP(DC$3,'District Bids'!$C$5:$CU$511,23,0),\"\")","v":""},"",{"$f":"IFERROR(IF(DA$24=0,0,($D$24*DA$24+($D$24*'Complicated Price Adjustment'!$E48))),\"\")","v":""},"",{"$f":"IFERROR(VLOOKUP(DG$3,'District Bids'!$C$5:$CU$511,23,0),\"\")","v":""},"",{"$f":"IFERROR(IF(DE$24=0,0,($D$24*DE$24+($D$24*'Complicated Price Adjustment'!$E48))),\"\")","v":""},"",{"$f":"IFERROR(VLOOKUP(DK$3,'District Bids'!$C$5:$CU$511,23,0),\"\")","v":""},"",{"$f":"IFERROR(IF(DI$24=0,0,($D$24*DI$24+($D$24*'Complicated Price Adjustment'!$E48))),\"\")","v":""},"",{"$f":"IFERROR(VLOOKUP(DO$3,'District Bids'!$C$5:$CU$511,23,0),\"\")","v":""},"",{"$f":"IFERROR(IF(DM$24=0,0,($D$24*DM$24+($D$24*'Complicated Price Adjustment'!$E48))),\"\")","v":""},"",{"$f":"IFERROR(VLOOKUP(DS$3,'District Bids'!$C$5:$CU$511,23,0),\"\")","v":""},"",{"$f":"IFERROR(IF(DQ$24=0,0,($D$24*DQ$24+($D$24*'Complicated Price Adjustment'!$E48))),\"\")","v":""},"",{"$f":"IFERROR(VLOOKUP(DW$3,'District Bids'!$C$5:$CU$511,23,0),\"\")","v":""},"",{"$f":"IFERROR(IF(DU$24=0,0,($D$24*DU$24+($D$24*'Complicated Price Adjustment'!$E48))),\"\")","v":""},"",{"$f":"IFERROR(VLOOKUP(EA$3,'District Bids'!$C$5:$CU$511,23,0),\"\")","v":""},"",{"$f":"IFERROR(IF(DY$24=0,0,($D$24*DY$24+($D$24*'Complicated Price Adjustment'!$E48))),\"\")","v":""},"",null,{"$f":"IFERROR(BS$6,\"\")","v":""},{"$f":"IFERROR(IF(BS$104=\"Incomplete\",0,IF(BS$104<>\"Incomplete\",ED24)),\"\")","v":""},{"$f":"$BS3","v":0}]
[null,18,"Shoulder Stone Placement for Asphalt Section 307 - Class 10",{"$f":"'Order Details'!J24","v":0},{"$f":"IFERROR(VLOOKUP(G$3,'District Bids'!$C$5:$CU$511,24,0),\"\")","v":60},0,{"$f":"IFERROR(IF(E$25=0,0,($D$25*E$25+($D$25*'Complicated Price Adjustment'!$L32))),\"\")","v":0},"",{"$f":"IFERROR(VLOOKUP(K$3,'District Bids'!$C$5:$CU$511,24,0),\"\")","v":67.5},0,{"$f":"IFERROR(IF(I$25=0,0,($D$25*I$25+($D$25*'Complicated Price Adjustment'!$L32))),\"\")","v":0},"",{"$f":"IFERROR(VLOOKUP(O$3,'District Bids'!$C$5:$CU$511,24,0),\"\")","v":67.5},0,{"$f":"IFERROR(IF(M$25=0,0,($D$25*M$25+($D$25*'Complicated Price Adjustment'!$L32))),\"\")","v":0},"",{"$f":"IFERROR(VLOOKUP(S$3,'District Bids'!$C$5:$CU$511,24,0),\"\")","v":57},0,{"$f":"IFERROR(IF(Q$25=0,0,($D$25*Q$25+($D$25*'Complicated Price Adjustment'!$L32))),\"\")","v":0},"",{"$f":"IFERROR(VLOOKUP(W$3,'District Bids'!$C$5:$CU$511,24,0),\"\")","v":65},0,{"$f":"IFERROR(IF(U$25=0,0,($D$25*U$25+($D$25*'Complicated Price Adjustment'!$L32))),\"\")","v":0},"",{"$f":"IFERROR(VLOOKUP(AA$3,'District Bids'!$C$5:$CU$511,24,0),\"\")","v":65},0,{"$f":"IFERROR(IF(Y$25=0,0,($D$25*Y$25+($D$25*'Complicated Price Adjustment'!$L32))),\"\")","v":0},"",{"$f":"IFERROR(VLOOKUP(AE$3,'District Bids'!$C$5:$CU$511,24,0),\"\")","v":65},0,{"$f":"IFERROR(IF(AC$25=0,0,($D$25*AC$25+($D$25*'Complicated Price Adjustment'!$L32))),\"\")","v":0},"",{"$f":"IFERROR(VLOOKUP(AI$3,'District Bids'!$C$5:$CU$511,24,0),\"\")","v":65},0,{"$f":"IFERROR(IF(AG$25=0,0,($D$25*AG$25+($D$25*'Complicated Price Adjustment'!$L32))),\"\")","v":0},"",{"$f":"IFERROR(VLOOKUP(AM$3,'District Bids'!$C$5:$CU$511,24,0),\"\")","v":65},0,{"$f":"IFERROR(IF(AK$25=0,0,($D$25*AK$25+($D$25*'Complicated Price Adjustment'!$L32))),\"\")","v":0},"",{"$f":"IFERROR(VLOOKUP(AQ$3,'District Bids'!$C$5:$CU$511,24,0),\"\")","v":65},0,{"$f":"IFERROR(IF(AO$25=0,0,($D$25*AO$25+($D$25*'Complicated Price Adjustment'!$L32))),\"\")","v":0},"",{"$f":"IFERROR(VLOOKUP(AU$3,'District Bids'!$C$5:$CU$511,24,0),\"\")","v":""},"",{"$f":"IFERROR(IF(AS$25=0,0,($D$25*AS$25+($D$25*'Complicated Price Adjustment'!$L32))),\"\")","v":""},"",{"$f":"IFERROR(VLOOKUP(AY$3,'District Bids'!$C$5:$CU$511,24,0),\"\")","v":""},"",{"$f":"IFERROR(IF(AW$25=0,0,($D$25*AW$25+($D$25*'Complicated Price Adjustment'!$L32))),\"\")","v":""},"",{"$f":"IFERROR(VLOOKUP(BC$3,'District Bids'!$C$5:$CU$511,24,0),\"\")","v":""},"",{"$f":"IFERROR(IF(BA$25=0,0,($D$25*BA$25+($D$25*'Complicated Price Adjustment'!$L32))),\"\")","v":""},"",{"$f":"IFERROR(VLOOKUP(BG$3,'District Bids'!$C$5:$CU$511,24,0),\"\")","v":""},"",{"$f":"IFERROR(IF(BE$25=0,0,($D$25*BE$25+($D$25*'Complicated Price Adjustment'!$L32))),\"\")","v":""},"",{"$f":"IFERROR(VLOOKUP(BK$3,'District Bids'!$C$5:$CU$511,24,0),\"\")","v":""},"",{"$f":"IFERROR(IF(BI$25=0,0,($D$25*BI$25+($D$25*'Complicated Price Adjustment'!$L32))),\"\")","v":""},"",{"$f":"IFERROR(VLOOKUP(BO$3,'District Bids'!$C$5:$CU$511,24,0),\"\")","v":""},"",{"$f":"IFERROR(IF(BM$25=0,0,($D$25*BM$25+($D$25*'Complicated Price Adjustment'!$L32))),\"\")","v":""},"",{"$f":"IFERROR(VLOOKUP(BS$3,'District Bids'!$C$5:$CU$511,24,0),\"\")","v":""},"",{"$f":"IFERROR(IF(BQ$25=0,0,($D$25*BQ$25+($D$25*'Complicated Price Adjustment'!$L32))),\"\")","v":""},"",{"$f":"IFERROR(VLOOKUP(BW$3,'District Bids'!$C$5:$CU$511,24,0),\"\")","v":""},"",{"$f":"IFERROR(IF(BU$25=0,0,($D$25*BU$25+($D$25*'Complicated Price Adjustment'!$L32))),\"\")","v":""},"",{"$f":"IFERROR(VLOOKUP(CA$3,'District Bids'!$C$5:$CU$511,24,0),\"\")","v":""},"",{"$f":"IFERROR(IF(BY$25=0,0,($D$25*BY$25+($D$25*'Complicated Price Adjustment'!$L32))),\"\")","v":""},"",{"$f":"IFERROR(VLOOKUP(CE$3,'District Bids'!$C$5:$CU$511,24,0),\"\")","v":""},"",{"$f":"IFERROR(IF(CC$25=0,0,($D$25*CC$25+($D$25*'Complicated Price Adjustment'!$L32))),\"\")","v":""},"",{"$f":"IFERROR(VLOOKUP(CI$3,'District Bids'!$C$5:$CU$511,24,0),\"\")","v":""},"",{"$f":"IFERROR(IF(CG$25=0,0,($D$25*CG$25+($D$25*'Complicated Price Adjustment'!$L32))),\"\")","v":""},"",{"$f":"IFERROR(VLOOKUP(CM$3,'District Bids'!$C$5:$CU$511,24,0),\"\")","v":""},"",{"$f":"IFERROR(IF(CK$25=0,0,($D$25*CK$25+($D$25*'Complicated Price Adjustment'!$L32))),\"\")","v":""},"",{"$f":"IFERROR(VLOOKUP(CQ$3,'District Bids'!$C$5:$CU$511,24,0),\"\")","v":""},"",{"$f":"IFERROR(IF(CO$25=0,0,($D$25*CO$25+($D$25*'Complicated Price Adjustment'!$L32))),\"\")","v":""},"",{"$f":"IFERROR(VLOOKUP(CU$3,'District Bids'!$C$5:$CU$511,24,0),\"\")","v":""},"",{"$f":"IFERROR(IF(CS$25=0,0,($D$25*CS$25+($D$25*'Complicated Price Adjustment'!$L32))),\"\")","v":""},"",{"$f":"IFERROR(VLOOKUP(CY$3,'District Bids'!$C$5:$CU$511,24,0),\"\")","v":""},"",{"$f":"IFERROR(IF(CW$25=0,0,($D$25*CW$25+($D$25*'Complicated Price Adjustment'!$L32))),\"\")","v":""},"",{"$f":"IFERROR(VLOOKUP(DC$3,'District Bids'!$C$5:$CU$511,24,0),\"\")","v":""},"",{"$f":"IFERROR(IF(DA$25=0,0,($D$25*DA$25+($D$25*'Complicated Price Adjustment'!$L32))),\"\")","v":""},"",{"$f":"IFERROR(VLOOKUP(DG$3,'District Bids'!$C$5:$CU$511,24,0),\"\")","v":""},"",{"$f":"IFERROR(IF(DE$25=0,0,($D$25*DE$25+($D$25*'Complicated Price Adjustment'!$L32))),\"\")","v":""},"",{"$f":"IFERROR(VLOOKUP(DK$3,'District Bids'!$C$5:$CU$511,24,0),\"\")","v":""},"",{"$f":"IFERROR(IF(DI$25=0,0,($D$25*DI$25+($D$25*'Complicated Price Adjustment'!$L32))),\"\")","v":""},"",{"$f":"IFERROR(VLOOKUP(DO$3,'District Bids'!$C$5:$CU$511,24,0),\"\")","v":""},"",{"$f":"IFERROR(IF(DM$25=0,0,($D$25*DM$25+($D$25*'Complicated Price Adjustment'!$L32))),\"\")","v":""},"",{"$f":"IFERROR(VLOOKUP(DS$3,'District Bids'!$C$5:$CU$511,24,0),\"\")","v":""},"",{"$f":"IFERROR(IF(DQ$25=0,0,($D$25*DQ$25+($D$25*'Complicated Price Adjustment'!$L32))),\"\")","v":""},"",{"$f":"IFERROR(VLOOKUP(DW$3,'District Bids'!$C$5:$CU$511,24,0),\"\")","v":""},"",{"$f":"IFERROR(IF(DU$25=0,0,($D$25*DU$25+($D$25*'Complicated Price Adjustment'!$L32))),\"\")","v":""},"",{"$f":"IFERROR(VLOOKUP(EA$3,'District Bids'!$C$5:$CU$511,24,0),\"\")","v":""},"",{"$f":"IFERROR(IF(DY$25=0,0,($D$25*DY$25+($D$25*'Complicated Price Adjustment'!$L32))),\"\")","v":""},"",null,{"$f":"IFERROR(BW$6,\"\")","v":""},{"$f":"IFERROR(IF(BW$104=\"Incomplete\",0,IF(BW$104<>\"Incomplete\",ED25)),\"\")","v":""},{"$f":"$BW3","v":0}]
[null,19,"Shoulder Stone Mobilization ",{"$f":"'Order Details'!J25","v":0},{"$f":"IFERROR(VLOOKUP(G$3,'District Bids'!$C$5:$CU$511,25,0),\"\")","v":1800},0,{"$f":"IFERROR($D26*E26,\"\")","v":0},"",{"$f":"IFERROR(VLOOKUP(K$3,'District Bids'!$C$5:$CU$511,25,0),\"\")","v":1950},0,{"$f":"IFERROR($D26*I26,\"\")","v":0},"",{"$f":"IFERROR(VLOOKUP(O$3,'District Bids'!$C$5:$CU$511,25,0),\"\")","v":1950},0,{"$f":"IFERROR($D26*M26,\"\")","v":0},"",{"$f":"IFERROR(VLOOKUP(S$3,'District Bids'!$C$5:$CU$511,25,0),\"\")","v":2000},0,{"$f":"IFERROR($D26*Q26,\"\")","v":0},"",{"$f":"IFERROR(VLOOKUP(W$3,'District Bids'!$C$5:$CU$511,25,0),\"\")","v":2000},0,{"$f":"IFERROR($D26*U26,\"\")","v":0},"",{"$f":"IFERROR(VLOOKUP(AA$3,'District Bids'!$C$5:$CU$511,25,0),\"\")","v":2000},0,{"$f":"IFERROR($D26*Y26,\"\")","v":0},"",{"$f":"IFERROR(VLOOKUP(AE$3,'District Bids'!$C$5:$CU$511,25,0),\"\")","v":2000},0,{"$f":"IFERROR($D26*AC26,\"\")","v":0},"",{"$f":"IFERROR(VLOOKUP(AI$3,'District Bids'!$C$5:$CU$511,25,0),\"\")","v":2000},0,{"$f":"IFERROR($D26*AG26,\"\")","v":0},"",{"$f":"IFERROR(VLOOKUP(AM$3,'District Bids'!$C$5:$CU$511,25,0),\"\")","v":2000},0,{"$f":"IFERROR($D26*AK26,\"\")","v":0},"",{"$f":"IFERROR(VLOOKUP(AQ$3,'District Bids'!$C$5:$CU$511,25,0),\"\")","v":2000},0,{"$f":"IFERROR($D26*AO26,\"\")","v":0},"",{"$f":"IFERROR(VLOOKUP(AU$3,'District Bids'!$C$5:$CU$511,25,0),\"\")","v":""},"",{"$f":"IFERROR($D26*AS26,\"\")","v":""},"",{"$f":"IFERROR(VLOOKUP(AY$3,'District Bids'!$C$5:$CU$511,25,0),\"\")","v":""},"",{"$f":"IFERROR($D26*AW26,\"\")","v":""},"",{"$f":"IFERROR(VLOOKUP(BC$3,'District Bids'!$C$5:$CU$511,25,0),\"\")","v":""},"",{"$f":"IFERROR($D26*BA26,\"\")","v":""},"",{"$f":"IFERROR(VLOOKUP(BG$3,'District Bids'!$C$5:$CU$511,25,0),\"\")","v":""},"",{"$f":"IFERROR($D26*BE26,\"\")","v":""},"",{"$f":"IFERROR(VLOOKUP(BK$3,'District Bids'!$C$5:$CU$511,25,0),\"\")","v":""},"",{"$f":"IFERROR($D26*BI26,\"\")","v":""},"",{"$f":"IFERROR(VLOOKUP(BO$3,'District Bids'!$C$5:$CU$511,25,0),\"\")","v":""},"",{"$f":"IFERROR($D26*BM26,\"\")","v":""},"",{"$f":"IFERROR(VLOOKUP(BS$3,'District Bids'!$C$5:$CU$511,25,0),\"\")","v":""},"",{"$f":"IFERROR($D26*BQ26,\"\")","v":""},"",{"$f":"IFERROR(VLOOKUP(BW$3,'District Bids'!$C$5:$CU$511,25,0),\"\")","v":""},"",{"$f":"IFERROR($D26*BU26,\"\")","v":""},"",{"$f":"IFERROR(VLOOKUP(CA$3,'District Bids'!$C$5:$CU$511,25,0),\"\")","v":""},"",{"$f":"IFERROR($D26*BY26,\"\")","v":""},"",{"$f":"IFERROR(VLOOKUP(CE$3,'District Bids'!$C$5:$CU$511,25,0),\"\")","v":""},"",{"$f":"IFERROR($D26*CC26,\"\")","v":""},"",{"$f":"IFERROR(VLOOKUP(CI$3,'District Bids'!$C$5:$CU$511,25,0),\"\")","v":""},"",{"$f":"IFERROR($D26*CG26,\"\")","v":""},"",{"$f":"IFERROR(VLOOKUP(CM$3,'District Bids'!$C$5:$CU$511,25,0),\"\")","v":""},"",{"$f":"IFERROR($D26*CK26,\"\")","v":""},"",{"$f":"IFERROR(VLOOKUP(CQ$3,'District Bids'!$C$5:$CU$511,25,0),\"\")","v":""},"",{"$f":"IFERROR($D26*CO26,\"\")","v":""},"",{"$f":"IFERROR(VLOOKUP(CU$3,'District Bids'!$C$5:$CU$511,25,0),\"\")","v":""},"",{"$f":"IFERROR($D26*CS26,\"\")","v":""},"",{"$f":"IFERROR(VLOOKUP(CY$3,'District Bids'!$C$5:$CU$511,25,0),\"\")","v":""},"",{"$f":"IFERROR($D26*CW26,\"\")","v":""},"",{"$f":"IFERROR(VLOOKUP(DC$3,'District Bids'!$C$5:$CU$511,25,0),\"\")","v":""},"",{"$f":"IFERROR($D26*DA26,\"\")","v":""},"",{"$f":"IFERROR(VLOOKUP(DG$3,'District Bids'!$C$5:$CU$511,25,0),\"\")","v":""},"",{"$f":"IFERROR($D26*DE26,\"\")","v":""},"",{"$f":"IFERROR(VLOOKUP(DK$3,'District Bids'!$C$5:$CU$511,25,0),\"\")","v":""},"",{"$f":"IFERROR($D26*DI26,\"\")","v":""},"",{"$f":"IFERROR(VLOOKUP(DO$3,'District Bids'!$C$5:$CU$511,25,0),\"\")","v":""},"",{"$f":"IFERROR($D26*DM26,\"\")","v":""},"",{"$f":"IFERROR(VLOOKUP(DS$3,'District Bids'!$C$5:$CU$511,25,0),\"\")","v":""},"",{"$f":"IFERROR($D26*DQ26,\"\")","v":""},"",{"$f":"IFERROR(VLOOKUP(DW$3,'District Bids'!$C$5:$CU$511,25,0),\"\")","v":""},"",{"$f":"IFERROR($D26*DU26,\"\")","v":""},"",{"$f":"IFERROR(VLOOKUP(EA$3,'District Bids'!$C$5:$CU$511,25,0),\"\")","v":""},"",{"$f":"IFERROR($D26*DY26,\"\")","v":""},"",null,{"$f":"IFERROR(CA$6,\"\")","v":""},{"$f":"IFERROR(IF(CA$104=\"Incomplete\",0,IF(CA$104<>\"Incomplete\",ED26)),\"\")","v":""},{"$f":"$CA3","v":0}]
[null,22,"Surcharge for PG Binder 58-28S",{"$f":"'Order Details'!J26","v":0},{"$f":"IFERROR(VLOOKUP(G$3,'District Bids'!$C$5:$CU$511,28,0),\"\")","v":7},0,{"$f":"IFERROR($D27*E27,\"\")","v":0},null,{"$f":"IFERROR(VLOOKUP(K$3,'District Bids'!$C$5:$CU$511,28,0),\"\")","v":5},0,{"$f":"IFERROR($D27*I27,\"\")","v":0},null,{"$f":"IFERROR(VLOOKUP(O$3,'District Bids'!$C$5:$CU$511,28,0),\"\")","v":5},0,{"$f":"IFERROR($D27*M27,\"\")","v":0},null,{"$f":"IFERROR(VLOOKUP(S$3,'District Bids'!$C$5:$CU$511,28,0),\"\")","v":0},0,{"$f":"IFERROR($D27*Q27,\"\")","v":0},null,{"$f":"IFERROR(VLOOKUP(W$3,'District Bids'!$C$5:$CU$511,28,0),\"\")","v":15},0,{"$f":"IFERROR($D27*U27,\"\")","v":0},null,{"$f":"IFERROR(VLOOKUP(AA$3,'District Bids'!$C$5:$CU$511,28,0),\"\")","v":15},0,{"$f":"IFERROR($D27*Y27,\"\")","v":0},null,{"$f":"IFERROR(VLOOKUP(AE$3,'District Bids'!$C$5:$CU$511,28,0),\"\")","v":15},0,{"$f":"IFERROR($D27*AC27,\"\")","v":0},null,{"$f":"IFERROR(VLOOKUP(AI$3,'District Bids'!$C$5:$CU$511,28,0),\"\")","v":15},0,{"$f":"IFERROR($D27*AG27,\"\")","v":0},null,{"$f":"IFERROR(VLOOKUP(AM$3,'District Bids'!$C$5:$CU$511,28,0),\"\")","v":15},0,{"$f":"IFERROR($D27*AK27,\"\")","v":0},null,{"$f":"IFERROR(VLOOKUP(AQ$3,'District Bids'!$C$5:$CU$511,28,0),\"\")","v":15},0,{"$f":"IFERROR($D27*AO27,\"\")","v":0},null,{"$f":"IFERROR(VLOOKUP(AU$3,'District Bids'!$C$5:$CU$511,28,0),\"\")","v":""},"",{"$f":"IFERROR($D27*AS27,\"\")","v":""},null,{"$f":"IFERROR(VLOOKUP(AY$3,'District Bids'!$C$5:$CU$511,28,0),\"\")","v":""},"",{"$f":"IFERROR($D27*AW27,\"\")","v":""},null,{"$f":"IFERROR(VLOOKUP(BC$3,'District Bids'!$C$5:$CU$511,28,0),\"\")","v":""},"",{"$f":"IFERROR($D27*BA27,\"\")","v":""},null,{"$f":"IFERROR(VLOOKUP(BG$3,'District Bids'!$C$5:$CU$511,28,0),\"\")","v":""},"",{"$f":"IFERROR($D27*BE27,\"\")","v":""},null,{"$f":"IFERROR(VLOOKUP(BK$3,'District Bids'!$C$5:$CU$511,28,0),\"\")","v":""},"",{"$f":"IFERROR($D27*BI27,\"\")","v":""},null,{"$f":"IFERROR(VLOOKUP(BO$3,'District Bids'!$C$5:$CU$511,28,0),\"\")","v":""},"",{"$f":"IFERROR($D27*BM27,\"\")","v":""},null,{"$f":"IFERROR(VLOOKUP(BS$3,'District Bids'!$C$5:$CU$511,28,0),\"\")","v":""},"",{"$f":"IFERROR($D27*BQ27,\"\")","v":""},null,{"$f":"IFERROR(VLOOKUP(BW$3,'District Bids'!$C$5:$CU$511,28,0),\"\")","v":""},"",{"$f":"IFERROR($D27*BU27,\"\")","v":""},null,{"$f":"IFERROR(VLOOKUP(CA$3,'District Bids'!$C$5:$CU$511,28,0),\"\")","v":""},"",{"$f":"IFERROR($D27*BY27,\"\")","v":""},null,{"$f":"IFERROR(VLOOKUP(CE$3,'District Bids'!$C$5:$CU$511,28,0),\"\")","v":""},"",{"$f":"IFERROR($D27*CC27,\"\")","v":""},null,{"$f":"IFERROR(VLOOKUP(CI$3,'District Bids'!$C$5:$CU$511,28,0),\"\")","v":""},"",{"$f":"IFERROR($D27*CG27,\"\")","v":""},null,{"$f":"IFERROR(VLOOKUP(CM$3,'District Bids'!$C$5:$CU$511,28,0),\"\")","v":""},"",{"$f":"IFERROR($D27*CK27,\"\")","v":""},null,{"$f":"IFERROR(VLOOKUP(CQ$3,'District Bids'!$C$5:$CU$511,28,0),\"\")","v":""},"",{"$f":"IFERROR($D27*CO27,\"\")","v":""},null,{"$f":"IFERROR(VLOOKUP(CU$3,'District Bids'!$C$5:$CU$511,28,0),\"\")","v":""},"",{"$f":"IFERROR($D27*CS27,\"\")","v":""},null,{"$f":"IFERROR(VLOOKUP(CY$3,'District Bids'!$C$5:$CU$511,28,0),\"\")","v":""},"",{"$f":"IFERROR($D27*CW27,\"\")","v":""},null,{"$f":"IFERROR(VLOOKUP(DC$3,'District Bids'!$C$5:$CU$511,28,0),\"\")","v":""},"",{"$f":"IFERROR($D27*DA27,\"\")","v":""},null,{"$f":"IFERROR(VLOOKUP(DG$3,'District Bids'!$C$5:$CU$511,28,0),\"\")","v":""},"",{"$f":"IFERROR($D27*DE27,\"\")","v":""},null,{"$f":"IFERROR(VLOOKUP(DK$3,'District Bids'!$C$5:$CU$511,28,0),\"\")","v":""},"",{"$f":"IFERROR($D27*DI27,\"\")","v":""},null,{"$f":"IFERROR(VLOOKUP(DO$3,'District Bids'!$C$5:$CU$511,28,0),\"\")","v":""},"",{"$f":"IFERROR($D27*DM27,\"\")","v":""},null,{"$f":"IFERROR(VLOOKUP(DS$3,'District Bids'!$C$5:$CU$511,28,0),\"\")","v":""},"",{"$f":"IFERROR($D27*DQ27,\"\")","v":""},null,{"$f":"IFERROR(VLOOKUP(DW$3,'District Bids'!$C$5:$CU$511,28,0),\"\")","v":""},"",{"$f":"IFERROR($D27*DU27,\"\")","v":""},null,{"$f":"IFERROR(VLOOKUP(EA$3,'District Bids'!$C$5:$CU$511,28,0),\"\")","v":""},"",{"$f":"IFERROR($D27*DY27,\"\")","v":""}]
[null,23,"Surcharge for PG Binder - 64H - 22",{"$f":"'Order Details'!J27","v":0},{"$f":"IFERROR(VLOOKUP(G$3,'District Bids'!$C$5:$CU$511,29,0),\"\")","v":7},0,{"$f":"IFERROR($D28*E28,\"\")","v":0},"",{"$f":"IFERROR(VLOOKUP(K$3,'District Bids'!$C$5:$CU$511,29,0),\"\")","v":5},0,{"$f":"IFERROR($D28*I28,\"\")","v":0},"",{"$f":"IFERROR(VLOOKUP(O$3,'District Bids'!$C$5:$CU$511,29,0),\"\")","v":5},0,{"$f":"IFERROR($D28*M28,\"\")","v":0},"",{"$f":"IFERROR(VLOOKUP(S$3,'District Bids'!$C$5:$CU$511,29,0),\"\")","v":0},0,{"$f":"IFERROR($D28*Q28,\"\")","v":0},"",{"$f":"IFERROR(VLOOKUP(W$3,'District Bids'!$C$5:$CU$511,29,0),\"\")","v":4},0,{"$f":"IFERROR($D28*U28,\"\")","v":0},"",{"$f":"IFERROR(VLOOKUP(AA$3,'District Bids'!$C$5:$CU$511,29,0),\"\")","v":4},0,{"$f":"IFERROR($D28*Y28,\"\")","v":0},"",{"$f":"IFERROR(VLOOKUP(AE$3,'District Bids'!$C$5:$CU$511,29,0),\"\")","v":4},0,{"$f":"IFERROR($D28*AC28,\"\")","v":0},"",{"$f":"IFERROR(VLOOKUP(AI$3,'District Bids'!$C$5:$CU$511,29,0),\"\")","v":4},0,{"$f":"IFERROR($D28*AG28,\"\")","v":0},"",{"$f":"IFERROR(VLOOKUP(AM$3,'District Bids'!$C$5:$CU$511,29,0),\"\")","v":4},0,{"$f":"IFERROR($D28*AK28,\"\")","v":0},"",{"$f":"IFERROR(VLOOKUP(AQ$3,'District Bids'!$C$5:$CU$511,29,0),\"\")","v":4},0,{"$f":"IFERROR($D28*AO28,\"\")","v":0},"",{"$f":"IFERROR(VLOOKUP(AU$3,'District Bids'!$C$5:$CU$511,29,0),\"\")","v":""},"",{"$f":"IFERROR($D28*AS28,\"\")","v":""},"",{"$f":"IFERROR(VLOOKUP(AY$3,'District Bids'!$C$5:$CU$511,29,0),\"\")","v":""},"",{"$f":"IFERROR($D28*AW28,\"\")","v":""},"",{"$f":"IFERROR(VLOOKUP(BC$3,'District Bids'!$C$5:$CU$511,29,0),\"\")","v":""},"",{"$f":"IFERROR($D28*BA28,\"\")","v":""},"",{"$f":"IFERROR(VLOOKUP(BG$3,'District Bids'!$C$5:$CU$511,29,0),\"\")","v":""},"",{"$f":"IFERROR($D28*BE28,\"\")","v":""},"",{"$f":"IFERROR(VLOOKUP(BK$3,'District Bids'!$C$5:$CU$511,29,0),\"\")","v":""},"",{"$f":"IFERROR($D28*BI28,\"\")","v":""},"",{"$f":"IFERROR(VLOOKUP(BO$3,'District Bids'!$C$5:$CU$511,29,0),\"\")","v":""},"",{"$f":"IFERROR($D28*BM28,\"\")","v":""},"",{"$f":"IFERROR(VLOOKUP(BS$3,'District Bids'!$C$5:$CU$511,29,0),\"\")","v":""},"",{"$f":"IFERROR($D28*BQ28,\"\")","v":""},"",{"$f":"IFERROR(VLOOKUP(BW$3,'District Bids'!$C$5:$CU$511,29,0),\"\")","v":""},"",{"$f":"IFERROR($D28*BU28,\"\")","v":""},"",{"$f":"IFERROR(VLOOKUP(CA$3,'District Bids'!$C$5:$CU$511,29,0),\"\")","v":""},"",{"$f":"IFERROR($D28*BY28,\"\")","v":""},"",{"$f":"IFERROR(VLOOKUP(CE$3,'District Bids'!$C$5:$CU$511,29,0),\"\")","v":""},"",{"$f":"IFERROR($D28*CC28,\"\")","v":""},"",{"$f":"IFERROR(VLOOKUP(CI$3,'District Bids'!$C$5:$CU$511,29,0),\"\")","v":""},"",{"$f":"IFERROR($D28*CG28,\"\")","v":""},"",{"$f":"IFERROR(VLOOKUP(CM$3,'District Bids'!$C$5:$CU$511,29,0),\"\")","v":""},"",{"$f":"IFERROR($D28*CK28,\"\")","v":""},"",{"$f":"IFERROR(VLOOKUP(CQ$3,'District Bids'!$C$5:$CU$511,29,0),\"\")","v":""},"",{"$f":"IFERROR($D28*CO28,\"\")","v":""},"",{"$f":"IFERROR(VLOOKUP(CU$3,'District Bids'!$C$5:$CU$511,29,0),\"\")","v":""},"",{"$f":"IFERROR($D28*CS28,\"\")","v":""},"",{"$f":"IFERROR(VLOOKUP(CY$3,'District Bids'!$C$5:$CU$511,29,0),\"\")","v":""},"",{"$f":"IFERROR($D28*CW28,\"\")","v":""},"",{"$f":"IFERROR(VLOOKUP(DC$3,'District Bids'!$C$5:$CU$511,29,0),\"\")","v":""},"",{"$f":"IFERROR($D28*DA28,\"\")","v":""},"",{"$f":"IFERROR(VLOOKUP(DG$3,'District Bids'!$C$5:$CU$511,29,0),\"\")","v":""},"",{"$f":"IFERROR($D28*DE28,\"\")","v":""},"",{"$f":"IFERROR(VLOOKUP(DK$3,'District Bids'!$C$5:$CU$511,29,0),\"\")","v":""},"",{"$f":"IFERROR($D28*DI28,\"\")","v":""},"",{"$f":"IFERROR(VLOOKUP(DO$3,'District Bids'!$C$5:$CU$511,29,0),\"\")","v":""},"",{"$f":"IFERROR($D28*DM28,\"\")","v":""},"",{"$f":"IFERROR(VLOOKUP(DS$3,'District Bids'!$C$5:$CU$511,29,0),\"\")","v":""},"",{"$f":"IFERROR($D28*DQ28,\"\")","v":""},"",{"$f":"IFERROR(VLOOKUP(DW$3,'District Bids'!$C$5:$CU$511,29,0),\"\")","v":""},"",{"$f":"IFERROR($D28*DU28,\"\")","v":""},"",{"$f":"IFERROR(VLOOKUP(EA$3,'District Bids'!$C$5:$CU$511,29,0),\"\")","v":""},"",{"$f":"IFERROR($D28*DY28,\"\")","v":""},"",null,{"$f":"IFERROR(CE$6,\"\")","v":""},{"$f":"IFERROR(IF(CE$104=\"Incomplete\",0,IF(CE$104<>\"Incomplete\",ED28)),\"\")","v":""},{"$f":"$CE3","v":0}]
[null,24,"Surcharge for PG Binder 64E - 22 ordered in 400 Ton increments",{"$f":"'Order Details'!J28","v":0},{"$f":"IFERROR(VLOOKUP(G$3,'District Bids'!$C$5:$CU$511,30,0),\"\")","v":12},0,0,"",{"$f":"IFERROR(VLOOKUP(K$3,'District Bids'!$C$5:$CU$511,30,0),\"\")","v":12.5},0,0,"",{"$f":"IFERROR(VLOOKUP(O$3,'District Bids'!$C$5:$CU$511,30,0),\"\")","v":12.5},0,0,"",{"$f":"IFERROR(VLOOKUP(S$3,'District Bids'!$C$5:$CU$511,30,0),\"\")","v":0},0,0,"",{"$f":"IFERROR(VLOOKUP(W$3,'District Bids'!$C$5:$CU$511,30,0),\"\")","v":12},0,0,"",{"$f":"IFERROR(VLOOKUP(AA$3,'District Bids'!$C$5:$CU$511,30,0),\"\")","v":12},0,0,"",{"$f":"IFERROR(VLOOKUP(AE$3,'District Bids'!$C$5:$CU$511,30,0),\"\")","v":12},0,0,"",{"$f":"IFERROR(VLOOKUP(AI$3,'District Bids'!$C$5:$CU$511,30,0),\"\")","v":12},0,0,"",{"$f":"IFERROR(VLOOKUP(AM$3,'District Bids'!$C$5:$CU$511,30,0),\"\")","v":12},0,0,"",{"$f":"IFERROR(VLOOKUP(AQ$3,'District Bids'!$C$5:$CU$511,30,0),\"\")","v":12},0,0,"",{"$f":"IFERROR(VLOOKUP(AU$3,'District Bids'!$C$5:$CU$511,30,0),\"\")","v":""},"","","",{"$f":"IFERROR(VLOOKUP(AY$3,'District Bids'!$C$5:$CU$511,30,0),\"\")","v":""},"","","",{"$f":"IFERROR(VLOOKUP(BC$3,'District Bids'!$C$5:$CU$511,30,0),\"\")","v":""},"","","",{"$f":"IFERROR(VLOOKUP(BG$3,'District Bids'!$C$5:$CU$511,30,0),\"\")","v":""},"","","",{"$f":"IFERROR(VLOOKUP(BK$3,'District Bids'!$C$5:$CU$511,30,0),\"\")","v":""},"","","",{"$f":"IFERROR(VLOOKUP(BO$3,'District Bids'!$C$5:$CU$511,30,0),\"\")","v":""},"","","",{"$f":"IFERROR(VLOOKUP(BS$3,'District Bids'!$C$5:$CU$511,30,0),\"\")","v":""},"","","",{"$f":"IFERROR(VLOOKUP(BW$3,'District Bids'!$C$5:$CU$511,30,0),\"\")","v":""},"","","",{"$f":"IFERROR(VLOOKUP(CA$3,'District Bids'!$C$5:$CU$511,30,0),\"\")","v":""},"","","",{"$f":"IFERROR(VLOOKUP(CE$3,'District Bids'!$C$5:$CU$511,30,0),\"\")","v":""},"","","",{"$f":"IFERROR(VLOOKUP(CI$3,'District Bids'!$C$5:$CU$511,30,0),\"\")","v":""},"","","",{"$f":"IFERROR(VLOOKUP(CM$3,'District Bids'!$C$5:$CU$511,30,0),\"\")","v":""},"","","",{"$f":"IFERROR(VLOOKUP(CQ$3,'District Bids'!$C$5:$CU$511,30,0),\"\")","v":""},"","","",{"$f":"IFERROR(VLOOKUP(CU$3,'District Bids'!$C$5:$CU$511,30,0),\"\")","v":""},"","","",{"$f":"IFERROR(VLOOKUP(CY$3,'District Bids'!$C$5:$CU$511,30,0),\"\")","v":""},"","","",{"$f":"IFERROR(VLOOKUP(DC$3,'District Bids'!$C$5:$CU$511,30,0),\"\")","v":""},"","","",{"$f":"IFERROR(VLOOKUP(DG$3,'District Bids'!$C$5:$CU$511,30,0),\"\")","v":""},"","","",{"$f":"IFERROR(VLOOKUP(DK$3,'District Bids'!$C$5:$CU$511,30,0),\"\")","v":""},"","","",{"$f":"IFERROR(VLOOKUP(DO$3,'District Bids'!$C$5:$CU$511,30,0),\"\")","v":""},"","","",{"$f":"IFERROR(VLOOKUP(DS$3,'District Bids'!$C$5:$CU$511,30,0),\"\")","v":""},"","","",{"$f":"IFERROR(VLOOKUP(DW$3,'District Bids'!$C$5:$CU$511,30,0),\"\")","v":""},"","","",{"$f":"IFERROR(VLOOKUP(EA$3,'District Bids'!$C$5:$CU$511,30,0),\"\")","v":""},"","","",null,{"$f":"IFERROR(CI$6,\"\")","v":""},{"$f":"IFERROR(IF(CI$104=\"Incomplete\",0,IF(CI$104<>\"Incomplete\",ED29)),\"\")","v":""},{"$f":"$CI3","v":0}]
[null,25,"ESAL Surcharge - 3 million to 20 million ESALs ",{"$f":"'Order Details'!J29","v":0},{"$f":"IFERROR(VLOOKUP(G$3,'District Bids'!$C$5:$CU$511,31,0),\"\")","v":2},0,0,"",{"$f":"IFERROR(VLOOKUP(K$3,'District Bids'!$C$5:$CU$511,31,0),\"\")","v":1.75},0,0,"",{"$f":"IFERROR(VLOOKUP(O$3,'District Bids'!$C$5:$CU$511,31,0),\"\")","v":1.75},0,0,"",{"$f":"IFERROR(VLOOKUP(S$3,'District Bids'!$C$5:$CU$511,31,0),\"\")","v":2},0,0,"",{"$f":"IFERROR(VLOOKUP(W$3,'District Bids'!$C$5:$CU$511,31,0),\"\")","v":2},0,0,"",{"$f":"IFERROR(VLOOKUP(AA$3,'District Bids'!$C$5:$CU$511,31,0),\"\")","v":2},0,0,"",{"$f":"IFERROR(VLOOKUP(AE$3,'District Bids'!$C$5:$CU$511,31,0),\"\")","v":2},0,0,"",{"$f":"IFERROR(VLOOKUP(AI$3,'District Bids'!$C$5:$CU$511,31,0),\"\")","v":2},0,0,"",{"$f":"IFERROR(VLOOKUP(AM$3,'District Bids'!$C$5:$CU$511,31,0),\"\")","v":2},0,0,"",{"$f":"IFERROR(VLOOKUP(AQ$3,'District Bids'!$C$5:$CU$511,31,0),\"\")","v":2},0,0,"",{"$f":"IFERROR(VLOOKUP(AU$3,'District Bids'!$C$5:$CU$511,31,0),\"\")","v":""},"","","",{"$f":"IFERROR(VLOOKUP(AY$3,'District Bids'!$C$5:$CU$511,31,0),\"\")","v":""},"","","",{"$f":"IFERROR(VLOOKUP(BC$3,'District Bids'!$C$5:$CU$511,31,0),\"\")","v":""},"","","",{"$f":"IFERROR(VLOOKUP(BG$3,'District Bids'!$C$5:$CU$511,31,0),\"\")","v":""},"","","",{"$f":"IFERROR(VLOOKUP(BK$3,'District Bids'!$C$5:$CU$511,31,0),\"\")","v":""},"","","",{"$f":"IFERROR(VLOOKUP(BO$3,'District Bids'!$C$5:$CU$511,31,0),\"\")","v":""},"","","",{"$f":"IFERROR(VLOOKUP(BS$3,'District Bids'!$C$5:$CU$511,31,0),\"\")","v":""},"","","",{"$f":"IFERROR(VLOOKUP(BW$3,'District Bids'!$C$5:$CU$511,31,0),\"\")","v":""},"","","",{"$f":"IFERROR(VLOOKUP(CA$3,'District Bids'!$C$5:$CU$511,31,0),\"\")","v":""},"","","",{"$f":"IFERROR(VLOOKUP(CE$3,'District Bids'!$C$5:$CU$511,31,0),\"\")","v":""},"","","",{"$f":"IFERROR(VLOOKUP(CI$3,'District Bids'!$C$5:$CU$511,31,0),\"\")","v":""},"","","",{"$f":"IFERROR(VLOOKUP(CM$3,'District Bids'!$C$5:$CU$511,31,0),\"\")","v":""},"","","",{"$f":"IFERROR(VLOOKUP(CQ$3,'District Bids'!$C$5:$CU$511,31,0),\"\")","v":""},"","","",{"$f":"IFERROR(VLOOKUP(CU$3,'District Bids'!$C$5:$CU$511,31,0),\"\")","v":""},"","","",{"$f":"IFERROR(VLOOKUP(CY$3,'District Bids'!$C$5:$CU$511,31,0),\"\")","v":""},"","","",{"$f":"IFERROR(VLOOKUP(DC$3,'District Bids'!$C$5:$CU$511,31,0),\"\")","v":""},"","","",{"$f":"IFERROR(VLOOKUP(DG$3,'District Bids'!$C$5:$CU$511,31,0),\"\")","v":""},"","","",{"$f":"IFERROR(VLOOKUP(DK$3,'District Bids'!$C$5:$CU$511,31,0),\"\")","v":""},"","","",{"$f":"IFERROR(VLOOKUP(DO$3,'District Bids'!$C$5:$CU$511,31,0),\"\")","v":""},"","","",{"$f":"IFERROR(VLOOKUP(DS$3,'District Bids'!$C$5:$CU$511,31,0),\"\")","v":""},"","","",{"$f":"IFERROR(VLOOKUP(DW$3,'District Bids'!$C$5:$CU$511,31,0),\"\")","v":""},"","","",{"$f":"IFERROR(VLOOKUP(EA$3,'District Bids'!$C$5:$CU$511,31,0),\"\")","v":""},"","","",null,{"$f":"IFERROR(CM$6,\"\")","v":""},{"$f":"IFERROR(IF(CM$104=\"Incomplete\",0,IF(CM$104<>\"Incomplete\",ED30)),\"\")","v":""},{"$f":"$CM3","v":0}]
[null,26,"ESAL Surcharge - Greater than 20 million ESALs ",{"$f":"'Order Details'!J30","v":0},{"$f":"IFERROR(VLOOKUP(G$3,'District Bids'!$C$5:$CU$511,32,0),\"\")","v":5},0,0,"",{"$f":"IFERROR(VLOOKUP(K$3,'District Bids'!$C$5:$CU$511,32,0),\"\")","v":4.5},0,0,"",{"$f":"IFERROR(VLOOKUP(O$3,'District Bids'!$C$5:$CU$511,32,0),\"\")","v":4.5},0,0,"",{"$f":"IFERROR(VLOOKUP(S$3,'District Bids'!$C$5:$CU$511,32,0),\"\")","v":5},0,0,"",{"$f":"IFERROR(VLOOKUP(W$3,'District Bids'!$C$5:$CU$511,32,0),\"\")","v":5},0,0,"",{"$f":"IFERROR(VLOOKUP(AA$3,'District Bids'!$C$5:$CU$511,32,0),\"\")","v":5},0,0,"",{"$f":"IFERROR(VLOOKUP(AE$3,'District Bids'!$C$5:$CU$511,32,0),\"\")","v":5},0,0,"",{"$f":"IFERROR(VLOOKUP(AI$3,'District Bids'!$C$5:$CU$511,32,0),\"\")","v":5},0,0,"",{"$f":"IFERROR(VLOOKUP(AM$3,'District Bids'!$C$5:$CU$511,32,0),\"\")","v":5},0,0,"",{"$f":"IFERROR(VLOOKUP(AQ$3,'District Bids'!$C$5:$CU$511,32,0),\"\")","v":5},0,0,"",{"$f":"IFERROR(VLOOKUP(AU$3,'District Bids'!$C$5:$CU$511,32,0),\"\")","v":""},"","","",{"$f":"IFERROR(VLOOKUP(AY$3,'District Bids'!$C$5:$CU$511,32,0),\"\")","v":""},"","","",{"$f":"IFERROR(VLOOKUP(BC$3,'District Bids'!$C$5:$CU$511,32,0),\"\")","v":""},"","","",{"$f":"IFERROR(VLOOKUP(BG$3,'District Bids'!$C$5:$CU$511,32,0),\"\")","v":""},"","","",{"$f":"IFERROR(VLOOKUP(BK$3,'District Bids'!$C$5:$CU$511,32,0),\"\")","v":""},"","","",{"$f":"IFERROR(VLOOKUP(BO$3,'District Bids'!$C$5:$CU$511,32,0),\"\")","v":""},"","","",{"$f":"IFERROR(VLOOKUP(BS$3,'District Bids'!$C$5:$CU$511,32,0),\"\")","v":""},"","","",{"$f":"IFERROR(VLOOKUP(BW$3,'District Bids'!$C$5:$CU$511,32,0),\"\")","v":""},"","","",{"$f":"IFERROR(VLOOKUP(CA$3,'District Bids'!$C$5:$CU$511,32,0),\"\")","v":""},"","","",{"$f":"IFERROR(VLOOKUP(CE$3,'District Bids'!$C$5:$CU$511,32,0),\"\")","v":""},"","","",{"$f":"IFERROR(VLOOKUP(CI$3,'District Bids'!$C$5:$CU$511,32,0),\"\")","v":""},"","","",{"$f":"IFERROR(VLOOKUP(CM$3,'District Bids'!$C$5:$CU$511,32,0),\"\")","v":""},"","","",{"$f":"IFERROR(VLOOKUP(CQ$3,'District Bids'!$C$5:$CU$511,32,0),\"\")","v":""},"","","",{"$f":"IFERROR(VLOOKUP(CU$3,'District Bids'!$C$5:$CU$511,32,0),\"\")","v":""},"","","",{"$f":"IFERROR(VLOOKUP(CY$3,'District Bids'!$C$5:$CU$511,32,0),\"\")","v":""},"","","",{"$f":"IFERROR(VLOOKUP(DC$3,'District Bids'!$C$5:$CU$511,32,0),\"\")","v":""},"","","",{"$f":"IFERROR(VLOOKUP(DG$3,'District Bids'!$C$5:$CU$511,32,0),\"\")","v":""},"","","",{"$f":"IFERROR(VLOOKUP(DK$3,'District Bids'!$C$5:$CU$511,32,0),\"\")","v":""},"","","",{"$f":"IFERROR(VLOOKUP(DO$3,'District Bids'!$C$5:$CU$511,32,0),\"\")","v":""},"","","",{"$f":"IFERROR(VLOOKUP(DS$3,'District Bids'!$C$5:$CU$511,32,0),\"\")","v":""},"","","",{"$f":"IFERROR(VLOOKUP(DW$3,'District Bids'!$C$5:$CU$511,32,0),\"\")","v":""},"","","",{"$f":"IFERROR(VLOOKUP(EA$3,'District Bids'!$C$5:$CU$511,32,0),\"\")","v":""},"","","",null,{"$f":"IFERROR(CQ$6,\"\")","v":""},{"$f":"IFERROR(IF(CQ$104=\"Incomplete\",0,IF(CQ$104<>\"Incomplete\",ED31)),\"\")","v":""},{"$f":"$CQ3","v":0}]
[null,29,"Laydown of Materials. Items #1-17 and #67, Each Site 0-100",{"$f":"'Order Details'!J31","v":0},{"$f":"IFERROR(VLOOKUP(G$3,'District Bids'!$C$5:$CU$511,35,0),\"\")","v":80},0,{"$f":"IFERROR(IF(E$32=0,0,($D$32*E$32+($D$32*'Complicated Price Adjustment'!$L28))),\"\")","v":0},"",{"$f":"IFERROR(VLOOKUP(K$3,'District Bids'!$C$5:$CU$511,35,0),\"\")","v":83},0,{"$f":"IFERROR(IF(I$32=0,0,($D$32*I$32+($D$32*'Complicated Price Adjustment'!$L28))),\"\")","v":0},"",{"$f":"IFERROR(VLOOKUP(O$3,'District Bids'!$C$5:$CU$511,35,0),\"\")","v":83},0,{"$f":"IFERROR(IF(M$32=0,0,($D$32*M$32+($D$32*'Complicated Price Adjustment'!$L28))),\"\")","v":0},"",{"$f":"IFERROR(VLOOKUP(S$3,'District Bids'!$C$5:$CU$511,35,0),\"\")","v":85},0,{"$f":"IFERROR(IF(Q$32=0,0,($D$32*Q$32+($D$32*'Complicated Price Adjustment'!$L28))),\"\")","v":0},"",{"$f":"IFERROR(VLOOKUP(W$3,'District Bids'!$C$5:$CU$511,35,0),\"\")","v":85},0,{"$f":"IFERROR(IF(U$32=0,0,($D$32*U$32+($D$32*'Complicated Price Adjustment'!$L28))),\"\")","v":0},"",{"$f":"IFERROR(VLOOKUP(AA$3,'District Bids'!$C$5:$CU$511,35,0),\"\")","v":85},0,{"$f":"IFERROR(IF(Y$32=0,0,($D$32*Y$32+($D$32*'Complicated Price Adjustment'!$L28))),\"\")","v":0},"",{"$f":"IFERROR(VLOOKUP(AE$3,'District Bids'!$C$5:$CU$511,35,0),\"\")","v":85},0,{"$f":"IFERROR(IF(AC$32=0,0,($D$32*AC$32+($D$32*'Complicated Price Adjustment'!$L28))),\"\")","v":0},"",{"$f":"IFERROR(VLOOKUP(AI$3,'District Bids'!$C$5:$CU$511,35,0),\"\")","v":85},0,{"$f":"IFERROR(IF(AG$32=0,0,($D$32*AG$32+($D$32*'Complicated Price Adjustment'!$L28))),\"\")","v":0},"",{"$f":"IFERROR(VLOOKUP(AM$3,'District Bids'!$C$5:$CU$511,35,0),\"\")","v":85},0,{"$f":"IFERROR(IF(AK$32=0,0,($D$32*AK$32+($D$32*'Complicated Price Adjustment'!$L28))),\"\")","v":0},"",{"$f":"IFERROR(VLOOKUP(AQ$3,'District Bids'!$C$5:$CU$511,35,0),\"\")","v":85},0,{"$f":"IFERROR(IF(AO$32=0,0,($D$32*AO$32+($D$32*'Complicated Price Adjustment'!$L28))),\"\")","v":0},"",{"$f":"IFERROR(VLOOKUP(AU$3,'District Bids'!$C$5:$CU$511,35,0),\"\")","v":""},"",{"$f":"IFERROR(IF(AS$32=0,0,($D$32*AS$32+($D$32*'Complicated Price Adjustment'!$L28))),\"\")","v":""},"",{"$f":"IFERROR(VLOOKUP(AY$3,'District Bids'!$C$5:$CU$511,35,0),\"\")","v":""},"",{"$f":"IFERROR(IF(AW$32=0,0,($D$32*AW$32+($D$32*'Complicated Price Adjustment'!$L28))),\"\")","v":""},"",{"$f":"IFERROR(VLOOKUP(BC$3,'District Bids'!$C$5:$CU$511,35,0),\"\")","v":""},"",{"$f":"IFERROR(IF(BA$32=0,0,($D$32*BA$32+($D$32*'Complicated Price Adjustment'!$L28))),\"\")","v":""},"",{"$f":"IFERROR(VLOOKUP(BG$3,'District Bids'!$C$5:$CU$511,35,0),\"\")","v":""},"",{"$f":"IFERROR(IF(BE$32=0,0,($D$32*BE$32+($D$32*'Complicated Price Adjustment'!$L28))),\"\")","v":""},"",{"$f":"IFERROR(VLOOKUP(BK$3,'District Bids'!$C$5:$CU$511,35,0),\"\")","v":""},"",{"$f":"IFERROR(IF(BI$32=0,0,($D$32*BI$32+($D$32*'Complicated Price Adjustment'!$L28))),\"\")","v":""},"",{"$f":"IFERROR(VLOOKUP(BO$3,'District Bids'!$C$5:$CU$511,35,0),\"\")","v":""},"",{"$f":"IFERROR(IF(BM$32=0,0,($D$32*BM$32+($D$32*'Complicated Price Adjustment'!$L28))),\"\")","v":""},"",{"$f":"IFERROR(VLOOKUP(BS$3,'District Bids'!$C$5:$CU$511,35,0),\"\")","v":""},"",{"$f":"IFERROR(IF(BQ$32=0,0,($D$32*BQ$32+($D$32*'Complicated Price Adjustment'!$L28))),\"\")","v":""},"",{"$f":"IFERROR(VLOOKUP(BW$3,'District Bids'!$C$5:$CU$511,35,0),\"\")","v":""},"",{"$f":"IFERROR(IF(BU$32=0,0,($D$32*BU$32+($D$32*'Complicated Price Adjustment'!$L28))),\"\")","v":""},"",{"$f":"IFERROR(VLOOKUP(CA$3,'District Bids'!$C$5:$CU$511,35,0),\"\")","v":""},"",{"$f":"IFERROR(IF(BY$32=0,0,($D$32*BY$32+($D$32*'Complicated Price Adjustment'!$L28))),\"\")","v":""},"",{"$f":"IFERROR(VLOOKUP(CE$3,'District Bids'!$C$5:$CU$511,35,0),\"\")","v":""},"",{"$f":"IFERROR(IF(CC$32=0,0,($D$32*CC$32+($D$32*'Complicated Price Adjustment'!$L28))),\"\")","v":""},"",{"$f":"IFERROR(VLOOKUP(CI$3,'District Bids'!$C$5:$CU$511,35,0),\"\")","v":""},"",{"$f":"IFERROR(IF(CG$32=0,0,($D$32*CG$32+($D$32*'Complicated Price Adjustment'!$L28))),\"\")","v":""},"",{"$f":"IFERROR(VLOOKUP(CM$3,'District Bids'!$C$5:$CU$511,35,0),\"\")","v":""},"",{"$f":"IFERROR(IF(CK$32=0,0,($D$32*CK$32+($D$32*'Complicated Price Adjustment'!$L28))),\"\")","v":""},"",{"$f":"IFERROR(VLOOKUP(CQ$3,'District Bids'!$C$5:$CU$511,35,0),\"\")","v":""},"",{"$f":"IFERROR(IF(CO$32=0,0,($D$32*CO$32+($D$32*'Complicated Price Adjustment'!$L28))),\"\")","v":""},"",{"$f":"IFERROR(VLOOKUP(CU$3,'District Bids'!$C$5:$CU$511,35,0),\"\")","v":""},"",{"$f":"IFERROR(IF(CS$32=0,0,($D$32*CS$32+($D$32*'Complicated Price Adjustment'!$L28))),\"\")","v":""},"",{"$f":"IFERROR(VLOOKUP(CY$3,'District Bids'!$C$5:$CU$511,35,0),\"\")","v":""},"",{"$f":"IFERROR(IF(CW$32=0,0,($D$32*CW$32+($D$32*'Complicated Price Adjustment'!$L28))),\"\")","v":""},"",{"$f":"IFERROR(VLOOKUP(DC$3,'District Bids'!$C$5:$CU$511,35,0),\"\")","v":""},"",{"$f":"IFERROR(IF(DA$32=0,0,($D$32*DA$32+($D$32*'Complicated Price Adjustment'!$L28))),\"\")","v":""},"",{"$f":"IFERROR(VLOOKUP(DG$3,'District Bids'!$C$5:$CU$511,35,0),\"\")","v":""},"",{"$f":"IFERROR(IF(DE$32=0,0,($D$32*DE$32+($D$32*'Complicated Price Adjustment'!$L28))),\"\")","v":""},"",{"$f":"IFERROR(VLOOKUP(DK$3,'District Bids'!$C$5:$CU$511,35,0),\"\")","v":""},"",{"$f":"IFERROR(IF(DI$32=0,0,($D$32*DI$32+($D$32*'Complicated Price Adjustment'!$L28))),\"\")","v":""},"",{"$f":"IFERROR(VLOOKUP(DO$3,'District Bids'!$C$5:$CU$511,35,0),\"\")","v":""},"",{"$f":"IFERROR(IF(DM$32=0,0,($D$32*DM$32+($D$32*'Complicated Price Adjustment'!$L28))),\"\")","v":""},"",{"$f":"IFERROR(VLOOKUP(DS$3,'District Bids'!$C$5:$CU$511,35,0),\"\")","v":""},"",{"$f":"IFERROR(IF(DQ$32=0,0,($D$32*DQ$32+($D$32*'Complicated Price Adjustment'!$L28))),\"\")","v":""},"",{"$f":"IFERROR(VLOOKUP(DW$3,'District Bids'!$C$5:$CU$511,35,0),\"\")","v":""},"",{"$f":"IFERROR(IF(DU$32=0,0,($D$32*DU$32+($D$32*'Complicated Price Adjustment'!$L28))),\"\")","v":""},"",{"$f":"IFERROR(VLOOKUP(EA$3,'District Bids'!$C$5:$CU$511,35,0),\"\")","v":""},"",{"$f":"IFERROR(IF(DY$32=0,0,($D$32*DY$32+($D$32*'Complicated Price Adjustment'!$L28))),\"\")","v":""},"",null,{"$f":"IFERROR(CU$6,\"\")","v":""},{"$f":"IFERROR(IF(CU$104=\"Incomplete\",0,IF(CU$104<>\"Incomplete\",ED32)),\"\")","v":""},{"$f":"$CU3","v":0}]
[null,30,"Laydown of Materials. Items #1-17 and #67, Each Site 101 to 200 ",{"$f":"'Order Details'!J32","v":0},{"$f":"IFERROR(VLOOKUP(G$3,'District Bids'!$C$5:$CU$511,36,0),\"\")","v":28},0,{"$f":"IFERROR(IF(E$33=0,0,($D$33*E$33+($D$33*'Complicated Price Adjustment'!$L29))),\"\")","v":0},"",{"$f":"IFERROR(VLOOKUP(K$3,'District Bids'!$C$5:$CU$511,36,0),\"\")","v":29.75},0,{"$f":"IFERROR(IF(I$33=0,0,($D$33*I$33+($D$33*'Complicated Price Adjustment'!$L29))),\"\")","v":0},"",{"$f":"IFERROR(VLOOKUP(O$3,'District Bids'!$C$5:$CU$511,36,0),\"\")","v":29.75},0,{"$f":"IFERROR(IF(M$33=0,0,($D$33*M$33+($D$33*'Complicated Price Adjustment'!$L29))),\"\")","v":0},"",{"$f":"IFERROR(VLOOKUP(S$3,'District Bids'!$C$5:$CU$511,36,0),\"\")","v":30},0,{"$f":"IFERROR(IF(Q$33=0,0,($D$33*Q$33+($D$33*'Complicated Price Adjustment'!$L29))),\"\")","v":0},"",{"$f":"IFERROR(VLOOKUP(W$3,'District Bids'!$C$5:$CU$511,36,0),\"\")","v":30},0,{"$f":"IFERROR(IF(U$33=0,0,($D$33*U$33+($D$33*'Complicated Price Adjustment'!$L29))),\"\")","v":0},"",{"$f":"IFERROR(VLOOKUP(AA$3,'District Bids'!$C$5:$CU$511,36,0),\"\")","v":30},0,{"$f":"IFERROR(IF(Y$33=0,0,($D$33*Y$33+($D$33*'Complicated Price Adjustment'!$L29))),\"\")","v":0},"",{"$f":"IFERROR(VLOOKUP(AE$3,'District Bids'!$C$5:$CU$511,36,0),\"\")","v":30},0,{"$f":"IFERROR(IF(AC$33=0,0,($D$33*AC$33+($D$33*'Complicated Price Adjustment'!$L29))),\"\")","v":0},"",{"$f":"IFERROR(VLOOKUP(AI$3,'District Bids'!$C$5:$CU$511,36,0),\"\")","v":30},0,{"$f":"IFERROR(IF(AG$33=0,0,($D$33*AG$33+($D$33*'Complicated Price Adjustment'!$L29))),\"\")","v":0},"",{"$f":"IFERROR(VLOOKUP(AM$3,'District Bids'!$C$5:$CU$511,36,0),\"\")","v":30},0,{"$f":"IFERROR(IF(AK$33=0,0,($D$33*AK$33+($D$33*'Complicated Price Adjustment'!$L29))),\"\")","v":0},"",{"$f":"IFERROR(VLOOKUP(AQ$3,'District Bids'!$C$5:$CU$511,36,0),\"\")","v":30},0,{"$f":"IFERROR(IF(AO$33=0,0,($D$33*AO$33+($D$33*'Complicated Price Adjustment'!$L29))),\"\")","v":0},"",{"$f":"IFERROR(VLOOKUP(AU$3,'District Bids'!$C$5:$CU$511,36,0),\"\")","v":""},"",{"$f":"IFERROR(IF(AS$33=0,0,($D$33*AS$33+($D$33*'Complicated Price Adjustment'!$L29))),\"\")","v":""},"",{"$f":"IFERROR(VLOOKUP(AY$3,'District Bids'!$C$5:$CU$511,36,0),\"\")","v":""},"",{"$f":"IFERROR(IF(AW$33=0,0,($D$33*AW$33+($D$33*'Complicated Price Adjustment'!$L29))),\"\")","v":""},"",{"$f":"IFERROR(VLOOKUP(BC$3,'District Bids'!$C$5:$CU$511,36,0),\"\")","v":""},"",{"$f":"IFERROR(IF(BA$33=0,0,($D$33*BA$33+($D$33*'Complicated Price Adjustment'!$L29))),\"\")","v":""},"",{"$f":"IFERROR(VLOOKUP(BG$3,'District Bids'!$C$5:$CU$511,36,0),\"\")","v":""},"",{"$f":"IFERROR(IF(BE$33=0,0,($D$33*BE$33+($D$33*'Complicated Price Adjustment'!$L29))),\"\")","v":""},"",{"$f":"IFERROR(VLOOKUP(BK$3,'District Bids'!$C$5:$CU$511,36,0),\"\")","v":""},"",{"$f":"IFERROR(IF(BI$33=0,0,($D$33*BI$33+($D$33*'Complicated Price Adjustment'!$L29))),\"\")","v":""},"",{"$f":"IFERROR(VLOOKUP(BO$3,'District Bids'!$C$5:$CU$511,36,0),\"\")","v":""},"",{"$f":"IFERROR(IF(BM$33=0,0,($D$33*BM$33+($D$33*'Complicated Price Adjustment'!$L29))),\"\")","v":""},"",{"$f":"IFERROR(VLOOKUP(BS$3,'District Bids'!$C$5:$CU$511,36,0),\"\")","v":""},"",{"$f":"IFERROR(IF(BQ$33=0,0,($D$33*BQ$33+($D$33*'Complicated Price Adjustment'!$L29))),\"\")","v":""},"",{"$f":"IFERROR(VLOOKUP(BW$3,'District Bids'!$C$5:$CU$511,36,0),\"\")","v":""},"",{"$f":"IFERROR(IF(BU$33=0,0,($D$33*BU$33+($D$33*'Complicated Price Adjustment'!$L29))),\"\")","v":""},"",{"$f":"IFERROR(VLOOKUP(CA$3,'District Bids'!$C$5:$CU$511,36,0),\"\")","v":""},"",{"$f":"IFERROR(IF(BY$33=0,0,($D$33*BY$33+($D$33*'Complicated Price Adjustment'!$L29))),\"\")","v":""},"",{"$f":"IFERROR(VLOOKUP(CE$3,'District Bids'!$C$5:$CU$511,36,0),\"\")","v":""},"",{"$f":"IFERROR(IF(CC$33=0,0,($D$33*CC$33+($D$33*'Complicated Price Adjustment'!$L29))),\"\")","v":""},"",{"$f":"IFERROR(VLOOKUP(CI$3,'District Bids'!$C$5:$CU$511,36,0),\"\")","v":""},"",{"$f":"IFERROR(IF(CG$33=0,0,($D$33*CG$33+($D$33*'Complicated Price Adjustment'!$L29))),\"\")","v":""},"",{"$f":"IFERROR(VLOOKUP(CM$3,'District Bids'!$C$5:$CU$511,36,0),\"\")","v":""},"",{"$f":"IFERROR(IF(CK$33=0,0,($D$33*CK$33+($D$33*'Complicated Price Adjustment'!$L29))),\"\")","v":""},"",{"$f":"IFERROR(VLOOKUP(CQ$3,'District Bids'!$C$5:$CU$511,36,0),\"\")","v":""},"",{"$f":"IFERROR(IF(CO$33=0,0,($D$33*CO$33+($D$33*'Complicated Price Adjustment'!$L29))),\"\")","v":""},"",{"$f":"IFERROR(VLOOKUP(CU$3,'District Bids'!$C$5:$CU$511,36,0),\"\")","v":""},"",{"$f":"IFERROR(IF(CS$33=0,0,($D$33*CS$33+($D$33*'Complicated Price Adjustment'!$L29))),\"\")","v":""},"",{"$f":"IFERROR(VLOOKUP(CY$3,'District Bids'!$C$5:$CU$511,36,0),\"\")","v":""},"",{"$f":"IFERROR(IF(CW$33=0,0,($D$33*CW$33+($D$33*'Complicated Price Adjustment'!$L29))),\"\")","v":""},"",{"$f":"IFERROR(VLOOKUP(DC$3,'District Bids'!$C$5:$CU$511,36,0),\"\")","v":""},"",{"$f":"IFERROR(IF(DA$33=0,0,($D$33*DA$33+($D$33*'Complicated Price Adjustment'!$L29))),\"\")","v":""},"",{"$f":"IFERROR(VLOOKUP(DG$3,'District Bids'!$C$5:$CU$511,36,0),\"\")","v":""},"",{"$f":"IFERROR(IF(DE$33=0,0,($D$33*DE$33+($D$33*'Complicated Price Adjustment'!$L29))),\"\")","v":""},"",{"$f":"IFERROR(VLOOKUP(DK$3,'District Bids'!$C$5:$CU$511,36,0),\"\")","v":""},"",{"$f":"IFERROR(IF(DI$33=0,0,($D$33*DI$33+($D$33*'Complicated Price Adjustment'!$L29))),\"\")","v":""},"",{"$f":"IFERROR(VLOOKUP(DO$3,'District Bids'!$C$5:$CU$511,36,0),\"\")","v":""},"",{"$f":"IFERROR(IF(DM$33=0,0,($D$33*DM$33+($D$33*'Complicated Price Adjustment'!$L29))),\"\")","v":""},"",{"$f":"IFERROR(VLOOKUP(DS$3,'District Bids'!$C$5:$CU$511,36,0),\"\")","v":""},"",{"$f":"IFERROR(IF(DQ$33=0,0,($D$33*DQ$33+($D$33*'Complicated Price Adjustment'!$L29))),\"\")","v":""},"",{"$f":"IFERROR(VLOOKUP(DW$3,'District Bids'!$C$5:$CU$511,36,0),\"\")","v":""},"",{"$f":"IFERROR(IF(DU$33=0,0,($D$33*DU$33+($D$33*'Complicated Price Adjustment'!$L29))),\"\")","v":""},"",{"$f":"IFERROR(VLOOKUP(EA$3,'District Bids'!$C$5:$CU$511,36,0),\"\")","v":""},"",{"$f":"IFERROR(IF(DY$33=0,0,($D$33*DY$33+($D$33*'Complicated Price Adjustment'!$L29))),\"\")","v":""},"",null,{"$f":"IFERROR(CY$6,\"\")","v":""},{"$f":"IFERROR(IF(CY$104=\"Incomplete\",0,IF(CY$104<>\"Incomplete\",ED33)),\"\")","v":""},{"$f":"$CY3","v":0}]
[null,31,"Laydown of Materials. Items #1-17 and #67, Each Site 201 to 500 ",{"$f":"'Order Details'!J33","v":0},{"$f":"IFERROR(VLOOKUP(G$3,'District Bids'!$C$5:$CU$511,37,0),\"\")","v":18},0,{"$f":"IFERROR(IF(E$34=0,0,($D$34*E$34+($D$34*'Complicated Price Adjustment'!$L30))),\"\")","v":0},"",{"$f":"IFERROR(VLOOKUP(K$3,'District Bids'!$C$5:$CU$511,37,0),\"\")","v":19.5},0,{"$f":"IFERROR(IF(I$34=0,0,($D$34*I$34+($D$34*'Complicated Price Adjustment'!$L30))),\"\")","v":0},"",{"$f":"IFERROR(VLOOKUP(O$3,'District Bids'!$C$5:$CU$511,37,0),\"\")","v":19.5},0,{"$f":"IFERROR(IF(M$34=0,0,($D$34*M$34+($D$34*'Complicated Price Adjustment'!$L30))),\"\")","v":0},"",{"$f":"IFERROR(VLOOKUP(S$3,'District Bids'!$C$5:$CU$511,37,0),\"\")","v":20},0,{"$f":"IFERROR(IF(Q$34=0,0,($D$34*Q$34+($D$34*'Complicated Price Adjustment'!$L30))),\"\")","v":0},"",{"$f":"IFERROR(VLOOKUP(W$3,'District Bids'!$C$5:$CU$511,37,0),\"\")","v":20},0,{"$f":"IFERROR(IF(U$34=0,0,($D$34*U$34+($D$34*'Complicated Price Adjustment'!$L30))),\"\")","v":0},"",{"$f":"IFERROR(VLOOKUP(AA$3,'District Bids'!$C$5:$CU$511,37,0),\"\")","v":20},0,{"$f":"IFERROR(IF(Y$34=0,0,($D$34*Y$34+($D$34*'Complicated Price Adjustment'!$L30))),\"\")","v":0},"",{"$f":"IFERROR(VLOOKUP(AE$3,'District Bids'!$C$5:$CU$511,37,0),\"\")","v":20},0,{"$f":"IFERROR(IF(AC$34=0,0,($D$34*AC$34+($D$34*'Complicated Price Adjustment'!$L30))),\"\")","v":0},"",{"$f":"IFERROR(VLOOKUP(AI$3,'District Bids'!$C$5:$CU$511,37,0),\"\")","v":20},0,{"$f":"IFERROR(IF(AG$34=0,0,($D$34*AG$34+($D$34*'Complicated Price Adjustment'!$L30))),\"\")","v":0},"",{"$f":"IFERROR(VLOOKUP(AM$3,'District Bids'!$C$5:$CU$511,37,0),\"\")","v":20},0,{"$f":"IFERROR(IF(AK$34=0,0,($D$34*AK$34+($D$34*'Complicated Price Adjustment'!$L30))),\"\")","v":0},"",{"$f":"IFERROR(VLOOKUP(AQ$3,'District Bids'!$C$5:$CU$511,37,0),\"\")","v":20},0,{"$f":"IFERROR(IF(AO$34=0,0,($D$34*AO$34+($D$34*'Complicated Price Adjustment'!$L30))),\"\")","v":0},"",{"$f":"IFERROR(VLOOKUP(AU$3,'District Bids'!$C$5:$CU$511,37,0),\"\")","v":""},"",{"$f":"IFERROR(IF(AS$34=0,0,($D$34*AS$34+($D$34*'Complicated Price Adjustment'!$L30))),\"\")","v":""},"",{"$f":"IFERROR(VLOOKUP(AY$3,'District Bids'!$C$5:$CU$511,37,0),\"\")","v":""},"",{"$f":"IFERROR(IF(AW$34=0,0,($D$34*AW$34+($D$34*'Complicated Price Adjustment'!$L30))),\"\")","v":""},"",{"$f":"IFERROR(VLOOKUP(BC$3,'District Bids'!$C$5:$CU$511,37,0),\"\")","v":""},"",{"$f":"IFERROR(IF(BA$34=0,0,($D$34*BA$34+($D$34*'Complicated Price Adjustment'!$L30))),\"\")","v":""},"",{"$f":"IFERROR(VLOOKUP(BG$3,'District Bids'!$C$5:$CU$511,37,0),\"\")","v":""},"",{"$f":"IFERROR(IF(BE$34=0,0,($D$34*BE$34+($D$34*'Complicated Price Adjustment'!$L30))),\"\")","v":""},"",{"$f":"IFERROR(VLOOKUP(BK$3,'District Bids'!$C$5:$CU$511,37,0),\"\")","v":""},"",{"$f":"IFERROR(IF(BI$34=0,0,($D$34*BI$34+($D$34*'Complicated Price Adjustment'!$L30))),\"\")","v":""},"",{"$f":"IFERROR(VLOOKUP(BO$3,'District Bids'!$C$5:$CU$511,37,0),\"\")","v":""},"",{"$f":"IFERROR(IF(BM$34=0,0,($D$34*BM$34+($D$34*'Complicated Price Adjustment'!$L30))),\"\")","v":""},"",{"$f":"IFERROR(VLOOKUP(BS$3,'District Bids'!$C$5:$CU$511,37,0),\"\")","v":""},"",{"$f":"IFERROR(IF(BQ$34=0,0,($D$34*BQ$34+($D$34*'Complicated Price Adjustment'!$L30))),\"\")","v":""},"",{"$f":"IFERROR(VLOOKUP(BW$3,'District Bids'!$C$5:$CU$511,37,0),\"\")","v":""},"",{"$f":"IFERROR(IF(BU$34=0,0,($D$34*BU$34+($D$34*'Complicated Price Adjustment'!$L30))),\"\")","v":""},"",{"$f":"IFERROR(VLOOKUP(CA$3,'District Bids'!$C$5:$CU$511,37,0),\"\")","v":""},"",{"$f":"IFERROR(IF(BY$34=0,0,($D$34*BY$34+($D$34*'Complicated Price Adjustment'!$L30))),\"\")","v":""},"",{"$f":"IFERROR(VLOOKUP(CE$3,'District Bids'!$C$5:$CU$511,37,0),\"\")","v":""},"",{"$f":"IFERROR(IF(CC$34=0,0,($D$34*CC$34+($D$34*'Complicated Price Adjustment'!$L30))),\"\")","v":""},"",{"$f":"IFERROR(VLOOKUP(CI$3,'District Bids'!$C$5:$CU$511,37,0),\"\")","v":""},"",{"$f":"IFERROR(IF(CG$34=0,0,($D$34*CG$34+($D$34*'Complicated Price Adjustment'!$L30))),\"\")","v":""},"",{"$f":"IFERROR(VLOOKUP(CM$3,'District Bids'!$C$5:$CU$511,37,0),\"\")","v":""},"",{"$f":"IFERROR(IF(CK$34=0,0,($D$34*CK$34+($D$34*'Complicated Price Adjustment'!$L30))),\"\")","v":""},"",{"$f":"IFERROR(VLOOKUP(CQ$3,'District Bids'!$C$5:$CU$511,37,0),\"\")","v":""},"",{"$f":"IFERROR(IF(CO$34=0,0,($D$34*CO$34+($D$34*'Complicated Price Adjustment'!$L30))),\"\")","v":""},"",{"$f":"IFERROR(VLOOKUP(CU$3,'District Bids'!$C$5:$CU$511,37,0),\"\")","v":""},"",{"$f":"IFERROR(IF(CS$34=0,0,($D$34*CS$34+($D$34*'Complicated Price Adjustment'!$L30))),\"\")","v":""},"",{"$f":"IFERROR(VLOOKUP(CY$3,'District Bids'!$C$5:$CU$511,37,0),\"\")","v":""},"",{"$f":"IFERROR(IF(CW$34=0,0,($D$34*CW$34+($D$34*'Complicated Price Adjustment'!$L30))),\"\")","v":""},"",{"$f":"IFERROR(VLOOKUP(DC$3,'District Bids'!$C$5:$CU$511,37,0),\"\")","v":""},"",{"$f":"IFERROR(IF(DA$34=0,0,($D$34*DA$34+($D$34*'Complicated Price Adjustment'!$L30))),\"\")","v":""},"",{"$f":"IFERROR(VLOOKUP(DG$3,'District Bids'!$C$5:$CU$511,37,0),\"\")","v":""},"",{"$f":"IFERROR(IF(DE$34=0,0,($D$34*DE$34+($D$34*'Complicated Price Adjustment'!$L30))),\"\")","v":""},"",{"$f":"IFERROR(VLOOKUP(DK$3,'District Bids'!$C$5:$CU$511,37,0),\"\")","v":""},"",{"$f":"IFERROR(IF(DI$34=0,0,($D$34*DI$34+($D$34*'Complicated Price Adjustment'!$L30))),\"\")","v":""},"",{"$f":"IFERROR(VLOOKUP(DO$3,'District Bids'!$C$5:$CU$511,37,0),\"\")","v":""},"",{"$f":"IFERROR(IF(DM$34=0,0,($D$34*DM$34+($D$34*'Complicated Price Adjustment'!$L30))),\"\")","v":""},"",{"$f":"IFERROR(VLOOKUP(DS$3,'District Bids'!$C$5:$CU$511,37,0),\"\")","v":""},"",{"$f":"IFERROR(IF(DQ$34=0,0,($D$34*DQ$34+($D$34*'Complicated Price Adjustment'!$L30))),\"\")","v":""},"",{"$f":"IFERROR(VLOOKUP(DW$3,'District Bids'!$C$5:$CU$511,37,0),\"\")","v":""},"",{"$f":"IFERROR(IF(DU$34=0,0,($D$34*DU$34+($D$34*'Complicated Price Adjustment'!$L30))),\"\")","v":""},"",{"$f":"IFERROR(VLOOKUP(EA$3,'District Bids'!$C$5:$CU$511,37,0),\"\")","v":""},"",{"$f":"IFERROR(IF(DY$34=0,0,($D$34*DY$34+($D$34*'Complicated Price Adjustment'!$L30))),\"\")","v":""},"",null,{"$f":"IFERROR(DC$6,\"\")","v":""},{"$f":"IFERROR(IF(DC$104=\"Incomplete\",0,IF(DC$104<>\"Incomplete\",ED34)),\"\")","v":""},{"$f":"$DC3","v":0}]
[null,32,"Laydown of Materials. Items #1-17 and #67, Each Site 501+ ",{"$f":"'Order Details'!J34","v":0},{"$f":"IFERROR(VLOOKUP(G$3,'District Bids'!$C$5:$CU$511,38,0),\"\")","v":10},0,{"$f":"IFERROR(IF(E$35=0,0,($D$35*E$35+($D$35*'Complicated Price Adjustment'!$L31))),\"\")","v":0},"",{"$f":"IFERROR(VLOOKUP(K$3,'District Bids'!$C$5:$CU$511,38,0),\"\")","v":9.6999999999999993},0,{"$f":"IFERROR(IF(I$35=0,0,($D$35*I$35+($D$35*'Complicated Price Adjustment'!$L31))),\"\")","v":0},"",{"$f":"IFERROR(VLOOKUP(O$3,'District Bids'!$C$5:$CU$511,38,0),\"\")","v":9.6999999999999993},0,{"$f":"IFERROR(IF(M$35=0,0,($D$35*M$35+($D$35*'Complicated Price Adjustment'!$L31))),\"\")","v":0},"",{"$f":"IFERROR(VLOOKUP(S$3,'District Bids'!$C$5:$CU$511,38,0),\"\")","v":9.5},0,{"$f":"IFERROR(IF(Q$35=0,0,($D$35*Q$35+($D$35*'Complicated Price Adjustment'!$L31))),\"\")","v":0},"",{"$f":"IFERROR(VLOOKUP(W$3,'District Bids'!$C$5:$CU$511,38,0),\"\")","v":10},0,{"$f":"IFERROR(IF(U$35=0,0,($D$35*U$35+($D$35*'Complicated Price Adjustment'!$L31))),\"\")","v":0},"",{"$f":"IFERROR(VLOOKUP(AA$3,'District Bids'!$C$5:$CU$511,38,0),\"\")","v":10},0,{"$f":"IFERROR(IF(Y$35=0,0,($D$35*Y$35+($D$35*'Complicated Price Adjustment'!$L31))),\"\")","v":0},"",{"$f":"IFERROR(VLOOKUP(AE$3,'District Bids'!$C$5:$CU$511,38,0),\"\")","v":10},0,{"$f":"IFERROR(IF(AC$35=0,0,($D$35*AC$35+($D$35*'Complicated Price Adjustment'!$L31))),\"\")","v":0},"",{"$f":"IFERROR(VLOOKUP(AI$3,'District Bids'!$C$5:$CU$511,38,0),\"\")","v":10},0,{"$f":"IFERROR(IF(AG$35=0,0,($D$35*AG$35+($D$35*'Complicated Price Adjustment'!$L31))),\"\")","v":0},"",{"$f":"IFERROR(VLOOKUP(AM$3,'District Bids'!$C$5:$CU$511,38,0),\"\")","v":10},0,{"$f":"IFERROR(IF(AK$35=0,0,($D$35*AK$35+($D$35*'Complicated Price Adjustment'!$L31))),\"\")","v":0},"",{"$f":"IFERROR(VLOOKUP(AQ$3,'District Bids'!$C$5:$CU$511,38,0),\"\")","v":10},0,{"$f":"IFERROR(IF(AO$35=0,0,($D$35*AO$35+($D$35*'Complicated Price Adjustment'!$L31))),\"\")","v":0},"",{"$f":"IFERROR(VLOOKUP(AU$3,'District Bids'!$C$5:$CU$511,38,0),\"\")","v":""},"",{"$f":"IFERROR(IF(AS$35=0,0,($D$35*AS$35+($D$35*'Complicated Price Adjustment'!$L31))),\"\")","v":""},"",{"$f":"IFERROR(VLOOKUP(AY$3,'District Bids'!$C$5:$CU$511,38,0),\"\")","v":""},"",{"$f":"IFERROR(IF(AW$35=0,0,($D$35*AW$35+($D$35*'Complicated Price Adjustment'!$L31))),\"\")","v":""},"",{"$f":"IFERROR(VLOOKUP(BC$3,'District Bids'!$C$5:$CU$511,38,0),\"\")","v":""},"",{"$f":"IFERROR(IF(BA$35=0,0,($D$35*BA$35+($D$35*'Complicated Price Adjustment'!$L31))),\"\")","v":""},"",{"$f":"IFERROR(VLOOKUP(BG$3,'District Bids'!$C$5:$CU$511,38,0),\"\")","v":""},"",{"$f":"IFERROR(IF(BE$35=0,0,($D$35*BE$35+($D$35*'Complicated Price Adjustment'!$L31))),\"\")","v":""},"",{"$f":"IFERROR(VLOOKUP(BK$3,'District Bids'!$C$5:$CU$511,38,0),\"\")","v":""},"",{"$f":"IFERROR(IF(BI$35=0,0,($D$35*BI$35+($D$35*'Complicated Price Adjustment'!$L31))),\"\")","v":""},"",{"$f":"IFERROR(VLOOKUP(BO$3,'District Bids'!$C$5:$CU$511,38,0),\"\")","v":""},"",{"$f":"IFERROR(IF(BM$35=0,0,($D$35*BM$35+($D$35*'Complicated Price Adjustment'!$L31))),\"\")","v":""},"",{"$f":"IFERROR(VLOOKUP(BS$3,'District Bids'!$C$5:$CU$511,38,0),\"\")","v":""},"",{"$f":"IFERROR(IF(BQ$35=0,0,($D$35*BQ$35+($D$35*'Complicated Price Adjustment'!$L31))),\"\")","v":""},"",{"$f":"IFERROR(VLOOKUP(BW$3,'District Bids'!$C$5:$CU$511,38,0),\"\")","v":""},"",{"$f":"IFERROR(IF(BU$35=0,0,($D$35*BU$35+($D$35*'Complicated Price Adjustment'!$L31))),\"\")","v":""},"",{"$f":"IFERROR(VLOOKUP(CA$3,'District Bids'!$C$5:$CU$511,38,0),\"\")","v":""},"",{"$f":"IFERROR(IF(BY$35=0,0,($D$35*BY$35+($D$35*'Complicated Price Adjustment'!$L31))),\"\")","v":""},"",{"$f":"IFERROR(VLOOKUP(CE$3,'District Bids'!$C$5:$CU$511,38,0),\"\")","v":""},"",{"$f":"IFERROR(IF(CC$35=0,0,($D$35*CC$35+($D$35*'Complicated Price Adjustment'!$L31))),\"\")","v":""},"",{"$f":"IFERROR(VLOOKUP(CI$3,'District Bids'!$C$5:$CU$511,38,0),\"\")","v":""},"",{"$f":"IFERROR(IF(CG$35=0,0,($D$35*CG$35+($D$35*'Complicated Price Adjustment'!$L31))),\"\")","v":""},"",{"$f":"IFERROR(VLOOKUP(CM$3,'District Bids'!$C$5:$CU$511,38,0),\"\")","v":""},"",{"$f":"IFERROR(IF(CK$35=0,0,($D$35*CK$35+($D$35*'Complicated Price Adjustment'!$L31))),\"\")","v":""},"",{"$f":"IFERROR(VLOOKUP(CQ$3,'District Bids'!$C$5:$CU$511,38,0),\"\")","v":""},"",{"$f":"IFERROR(IF(CO$35=0,0,($D$35*CO$35+($D$35*'Complicated Price Adjustment'!$L31))),\"\")","v":""},"",{"$f":"IFERROR(VLOOKUP(CU$3,'District Bids'!$C$5:$CU$511,38,0),\"\")","v":""},"",{"$f":"IFERROR(IF(CS$35=0,0,($D$35*CS$35+($D$35*'Complicated Price Adjustment'!$L31))),\"\")","v":""},"",{"$f":"IFERROR(VLOOKUP(CY$3,'District Bids'!$C$5:$CU$511,38,0),\"\")","v":""},"",{"$f":"IFERROR(IF(CW$35=0,0,($D$35*CW$35+($D$35*'Complicated Price Adjustment'!$L31))),\"\")","v":""},"",{"$f":"IFERROR(VLOOKUP(DC$3,'District Bids'!$C$5:$CU$511,38,0),\"\")","v":""},"",{"$f":"IFERROR(IF(DA$35=0,0,($D$35*DA$35+($D$35*'Complicated Price Adjustment'!$L31))),\"\")","v":""},"",{"$f":"IFERROR(VLOOKUP(DG$3,'District Bids'!$C$5:$CU$511,38,0),\"\")","v":""},"",{"$f":"IFERROR(IF(DE$35=0,0,($D$35*DE$35+($D$35*'Complicated Price Adjustment'!$L31))),\"\")","v":""},"",{"$f":"IFERROR(VLOOKUP(DK$3,'District Bids'!$C$5:$CU$511,38,0),\"\")","v":""},"",{"$f":"IFERROR(IF(DI$35=0,0,($D$35*DI$35+($D$35*'Complicated Price Adjustment'!$L31))),\"\")","v":""},"",{"$f":"IFERROR(VLOOKUP(DO$3,'District Bids'!$C$5:$CU$511,38,0),\"\")","v":""},"",{"$f":"IFERROR(IF(DM$35=0,0,($D$35*DM$35+($D$35*'Complicated Price Adjustment'!$L31))),\"\")","v":""},"",{"$f":"IFERROR(VLOOKUP(DS$3,'District Bids'!$C$5:$CU$511,38,0),\"\")","v":""},"",{"$f":"IFERROR(IF(DQ$35=0,0,($D$35*DQ$35+($D$35*'Complicated Price Adjustment'!$L31))),\"\")","v":""},"",{"$f":"IFERROR(VLOOKUP(DW$3,'District Bids'!$C$5:$CU$511,38,0),\"\")","v":""},"",{"$f":"IFERROR(IF(DU$35=0,0,($D$35*DU$35+($D$35*'Complicated Price Adjustment'!$L31))),\"\")","v":""},"",{"$f":"IFERROR(VLOOKUP(EA$3,'District Bids'!$C$5:$CU$511,38,0),\"\")","v":""},"",{"$f":"IFERROR(IF(DY$35=0,0,($D$35*DY$35+($D$35*'Complicated Price Adjustment'!$L31))),\"\")","v":""},"",null,{"$f":"IFERROR(DG$6,\"\")","v":""},{"$f":"IFERROR(IF(DG$104=\"Incomplete\",0,IF(DG$104<>\"Incomplete\",ED35)),\"\")","v":""},{"$f":"$DG3","v":0}]
[null,33,"Mobilization - Daytime Paving ",{"$f":"'Order Details'!J35","v":0},{"$f":"IFERROR(VLOOKUP(G$3,'District Bids'!$C$5:$CU$511,39,0),\"\")","v":1800},0,{"$f":"IFERROR($D36*E36,\"\")","v":0},"",{"$f":"IFERROR(VLOOKUP(K$3,'District Bids'!$C$5:$CU$511,39,0),\"\")","v":1750},0,{"$f":"IFERROR($D36*I36,\"\")","v":0},"",{"$f":"IFERROR(VLOOKUP(O$3,'District Bids'!$C$5:$CU$511,39,0),\"\")","v":1750},0,{"$f":"IFERROR($D36*M36,\"\")","v":0},"",{"$f":"IFERROR(VLOOKUP(S$3,'District Bids'!$C$5:$CU$511,39,0),\"\")","v":2000},0,{"$f":"IFERROR($D36*Q36,\"\")","v":0},"",{"$f":"IFERROR(VLOOKUP(W$3,'District Bids'!$C$5:$CU$511,39,0),\"\")","v":2000},0,{"$f":"IFERROR($D36*U36,\"\")","v":0},"",{"$f":"IFERROR(VLOOKUP(AA$3,'District Bids'!$C$5:$CU$511,39,0),\"\")","v":2000},0,{"$f":"IFERROR($D36*Y36,\"\")","v":0},"",{"$f":"IFERROR(VLOOKUP(AE$3,'District Bids'!$C$5:$CU$511,39,0),\"\")","v":2000},0,{"$f":"IFERROR($D36*AC36,\"\")","v":0},"",{"$f":"IFERROR(VLOOKUP(AI$3,'District Bids'!$C$5:$CU$511,39,0),\"\")","v":2000},0,{"$f":"IFERROR($D36*AG36,\"\")","v":0},"",{"$f":"IFERROR(VLOOKUP(AM$3,'District Bids'!$C$5:$CU$511,39,0),\"\")","v":2000},0,{"$f":"IFERROR($D36*AK36,\"\")","v":0},"",{"$f":"IFERROR(VLOOKUP(AQ$3,'District Bids'!$C$5:$CU$511,39,0),\"\")","v":2000},0,{"$f":"IFERROR($D36*AO36,\"\")","v":0},"",{"$f":"IFERROR(VLOOKUP(AU$3,'District Bids'!$C$5:$CU$511,39,0),\"\")","v":""},"",{"$f":"IFERROR($D36*AS36,\"\")","v":""},"",{"$f":"IFERROR(VLOOKUP(AY$3,'District Bids'!$C$5:$CU$511,39,0),\"\")","v":""},"",{"$f":"IFERROR($D36*AW36,\"\")","v":""},"",{"$f":"IFERROR(VLOOKUP(BC$3,'District Bids'!$C$5:$CU$511,39,0),\"\")","v":""},"",{"$f":"IFERROR($D36*BA36,\"\")","v":""},"",{"$f":"IFERROR(VLOOKUP(BG$3,'District Bids'!$C$5:$CU$511,39,0),\"\")","v":""},"",{"$f":"IFERROR($D36*BE36,\"\")","v":""},"",{"$f":"IFERROR(VLOOKUP(BK$3,'District Bids'!$C$5:$CU$511,39,0),\"\")","v":""},"",{"$f":"IFERROR($D36*BI36,\"\")","v":""},"",{"$f":"IFERROR(VLOOKUP(BO$3,'District Bids'!$C$5:$CU$511,39,0),\"\")","v":""},"",{"$f":"IFERROR($D36*BM36,\"\")","v":""},"",{"$f":"IFERROR(VLOOKUP(BS$3,'District Bids'!$C$5:$CU$511,39,0),\"\")","v":""},"",{"$f":"IFERROR($D36*BQ36,\"\")","v":""},"",{"$f":"IFERROR(VLOOKUP(BW$3,'District Bids'!$C$5:$CU$511,39,0),\"\")","v":""},"",{"$f":"IFERROR($D36*BU36,\"\")","v":""},"",{"$f":"IFERROR(VLOOKUP(CA$3,'District Bids'!$C$5:$CU$511,39,0),\"\")","v":""},"",{"$f":"IFERROR($D36*BY36,\"\")","v":""},"",{"$f":"IFERROR(VLOOKUP(CE$3,'District Bids'!$C$5:$CU$511,39,0),\"\")","v":""},"",{"$f":"IFERROR($D36*CC36,\"\")","v":""},"",{"$f":"IFERROR(VLOOKUP(CI$3,'District Bids'!$C$5:$CU$511,39,0),\"\")","v":""},"",{"$f":"IFERROR($D36*CG36,\"\")","v":""},"",{"$f":"IFERROR(VLOOKUP(CM$3,'District Bids'!$C$5:$CU$511,39,0),\"\")","v":""},"",{"$f":"IFERROR($D36*CK36,\"\")","v":""},"",{"$f":"IFERROR(VLOOKUP(CQ$3,'District Bids'!$C$5:$CU$511,39,0),\"\")","v":""},"",{"$f":"IFERROR($D36*CO36,\"\")","v":""},"",{"$f":"IFERROR(VLOOKUP(CU$3,'District Bids'!$C$5:$CU$511,39,0),\"\")","v":""},"",{"$f":"IFERROR($D36*CS36,\"\")","v":""},"",{"$f":"IFERROR(VLOOKUP(CY$3,'District Bids'!$C$5:$CU$511,39,0),\"\")","v":""},"",{"$f":"IFERROR($D36*CW36,\"\")","v":""},"",{"$f":"IFERROR(VLOOKUP(DC$3,'District Bids'!$C$5:$CU$511,39,0),\"\")","v":""},"",{"$f":"IFERROR($D36*DA36,\"\")","v":""},"",{"$f":"IFERROR(VLOOKUP(DG$3,'District Bids'!$C$5:$CU$511,39,0),\"\")","v":""},"",{"$f":"IFERROR($D36*DE36,\"\")","v":""},"",{"$f":"IFERROR(VLOOKUP(DK$3,'District Bids'!$C$5:$CU$511,39,0),\"\")","v":""},"",{"$f":"IFERROR($D36*DI36,\"\")","v":""},"",{"$f":"IFERROR(VLOOKUP(DO$3,'District Bids'!$C$5:$CU$511,39,0),\"\")","v":""},"",{"$f":"IFERROR($D36*DM36,\"\")","v":""},"",{"$f":"IFERROR(VLOOKUP(DS$3,'District Bids'!$C$5:$CU$511,39,0),\"\")","v":""},"",{"$f":"IFERROR($D36*DQ36,\"\")","v":""},"",{"$f":"IFERROR(VLOOKUP(DW$3,'District Bids'!$C$5:$CU$511,39,0),\"\")","v":""},"",{"$f":"IFERROR($D36*DU36,\"\")","v":""},"",{"$f":"IFERROR(VLOOKUP(EA$3,'District Bids'!$C$5:$CU$511,39,0),\"\")","v":""},"",{"$f":"IFERROR($D36*DY36,\"\")","v":""},"",null,{"$f":"IFERROR(DK$6,\"\")","v":""},{"$f":"IFERROR(IF(DK$104=\"Incomplete\",0,IF(DK$104<>\"Incomplete\",ED36)),\"\")","v":""},{"$f":"$DK3","v":0}]
[null,34,"Mobilization - Nighttime Paving ",{"$f":"'Order Details'!J36","v":0},{"$f":"IFERROR(VLOOKUP(G$3,'District Bids'!$C$5:$CU$511,40,0),\"\")","v":12000},0,{"$f":"IFERROR($D37*E37,\"\")","v":0},"",{"$f":"IFERROR(VLOOKUP(K$3,'District Bids'!$C$5:$CU$511,40,0),\"\")","v":8000},0,{"$f":"IFERROR($D37*I37,\"\")","v":0},"",{"$f":"IFERROR(VLOOKUP(O$3,'District Bids'!$C$5:$CU$511,40,0),\"\")","v":8000},0,{"$f":"IFERROR($D37*M37,\"\")","v":0},"",{"$f":"IFERROR(VLOOKUP(S$3,'District Bids'!$C$5:$CU$511,40,0),\"\")","v":12500},0,{"$f":"IFERROR($D37*Q37,\"\")","v":0},"",{"$f":"IFERROR(VLOOKUP(W$3,'District Bids'!$C$5:$CU$511,40,0),\"\")","v":15000},0,{"$f":"IFERROR($D37*U37,\"\")","v":0},"",{"$f":"IFERROR(VLOOKUP(AA$3,'District Bids'!$C$5:$CU$511,40,0),\"\")","v":15000},0,{"$f":"IFERROR($D37*Y37,\"\")","v":0},"",{"$f":"IFERROR(VLOOKUP(AE$3,'District Bids'!$C$5:$CU$511,40,0),\"\")","v":15000},0,{"$f":"IFERROR($D37*AC37,\"\")","v":0},"",{"$f":"IFERROR(VLOOKUP(AI$3,'District Bids'!$C$5:$CU$511,40,0),\"\")","v":15000},0,{"$f":"IFERROR($D37*AG37,\"\")","v":0},"",{"$f":"IFERROR(VLOOKUP(AM$3,'District Bids'!$C$5:$CU$511,40,0),\"\")","v":15000},0,{"$f":"IFERROR($D37*AK37,\"\")","v":0},"",{"$f":"IFERROR(VLOOKUP(AQ$3,'District Bids'!$C$5:$CU$511,40,0),\"\")","v":15000},0,{"$f":"IFERROR($D37*AO37,\"\")","v":0},"",{"$f":"IFERROR(VLOOKUP(AU$3,'District Bids'!$C$5:$CU$511,40,0),\"\")","v":""},"",{"$f":"IFERROR($D37*AS37,\"\")","v":""},"",{"$f":"IFERROR(VLOOKUP(AY$3,'District Bids'!$C$5:$CU$511,40,0),\"\")","v":""},"",{"$f":"IFERROR($D37*AW37,\"\")","v":""},"",{"$f":"IFERROR(VLOOKUP(BC$3,'District Bids'!$C$5:$CU$511,40,0),\"\")","v":""},"",{"$f":"IFERROR($D37*BA37,\"\")","v":""},"",{"$f":"IFERROR(VLOOKUP(BG$3,'District Bids'!$C$5:$CU$511,40,0),\"\")","v":""},"",{"$f":"IFERROR($D37*BE37,\"\")","v":""},"",{"$f":"IFERROR(VLOOKUP(BK$3,'District Bids'!$C$5:$CU$511,40,0),\"\")","v":""},"",{"$f":"IFERROR($D37*BI37,\"\")","v":""},"",{"$f":"IFERROR(VLOOKUP(BO$3,'District Bids'!$C$5:$CU$511,40,0),\"\")","v":""},"",{"$f":"IFERROR($D37*BM37,\"\")","v":""},"",{"$f":"IFERROR(VLOOKUP(BS$3,'District Bids'!$C$5:$CU$511,40,0),\"\")","v":""},"",{"$f":"IFERROR($D37*BQ37,\"\")","v":""},"",{"$f":"IFERROR(VLOOKUP(BW$3,'District Bids'!$C$5:$CU$511,40,0),\"\")","v":""},"",{"$f":"IFERROR($D37*BU37,\"\")","v":""},"",{"$f":"IFERROR(VLOOKUP(CA$3,'District Bids'!$C$5:$CU$511,40,0),\"\")","v":""},"",{"$f":"IFERROR($D37*BY37,\"\")","v":""},"",{"$f":"IFERROR(VLOOKUP(CE$3,'District Bids'!$C$5:$CU$511,40,0),\"\")","v":""},"",{"$f":"IFERROR($D37*CC37,\"\")","v":""},"",{"$f":"IFERROR(VLOOKUP(CI$3,'District Bids'!$C$5:$CU$511,40,0),\"\")","v":""},"",{"$f":"IFERROR($D37*CG37,\"\")","v":""},"",{"$f":"IFERROR(VLOOKUP(CM$3,'District Bids'!$C$5:$CU$511,40,0),\"\")","v":""},"",{"$f":"IFERROR($D37*CK37,\"\")","v":""},"",{"$f":"IFERROR(VLOOKUP(CQ$3,'District Bids'!$C$5:$CU$511,40,0),\"\")","v":""},"",{"$f":"IFERROR($D37*CO37,\"\")","v":""},"",{"$f":"IFERROR(VLOOKUP(CU$3,'District Bids'!$C$5:$CU$511,40,0),\"\")","v":""},"",{"$f":"IFERROR($D37*CS37,\"\")","v":""},"",{"$f":"IFERROR(VLOOKUP(CY$3,'District Bids'!$C$5:$CU$511,40,0),\"\")","v":""},"",{"$f":"IFERROR($D37*CW37,\"\")","v":""},"",{"$f":"IFERROR(VLOOKUP(DC$3,'District Bids'!$C$5:$CU$511,40,0),\"\")","v":""},"",{"$f":"IFERROR($D37*DA37,\"\")","v":""},"",{"$f":"IFERROR(VLOOKUP(DG$3,'District Bids'!$C$5:$CU$511,40,0),\"\")","v":""},"",{"$f":"IFERROR($D37*DE37,\"\")","v":""},"",{"$f":"IFERROR(VLOOKUP(DK$3,'District Bids'!$C$5:$CU$511,40,0),\"\")","v":""},"",{"$f":"IFERROR($D37*DI37,\"\")","v":""},"",{"$f":"IFERROR(VLOOKUP(DO$3,'District Bids'!$C$5:$CU$511,40,0),\"\")","v":""},"",{"$f":"IFERROR($D37*DM37,\"\")","v":""},"",{"$f":"IFERROR(VLOOKUP(DS$3,'District Bids'!$C$5:$CU$511,40,0),\"\")","v":""},"",{"$f":"IFERROR($D37*DQ37,\"\")","v":""},"",{"$f":"IFERROR(VLOOKUP(DW$3,'District Bids'!$C$5:$CU$511,40,0),\"\")","v":""},"",{"$f":"IFERROR($D37*DU37,\"\")","v":""},"",{"$f":"IFERROR(VLOOKUP(EA$3,'District Bids'!$C$5:$CU$511,40,0),\"\")","v":""},"",{"$f":"IFERROR($D37*DY37,\"\")","v":""},"",null,{"$f":"IFERROR(DO$6,\"\")","v":""},{"$f":"IFERROR(IF(DO$104=\"Incomplete\",0,IF(DO$104<>\"Incomplete\",ED37)),\"\")","v":""},{"$f":"$DO3","v":0}]
[null,35,"Excavation for Shoulder Paving - 0 to 1000 ",{"$f":"'Order Details'!J37","v":0},{"$f":"IFERROR(VLOOKUP(G$3,'District Bids'!$C$5:$CU$511,41,0),\"\")","v":6},{"$f":"IFERROR(E38*$D38*'Order Details'!$B$31,\"\")","v":0},{"$f":"IFERROR(IF(E38=0,0,($D38*E38*'Order Details'!$B$31+($D38*'Complicated Price Adjustment'!$L35*'Order Details'!$B$31))),\"\")","v":0},"",{"$f":"IFERROR(VLOOKUP(K$3,'District Bids'!$C$5:$CU$511,41,0),\"\")","v":7},{"$f":"IFERROR(I38*$D38*'Order Details'!$B$31,\"\")","v":0},{"$f":"IFERROR(IF(I38=0,0,($D38*I38*'Order Details'!$B$31+($D38*'Complicated Price Adjustment'!$L35*'Order Details'!$B$31))),\"\")","v":0},"",{"$f":"IFERROR(VLOOKUP(O$3,'District Bids'!$C$5:$CU$511,41,0),\"\")","v":7},{"$f":"IFERROR(M38*$D38*'Order Details'!$B$31,\"\")","v":0},{"$f":"IFERROR(IF(M38=0,0,($D38*M38*'Order Details'!$B$31+($D38*'Complicated Price Adjustment'!$L35*'Order Details'!$B$31))),\"\")","v":0},"",{"$f":"IFERROR(VLOOKUP(S$3,'District Bids'!$C$5:$CU$511,41,0),\"\")","v":6.5},{"$f":"IFERROR(Q38*$D38*'Order Details'!$B$31,\"\")","v":0},{"$f":"IFERROR(IF(Q38=0,0,($D38*Q38*'Order Details'!$B$31+($D38*'Complicated Price Adjustment'!$L35*'Order Details'!$B$31))),\"\")","v":0},"",{"$f":"IFERROR(VLOOKUP(W$3,'District Bids'!$C$5:$CU$511,41,0),\"\")","v":6.75},{"$f":"IFERROR(U38*$D38*'Order Details'!$B$31,\"\")","v":0},{"$f":"IFERROR(IF(U38=0,0,($D38*U38*'Order Details'!$B$31+($D38*'Complicated Price Adjustment'!$L35*'Order Details'!$B$31))),\"\")","v":0},"",{"$f":"IFERROR(VLOOKUP(AA$3,'District Bids'!$C$5:$CU$511,41,0),\"\")","v":6.75},{"$f":"IFERROR(Y38*$D38*'Order Details'!$B$31,\"\")","v":0},{"$f":"IFERROR(IF(Y38=0,0,($D38*Y38*'Order Details'!$B$31+($D38*'Complicated Price Adjustment'!$L35*'Order Details'!$B$31))),\"\")","v":0},"",{"$f":"IFERROR(VLOOKUP(AE$3,'District Bids'!$C$5:$CU$511,41,0),\"\")","v":6.75},{"$f":"IFERROR(AC38*$D38*'Order Details'!$B$31,\"\")","v":0},{"$f":"IFERROR(IF(AC38=0,0,($D38*AC38*'Order Details'!$B$31+($D38*'Complicated Price Adjustment'!$L35*'Order Details'!$B$31))),\"\")","v":0},"",{"$f":"IFERROR(VLOOKUP(AI$3,'District Bids'!$C$5:$CU$511,41,0),\"\")","v":6.75},{"$f":"IFERROR(AG38*$D38*'Order Details'!$B$31,\"\")","v":0},{"$f":"IFERROR(IF(AG38=0,0,($D38*AG38*'Order Details'!$B$31+($D38*'Complicated Price Adjustment'!$L35*'Order Details'!$B$31))),\"\")","v":0},"",{"$f":"IFERROR(VLOOKUP(AM$3,'District Bids'!$C$5:$CU$511,41,0),\"\")","v":6.75},{"$f":"IFERROR(AK38*$D38*'Order Details'!$B$31,\"\")","v":0},{"$f":"IFERROR(IF(AK38=0,0,($D38*AK38*'Order Details'!$B$31+($D38*'Complicated Price Adjustment'!$L35*'Order Details'!$B$31))),\"\")","v":0},"",{"$f":"IFERROR(VLOOKUP(AQ$3,'District Bids'!$C$5:$CU$511,41,0),\"\")","v":6.75},{"$f":"IFERROR(AO38*$D38*'Order Details'!$B$31,\"\")","v":0},{"$f":"IFERROR(IF(AO38=0,0,($D38*AO38*'Order Details'!$B$31+($D38*'Complicated Price Adjustment'!$L35*'Order Details'!$B$31))),\"\")","v":0},"",{"$f":"IFERROR(VLOOKUP(AU$3,'District Bids'!$C$5:$CU$511,41,0),\"\")","v":""},{"$f":"IFERROR(AS38*$D38*'Order Details'!$B$31,\"\")","v":""},{"$f":"IFERROR(IF(AS38=0,0,($D38*AS38*'Order Details'!$B$31+($D38*'Complicated Price Adjustment'!$L35*'Order Details'!$B$31))),\"\")","v":""},"",{"$f":"IFERROR(VLOOKUP(AY$3,'District Bids'!$C$5:$CU$511,41,0),\"\")","v":""},{"$f":"IFERROR(AW38*$D38*'Order Details'!$B$31,\"\")","v":""},{"$f":"IFERROR(IF(AW38=0,0,($D38*AW38*'Order Details'!$B$31+($D38*'Complicated Price Adjustment'!$L35*'Order Details'!$B$31))),\"\")","v":""},"",{"$f":"IFERROR(VLOOKUP(BC$3,'District Bids'!$C$5:$CU$511,41,0),\"\")","v":""},{"$f":"IFERROR(BA38*$D38*'Order Details'!$B$31,\"\")","v":""},{"$f":"IFERROR(IF(BA38=0,0,($D38*BA38*'Order Details'!$B$31+($D38*'Complicated Price Adjustment'!$L35*'Order Details'!$B$31))),\"\")","v":""},"",{"$f":"IFERROR(VLOOKUP(BG$3,'District Bids'!$C$5:$CU$511,41,0),\"\")","v":""},{"$f":"IFERROR(BE38*$D38*'Order Details'!$B$31,\"\")","v":""},{"$f":"IFERROR(IF(BE38=0,0,($D38*BE38*'Order Details'!$B$31+($D38*'Complicated Price Adjustment'!$L35*'Order Details'!$B$31))),\"\")","v":""},"",{"$f":"IFERROR(VLOOKUP(BK$3,'District Bids'!$C$5:$CU$511,41,0),\"\")","v":""},{"$f":"IFERROR(BI38*$D38*'Order Details'!$B$31,\"\")","v":""},{"$f":"IFERROR(IF(BI38=0,0,($D38*BI38*'Order Details'!$B$31+($D38*'Complicated Price Adjustment'!$L35*'Order Details'!$B$31))),\"\")","v":""},"",{"$f":"IFERROR(VLOOKUP(BO$3,'District Bids'!$C$5:$CU$511,41,0),\"\")","v":""},{"$f":"IFERROR(BM38*$D38*'Order Details'!$B$31,\"\")","v":""},{"$f":"IFERROR(IF(BM38=0,0,($D38*BM38*'Order Details'!$B$31+($D38*'Complicated Price Adjustment'!$L35*'Order Details'!$B$31))),\"\")","v":""},"",{"$f":"IFERROR(VLOOKUP(BS$3,'District Bids'!$C$5:$CU$511,41,0),\"\")","v":""},{"$f":"IFERROR(BQ38*$D38*'Order Details'!$B$31,\"\")","v":""},{"$f":"IFERROR(IF(BQ38=0,0,($D38*BQ38*'Order Details'!$B$31+($D38*'Complicated Price Adjustment'!$L35*'Order Details'!$B$31))),\"\")","v":""},"",{"$f":"IFERROR(VLOOKUP(BW$3,'District Bids'!$C$5:$CU$511,41,0),\"\")","v":""},{"$f":"IFERROR(BU38*$D38*'Order Details'!$B$31,\"\")","v":""},{"$f":"IFERROR(IF(BU38=0,0,($D38*BU38*'Order Details'!$B$31+($D38*'Complicated Price Adjustment'!$L35*'Order Details'!$B$31))),\"\")","v":""},"",{"$f":"IFERROR(VLOOKUP(CA$3,'District Bids'!$C$5:$CU$511,41,0),\"\")","v":""},{"$f":"IFERROR(BY38*$D38*'Order Details'!$B$31,\"\")","v":""},{"$f":"IFERROR(IF(BY38=0,0,($D38*BY38*'Order Details'!$B$31+($D38*'Complicated Price Adjustment'!$L35*'Order Details'!$B$31))),\"\")","v":""},"",{"$f":"IFERROR(VLOOKUP(CE$3,'District Bids'!$C$5:$CU$511,41,0),\"\")","v":""},{"$f":"IFERROR(CC38*$D38*'Order Details'!$B$31,\"\")","v":""},{"$f":"IFERROR(IF(CC38=0,0,($D38*CC38*'Order Details'!$B$31+($D38*'Complicated Price Adjustment'!$L35*'Order Details'!$B$31))),\"\")","v":""},"",{"$f":"IFERROR(VLOOKUP(CI$3,'District Bids'!$C$5:$CU$511,41,0),\"\")","v":""},{"$f":"IFERROR(CG38*$D38*'Order Details'!$B$31,\"\")","v":""},{"$f":"IFERROR(IF(CG38=0,0,($D38*CG38*'Order Details'!$B$31+($D38*'Complicated Price Adjustment'!$L35*'Order Details'!$B$31))),\"\")","v":""},"",{"$f":"IFERROR(VLOOKUP(CM$3,'District Bids'!$C$5:$CU$511,41,0),\"\")","v":""},{"$f":"IFERROR(CK38*$D38*'Order Details'!$B$31,\"\")","v":""},{"$f":"IFERROR(IF(CK38=0,0,($D38*CK38*'Order Details'!$B$31+($D38*'Complicated Price Adjustment'!$L35*'Order Details'!$B$31))),\"\")","v":""},"",{"$f":"IFERROR(VLOOKUP(CQ$3,'District Bids'!$C$5:$CU$511,41,0),\"\")","v":""},{"$f":"IFERROR(CO38*$D38*'Order Details'!$B$31,\"\")","v":""},{"$f":"IFERROR(IF(CO38=0,0,($D38*CO38*'Order Details'!$B$31+($D38*'Complicated Price Adjustment'!$L35*'Order Details'!$B$31))),\"\")","v":""},"",{"$f":"IFERROR(VLOOKUP(CU$3,'District Bids'!$C$5:$CU$511,41,0),\"\")","v":""},{"$f":"IFERROR(CS38*$D38*'Order Details'!$B$31,\"\")","v":""},{"$f":"IFERROR(IF(CS38=0,0,($D38*CS38*'Order Details'!$B$31+($D38*'Complicated Price Adjustment'!$L35*'Order Details'!$B$31))),\"\")","v":""},"",{"$f":"IFERROR(VLOOKUP(CY$3,'District Bids'!$C$5:$CU$511,41,0),\"\")","v":""},{"$f":"IFERROR(CW38*$D38*'Order Details'!$B$31,\"\")","v":""},{"$f":"IFERROR(IF(CW38=0,0,($D38*CW38*'Order Details'!$B$31+($D38*'Complicated Price Adjustment'!$L35*'Order Details'!$B$31))),\"\")","v":""},"",{"$f":"IFERROR(VLOOKUP(DC$3,'District Bids'!$C$5:$CU$511,41,0),\"\")","v":""},{"$f":"IFERROR(DA38*$D38*'Order Details'!$B$31,\"\")","v":""},{"$f":"IFERROR(IF(DA38=0,0,($D38*DA38*'Order Details'!$B$31+($D38*'Complicated Price Adjustment'!$L35*'Order Details'!$B$31))),\"\")","v":""},"",{"$f":"IFERROR(VLOOKUP(DG$3,'District Bids'!$C$5:$CU$511,41,0),\"\")","v":""},{"$f":"IFERROR(DE38*$D38*'Order Details'!$B$31,\"\")","v":""},{"$f":"IFERROR(IF(DE38=0,0,($D38*DE38*'Order Details'!$B$31+($D38*'Complicated Price Adjustment'!$L35*'Order Details'!$B$31))),\"\")","v":""},"",{"$f":"IFERROR(VLOOKUP(DK$3,'District Bids'!$C$5:$CU$511,41,0),\"\")","v":""},{"$f":"IFERROR(DI38*$D38*'Order Details'!$B$31,\"\")","v":""},{"$f":"IFERROR(IF(DI38=0,0,($D38*DI38*'Order Details'!$B$31+($D38*'Complicated Price Adjustment'!$L35*'Order Details'!$B$31))),\"\")","v":""},"",{"$f":"IFERROR(VLOOKUP(DO$3,'District Bids'!$C$5:$CU$511,41,0),\"\")","v":""},{"$f":"IFERROR(DM38*$D38*'Order Details'!$B$31,\"\")","v":""},{"$f":"IFERROR(IF(DM38=0,0,($D38*DM38*'Order Details'!$B$31+($D38*'Complicated Price Adjustment'!$L35*'Order Details'!$B$31))),\"\")","v":""},"",{"$f":"IFERROR(VLOOKUP(DS$3,'District Bids'!$C$5:$CU$511,41,0),\"\")","v":""},{"$f":"IFERROR(DQ38*$D38*'Order Details'!$B$31,\"\")","v":""},{"$f":"IFERROR(IF(DQ38=0,0,($D38*DQ38*'Order Details'!$B$31+($D38*'Complicated Price Adjustment'!$L35*'Order Details'!$B$31))),\"\")","v":""},"",{"$f":"IFERROR(VLOOKUP(DW$3,'District Bids'!$C$5:$CU$511,41,0),\"\")","v":""},{"$f":"IFERROR(DU38*$D38*'Order Details'!$B$31,\"\")","v":""},{"$f":"IFERROR(IF(DU38=0,0,($D38*DU38*'Order Details'!$B$31+($D38*'Complicated Price Adjustment'!$L35*'Order Details'!$B$31))),\"\")","v":""},"",{"$f":"IFERROR(VLOOKUP(EA$3,'District Bids'!$C$5:$CU$511,41,0),\"\")","v":""},{"$f":"IFERROR(DY38*$D38*'Order Details'!$B$31,\"\")","v":""},{"$f":"IFERROR(IF(DY38=0,0,($D38*DY38*'Order Details'!$B$31+($D38*'Complicated Price Adjustment'!$L35*'Order Details'!$B$31))),\"\")","v":""},"",null,{"$f":"IFERROR(DS$6,\"\")","v":""},{"$f":"IFERROR(IF(DS$104=\"Incomplete\",0,IF(DS$104<>\"Incomplete\",ED38)),\"\")","v":""},{"$f":"$DS3","v":0}]
[null,36,"Excavation for Shoulder Paving - 1001 to 2000 ",{"$f":"'Order Details'!J38","v":0},{"$f":"IFERROR(VLOOKUP(G$3,'District Bids'!$C$5:$CU$511,42,0),\"\")","v":4},{"$f":"IFERROR(E39*$D39*'Order Details'!$B$31,\"\")","v":0},{"$f":"IFERROR(IF(E39=0,0,($D39*E39*'Order Details'!$B$31+($D39*'Complicated Price Adjustment'!$L36*'Order Details'!$B$31))),\"\")","v":0},"",{"$f":"IFERROR(VLOOKUP(K$3,'District Bids'!$C$5:$CU$511,42,0),\"\")","v":5},{"$f":"IFERROR(I39*$D39*'Order Details'!$B$31,\"\")","v":0},{"$f":"IFERROR(IF(I39=0,0,($D39*I39*'Order Details'!$B$31+($D39*'Complicated Price Adjustment'!$L36*'Order Details'!$B$31))),\"\")","v":0},"",{"$f":"IFERROR(VLOOKUP(O$3,'District Bids'!$C$5:$CU$511,42,0),\"\")","v":5},{"$f":"IFERROR(M39*$D39*'Order Details'!$B$31,\"\")","v":0},{"$f":"IFERROR(IF(M39=0,0,($D39*M39*'Order Details'!$B$31+($D39*'Complicated Price Adjustment'!$L36*'Order Details'!$B$31))),\"\")","v":0},"",{"$f":"IFERROR(VLOOKUP(S$3,'District Bids'!$C$5:$CU$511,42,0),\"\")","v":4.5},{"$f":"IFERROR(Q39*$D39*'Order Details'!$B$31,\"\")","v":0},{"$f":"IFERROR(IF(Q39=0,0,($D39*Q39*'Order Details'!$B$31+($D39*'Complicated Price Adjustment'!$L36*'Order Details'!$B$31))),\"\")","v":0},"",{"$f":"IFERROR(VLOOKUP(W$3,'District Bids'!$C$5:$CU$511,42,0),\"\")","v":4.75},{"$f":"IFERROR(U39*$D39*'Order Details'!$B$31,\"\")","v":0},{"$f":"IFERROR(IF(U39=0,0,($D39*U39*'Order Details'!$B$31+($D39*'Complicated Price Adjustment'!$L36*'Order Details'!$B$31))),\"\")","v":0},"",{"$f":"IFERROR(VLOOKUP(AA$3,'District Bids'!$C$5:$CU$511,42,0),\"\")","v":4.75},{"$f":"IFERROR(Y39*$D39*'Order Details'!$B$31,\"\")","v":0},{"$f":"IFERROR(IF(Y39=0,0,($D39*Y39*'Order Details'!$B$31+($D39*'Complicated Price Adjustment'!$L36*'Order Details'!$B$31))),\"\")","v":0},"",{"$f":"IFERROR(VLOOKUP(AE$3,'District Bids'!$C$5:$CU$511,42,0),\"\")","v":4.75},{"$f":"IFERROR(AC39*$D39*'Order Details'!$B$31,\"\")","v":0},{"$f":"IFERROR(IF(AC39=0,0,($D39*AC39*'Order Details'!$B$31+($D39*'Complicated Price Adjustment'!$L36*'Order Details'!$B$31))),\"\")","v":0},"",{"$f":"IFERROR(VLOOKUP(AI$3,'District Bids'!$C$5:$CU$511,42,0),\"\")","v":4.75},{"$f":"IFERROR(AG39*$D39*'Order Details'!$B$31,\"\")","v":0},{"$f":"IFERROR(IF(AG39=0,0,($D39*AG39*'Order Details'!$B$31+($D39*'Complicated Price Adjustment'!$L36*'Order Details'!$B$31))),\"\")","v":0},"",{"$f":"IFERROR(VLOOKUP(AM$3,'District Bids'!$C$5:$CU$511,42,0),\"\")","v":4.75},{"$f":"IFERROR(AK39*$D39*'Order Details'!$B$31,\"\")","v":0},{"$f":"IFERROR(IF(AK39=0,0,($D39*AK39*'Order Details'!$B$31+($D39*'Complicated Price Adjustment'!$L36*'Order Details'!$B$31))),\"\")","v":0},"",{"$f":"IFERROR(VLOOKUP(AQ$3,'District Bids'!$C$5:$CU$511,42,0),\"\")","v":4.75},{"$f":"IFERROR(AO39*$D39*'Order Details'!$B$31,\"\")","v":0},{"$f":"IFERROR(IF(AO39=0,0,($D39*AO39*'Order Details'!$B$31+($D39*'Complicated Price Adjustment'!$L36*'Order Details'!$B$31))),\"\")","v":0},"",{"$f":"IFERROR(VLOOKUP(AU$3,'District Bids'!$C$5:$CU$511,42,0),\"\")","v":""},{"$f":"IFERROR(AS39*$D39*'Order Details'!$B$31,\"\")","v":""},{"$f":"IFERROR(IF(AS39=0,0,($D39*AS39*'Order Details'!$B$31+($D39*'Complicated Price Adjustment'!$L36*'Order Details'!$B$31))),\"\")","v":""},"",{"$f":"IFERROR(VLOOKUP(AY$3,'District Bids'!$C$5:$CU$511,42,0),\"\")","v":""},{"$f":"IFERROR(AW39*$D39*'Order Details'!$B$31,\"\")","v":""},{"$f":"IFERROR(IF(AW39=0,0,($D39*AW39*'Order Details'!$B$31+($D39*'Complicated Price Adjustment'!$L36*'Order Details'!$B$31))),\"\")","v":""},"",{"$f":"IFERROR(VLOOKUP(BC$3,'District Bids'!$C$5:$CU$511,42,0),\"\")","v":""},{"$f":"IFERROR(BA39*$D39*'Order Details'!$B$31,\"\")","v":""},{"$f":"IFERROR(IF(BA39=0,0,($D39*BA39*'Order Details'!$B$31+($D39*'Complicated Price Adjustment'!$L36*'Order Details'!$B$31))),\"\")","v":""},"",{"$f":"IFERROR(VLOOKUP(BG$3,'District Bids'!$C$5:$CU$511,42,0),\"\")","v":""},{"$f":"IFERROR(BE39*$D39*'Order Details'!$B$31,\"\")","v":""},{"$f":"IFERROR(IF(BE39=0,0,($D39*BE39*'Order Details'!$B$31+($D39*'Complicated Price Adjustment'!$L36*'Order Details'!$B$31))),\"\")","v":""},"",{"$f":"IFERROR(VLOOKUP(BK$3,'District Bids'!$C$5:$CU$511,42,0),\"\")","v":""},{"$f":"IFERROR(BI39*$D39*'Order Details'!$B$31,\"\")","v":""},{"$f":"IFERROR(IF(BI39=0,0,($D39*BI39*'Order Details'!$B$31+($D39*'Complicated Price Adjustment'!$L36*'Order Details'!$B$31))),\"\")","v":""},"",{"$f":"IFERROR(VLOOKUP(BO$3,'District Bids'!$C$5:$CU$511,42,0),\"\")","v":""},{"$f":"IFERROR(BM39*$D39*'Order Details'!$B$31,\"\")","v":""},{"$f":"IFERROR(IF(BM39=0,0,($D39*BM39*'Order Details'!$B$31+($D39*'Complicated Price Adjustment'!$L36*'Order Details'!$B$31))),\"\")","v":""},"",{"$f":"IFERROR(VLOOKUP(BS$3,'District Bids'!$C$5:$CU$511,42,0),\"\")","v":""},{"$f":"IFERROR(BQ39*$D39*'Order Details'!$B$31,\"\")","v":""},{"$f":"IFERROR(IF(BQ39=0,0,($D39*BQ39*'Order Details'!$B$31+($D39*'Complicated Price Adjustment'!$L36*'Order Details'!$B$31))),\"\")","v":""},"",{"$f":"IFERROR(VLOOKUP(BW$3,'District Bids'!$C$5:$CU$511,42,0),\"\")","v":""},{"$f":"IFERROR(BU39*$D39*'Order Details'!$B$31,\"\")","v":""},{"$f":"IFERROR(IF(BU39=0,0,($D39*BU39*'Order Details'!$B$31+($D39*'Complicated Price Adjustment'!$L36*'Order Details'!$B$31))),\"\")","v":""},"",{"$f":"IFERROR(VLOOKUP(CA$3,'District Bids'!$C$5:$CU$511,42,0),\"\")","v":""},{"$f":"IFERROR(BY39*$D39*'Order Details'!$B$31,\"\")","v":""},{"$f":"IFERROR(IF(BY39=0,0,($D39*BY39*'Order Details'!$B$31+($D39*'Complicated Price Adjustment'!$L36*'Order Details'!$B$31))),\"\")","v":""},"",{"$f":"IFERROR(VLOOKUP(CE$3,'District Bids'!$C$5:$CU$511,42,0),\"\")","v":""},{"$f":"IFERROR(CC39*$D39*'Order Details'!$B$31,\"\")","v":""},{"$f":"IFERROR(IF(CC39=0,0,($D39*CC39*'Order Details'!$B$31+($D39*'Complicated Price Adjustment'!$L36*'Order Details'!$B$31))),\"\")","v":""},"",{"$f":"IFERROR(VLOOKUP(CI$3,'District Bids'!$C$5:$CU$511,42,0),\"\")","v":""},{"$f":"IFERROR(CG39*$D39*'Order Details'!$B$31,\"\")","v":""},{"$f":"IFERROR(IF(CG39=0,0,($D39*CG39*'Order Details'!$B$31+($D39*'Complicated Price Adjustment'!$L36*'Order Details'!$B$31))),\"\")","v":""},"",{"$f":"IFERROR(VLOOKUP(CM$3,'District Bids'!$C$5:$CU$511,42,0),\"\")","v":""},{"$f":"IFERROR(CK39*$D39*'Order Details'!$B$31,\"\")","v":""},{"$f":"IFERROR(IF(CK39=0,0,($D39*CK39*'Order Details'!$B$31+($D39*'Complicated Price Adjustment'!$L36*'Order Details'!$B$31))),\"\")","v":""},"",{"$f":"IFERROR(VLOOKUP(CQ$3,'District Bids'!$C$5:$CU$511,42,0),\"\")","v":""},{"$f":"IFERROR(CO39*$D39*'Order Details'!$B$31,\"\")","v":""},{"$f":"IFERROR(IF(CO39=0,0,($D39*CO39*'Order Details'!$B$31+($D39*'Complicated Price Adjustment'!$L36*'Order Details'!$B$31))),\"\")","v":""},"",{"$f":"IFERROR(VLOOKUP(CU$3,'District Bids'!$C$5:$CU$511,42,0),\"\")","v":""},{"$f":"IFERROR(CS39*$D39*'Order Details'!$B$31,\"\")","v":""},{"$f":"IFERROR(IF(CS39=0,0,($D39*CS39*'Order Details'!$B$31+($D39*'Complicated Price Adjustment'!$L36*'Order Details'!$B$31))),\"\")","v":""},"",{"$f":"IFERROR(VLOOKUP(CY$3,'District Bids'!$C$5:$CU$511,42,0),\"\")","v":""},{"$f":"IFERROR(CW39*$D39*'Order Details'!$B$31,\"\")","v":""},{"$f":"IFERROR(IF(CW39=0,0,($D39*CW39*'Order Details'!$B$31+($D39*'Complicated Price Adjustment'!$L36*'Order Details'!$B$31))),\"\")","v":""},"",{"$f":"IFERROR(VLOOKUP(DC$3,'District Bids'!$C$5:$CU$511,42,0),\"\")","v":""},{"$f":"IFERROR(DA39*$D39*'Order Details'!$B$31,\"\")","v":""},{"$f":"IFERROR(IF(DA39=0,0,($D39*DA39*'Order Details'!$B$31+($D39*'Complicated Price Adjustment'!$L36*'Order Details'!$B$31))),\"\")","v":""},"",{"$f":"IFERROR(VLOOKUP(DG$3,'District Bids'!$C$5:$CU$511,42,0),\"\")","v":""},{"$f":"IFERROR(DE39*$D39*'Order Details'!$B$31,\"\")","v":""},{"$f":"IFERROR(IF(DE39=0,0,($D39*DE39*'Order Details'!$B$31+($D39*'Complicated Price Adjustment'!$L36*'Order Details'!$B$31))),\"\")","v":""},"",{"$f":"IFERROR(VLOOKUP(DK$3,'District Bids'!$C$5:$CU$511,42,0),\"\")","v":""},{"$f":"IFERROR(DI39*$D39*'Order Details'!$B$31,\"\")","v":""},{"$f":"IFERROR(IF(DI39=0,0,($D39*DI39*'Order Details'!$B$31+($D39*'Complicated Price Adjustment'!$L36*'Order Details'!$B$31))),\"\")","v":""},"",{"$f":"IFERROR(VLOOKUP(DO$3,'District Bids'!$C$5:$CU$511,42,0),\"\")","v":""},{"$f":"IFERROR(DM39*$D39*'Order Details'!$B$31,\"\")","v":""},{"$f":"IFERROR(IF(DM39=0,0,($D39*DM39*'Order Details'!$B$31+($D39*'Complicated Price Adjustment'!$L36*'Order Details'!$B$31))),\"\")","v":""},"",{"$f":"IFERROR(VLOOKUP(DS$3,'District Bids'!$C$5:$CU$511,42,0),\"\")","v":""},{"$f":"IFERROR(DQ39*$D39*'Order Details'!$B$31,\"\")","v":""},{"$f":"IFERROR(IF(DQ39=0,0,($D39*DQ39*'Order Details'!$B$31+($D39*'Complicated Price Adjustment'!$L36*'Order Details'!$B$31))),\"\")","v":""},"",{"$f":"IFERROR(VLOOKUP(DW$3,'District Bids'!$C$5:$CU$511,42,0),\"\")","v":""},{"$f":"IFERROR(DU39*$D39*'Order Details'!$B$31,\"\")","v":""},{"$f":"IFERROR(IF(DU39=0,0,($D39*DU39*'Order Details'!$B$31+($D39*'Complicated Price Adjustment'!$L36*'Order Details'!$B$31))),\"\")","v":""},"",{"$f":"IFERROR(VLOOKUP(EA$3,'District Bids'!$C$5:$CU$511,42,0),\"\")","v":""},{"$f":"IFERROR(DY39*$D39*'Order Details'!$B$31,\"\")","v":""},{"$f":"IFERROR(IF(DY39=0,0,($D39*DY39*'Order Details'!$B$31+($D39*'Complicated Price Adjustment'!$L36*'Order Details'!$B$31))),\"\")","v":""},"",null,{"$f":"IFERROR(DW$6,\"\")","v":""},{"$f":"IFERROR(IF(DW$104=\"Incomplete\",0,IF(DW$104<>\"Incomplete\",ED39)),\"\")","v":""},{"$f":"$DW3","v":0}]
[null,37,"Excavation for Shoulder Paving - 2001 to 3000 ",{"$f":"'Order Details'!J39","v":0},{"$f":"IFERROR(VLOOKUP(G$3,'District Bids'!$C$5:$CU$511,43,0),\"\")","v":3},{"$f":"IFERROR(E40*$D40*'Order Details'!$B$31,\"\")","v":0},{"$f":"IFERROR(IF(E40=0,0,($D40*E40*'Order Details'!$B$31+($D40*'Complicated Price Adjustment'!$L37*'Order Details'!$B$31))),\"\")","v":0},"",{"$f":"IFERROR(VLOOKUP(K$3,'District Bids'!$C$5:$CU$511,43,0),\"\")","v":4},{"$f":"IFERROR(I40*$D40*'Order Details'!$B$31,\"\")","v":0},{"$f":"IFERROR(IF(I40=0,0,($D40*I40*'Order Details'!$B$31+($D40*'Complicated Price Adjustment'!$L37*'Order Details'!$B$31))),\"\")","v":0},"",{"$f":"IFERROR(VLOOKUP(O$3,'District Bids'!$C$5:$CU$511,43,0),\"\")","v":4},{"$f":"IFERROR(M40*$D40*'Order Details'!$B$31,\"\")","v":0},{"$f":"IFERROR(IF(M40=0,0,($D40*M40*'Order Details'!$B$31+($D40*'Complicated Price Adjustment'!$L37*'Order Details'!$B$31))),\"\")","v":0},"",{"$f":"IFERROR(VLOOKUP(S$3,'District Bids'!$C$5:$CU$511,43,0),\"\")","v":3.5},{"$f":"IFERROR(Q40*$D40*'Order Details'!$B$31,\"\")","v":0},{"$f":"IFERROR(IF(Q40=0,0,($D40*Q40*'Order Details'!$B$31+($D40*'Complicated Price Adjustment'!$L37*'Order Details'!$B$31))),\"\")","v":0},"",{"$f":"IFERROR(VLOOKUP(W$3,'District Bids'!$C$5:$CU$511,43,0),\"\")","v":3.75},{"$f":"IFERROR(U40*$D40*'Order Details'!$B$31,\"\")","v":0},{"$f":"IFERROR(IF(U40=0,0,($D40*U40*'Order Details'!$B$31+($D40*'Complicated Price Adjustment'!$L37*'Order Details'!$B$31))),\"\")","v":0},"",{"$f":"IFERROR(VLOOKUP(AA$3,'District Bids'!$C$5:$CU$511,43,0),\"\")","v":3.75},{"$f":"IFERROR(Y40*$D40*'Order Details'!$B$31,\"\")","v":0},{"$f":"IFERROR(IF(Y40=0,0,($D40*Y40*'Order Details'!$B$31+($D40*'Complicated Price Adjustment'!$L37*'Order Details'!$B$31))),\"\")","v":0},"",{"$f":"IFERROR(VLOOKUP(AE$3,'District Bids'!$C$5:$CU$511,43,0),\"\")","v":3.75},{"$f":"IFERROR(AC40*$D40*'Order Details'!$B$31,\"\")","v":0},{"$f":"IFERROR(IF(AC40=0,0,($D40*AC40*'Order Details'!$B$31+($D40*'Complicated Price Adjustment'!$L37*'Order Details'!$B$31))),\"\")","v":0},"",{"$f":"IFERROR(VLOOKUP(AI$3,'District Bids'!$C$5:$CU$511,43,0),\"\")","v":3.75},{"$f":"IFERROR(AG40*$D40*'Order Details'!$B$31,\"\")","v":0},{"$f":"IFERROR(IF(AG40=0,0,($D40*AG40*'Order Details'!$B$31+($D40*'Complicated Price Adjustment'!$L37*'Order Details'!$B$31))),\"\")","v":0},"",{"$f":"IFERROR(VLOOKUP(AM$3,'District Bids'!$C$5:$CU$511,43,0),\"\")","v":3.75},{"$f":"IFERROR(AK40*$D40*'Order Details'!$B$31,\"\")","v":0},{"$f":"IFERROR(IF(AK40=0,0,($D40*AK40*'Order Details'!$B$31+($D40*'Complicated Price Adjustment'!$L37*'Order Details'!$B$31))),\"\")","v":0},"",{"$f":"IFERROR(VLOOKUP(AQ$3,'District Bids'!$C$5:$CU$511,43,0),\"\")","v":3.75},{"$f":"IFERROR(AO40*$D40*'Order Details'!$B$31,\"\")","v":0},{"$f":"IFERROR(IF(AO40=0,0,($D40*AO40*'Order Details'!$B$31+($D40*'Complicated Price Adjustment'!$L37*'Order Details'!$B$31))),\"\")","v":0},"",{"$f":"IFERROR(VLOOKUP(AU$3,'District Bids'!$C$5:$CU$511,43,0),\"\")","v":""},{"$f":"IFERROR(AS40*$D40*'Order Details'!$B$31,\"\")","v":""},{"$f":"IFERROR(IF(AS40=0,0,($D40*AS40*'Order Details'!$B$31+($D40*'Complicated Price Adjustment'!$L37*'Order Details'!$B$31))),\"\")","v":""},"",{"$f":"IFERROR(VLOOKUP(AY$3,'District Bids'!$C$5:$CU$511,43,0),\"\")","v":""},{"$f":"IFERROR(AW40*$D40*'Order Details'!$B$31,\"\")","v":""},{"$f":"IFERROR(IF(AW40=0,0,($D40*AW40*'Order Details'!$B$31+($D40*'Complicated Price Adjustment'!$L37*'Order Details'!$B$31))),\"\")","v":""},"",{"$f":"IFERROR(VLOOKUP(BC$3,'District Bids'!$C$5:$CU$511,43,0),\"\")","v":""},{"$f":"IFERROR(BA40*$D40*'Order Details'!$B$31,\"\")","v":""},{"$f":"IFERROR(IF(BA40=0,0,($D40*BA40*'Order Details'!$B$31+($D40*'Complicated Price Adjustment'!$L37*'Order Details'!$B$31))),\"\")","v":""},"",{"$f":"IFERROR(VLOOKUP(BG$3,'District Bids'!$C$5:$CU$511,43,0),\"\")","v":""},{"$f":"IFERROR(BE40*$D40*'Order Details'!$B$31,\"\")","v":""},{"$f":"IFERROR(IF(BE40=0,0,($D40*BE40*'Order Details'!$B$31+($D40*'Complicated Price Adjustment'!$L37*'Order Details'!$B$31))),\"\")","v":""},"",{"$f":"IFERROR(VLOOKUP(BK$3,'District Bids'!$C$5:$CU$511,43,0),\"\")","v":""},{"$f":"IFERROR(BI40*$D40*'Order Details'!$B$31,\"\")","v":""},{"$f":"IFERROR(IF(BI40=0,0,($D40*BI40*'Order Details'!$B$31+($D40*'Complicated Price Adjustment'!$L37*'Order Details'!$B$31))),\"\")","v":""},"",{"$f":"IFERROR(VLOOKUP(BO$3,'District Bids'!$C$5:$CU$511,43,0),\"\")","v":""},{"$f":"IFERROR(BM40*$D40*'Order Details'!$B$31,\"\")","v":""},{"$f":"IFERROR(IF(BM40=0,0,($D40*BM40*'Order Details'!$B$31+($D40*'Complicated Price Adjustment'!$L37*'Order Details'!$B$31))),\"\")","v":""},"",{"$f":"IFERROR(VLOOKUP(BS$3,'District Bids'!$C$5:$CU$511,43,0),\"\")","v":""},{"$f":"IFERROR(BQ40*$D40*'Order Details'!$B$31,\"\")","v":""},{"$f":"IFERROR(IF(BQ40=0,0,($D40*BQ40*'Order Details'!$B$31+($D40*'Complicated Price Adjustment'!$L37*'Order Details'!$B$31))),\"\")","v":""},"",{"$f":"IFERROR(VLOOKUP(BW$3,'District Bids'!$C$5:$CU$511,43,0),\"\")","v":""},{"$f":"IFERROR(BU40*$D40*'Order Details'!$B$31,\"\")","v":""},{"$f":"IFERROR(IF(BU40=0,0,($D40*BU40*'Order Details'!$B$31+($D40*'Complicated Price Adjustment'!$L37*'Order Details'!$B$31))),\"\")","v":""},"",{"$f":"IFERROR(VLOOKUP(CA$3,'District Bids'!$C$5:$CU$511,43,0),\"\")","v":""},{"$f":"IFERROR(BY40*$D40*'Order Details'!$B$31,\"\")","v":""},{"$f":"IFERROR(IF(BY40=0,0,($D40*BY40*'Order Details'!$B$31+($D40*'Complicated Price Adjustment'!$L37*'Order Details'!$B$31))),\"\")","v":""},"",{"$f":"IFERROR(VLOOKUP(CE$3,'District Bids'!$C$5:$CU$511,43,0),\"\")","v":""},{"$f":"IFERROR(CC40*$D40*'Order Details'!$B$31,\"\")","v":""},{"$f":"IFERROR(IF(CC40=0,0,($D40*CC40*'Order Details'!$B$31+($D40*'Complicated Price Adjustment'!$L37*'Order Details'!$B$31))),\"\")","v":""},"",{"$f":"IFERROR(VLOOKUP(CI$3,'District Bids'!$C$5:$CU$511,43,0),\"\")","v":""},{"$f":"IFERROR(CG40*$D40*'Order Details'!$B$31,\"\")","v":""},{"$f":"IFERROR(IF(CG40=0,0,($D40*CG40*'Order Details'!$B$31+($D40*'Complicated Price Adjustment'!$L37*'Order Details'!$B$31))),\"\")","v":""},"",{"$f":"IFERROR(VLOOKUP(CM$3,'District Bids'!$C$5:$CU$511,43,0),\"\")","v":""},{"$f":"IFERROR(CK40*$D40*'Order Details'!$B$31,\"\")","v":""},{"$f":"IFERROR(IF(CK40=0,0,($D40*CK40*'Order Details'!$B$31+($D40*'Complicated Price Adjustment'!$L37*'Order Details'!$B$31))),\"\")","v":""},"",{"$f":"IFERROR(VLOOKUP(CQ$3,'District Bids'!$C$5:$CU$511,43,0),\"\")","v":""},{"$f":"IFERROR(CO40*$D40*'Order Details'!$B$31,\"\")","v":""},{"$f":"IFERROR(IF(CO40=0,0,($D40*CO40*'Order Details'!$B$31+($D40*'Complicated Price Adjustment'!$L37*'Order Details'!$B$31))),\"\")","v":""},"",{"$f":"IFERROR(VLOOKUP(CU$3,'District Bids'!$C$5:$CU$511,43,0),\"\")","v":""},{"$f":"IFERROR(CS40*$D40*'Order Details'!$B$31,\"\")","v":""},{"$f":"IFERROR(IF(CS40=0,0,($D40*CS40*'Order Details'!$B$31+($D40*'Complicated Price Adjustment'!$L37*'Order Details'!$B$31))),\"\")","v":""},"",{"$f":"IFERROR(VLOOKUP(CY$3,'District Bids'!$C$5:$CU$511,43,0),\"\")","v":""},{"$f":"IFERROR(CW40*$D40*'Order Details'!$B$31,\"\")","v":""},{"$f":"IFERROR(IF(CW40=0,0,($D40*CW40*'Order Details'!$B$31+($D40*'Complicated Price Adjustment'!$L37*'Order Details'!$B$31))),\"\")","v":""},"",{"$f":"IFERROR(VLOOKUP(DC$3,'District Bids'!$C$5:$CU$511,43,0),\"\")","v":""},{"$f":"IFERROR(DA40*$D40*'Order Details'!$B$31,\"\")","v":""},{"$f":"IFERROR(IF(DA40=0,0,($D40*DA40*'Order Details'!$B$31+($D40*'Complicated Price Adjustment'!$L37*'Order Details'!$B$31))),\"\")","v":""},"",{"$f":"IFERROR(VLOOKUP(DG$3,'District Bids'!$C$5:$CU$511,43,0),\"\")","v":""},{"$f":"IFERROR(DE40*$D40*'Order Details'!$B$31,\"\")","v":""},{"$f":"IFERROR(IF(DE40=0,0,($D40*DE40*'Order Details'!$B$31+($D40*'Complicated Price Adjustment'!$L37*'Order Details'!$B$31))),\"\")","v":""},"",{"$f":"IFERROR(VLOOKUP(DK$3,'District Bids'!$C$5:$CU$511,43,0),\"\")","v":""},{"$f":"IFERROR(DI40*$D40*'Order Details'!$B$31,\"\")","v":""},{"$f":"IFERROR(IF(DI40=0,0,($D40*DI40*'Order Details'!$B$31+($D40*'Complicated Price Adjustment'!$L37*'Order Details'!$B$31))),\"\")","v":""},"",{"$f":"IFERROR(VLOOKUP(DO$3,'District Bids'!$C$5:$CU$511,43,0),\"\")","v":""},{"$f":"IFERROR(DM40*$D40*'Order Details'!$B$31,\"\")","v":""},{"$f":"IFERROR(IF(DM40=0,0,($D40*DM40*'Order Details'!$B$31+($D40*'Complicated Price Adjustment'!$L37*'Order Details'!$B$31))),\"\")","v":""},"",{"$f":"IFERROR(VLOOKUP(DS$3,'District Bids'!$C$5:$CU$511,43,0),\"\")","v":""},{"$f":"IFERROR(DQ40*$D40*'Order Details'!$B$31,\"\")","v":""},{"$f":"IFERROR(IF(DQ40=0,0,($D40*DQ40*'Order Details'!$B$31+($D40*'Complicated Price Adjustment'!$L37*'Order Details'!$B$31))),\"\")","v":""},"",{"$f":"IFERROR(VLOOKUP(DW$3,'District Bids'!$C$5:$CU$511,43,0),\"\")","v":""},{"$f":"IFERROR(DU40*$D40*'Order Details'!$B$31,\"\")","v":""},{"$f":"IFERROR(IF(DU40=0,0,($D40*DU40*'Order Details'!$B$31+($D40*'Complicated Price Adjustment'!$L37*'Order Details'!$B$31))),\"\")","v":""},"",{"$f":"IFERROR(VLOOKUP(EA$3,'District Bids'!$C$5:$CU$511,43,0),\"\")","v":""},{"$f":"IFERROR(DY40*$D40*'Order Details'!$B$31,\"\")","v":""},{"$f":"IFERROR(IF(DY40=0,0,($D40*DY40*'Order Details'!$B$31+($D40*'Complicated Price Adjustment'!$L37*'Order Details'!$B$31))),\"\")","v":""},"",null,{"$f":"IFERROR(EA$6,\"\")","v":""},{"$f":"IFERROR(IF(EA$104=\"Incomplete\",0,IF(EA$104<>\"Incomplete\",ED40)),\"\")","v":""},{"$f":"$EA3","v":0}]
[null,38,"Excavation for Shoulder Paving - 3001+ ",{"$f":"'Order Details'!J40","v":0},{"$f":"IFERROR(VLOOKUP(G$3,'District Bids'!$C$5:$CU$511,44,0),\"\")","v":2},{"$f":"IFERROR(E41*$D41*'Order Details'!$B$31,\"\")","v":0},{"$f":"IFERROR(IF(E41=0,0,($D41*E41*'Order Details'!$B$31+($D41*'Complicated Price Adjustment'!$L38*'Order Details'!$B$31))),\"\")","v":0},"",{"$f":"IFERROR(VLOOKUP(K$3,'District Bids'!$C$5:$CU$511,44,0),\"\")","v":3},{"$f":"IFERROR(I41*$D41*'Order Details'!$B$31,\"\")","v":0},{"$f":"IFERROR(IF(I41=0,0,($D41*I41*'Order Details'!$B$31+($D41*'Complicated Price Adjustment'!$L38*'Order Details'!$B$31))),\"\")","v":0},"",{"$f":"IFERROR(VLOOKUP(O$3,'District Bids'!$C$5:$CU$511,44,0),\"\")","v":3},{"$f":"IFERROR(M41*$D41*'Order Details'!$B$31,\"\")","v":0},{"$f":"IFERROR(IF(M41=0,0,($D41*M41*'Order Details'!$B$31+($D41*'Complicated Price Adjustment'!$L38*'Order Details'!$B$31))),\"\")","v":0},"",{"$f":"IFERROR(VLOOKUP(S$3,'District Bids'!$C$5:$CU$511,44,0),\"\")","v":2.5},{"$f":"IFERROR(Q41*$D41*'Order Details'!$B$31,\"\")","v":0},{"$f":"IFERROR(IF(Q41=0,0,($D41*Q41*'Order Details'!$B$31+($D41*'Complicated Price Adjustment'!$L38*'Order Details'!$B$31))),\"\")","v":0},"",{"$f":"IFERROR(VLOOKUP(W$3,'District Bids'!$C$5:$CU$511,44,0),\"\")","v":2.75},{"$f":"IFERROR(U41*$D41*'Order Details'!$B$31,\"\")","v":0},{"$f":"IFERROR(IF(U41=0,0,($D41*U41*'Order Details'!$B$31+($D41*'Complicated Price Adjustment'!$L38*'Order Details'!$B$31))),\"\")","v":0},"",{"$f":"IFERROR(VLOOKUP(AA$3,'District Bids'!$C$5:$CU$511,44,0),\"\")","v":2.75},{"$f":"IFERROR(Y41*$D41*'Order Details'!$B$31,\"\")","v":0},{"$f":"IFERROR(IF(Y41=0,0,($D41*Y41*'Order Details'!$B$31+($D41*'Complicated Price Adjustment'!$L38*'Order Details'!$B$31))),\"\")","v":0},"",{"$f":"IFERROR(VLOOKUP(AE$3,'District Bids'!$C$5:$CU$511,44,0),\"\")","v":2.75},{"$f":"IFERROR(AC41*$D41*'Order Details'!$B$31,\"\")","v":0},{"$f":"IFERROR(IF(AC41=0,0,($D41*AC41*'Order Details'!$B$31+($D41*'Complicated Price Adjustment'!$L38*'Order Details'!$B$31))),\"\")","v":0},"",{"$f":"IFERROR(VLOOKUP(AI$3,'District Bids'!$C$5:$CU$511,44,0),\"\")","v":2.75},{"$f":"IFERROR(AG41*$D41*'Order Details'!$B$31,\"\")","v":0},{"$f":"IFERROR(IF(AG41=0,0,($D41*AG41*'Order Details'!$B$31+($D41*'Complicated Price Adjustment'!$L38*'Order Details'!$B$31))),\"\")","v":0},"",{"$f":"IFERROR(VLOOKUP(AM$3,'District Bids'!$C$5:$CU$511,44,0),\"\")","v":2.75},{"$f":"IFERROR(AK41*$D41*'Order Details'!$B$31,\"\")","v":0},{"$f":"IFERROR(IF(AK41=0,0,($D41*AK41*'Order Details'!$B$31+($D41*'Complicated Price Adjustment'!$L38*'Order Details'!$B$31))),\"\")","v":0},"",{"$f":"IFERROR(VLOOKUP(AQ$3,'District Bids'!$C$5:$CU$511,44,0),\"\")","v":2.75},{"$f":"IFERROR(AO41*$D41*'Order Details'!$B$31,\"\")","v":0},{"$f":"IFERROR(IF(AO41=0,0,($D41*AO41*'Order Details'!$B$31+($D41*'Complicated Price Adjustment'!$L38*'Order Details'!$B$31))),\"\")","v":0},"",{"$f":"IFERROR(VLOOKUP(AU$3,'District Bids'!$C$5:$CU$511,44,0),\"\")","v":""},{"$f":"IFERROR(AS41*$D41*'Order Details'!$B$31,\"\")","v":""},{"$f":"IFERROR(IF(AS41=0,0,($D41*AS41*'Order Details'!$B$31+($D41*'Complicated Price Adjustment'!$L38*'Order Details'!$B$31))),\"\")","v":""},"",{"$f":"IFERROR(VLOOKUP(AY$3,'District Bids'!$C$5:$CU$511,44,0),\"\")","v":""},{"$f":"IFERROR(AW41*$D41*'Order Details'!$B$31,\"\")","v":""},{"$f":"IFERROR(IF(AW41=0,0,($D41*AW41*'Order Details'!$B$31+($D41*'Complicated Price Adjustment'!$L38*'Order Details'!$B$31))),\"\")","v":""},"",{"$f":"IFERROR(VLOOKUP(BC$3,'District Bids'!$C$5:$CU$511,44,0),\"\")","v":""},{"$f":"IFERROR(BA41*$D41*'Order Details'!$B$31,\"\")","v":""},{"$f":"IFERROR(IF(BA41=0,0,($D41*BA41*'Order Details'!$B$31+($D41*'Complicated Price Adjustment'!$L38*'Order Details'!$B$31))),\"\")","v":""},"",{"$f":"IFERROR(VLOOKUP(BG$3,'District Bids'!$C$5:$CU$511,44,0),\"\")","v":""},{"$f":"IFERROR(BE41*$D41*'Order Details'!$B$31,\"\")","v":""},{"$f":"IFERROR(IF(BE41=0,0,($D41*BE41*'Order Details'!$B$31+($D41*'Complicated Price Adjustment'!$L38*'Order Details'!$B$31))),\"\")","v":""},"",{"$f":"IFERROR(VLOOKUP(BK$3,'District Bids'!$C$5:$CU$511,44,0),\"\")","v":""},{"$f":"IFERROR(BI41*$D41*'Order Details'!$B$31,\"\")","v":""},{"$f":"IFERROR(IF(BI41=0,0,($D41*BI41*'Order Details'!$B$31+($D41*'Complicated Price Adjustment'!$L38*'Order Details'!$B$31))),\"\")","v":""},"",{"$f":"IFERROR(VLOOKUP(BO$3,'District Bids'!$C$5:$CU$511,44,0),\"\")","v":""},{"$f":"IFERROR(BM41*$D41*'Order Details'!$B$31,\"\")","v":""},{"$f":"IFERROR(IF(BM41=0,0,($D41*BM41*'Order Details'!$B$31+($D41*'Complicated Price Adjustment'!$L38*'Order Details'!$B$31))),\"\")","v":""},"",{"$f":"IFERROR(VLOOKUP(BS$3,'District Bids'!$C$5:$CU$511,44,0),\"\")","v":""},{"$f":"IFERROR(BQ41*$D41*'Order Details'!$B$31,\"\")","v":""},{"$f":"IFERROR(IF(BQ41=0,0,($D41*BQ41*'Order Details'!$B$31+($D41*'Complicated Price Adjustment'!$L38*'Order Details'!$B$31))),\"\")","v":""},"",{"$f":"IFERROR(VLOOKUP(BW$3,'District Bids'!$C$5:$CU$511,44,0),\"\")","v":""},{"$f":"IFERROR(BU41*$D41*'Order Details'!$B$31,\"\")","v":""},{"$f":"IFERROR(IF(BU41=0,0,($D41*BU41*'Order Details'!$B$31+($D41*'Complicated Price Adjustment'!$L38*'Order Details'!$B$31))),\"\")","v":""},"",{"$f":"IFERROR(VLOOKUP(CA$3,'District Bids'!$C$5:$CU$511,44,0),\"\")","v":""},{"$f":"IFERROR(BY41*$D41*'Order Details'!$B$31,\"\")","v":""},{"$f":"IFERROR(IF(BY41=0,0,($D41*BY41*'Order Details'!$B$31+($D41*'Complicated Price Adjustment'!$L38*'Order Details'!$B$31))),\"\")","v":""},"",{"$f":"IFERROR(VLOOKUP(CE$3,'District Bids'!$C$5:$CU$511,44,0),\"\")","v":""},{"$f":"IFERROR(CC41*$D41*'Order Details'!$B$31,\"\")","v":""},{"$f":"IFERROR(IF(CC41=0,0,($D41*CC41*'Order Details'!$B$31+($D41*'Complicated Price Adjustment'!$L38*'Order Details'!$B$31))),\"\")","v":""},"",{"$f":"IFERROR(VLOOKUP(CI$3,'District Bids'!$C$5:$CU$511,44,0),\"\")","v":""},{"$f":"IFERROR(CG41*$D41*'Order Details'!$B$31,\"\")","v":""},{"$f":"IFERROR(IF(CG41=0,0,($D41*CG41*'Order Details'!$B$31+($D41*'Complicated Price Adjustment'!$L38*'Order Details'!$B$31))),\"\")","v":""},"",{"$f":"IFERROR(VLOOKUP(CM$3,'District Bids'!$C$5:$CU$511,44,0),\"\")","v":""},{"$f":"IFERROR(CK41*$D41*'Order Details'!$B$31,\"\")","v":""},{"$f":"IFERROR(IF(CK41=0,0,($D41*CK41*'Order Details'!$B$31+($D41*'Complicated Price Adjustment'!$L38*'Order Details'!$B$31))),\"\")","v":""},"",{"$f":"IFERROR(VLOOKUP(CQ$3,'District Bids'!$C$5:$CU$511,44,0),\"\")","v":""},{"$f":"IFERROR(CO41*$D41*'Order Details'!$B$31,\"\")","v":""},{"$f":"IFERROR(IF(CO41=0,0,($D41*CO41*'Order Details'!$B$31+($D41*'Complicated Price Adjustment'!$L38*'Order Details'!$B$31))),\"\")","v":""},"",{"$f":"IFERROR(VLOOKUP(CU$3,'District Bids'!$C$5:$CU$511,44,0),\"\")","v":""},{"$f":"IFERROR(CS41*$D41*'Order Details'!$B$31,\"\")","v":""},{"$f":"IFERROR(IF(CS41=0,0,($D41*CS41*'Order Details'!$B$31+($D41*'Complicated Price Adjustment'!$L38*'Order Details'!$B$31))),\"\")","v":""},"",{"$f":"IFERROR(VLOOKUP(CY$3,'District Bids'!$C$5:$CU$511,44,0),\"\")","v":""},{"$f":"IFERROR(CW41*$D41*'Order Details'!$B$31,\"\")","v":""},{"$f":"IFERROR(IF(CW41=0,0,($D41*CW41*'Order Details'!$B$31+($D41*'Complicated Price Adjustment'!$L38*'Order Details'!$B$31))),\"\")","v":""},"",{"$f":"IFERROR(VLOOKUP(DC$3,'District Bids'!$C$5:$CU$511,44,0),\"\")","v":""},{"$f":"IFERROR(DA41*$D41*'Order Details'!$B$31,\"\")","v":""},{"$f":"IFERROR(IF(DA41=0,0,($D41*DA41*'Order Details'!$B$31+($D41*'Complicated Price Adjustment'!$L38*'Order Details'!$B$31))),\"\")","v":""},"",{"$f":"IFERROR(VLOOKUP(DG$3,'District Bids'!$C$5:$CU$511,44,0),\"\")","v":""},{"$f":"IFERROR(DE41*$D41*'Order Details'!$B$31,\"\")","v":""},{"$f":"IFERROR(IF(DE41=0,0,($D41*DE41*'Order Details'!$B$31+($D41*'Complicated Price Adjustment'!$L38*'Order Details'!$B$31))),\"\")","v":""},"",{"$f":"IFERROR(VLOOKUP(DK$3,'District Bids'!$C$5:$CU$511,44,0),\"\")","v":""},{"$f":"IFERROR(DI41*$D41*'Order Details'!$B$31,\"\")","v":""},{"$f":"IFERROR(IF(DI41=0,0,($D41*DI41*'Order Details'!$B$31+($D41*'Complicated Price Adjustment'!$L38*'Order Details'!$B$31))),\"\")","v":""},"",{"$f":"IFERROR(VLOOKUP(DO$3,'District Bids'!$C$5:$CU$511,44,0),\"\")","v":""},{"$f":"IFERROR(DM41*$D41*'Order Details'!$B$31,\"\")","v":""},{"$f":"IFERROR(IF(DM41=0,0,($D41*DM41*'Order Details'!$B$31+($D41*'Complicated Price Adjustment'!$L38*'Order Details'!$B$31))),\"\")","v":""},"",{"$f":"IFERROR(VLOOKUP(DS$3,'District Bids'!$C$5:$CU$511,44,0),\"\")","v":""},{"$f":"IFERROR(DQ41*$D41*'Order Details'!$B$31,\"\")","v":""},{"$f":"IFERROR(IF(DQ41=0,0,($D41*DQ41*'Order Details'!$B$31+($D41*'Complicated Price Adjustment'!$L38*'Order Details'!$B$31))),\"\")","v":""},"",{"$f":"IFERROR(VLOOKUP(DW$3,'District Bids'!$C$5:$CU$511,44,0),\"\")","v":""},{"$f":"IFERROR(DU41*$D41*'Order Details'!$B$31,\"\")","v":""},{"$f":"IFERROR(IF(DU41=0,0,($D41*DU41*'Order Details'!$B$31+($D41*'Complicated Price Adjustment'!$L38*'Order Details'!$B$31))),\"\")","v":""},"",{"$f":"IFERROR(VLOOKUP(EA$3,'District Bids'!$C$5:$CU$511,44,0),\"\")","v":""},{"$f":"IFERROR(DY41*$D41*'Order Details'!$B$31,\"\")","v":""},{"$f":"IFERROR(IF(DY41=0,0,($D41*DY41*'Order Details'!$B$31+($D41*'Complicated Price Adjustment'!$L38*'Order Details'!$B$31))),\"\")","v":""},""]
[null,39,"Asphalt Base I Shoulder Paving Surcharge - 0 to 100 ",{"$f":"'Order Details'!J41","v":0},{"$f":"IFERROR(VLOOKUP(G$3,'District Bids'!$C$5:$CU$511,45,0),\"\")","v":20},0,{"$f":"IFERROR($D42*E42,\"\")","v":0},"",{"$f":"IFERROR(VLOOKUP(K$3,'District Bids'!$C$5:$CU$511,45,0),\"\")","v":21.25},{"$f":"IFERROR(I42*$D42,\"\")","v":0},{"$f":"IFERROR($D42*I42,\"\")","v":0},"",{"$f":"IFERROR(VLOOKUP(O$3,'District Bids'!$C$5:$CU$511,45,0),\"\")","v":21.25},{"$f":"IFERROR(M42*$D42,\"\")","v":0},{"$f":"IFERROR($D42*M42,\"\")","v":0},"",{"$f":"IFERROR(VLOOKUP(S$3,'District Bids'!$C$5:$CU$511,45,0),\"\")","v":20.399999999999999},{"$f":"IFERROR(Q42*$D42,\"\")","v":0},{"$f":"IFERROR($D42*Q42,\"\")","v":0},"",{"$f":"IFERROR(VLOOKUP(W$3,'District Bids'!$C$5:$CU$511,45,0),\"\")","v":20.75},{"$f":"IFERROR(U42*$D42,\"\")","v":0},{"$f":"IFERROR($D42*U42,\"\")","v":0},"",{"$f":"IFERROR(VLOOKUP(AA$3,'District Bids'!$C$5:$CU$511,45,0),\"\")","v":20.75},{"$f":"IFERROR(Y42*$D42,\"\")","v":0},{"$f":"IFERROR($D42*Y42,\"\")","v":0},"",{"$f":"IFERROR(VLOOKUP(AE$3,'District Bids'!$C$5:$CU$511,45,0),\"\")","v":20.75},{"$f":"IFERROR(AC42*$D42,\"\")","v":0},{"$f":"IFERROR($D42*AC42,\"\")","v":0},"",{"$f":"IFERROR(VLOOKUP(AI$3,'District Bids'!$C$5:$CU$511,45,0),\"\")","v":20.75},{"$f":"IFERROR(AG42*$D42,\"\")","v":0},{"$f":"IFERROR($D42*AG42,\"\")","v":0},"",{"$f":"IFERROR(VLOOKUP(AM$3,'District Bids'!$C$5:$CU$511,45,0),\"\")","v":20.75},{"$f":"IFERROR(AK42*$D42,\"\")","v":0},{"$f":"IFERROR($D42*AK42,\"\")","v":0},"",{"$f":"IFERROR(VLOOKUP(AQ$3,'District Bids'!$C$5:$CU$511,45,0),\"\")","v":20.75},{"$f":"IFERROR(AO42*$D42,\"\")","v":0},{"$f":"IFERROR($D42*AO42,\"\")","v":0},"",{"$f":"IFERROR(VLOOKUP(AU$3,'District Bids'!$C$5:$CU$511,45,0),\"\")","v":""},{"$f":"IFERROR(AS42*$D42,\"\")","v":""},{"$f":"IFERROR($D42*AS42,\"\")","v":""},"",{"$f":"IFERROR(VLOOKUP(AY$3,'District Bids'!$C$5:$CU$511,45,0),\"\")","v":""},{"$f":"IFERROR(AW42*$D42,\"\")","v":""},{"$f":"IFERROR($D42*AW42,\"\")","v":""},"",{"$f":"IFERROR(VLOOKUP(BC$3,'District Bids'!$C$5:$CU$511,45,0),\"\")","v":""},{"$f":"IFERROR(BA42*$D42,\"\")","v":""},{"$f":"IFERROR($D42*BA42,\"\")","v":""},"",{"$f":"IFERROR(VLOOKUP(BG$3,'District Bids'!$C$5:$CU$511,45,0),\"\")","v":""},{"$f":"IFERROR(BE42*$D42,\"\")","v":""},{"$f":"IFERROR($D42*BE42,\"\")","v":""},"",{"$f":"IFERROR(VLOOKUP(BK$3,'District Bids'!$C$5:$CU$511,45,0),\"\")","v":""},{"$f":"IFERROR(BI42*$D42,\"\")","v":""},{"$f":"IFERROR($D42*BI42,\"\")","v":""},"",{"$f":"IFERROR(VLOOKUP(BO$3,'District Bids'!$C$5:$CU$511,45,0),\"\")","v":""},{"$f":"IFERROR(BM42*$D42,\"\")","v":""},{"$f":"IFERROR($D42*BM42,\"\")","v":""},"",{"$f":"IFERROR(VLOOKUP(BS$3,'District Bids'!$C$5:$CU$511,45,0),\"\")","v":""},{"$f":"IFERROR(BQ42*$D42,\"\")","v":""},{"$f":"IFERROR($D42*BQ42,\"\")","v":""},"",{"$f":"IFERROR(VLOOKUP(BW$3,'District Bids'!$C$5:$CU$511,45,0),\"\")","v":""},{"$f":"IFERROR(BU42*$D42,\"\")","v":""},{"$f":"IFERROR($D42*BU42,\"\")","v":""},"",{"$f":"IFERROR(VLOOKUP(CA$3,'District Bids'!$C$5:$CU$511,45,0),\"\")","v":""},{"$f":"IFERROR(BY42*$D42,\"\")","v":""},{"$f":"IFERROR($D42*BY42,\"\")","v":""},"",{"$f":"IFERROR(VLOOKUP(CE$3,'District Bids'!$C$5:$CU$511,45,0),\"\")","v":""},{"$f":"IFERROR(CC42*$D42,\"\")","v":""},{"$f":"IFERROR($D42*CC42,\"\")","v":""},"",{"$f":"IFERROR(VLOOKUP(CI$3,'District Bids'!$C$5:$CU$511,45,0),\"\")","v":""},{"$f":"IFERROR(CG42*$D42,\"\")","v":""},{"$f":"IFERROR($D42*CG42,\"\")","v":""},"",{"$f":"IFERROR(VLOOKUP(CM$3,'District Bids'!$C$5:$CU$511,45,0),\"\")","v":""},{"$f":"IFERROR(CK42*$D42,\"\")","v":""},{"$f":"IFERROR($D42*CK42,\"\")","v":""},"",{"$f":"IFERROR(VLOOKUP(CQ$3,'District Bids'!$C$5:$CU$511,45,0),\"\")","v":""},{"$f":"IFERROR(CO42*$D42,\"\")","v":""},{"$f":"IFERROR($D42*CO42,\"\")","v":""},"",{"$f":"IFERROR(VLOOKUP(CU$3,'District Bids'!$C$5:$CU$511,45,0),\"\")","v":""},{"$f":"IFERROR(CS42*$D42,\"\")","v":""},{"$f":"IFERROR($D42*CS42,\"\")","v":""},"",{"$f":"IFERROR(VLOOKUP(CY$3,'District Bids'!$C$5:$CU$511,45,0),\"\")","v":""},{"$f":"IFERROR(CW42*$D42,\"\")","v":""},{"$f":"IFERROR($D42*CW42,\"\")","v":""},"",{"$f":"IFERROR(VLOOKUP(DC$3,'District Bids'!$C$5:$CU$511,45,0),\"\")","v":""},{"$f":"IFERROR(DA42*$D42,\"\")","v":""},{"$f":"IFERROR($D42*DA42,\"\")","v":""},"",{"$f":"IFERROR(VLOOKUP(DG$3,'District Bids'!$C$5:$CU$511,45,0),\"\")","v":""},{"$f":"IFERROR(DE42*$D42,\"\")","v":""},{"$f":"IFERROR($D42*DE42,\"\")","v":""},"",{"$f":"IFERROR(VLOOKUP(DK$3,'District Bids'!$C$5:$CU$511,45,0),\"\")","v":""},{"$f":"IFERROR(DI42*$D42,\"\")","v":""},{"$f":"IFERROR($D42*DI42,\"\")","v":""},"",{"$f":"IFERROR(VLOOKUP(DO$3,'District Bids'!$C$5:$CU$511,45,0),\"\")","v":""},{"$f":"IFERROR(DM42*$D42,\"\")","v":""},{"$f":"IFERROR($D42*DM42,\"\")","v":""},"",{"$f":"IFERROR(VLOOKUP(DS$3,'District Bids'!$C$5:$CU$511,45,0),\"\")","v":""},{"$f":"IFERROR(DQ42*$D42,\"\")","v":""},{"$f":"IFERROR($D42*DQ42,\"\")","v":""},"",{"$f":"IFERROR(VLOOKUP(DW$3,'District Bids'!$C$5:$CU$511,45,0),\"\")","v":""},{"$f":"IFERROR(DU42*$D42,\"\")","v":""},{"$f":"IFERROR($D42*DU42,\"\")","v":""},"",{"$f":"IFERROR(VLOOKUP(EA$3,'District Bids'!$C$5:$CU$511,45,0),\"\")","v":""},{"$f":"IFERROR(DY42*$D42,\"\")","v":""},{"$f":"IFERROR($D42*DY42,\"\")","v":""},""]
[null,40,"Asphalt Base I Shoulder Paving Surcharge - 101 to 200 ",{"$f":"'Order Details'!J42","v":0},{"$f":"IFERROR(VLOOKUP(G$3,'District Bids'!$C$5:$CU$511,46,0),\"\")","v":15},0,{"$f":"IFERROR($D43*E43,\"\")","v":0},"",{"$f":"IFERROR(VLOOKUP(K$3,'District Bids'!$C$5:$CU$511,46,0),\"\")","v":16},0,{"$f":"IFERROR($D43*I43,\"\")","v":0},"",{"$f":"IFERROR(VLOOKUP(O$3,'District Bids'!$C$5:$CU$511,46,0),\"\")","v":16},0,{"$f":"IFERROR($D43*M43,\"\")","v":0},"",{"$f":"IFERROR(VLOOKUP(S$3,'District Bids'!$C$5:$CU$511,46,0),\"\")","v":15.4},0,{"$f":"IFERROR($D43*Q43,\"\")","v":0},"",{"$f":"IFERROR(VLOOKUP(W$3,'District Bids'!$C$5:$CU$511,46,0),\"\")","v":15.75},0,{"$f":"IFERROR($D43*U43,\"\")","v":0},"",{"$f":"IFERROR(VLOOKUP(AA$3,'District Bids'!$C$5:$CU$511,46,0),\"\")","v":15.75},0,{"$f":"IFERROR($D43*Y43,\"\")","v":0},"",{"$f":"IFERROR(VLOOKUP(AE$3,'District Bids'!$C$5:$CU$511,46,0),\"\")","v":15.75},0,{"$f":"IFERROR($D43*AC43,\"\")","v":0},"",{"$f":"IFERROR(VLOOKUP(AI$3,'District Bids'!$C$5:$CU$511,46,0),\"\")","v":15.75},0,{"$f":"IFERROR($D43*AG43,\"\")","v":0},"",{"$f":"IFERROR(VLOOKUP(AM$3,'District Bids'!$C$5:$CU$511,46,0),\"\")","v":15.75},0,{"$f":"IFERROR($D43*AK43,\"\")","v":0},"",{"$f":"IFERROR(VLOOKUP(AQ$3,'District Bids'!$C$5:$CU$511,46,0),\"\")","v":15.75},0,{"$f":"IFERROR($D43*AO43,\"\")","v":0},"",{"$f":"IFERROR(VLOOKUP(AU$3,'District Bids'!$C$5:$CU$511,46,0),\"\")","v":""},"",{"$f":"IFERROR($D43*AS43,\"\")","v":""},"",{"$f":"IFERROR(VLOOKUP(AY$3,'District Bids'!$C$5:$CU$511,46,0),\"\")","v":""},"",{"$f":"IFERROR($D43*AW43,\"\")","v":""},"",{"$f":"IFERROR(VLOOKUP(BC$3,'District Bids'!$C$5:$CU$511,46,0),\"\")","v":""},"",{"$f":"IFERROR($D43*BA43,\"\")","v":""},"",{"$f":"IFERROR(VLOOKUP(BG$3,'District Bids'!$C$5:$CU$511,46,0),\"\")","v":""},"",{"$f":"IFERROR($D43*BE43,\"\")","v":""},"",{"$f":"IFERROR(VLOOKUP(BK$3,'District Bids'!$C$5:$CU$511,46,0),\"\")","v":""},"",{"$f":"IFERROR($D43*BI43,\"\")","v":""},"",{"$f":"IFERROR(VLOOKUP(BO$3,'District Bids'!$C$5:$CU$511,46,0),\"\")","v":""},"",{"$f":"IFERROR($D43*BM43,\"\")","v":""},"",{"$f":"IFERROR(VLOOKUP(BS$3,'District Bids'!$C$5:$CU$511,46,0),\"\")","v":""},"",{"$f":"IFERROR($D43*BQ43,\"\")","v":""},"",{"$f":"IFERROR(VLOOKUP(BW$3,'District Bids'!$C$5:$CU$511,46,0),\"\")","v":""},"",{"$f":"IFERROR($D43*BU43,\"\")","v":""},"",{"$f":"IFERROR(VLOOKUP(CA$3,'District Bids'!$C$5:$CU$511,46,0),\"\")","v":""},"",{"$f":"IFERROR($D43*BY43,\"\")","v":""},"",{"$f":"IFERROR(VLOOKUP(CE$3,'District Bids'!$C$5:$CU$511,46,0),\"\")","v":""},"",{"$f":"IFERROR($D43*CC43,\"\")","v":""},"",{"$f":"IFERROR(VLOOKUP(CI$3,'District Bids'!$C$5:$CU$511,46,0),\"\")","v":""},"",{"$f":"IFERROR($D43*CG43,\"\")","v":""},"",{"$f":"IFERROR(VLOOKUP(CM$3,'District Bids'!$C$5:$CU$511,46,0),\"\")","v":""},"",{"$f":"IFERROR($D43*CK43,\"\")","v":""},"",{"$f":"IFERROR(VLOOKUP(CQ$3,'District Bids'!$C$5:$CU$511,46,0),\"\")","v":""},"",{"$f":"IFERROR($D43*CO43,\"\")","v":""},"",{"$f":"IFERROR(VLOOKUP(CU$3,'District Bids'!$C$5:$CU$511,46,0),\"\")","v":""},"",{"$f":"IFERROR($D43*CS43,\"\")","v":""},"",{"$f":"IFERROR(VLOOKUP(CY$3,'District Bids'!$C$5:$CU$511,46,0),\"\")","v":""},"",{"$f":"IFERROR($D43*CW43,\"\")","v":""},"",{"$f":"IFERROR(VLOOKUP(DC$3,'District Bids'!$C$5:$CU$511,46,0),\"\")","v":""},"",{"$f":"IFERROR($D43*DA43,\"\")","v":""},"",{"$f":"IFERROR(VLOOKUP(DG$3,'District Bids'!$C$5:$CU$511,46,0),\"\")","v":""},"",{"$f":"IFERROR($D43*DE43,\"\")","v":""},"",{"$f":"IFERROR(VLOOKUP(DK$3,'District Bids'!$C$5:$CU$511,46,0),\"\")","v":""},"",{"$f":"IFERROR($D43*DI43,\"\")","v":""},"",{"$f":"IFERROR(VLOOKUP(DO$3,'District Bids'!$C$5:$CU$511,46,0),\"\")","v":""},"",{"$f":"IFERROR($D43*DM43,\"\")","v":""},"",{"$f":"IFERROR(VLOOKUP(DS$3,'District Bids'!$C$5:$CU$511,46,0),\"\")","v":""},"",{"$f":"IFERROR($D43*DQ43,\"\")","v":""},"",{"$f":"IFERROR(VLOOKUP(DW$3,'District Bids'!$C$5:$CU$511,46,0),\"\")","v":""},"",{"$f":"IFERROR($D43*DU43,\"\")","v":""},"",{"$f":"IFERROR(VLOOKUP(EA$3,'District Bids'!$C$5:$CU$511,46,0),\"\")","v":""},"",{"$f":"IFERROR($D43*DY43,\"\")","v":""},""]
[null,41,"Asphalt Base I Shoulder Paving Surcharge - 201 to 500 ",{"$f":"'Order Details'!J43","v":0},{"$f":"IFERROR(VLOOKUP(G$3,'District Bids'!$C$5:$CU$511,47,0),\"\")","v":4},0,0,"",{"$f":"IFERROR(VLOOKUP(K$3,'District Bids'!$C$5:$CU$511,47,0),\"\")","v":6},0,0,"",{"$f":"IFERROR(VLOOKUP(O$3,'District Bids'!$C$5:$CU$511,47,0),\"\")","v":6},0,0,"",{"$f":"IFERROR(VLOOKUP(S$3,'District Bids'!$C$5:$CU$511,47,0),\"\")","v":4.4000000000000004},0,0,"",{"$f":"IFERROR(VLOOKUP(W$3,'District Bids'!$C$5:$CU$511,47,0),\"\")","v":4.75},0,0,"",{"$f":"IFERROR(VLOOKUP(AA$3,'District Bids'!$C$5:$CU$511,47,0),\"\")","v":4.75},0,0,"",{"$f":"IFERROR(VLOOKUP(AE$3,'District Bids'!$C$5:$CU$511,47,0),\"\")","v":4.75},0,0,"",{"$f":"IFERROR(VLOOKUP(AI$3,'District Bids'!$C$5:$CU$511,47,0),\"\")","v":4.75},0,0,"",{"$f":"IFERROR(VLOOKUP(AM$3,'District Bids'!$C$5:$CU$511,47,0),\"\")","v":4.75},0,0,"",{"$f":"IFERROR(VLOOKUP(AQ$3,'District Bids'!$C$5:$CU$511,47,0),\"\")","v":4.75},0,0,"",{"$f":"IFERROR(VLOOKUP(AU$3,'District Bids'!$C$5:$CU$511,47,0),\"\")","v":""},"","","",{"$f":"IFERROR(VLOOKUP(AY$3,'District Bids'!$C$5:$CU$511,47,0),\"\")","v":""},"","","",{"$f":"IFERROR(VLOOKUP(BC$3,'District Bids'!$C$5:$CU$511,47,0),\"\")","v":""},"","","",{"$f":"IFERROR(VLOOKUP(BG$3,'District Bids'!$C$5:$CU$511,47,0),\"\")","v":""},"","","",{"$f":"IFERROR(VLOOKUP(BK$3,'District Bids'!$C$5:$CU$511,47,0),\"\")","v":""},"","","",{"$f":"IFERROR(VLOOKUP(BO$3,'District Bids'!$C$5:$CU$511,47,0),\"\")","v":""},"","","",{"$f":"IFERROR(VLOOKUP(BS$3,'District Bids'!$C$5:$CU$511,47,0),\"\")","v":""},"","","",{"$f":"IFERROR(VLOOKUP(BW$3,'District Bids'!$C$5:$CU$511,47,0),\"\")","v":""},"","","",{"$f":"IFERROR(VLOOKUP(CA$3,'District Bids'!$C$5:$CU$511,47,0),\"\")","v":""},"","","",{"$f":"IFERROR(VLOOKUP(CE$3,'District Bids'!$C$5:$CU$511,47,0),\"\")","v":""},"","","",{"$f":"IFERROR(VLOOKUP(CI$3,'District Bids'!$C$5:$CU$511,47,0),\"\")","v":""},"","","",{"$f":"IFERROR(VLOOKUP(CM$3,'District Bids'!$C$5:$CU$511,47,0),\"\")","v":""},"","","",{"$f":"IFERROR(VLOOKUP(CQ$3,'District Bids'!$C$5:$CU$511,47,0),\"\")","v":""},"","","",{"$f":"IFERROR(VLOOKUP(CU$3,'District Bids'!$C$5:$CU$511,47,0),\"\")","v":""},"","","",{"$f":"IFERROR(VLOOKUP(CY$3,'District Bids'!$C$5:$CU$511,47,0),\"\")","v":""},"","","",{"$f":"IFERROR(VLOOKUP(DC$3,'District Bids'!$C$5:$CU$511,47,0),\"\")","v":""},"","","",{"$f":"IFERROR(VLOOKUP(DG$3,'District Bids'!$C$5:$CU$511,47,0),\"\")","v":""},"","","",{"$f":"IFERROR(VLOOKUP(DK$3,'District Bids'!$C$5:$CU$511,47,0),\"\")","v":""},"","","",{"$f":"IFERROR(VLOOKUP(DO$3,'District Bids'!$C$5:$CU$511,47,0),\"\")","v":""},"","","",{"$f":"IFERROR(VLOOKUP(DS$3,'District Bids'!$C$5:$CU$511,47,0),\"\")","v":""},"","","",{"$f":"IFERROR(VLOOKUP(DW$3,'District Bids'!$C$5:$CU$511,47,0),\"\")","v":""},"","","",{"$f":"IFERROR(VLOOKUP(EA$3,'District Bids'!$C$5:$CU$511,47,0),\"\")","v":""},"","",""]
[null,42,"Asphalt Base I Shoulder Paving Surcharge - 501+ ",{"$f":"'Order Details'!J44","v":0},{"$f":"IFERROR(VLOOKUP(G$3,'District Bids'!$C$5:$CU$511,48,0),\"\")","v":2},0,0,"",{"$f":"IFERROR(VLOOKUP(K$3,'District Bids'!$C$5:$CU$511,48,0),\"\")","v":4},0,0,"",{"$f":"IFERROR(VLOOKUP(O$3,'District Bids'!$C$5:$CU$511,48,0),\"\")","v":4},0,0,"",{"$f":"IFERROR(VLOOKUP(S$3,'District Bids'!$C$5:$CU$511,48,0),\"\")","v":2.5},0,0,"",{"$f":"IFERROR(VLOOKUP(W$3,'District Bids'!$C$5:$CU$511,48,0),\"\")","v":2.75},0,0,"",{"$f":"IFERROR(VLOOKUP(AA$3,'District Bids'!$C$5:$CU$511,48,0),\"\")","v":2.75},0,0,"",{"$f":"IFERROR(VLOOKUP(AE$3,'District Bids'!$C$5:$CU$511,48,0),\"\")","v":2.75},0,0,"",{"$f":"IFERROR(VLOOKUP(AI$3,'District Bids'!$C$5:$CU$511,48,0),\"\")","v":2.75},0,0,"",{"$f":"IFERROR(VLOOKUP(AM$3,'District Bids'!$C$5:$CU$511,48,0),\"\")","v":2.75},0,0,"",{"$f":"IFERROR(VLOOKUP(AQ$3,'District Bids'!$C$5:$CU$511,48,0),\"\")","v":2.75},0,0,"",{"$f":"IFERROR(VLOOKUP(AU$3,'District Bids'!$C$5:$CU$511,48,0),\"\")","v":""},"","","",{"$f":"IFERROR(VLOOKUP(AY$3,'District Bids'!$C$5:$CU$511,48,0),\"\")","v":""},"","","",{"$f":"IFERROR(VLOOKUP(BC$3,'District Bids'!$C$5:$CU$511,48,0),\"\")","v":""},"","","",{"$f":"IFERROR(VLOOKUP(BG$3,'District Bids'!$C$5:$CU$511,48,0),\"\")","v":""},"","","",{"$f":"IFERROR(VLOOKUP(BK$3,'District Bids'!$C$5:$CU$511,48,0),\"\")","v":""},"","","",{"$f":"IFERROR(VLOOKUP(BO$3,'District Bids'!$C$5:$CU$511,48,0),\"\")","v":""},"","","",{"$f":"IFERROR(VLOOKUP(BS$3,'District Bids'!$C$5:$CU$511,48,0),\"\")","v":""},"","","",{"$f":"IFERROR(VLOOKUP(BW$3,'District Bids'!$C$5:$CU$511,48,0),\"\")","v":""},"","","",{"$f":"IFERROR(VLOOKUP(CA$3,'District Bids'!$C$5:$CU$511,48,0),\"\")","v":""},"","","",{"$f":"IFERROR(VLOOKUP(CE$3,'District Bids'!$C$5:$CU$511,48,0),\"\")","v":""},"","","",{"$f":"IFERROR(VLOOKUP(CI$3,'District Bids'!$C$5:$CU$511,48,0),\"\")","v":""},"","","",{"$f":"IFERROR(VLOOKUP(CM$3,'District Bids'!$C$5:$CU$511,48,0),\"\")","v":""},"","","",{"$f":"IFERROR(VLOOKUP(CQ$3,'District Bids'!$C$5:$CU$511,48,0),\"\")","v":""},"","","",{"$f":"IFERROR(VLOOKUP(CU$3,'District Bids'!$C$5:$CU$511,48,0),\"\")","v":""},"","","",{"$f":"IFERROR(VLOOKUP(CY$3,'District Bids'!$C$5:$CU$511,48,0),\"\")","v":""},"","","",{"$f":"IFERROR(VLOOKUP(DC$3,'District Bids'!$C$5:$CU$511,48,0),\"\")","v":""},"","","",{"$f":"IFERROR(VLOOKUP(DG$3,'District Bids'!$C$5:$CU$511,48,0),\"\")","v":""},"","","",{"$f":"IFERROR(VLOOKUP(DK$3,'District Bids'!$C$5:$CU$511,48,0),\"\")","v":""},"","","",{"$f":"IFERROR(VLOOKUP(DO$3,'District Bids'!$C$5:$CU$511,48,0),\"\")","v":""},"","","",{"$f":"IFERROR(VLOOKUP(DS$3,'District Bids'!$C$5:$CU$511,48,0),\"\")","v":""},"","","",{"$f":"IFERROR(VLOOKUP(DW$3,'District Bids'!$C$5:$CU$511,48,0),\"\")","v":""},"","","",{"$f":"IFERROR(VLOOKUP(EA$3,'District Bids'!$C$5:$CU$511,48,0),\"\")","v":""},"","",""]
[null,43,"Asphalt Base II Shoulder Paving Surcharge - 0 to 100 ",{"$f":"'Order Details'!J45","v":0},{"$f":"IFERROR(VLOOKUP(G$3,'District Bids'!$C$5:$CU$511,49,0),\"\")","v":20},0,0,"",{"$f":"IFERROR(VLOOKUP(K$3,'District Bids'!$C$5:$CU$511,49,0),\"\")","v":20.75},0,0,"",{"$f":"IFERROR(VLOOKUP(O$3,'District Bids'!$C$5:$CU$511,49,0),\"\")","v":20.75},0,0,"",{"$f":"IFERROR(VLOOKUP(S$3,'District Bids'!$C$5:$CU$511,49,0),\"\")","v":20.399999999999999},0,0,"",{"$f":"IFERROR(VLOOKUP(W$3,'District Bids'!$C$5:$CU$511,49,0),\"\")","v":20.75},0,0,"",{"$f":"IFERROR(VLOOKUP(AA$3,'District Bids'!$C$5:$CU$511,49,0),\"\")","v":20.75},0,0,"",{"$f":"IFERROR(VLOOKUP(AE$3,'District Bids'!$C$5:$CU$511,49,0),\"\")","v":20.75},0,0,"",{"$f":"IFERROR(VLOOKUP(AI$3,'District Bids'!$C$5:$CU$511,49,0),\"\")","v":20.75},0,0,"",{"$f":"IFERROR(VLOOKUP(AM$3,'District Bids'!$C$5:$CU$511,49,0),\"\")","v":20.75},0,0,"",{"$f":"IFERROR(VLOOKUP(AQ$3,'District Bids'!$C$5:$CU$511,49,0),\"\")","v":20.75},0,0,"",{"$f":"IFERROR(VLOOKUP(AU$3,'District Bids'!$C$5:$CU$511,49,0),\"\")","v":""},"","","",{"$f":"IFERROR(VLOOKUP(AY$3,'District Bids'!$C$5:$CU$511,49,0),\"\")","v":""},"","","",{"$f":"IFERROR(VLOOKUP(BC$3,'District Bids'!$C$5:$CU$511,49,0),\"\")","v":""},"","","",{"$f":"IFERROR(VLOOKUP(BG$3,'District Bids'!$C$5:$CU$511,49,0),\"\")","v":""},"","","",{"$f":"IFERROR(VLOOKUP(BK$3,'District Bids'!$C$5:$CU$511,49,0),\"\")","v":""},"","","",{"$f":"IFERROR(VLOOKUP(BO$3,'District Bids'!$C$5:$CU$511,49,0),\"\")","v":""},"","","",{"$f":"IFERROR(VLOOKUP(BS$3,'District Bids'!$C$5:$CU$511,49,0),\"\")","v":""},"","","",{"$f":"IFERROR(VLOOKUP(BW$3,'District Bids'!$C$5:$CU$511,49,0),\"\")","v":""},"","","",{"$f":"IFERROR(VLOOKUP(CA$3,'District Bids'!$C$5:$CU$511,49,0),\"\")","v":""},"","","",{"$f":"IFERROR(VLOOKUP(CE$3,'District Bids'!$C$5:$CU$511,49,0),\"\")","v":""},"","","",{"$f":"IFERROR(VLOOKUP(CI$3,'District Bids'!$C$5:$CU$511,49,0),\"\")","v":""},"","","",{"$f":"IFERROR(VLOOKUP(CM$3,'District Bids'!$C$5:$CU$511,49,0),\"\")","v":""},"","","",{"$f":"IFERROR(VLOOKUP(CQ$3,'District Bids'!$C$5:$CU$511,49,0),\"\")","v":""},"","","",{"$f":"IFERROR(VLOOKUP(CU$3,'District Bids'!$C$5:$CU$511,49,0),\"\")","v":""},"","","",{"$f":"IFERROR(VLOOKUP(CY$3,'District Bids'!$C$5:$CU$511,49,0),\"\")","v":""},"","","",{"$f":"IFERROR(VLOOKUP(DC$3,'District Bids'!$C$5:$CU$511,49,0),\"\")","v":""},"","","",{"$f":"IFERROR(VLOOKUP(DG$3,'District Bids'!$C$5:$CU$511,49,0),\"\")","v":""},"","","",{"$f":"IFERROR(VLOOKUP(DK$3,'District Bids'!$C$5:$CU$511,49,0),\"\")","v":""},"","","",{"$f":"IFERROR(VLOOKUP(DO$3,'District Bids'!$C$5:$CU$511,49,0),\"\")","v":""},"","","",{"$f":"IFERROR(VLOOKUP(DS$3,'District Bids'!$C$5:$CU$511,49,0),\"\")","v":""},"","","",{"$f":"IFERROR(VLOOKUP(DW$3,'District Bids'!$C$5:$CU$511,49,0),\"\")","v":""},"","","",{"$f":"IFERROR(VLOOKUP(EA$3,'District Bids'!$C$5:$CU$511,49,0),\"\")","v":""},"","",""]
[null,44,"Asphalt Base II Shoulder Paving Surcharge - 101 to 200 ",{"$f":"'Order Details'!J46","v":0},{"$f":"IFERROR(VLOOKUP(G$3,'District Bids'!$C$5:$CU$511,50,0),\"\")","v":15},0,0,"",{"$f":"IFERROR(VLOOKUP(K$3,'District Bids'!$C$5:$CU$511,50,0),\"\")","v":16},0,0,"",{"$f":"IFERROR(VLOOKUP(O$3,'District Bids'!$C$5:$CU$511,50,0),\"\")","v":16},0,0,"",{"$f":"IFERROR(VLOOKUP(S$3,'District Bids'!$C$5:$CU$511,50,0),\"\")","v":15.4},0,0,"",{"$f":"IFERROR(VLOOKUP(W$3,'District Bids'!$C$5:$CU$511,50,0),\"\")","v":15.75},0,0,"",{"$f":"IFERROR(VLOOKUP(AA$3,'District Bids'!$C$5:$CU$511,50,0),\"\")","v":15.75},0,0,"",{"$f":"IFERROR(VLOOKUP(AE$3,'District Bids'!$C$5:$CU$511,50,0),\"\")","v":15.75},0,0,"",{"$f":"IFERROR(VLOOKUP(AI$3,'District Bids'!$C$5:$CU$511,50,0),\"\")","v":15.75},0,0,"",{"$f":"IFERROR(VLOOKUP(AM$3,'District Bids'!$C$5:$CU$511,50,0),\"\")","v":15.75},0,0,"",{"$f":"IFERROR(VLOOKUP(AQ$3,'District Bids'!$C$5:$CU$511,50,0),\"\")","v":15.75},0,0,"",{"$f":"IFERROR(VLOOKUP(AU$3,'District Bids'!$C$5:$CU$511,50,0),\"\")","v":""},"","","",{"$f":"IFERROR(VLOOKUP(AY$3,'District Bids'!$C$5:$CU$511,50,0),\"\")","v":""},"","","",{"$f":"IFERROR(VLOOKUP(BC$3,'District Bids'!$C$5:$CU$511,50,0),\"\")","v":""},"","","",{"$f":"IFERROR(VLOOKUP(BG$3,'District Bids'!$C$5:$CU$511,50,0),\"\")","v":""},"","","",{"$f":"IFERROR(VLOOKUP(BK$3,'District Bids'!$C$5:$CU$511,50,0),\"\")","v":""},"","","",{"$f":"IFERROR(VLOOKUP(BO$3,'District Bids'!$C$5:$CU$511,50,0),\"\")","v":""},"","","",{"$f":"IFERROR(VLOOKUP(BS$3,'District Bids'!$C$5:$CU$511,50,0),\"\")","v":""},"","","",{"$f":"IFERROR(VLOOKUP(BW$3,'District Bids'!$C$5:$CU$511,50,0),\"\")","v":""},"","","",{"$f":"IFERROR(VLOOKUP(CA$3,'District Bids'!$C$5:$CU$511,50,0),\"\")","v":""},"","","",{"$f":"IFERROR(VLOOKUP(CE$3,'District Bids'!$C$5:$CU$511,50,0),\"\")","v":""},"","","",{"$f":"IFERROR(VLOOKUP(CI$3,'District Bids'!$C$5:$CU$511,50,0),\"\")","v":""},"","","",{"$f":"IFERROR(VLOOKUP(CM$3,'District Bids'!$C$5:$CU$511,50,0),\"\")","v":""},"","","",{"$f":"IFERROR(VLOOKUP(CQ$3,'District Bids'!$C$5:$CU$511,50,0),\"\")","v":""},"","","",{"$f":"IFERROR(VLOOKUP(CU$3,'District Bids'!$C$5:$CU$511,50,0),\"\")","v":""},"","","",{"$f":"IFERROR(VLOOKUP(CY$3,'District Bids'!$C$5:$CU$511,50,0),\"\")","v":""},"","","",{"$f":"IFERROR(VLOOKUP(DC$3,'District Bids'!$C$5:$CU$511,50,0),\"\")","v":""},"","","",{"$f":"IFERROR(VLOOKUP(DG$3,'District Bids'!$C$5:$CU$511,50,0),\"\")","v":""},"","","",{"$f":"IFERROR(VLOOKUP(DK$3,'District Bids'!$C$5:$CU$511,50,0),\"\")","v":""},"","","",{"$f":"IFERROR(VLOOKUP(DO$3,'District Bids'!$C$5:$CU$511,50,0),\"\")","v":""},"","","",{"$f":"IFERROR(VLOOKUP(DS$3,'District Bids'!$C$5:$CU$511,50,0),\"\")","v":""},"","","",{"$f":"IFERROR(VLOOKUP(DW$3,'District Bids'!$C$5:$CU$511,50,0),\"\")","v":""},"","","",{"$f":"IFERROR(VLOOKUP(EA$3,'District Bids'!$C$5:$CU$511,50,0),\"\")","v":""},"","",""]
[null,45,"Asphalt Base II Shoulder Paving Surcharge - 201 to 500 ",{"$f":"'Order Details'!J47","v":0},{"$f":"IFERROR(VLOOKUP(G$3,'District Bids'!$C$5:$CU$511,51,0),\"\")","v":4},0,0,"",{"$f":"IFERROR(VLOOKUP(K$3,'District Bids'!$C$5:$CU$511,51,0),\"\")","v":6},0,0,"",{"$f":"IFERROR(VLOOKUP(O$3,'District Bids'!$C$5:$CU$511,51,0),\"\")","v":6},0,0,"",{"$f":"IFERROR(VLOOKUP(S$3,'District Bids'!$C$5:$CU$511,51,0),\"\")","v":4.4000000000000004},0,0,"",{"$f":"IFERROR(VLOOKUP(W$3,'District Bids'!$C$5:$CU$511,51,0),\"\")","v":4.75},0,0,"",{"$f":"IFERROR(VLOOKUP(AA$3,'District Bids'!$C$5:$CU$511,51,0),\"\")","v":4.75},0,0,"",{"$f":"IFERROR(VLOOKUP(AE$3,'District Bids'!$C$5:$CU$511,51,0),\"\")","v":4.75},0,0,"",{"$f":"IFERROR(VLOOKUP(AI$3,'District Bids'!$C$5:$CU$511,51,0),\"\")","v":4.75},0,0,"",{"$f":"IFERROR(VLOOKUP(AM$3,'District Bids'!$C$5:$CU$511,51,0),\"\")","v":4.75},0,0,"",{"$f":"IFERROR(VLOOKUP(AQ$3,'District Bids'!$C$5:$CU$511,51,0),\"\")","v":4.75},0,0,"",{"$f":"IFERROR(VLOOKUP(AU$3,'District Bids'!$C$5:$CU$511,51,0),\"\")","v":""},"","","",{"$f":"IFERROR(VLOOKUP(AY$3,'District Bids'!$C$5:$CU$511,51,0),\"\")","v":""},"","","",{"$f":"IFERROR(VLOOKUP(BC$3,'District Bids'!$C$5:$CU$511,51,0),\"\")","v":""},"","","",{"$f":"IFERROR(VLOOKUP(BG$3,'District Bids'!$C$5:$CU$511,51,0),\"\")","v":""},"","","",{"$f":"IFERROR(VLOOKUP(BK$3,'District Bids'!$C$5:$CU$511,51,0),\"\")","v":""},"","","",{"$f":"IFERROR(VLOOKUP(BO$3,'District Bids'!$C$5:$CU$511,51,0),\"\")","v":""},"","","",{"$f":"IFERROR(VLOOKUP(BS$3,'District Bids'!$C$5:$CU$511,51,0),\"\")","v":""},"","","",{"$f":"IFERROR(VLOOKUP(BW$3,'District Bids'!$C$5:$CU$511,51,0),\"\")","v":""},"","","",{"$f":"IFERROR(VLOOKUP(CA$3,'District Bids'!$C$5:$CU$511,51,0),\"\")","v":""},"","","",{"$f":"IFERROR(VLOOKUP(CE$3,'District Bids'!$C$5:$CU$511,51,0),\"\")","v":""},"","","",{"$f":"IFERROR(VLOOKUP(CI$3,'District Bids'!$C$5:$CU$511,51,0),\"\")","v":""},"","","",{"$f":"IFERROR(VLOOKUP(CM$3,'District Bids'!$C$5:$CU$511,51,0),\"\")","v":""},"","","",{"$f":"IFERROR(VLOOKUP(CQ$3,'District Bids'!$C$5:$CU$511,51,0),\"\")","v":""},"","","",{"$f":"IFERROR(VLOOKUP(CU$3,'District Bids'!$C$5:$CU$511,51,0),\"\")","v":""},"","","",{"$f":"IFERROR(VLOOKUP(CY$3,'District Bids'!$C$5:$CU$511,51,0),\"\")","v":""},"","","",{"$f":"IFERROR(VLOOKUP(DC$3,'District Bids'!$C$5:$CU$511,51,0),\"\")","v":""},"","","",{"$f":"IFERROR(VLOOKUP(DG$3,'District Bids'!$C$5:$CU$511,51,0),\"\")","v":""},"","","",{"$f":"IFERROR(VLOOKUP(DK$3,'District Bids'!$C$5:$CU$511,51,0),\"\")","v":""},"","","",{"$f":"IFERROR(VLOOKUP(DO$3,'District Bids'!$C$5:$CU$511,51,0),\"\")","v":""},"","","",{"$f":"IFERROR(VLOOKUP(DS$3,'District Bids'!$C$5:$CU$511,51,0),\"\")","v":""},"","","",{"$f":"IFERROR(VLOOKUP(DW$3,'District Bids'!$C$5:$CU$511,51,0),\"\")","v":""},"","","",{"$f":"IFERROR(VLOOKUP(EA$3,'District Bids'!$C$5:$CU$511,51,0),\"\")","v":""},"","",""]
[null,46,"Asphalt Base II Shoulder Paving Surcharge - 501+ ",{"$f":"'Order Details'!J48","v":0},{"$f":"IFERROR(VLOOKUP(G$3,'District Bids'!$C$5:$CU$511,52,0),\"\")","v":2},0,0,"",{"$f":"IFERROR(VLOOKUP(K$3,'District Bids'!$C$5:$CU$511,52,0),\"\")","v":4},0,0,"",{"$f":"IFERROR(VLOOKUP(O$3,'District Bids'!$C$5:$CU$511,52,0),\"\")","v":4},0,0,"",{"$f":"IFERROR(VLOOKUP(S$3,'District Bids'!$C$5:$CU$511,52,0),\"\")","v":2.5},0,0,"",{"$f":"IFERROR(VLOOKUP(W$3,'District Bids'!$C$5:$CU$511,52,0),\"\")","v":2.75},0,0,"",{"$f":"IFERROR(VLOOKUP(AA$3,'District Bids'!$C$5:$CU$511,52,0),\"\")","v":2.75},0,0,"",{"$f":"IFERROR(VLOOKUP(AE$3,'District Bids'!$C$5:$CU$511,52,0),\"\")","v":2.75},0,0,"",{"$f":"IFERROR(VLOOKUP(AI$3,'District Bids'!$C$5:$CU$511,52,0),\"\")","v":2.75},0,0,"",{"$f":"IFERROR(VLOOKUP(AM$3,'District Bids'!$C$5:$CU$511,52,0),\"\")","v":2.75},0,0,"",{"$f":"IFERROR(VLOOKUP(AQ$3,'District Bids'!$C$5:$CU$511,52,0),\"\")","v":2.75},0,0,"",{"$f":"IFERROR(VLOOKUP(AU$3,'District Bids'!$C$5:$CU$511,52,0),\"\")","v":""},"","","",{"$f":"IFERROR(VLOOKUP(AY$3,'District Bids'!$C$5:$CU$511,52,0),\"\")","v":""},"","","",{"$f":"IFERROR(VLOOKUP(BC$3,'District Bids'!$C$5:$CU$511,52,0),\"\")","v":""},"","","",{"$f":"IFERROR(VLOOKUP(BG$3,'District Bids'!$C$5:$CU$511,52,0),\"\")","v":""},"","","",{"$f":"IFERROR(VLOOKUP(BK$3,'District Bids'!$C$5:$CU$511,52,0),\"\")","v":""},"","","",{"$f":"IFERROR(VLOOKUP(BO$3,'District Bids'!$C$5:$CU$511,52,0),\"\")","v":""},"","","",{"$f":"IFERROR(VLOOKUP(BS$3,'District Bids'!$C$5:$CU$511,52,0),\"\")","v":""},"","","",{"$f":"IFERROR(VLOOKUP(BW$3,'District Bids'!$C$5:$CU$511,52,0),\"\")","v":""},"","","",{"$f":"IFERROR(VLOOKUP(CA$3,'District Bids'!$C$5:$CU$511,52,0),\"\")","v":""},"","","",{"$f":"IFERROR(VLOOKUP(CE$3,'District Bids'!$C$5:$CU$511,52,0),\"\")","v":""},"","","",{"$f":"IFERROR(VLOOKUP(CI$3,'District Bids'!$C$5:$CU$511,52,0),\"\")","v":""},"","","",{"$f":"IFERROR(VLOOKUP(CM$3,'District Bids'!$C$5:$CU$511,52,0),\"\")","v":""},"","","",{"$f":"IFERROR(VLOOKUP(CQ$3,'District Bids'!$C$5:$CU$511,52,0),\"\")","v":""},"","","",{"$f":"IFERROR(VLOOKUP(CU$3,'District Bids'!$C$5:$CU$511,52,0),\"\")","v":""},"","","",{"$f":"IFERROR(VLOOKUP(CY$3,'District Bids'!$C$5:$CU$511,52,0),\"\")","v":""},"","","",{"$f":"IFERROR(VLOOKUP(DC$3,'District Bids'!$C$5:$CU$511,52,0),\"\")","v":""},"","","",{"$f":"IFERROR(VLOOKUP(DG$3,'District Bids'!$C$5:$CU$511,52,0),\"\")","v":""},"","","",{"$f":"IFERROR(VLOOKUP(DK$3,'District Bids'!$C$5:$CU$511,52,0),\"\")","v":""},"","","",{"$f":"IFERROR(VLOOKUP(DO$3,'District Bids'!$C$5:$CU$511,52,0),\"\")","v":""},"","","",{"$f":"IFERROR(VLOOKUP(DS$3,'District Bids'!$C$5:$CU$511,52,0),\"\")","v":""},"","","",{"$f":"IFERROR(VLOOKUP(DW$3,'District Bids'!$C$5:$CU$511,52,0),\"\")","v":""},"","","",{"$f":"IFERROR(VLOOKUP(EA$3,'District Bids'!$C$5:$CU$511,52,0),\"\")","v":""},"","",""]
[null,47,"Asphalt Material for Tack Coat or Prime Material",{"$f":"'Order Details'!J49","v":0},{"$f":"IFERROR(VLOOKUP(G$3,'District Bids'!$C$5:$CU$511,53,0),\"\")","v":3},0,0,"",{"$f":"IFERROR(VLOOKUP(K$3,'District Bids'!$C$5:$CU$511,53,0),\"\")","v":3.25},0,0,"",{"$f":"IFERROR(VLOOKUP(O$3,'District Bids'!$C$5:$CU$511,53,0),\"\")","v":3.25},0,0,"",{"$f":"IFERROR(VLOOKUP(S$3,'District Bids'!$C$5:$CU$511,53,0),\"\")","v":3.1},0,0,"",{"$f":"IFERROR(VLOOKUP(W$3,'District Bids'!$C$5:$CU$511,53,0),\"\")","v":3.5},0,0,"",{"$f":"IFERROR(VLOOKUP(AA$3,'District Bids'!$C$5:$CU$511,53,0),\"\")","v":3.5},0,0,"",{"$f":"IFERROR(VLOOKUP(AE$3,'District Bids'!$C$5:$CU$511,53,0),\"\")","v":3.5},0,0,"",{"$f":"IFERROR(VLOOKUP(AI$3,'District Bids'!$C$5:$CU$511,53,0),\"\")","v":3.5},0,0,"",{"$f":"IFERROR(VLOOKUP(AM$3,'District Bids'!$C$5:$CU$511,53,0),\"\")","v":3.5},0,0,"",{"$f":"IFERROR(VLOOKUP(AQ$3,'District Bids'!$C$5:$CU$511,53,0),\"\")","v":3.5},0,0,"",{"$f":"IFERROR(VLOOKUP(AU$3,'District Bids'!$C$5:$CU$511,53,0),\"\")","v":""},"","","",{"$f":"IFERROR(VLOOKUP(AY$3,'District Bids'!$C$5:$CU$511,53,0),\"\")","v":""},"","","",{"$f":"IFERROR(VLOOKUP(BC$3,'District Bids'!$C$5:$CU$511,53,0),\"\")","v":""},"","","",{"$f":"IFERROR(VLOOKUP(BG$3,'District Bids'!$C$5:$CU$511,53,0),\"\")","v":""},"","","",{"$f":"IFERROR(VLOOKUP(BK$3,'District Bids'!$C$5:$CU$511,53,0),\"\")","v":""},"","","",{"$f":"IFERROR(VLOOKUP(BO$3,'District Bids'!$C$5:$CU$511,53,0),\"\")","v":""},"","","",{"$f":"IFERROR(VLOOKUP(BS$3,'District Bids'!$C$5:$CU$511,53,0),\"\")","v":""},"","","",{"$f":"IFERROR(VLOOKUP(BW$3,'District Bids'!$C$5:$CU$511,53,0),\"\")","v":""},"","","",{"$f":"IFERROR(VLOOKUP(CA$3,'District Bids'!$C$5:$CU$511,53,0),\"\")","v":""},"","","",{"$f":"IFERROR(VLOOKUP(CE$3,'District Bids'!$C$5:$CU$511,53,0),\"\")","v":""},"","","",{"$f":"IFERROR(VLOOKUP(CI$3,'District Bids'!$C$5:$CU$511,53,0),\"\")","v":""},"","","",{"$f":"IFERROR(VLOOKUP(CM$3,'District Bids'!$C$5:$CU$511,53,0),\"\")","v":""},"","","",{"$f":"IFERROR(VLOOKUP(CQ$3,'District Bids'!$C$5:$CU$511,53,0),\"\")","v":""},"","","",{"$f":"IFERROR(VLOOKUP(CU$3,'District Bids'!$C$5:$CU$511,53,0),\"\")","v":""},"","","",{"$f":"IFERROR(VLOOKUP(CY$3,'District Bids'!$C$5:$CU$511,53,0),\"\")","v":""},"","","",{"$f":"IFERROR(VLOOKUP(DC$3,'District Bids'!$C$5:$CU$511,53,0),\"\")","v":""},"","","",{"$f":"IFERROR(VLOOKUP(DG$3,'District Bids'!$C$5:$CU$511,53,0),\"\")","v":""},"","","",{"$f":"IFERROR(VLOOKUP(DK$3,'District Bids'!$C$5:$CU$511,53,0),\"\")","v":""},"","","",{"$f":"IFERROR(VLOOKUP(DO$3,'District Bids'!$C$5:$CU$511,53,0),\"\")","v":""},"","","",{"$f":"IFERROR(VLOOKUP(DS$3,'District Bids'!$C$5:$CU$511,53,0),\"\")","v":""},"","","",{"$f":"IFERROR(VLOOKUP(DW$3,'District Bids'!$C$5:$CU$511,53,0),\"\")","v":""},"","","",{"$f":"IFERROR(VLOOKUP(EA$3,'District Bids'!$C$5:$CU$511,53,0),\"\")","v":""},"","",""]
[null,48,"Additional Heel-In Joints",{"$f":"'Order Details'!O7","v":0},{"$f":"IFERROR(VLOOKUP(G$3,'District Bids'!$C$5:$CU$511,54,0),\"\")","v":12.5},0,0,"",{"$f":"IFERROR(VLOOKUP(K$3,'District Bids'!$C$5:$CU$511,54,0),\"\")","v":13},0,0,"",{"$f":"IFERROR(VLOOKUP(O$3,'District Bids'!$C$5:$CU$511,54,0),\"\")","v":13},0,0,"",{"$f":"IFERROR(VLOOKUP(S$3,'District Bids'!$C$5:$CU$511,54,0),\"\")","v":13},0,0,"",{"$f":"IFERROR(VLOOKUP(W$3,'District Bids'!$C$5:$CU$511,54,0),\"\")","v":14},0,0,"",{"$f":"IFERROR(VLOOKUP(AA$3,'District Bids'!$C$5:$CU$511,54,0),\"\")","v":14},0,0,"",{"$f":"IFERROR(VLOOKUP(AE$3,'District Bids'!$C$5:$CU$511,54,0),\"\")","v":14},0,0,"",{"$f":"IFERROR(VLOOKUP(AI$3,'District Bids'!$C$5:$CU$511,54,0),\"\")","v":14},0,0,"",{"$f":"IFERROR(VLOOKUP(AM$3,'District Bids'!$C$5:$CU$511,54,0),\"\")","v":14},0,0,"",{"$f":"IFERROR(VLOOKUP(AQ$3,'District Bids'!$C$5:$CU$511,54,0),\"\")","v":14},0,0,"",{"$f":"IFERROR(VLOOKUP(AU$3,'District Bids'!$C$5:$CU$511,54,0),\"\")","v":""},"","","",{"$f":"IFERROR(VLOOKUP(AY$3,'District Bids'!$C$5:$CU$511,54,0),\"\")","v":""},"","","",{"$f":"IFERROR(VLOOKUP(BC$3,'District Bids'!$C$5:$CU$511,54,0),\"\")","v":""},"","","",{"$f":"IFERROR(VLOOKUP(BG$3,'District Bids'!$C$5:$CU$511,54,0),\"\")","v":""},"","","",{"$f":"IFERROR(VLOOKUP(BK$3,'District Bids'!$C$5:$CU$511,54,0),\"\")","v":""},"","","",{"$f":"IFERROR(VLOOKUP(BO$3,'District Bids'!$C$5:$CU$511,54,0),\"\")","v":""},"","","",{"$f":"IFERROR(VLOOKUP(BS$3,'District Bids'!$C$5:$CU$511,54,0),\"\")","v":""},"","","",{"$f":"IFERROR(VLOOKUP(BW$3,'District Bids'!$C$5:$CU$511,54,0),\"\")","v":""},"","","",{"$f":"IFERROR(VLOOKUP(CA$3,'District Bids'!$C$5:$CU$511,54,0),\"\")","v":""},"","","",{"$f":"IFERROR(VLOOKUP(CE$3,'District Bids'!$C$5:$CU$511,54,0),\"\")","v":""},"","","",{"$f":"IFERROR(VLOOKUP(CI$3,'District Bids'!$C$5:$CU$511,54,0),\"\")","v":""},"","","",{"$f":"IFERROR(VLOOKUP(CM$3,'District Bids'!$C$5:$CU$511,54,0),\"\")","v":""},"","","",{"$f":"IFERROR(VLOOKUP(CQ$3,'District Bids'!$C$5:$CU$511,54,0),\"\")","v":""},"","","",{"$f":"IFERROR(VLOOKUP(CU$3,'District Bids'!$C$5:$CU$511,54,0),\"\")","v":""},"","","",{"$f":"IFERROR(VLOOKUP(CY$3,'District Bids'!$C$5:$CU$511,54,0),\"\")","v":""},"","","",{"$f":"IFERROR(VLOOKUP(DC$3,'District Bids'!$C$5:$CU$511,54,0),\"\")","v":""},"","","",{"$f":"IFERROR(VLOOKUP(DG$3,'District Bids'!$C$5:$CU$511,54,0),\"\")","v":""},"","","",{"$f":"IFERROR(VLOOKUP(DK$3,'District Bids'!$C$5:$CU$511,54,0),\"\")","v":""},"","","",{"$f":"IFERROR(VLOOKUP(DO$3,'District Bids'!$C$5:$CU$511,54,0),\"\")","v":""},"","","",{"$f":"IFERROR(VLOOKUP(DS$3,'District Bids'!$C$5:$CU$511,54,0),\"\")","v":""},"","","",{"$f":"IFERROR(VLOOKUP(DW$3,'District Bids'!$C$5:$CU$511,54,0),\"\")","v":""},"","","",{"$f":"IFERROR(VLOOKUP(EA$3,'District Bids'!$C$5:$CU$511,54,0),\"\")","v":""},"","",""]
[null,49,"Skip Paving Surcharge",{"$f":"'Order Details'!O8","v":0},{"$f":"IFERROR(VLOOKUP(G$3,'District Bids'!$C$5:$CU$511,55,0),\"\")","v":5},0,0,"",{"$f":"IFERROR(VLOOKUP(K$3,'District Bids'!$C$5:$CU$511,55,0),\"\")","v":5},0,0,"",{"$f":"IFERROR(VLOOKUP(O$3,'District Bids'!$C$5:$CU$511,55,0),\"\")","v":5},0,0,"",{"$f":"IFERROR(VLOOKUP(S$3,'District Bids'!$C$5:$CU$511,55,0),\"\")","v":5},0,0,"",{"$f":"IFERROR(VLOOKUP(W$3,'District Bids'!$C$5:$CU$511,55,0),\"\")","v":6},0,0,"",{"$f":"IFERROR(VLOOKUP(AA$3,'District Bids'!$C$5:$CU$511,55,0),\"\")","v":6},0,0,"",{"$f":"IFERROR(VLOOKUP(AE$3,'District Bids'!$C$5:$CU$511,55,0),\"\")","v":6},0,0,"",{"$f":"IFERROR(VLOOKUP(AI$3,'District Bids'!$C$5:$CU$511,55,0),\"\")","v":6},0,0,"",{"$f":"IFERROR(VLOOKUP(AM$3,'District Bids'!$C$5:$CU$511,55,0),\"\")","v":6},0,0,"",{"$f":"IFERROR(VLOOKUP(AQ$3,'District Bids'!$C$5:$CU$511,55,0),\"\")","v":6},0,0,"",{"$f":"IFERROR(VLOOKUP(AU$3,'District Bids'!$C$5:$CU$511,55,0),\"\")","v":""},"","","",{"$f":"IFERROR(VLOOKUP(AY$3,'District Bids'!$C$5:$CU$511,55,0),\"\")","v":""},"","","",{"$f":"IFERROR(VLOOKUP(BC$3,'District Bids'!$C$5:$CU$511,55,0),\"\")","v":""},"","","",{"$f":"IFERROR(VLOOKUP(BG$3,'District Bids'!$C$5:$CU$511,55,0),\"\")","v":""},"","","",{"$f":"IFERROR(VLOOKUP(BK$3,'District Bids'!$C$5:$CU$511,55,0),\"\")","v":""},"","","",{"$f":"IFERROR(VLOOKUP(BO$3,'District Bids'!$C$5:$CU$511,55,0),\"\")","v":""},"","","",{"$f":"IFERROR(VLOOKUP(BS$3,'District Bids'!$C$5:$CU$511,55,0),\"\")","v":""},"","","",{"$f":"IFERROR(VLOOKUP(BW$3,'District Bids'!$C$5:$CU$511,55,0),\"\")","v":""},"","","",{"$f":"IFERROR(VLOOKUP(CA$3,'District Bids'!$C$5:$CU$511,55,0),\"\")","v":""},"","","",{"$f":"IFERROR(VLOOKUP(CE$3,'District Bids'!$C$5:$CU$511,55,0),\"\")","v":""},"","","",{"$f":"IFERROR(VLOOKUP(CI$3,'District Bids'!$C$5:$CU$511,55,0),\"\")","v":""},"","","",{"$f":"IFERROR(VLOOKUP(CM$3,'District Bids'!$C$5:$CU$511,55,0),\"\")","v":""},"","","",{"$f":"IFERROR(VLOOKUP(CQ$3,'District Bids'!$C$5:$CU$511,55,0),\"\")","v":""},"","","",{"$f":"IFERROR(VLOOKUP(CU$3,'District Bids'!$C$5:$CU$511,55,0),\"\")","v":""},"","","",{"$f":"IFERROR(VLOOKUP(CY$3,'District Bids'!$C$5:$CU$511,55,0),\"\")","v":""},"","","",{"$f":"IFERROR(VLOOKUP(DC$3,'District Bids'!$C$5:$CU$511,55,0),\"\")","v":""},"","","",{"$f":"IFERROR(VLOOKUP(DG$3,'District Bids'!$C$5:$CU$511,55,0),\"\")","v":""},"","","",{"$f":"IFERROR(VLOOKUP(DK$3,'District Bids'!$C$5:$CU$511,55,0),\"\")","v":""},"","","",{"$f":"IFERROR(VLOOKUP(DO$3,'District Bids'!$C$5:$CU$511,55,0),\"\")","v":""},"","","",{"$f":"IFERROR(VLOOKUP(DS$3,'District Bids'!$C$5:$CU$511,55,0),\"\")","v":""},"","","",{"$f":"IFERROR(VLOOKUP(DW$3,'District Bids'!$C$5:$CU$511,55,0),\"\")","v":""},"","","",{"$f":"IFERROR(VLOOKUP(EA$3,'District Bids'!$C$5:$CU$511,55,0),\"\")","v":""},"","",""]
[null,50,"Pavement Profiling/Milling-WVDOH Owns Millings 0 to 250 ",{"$f":"'Order Details'!O9","v":0},{"$f":"IFERROR(VLOOKUP(G$3,'District Bids'!$C$5:$CU$511,56,0),\"\")","v":21},0,0,"",{"$f":"IFERROR(VLOOKUP(K$3,'District Bids'!$C$5:$CU$511,56,0),\"\")","v":23},0,0,"",{"$f":"IFERROR(VLOOKUP(O$3,'District Bids'!$C$5:$CU$511,56,0),\"\")","v":23},0,0,"",{"$f":"IFERROR(VLOOKUP(S$3,'District Bids'!$C$5:$CU$511,56,0),\"\")","v":21.5},0,0,"",{"$f":"IFERROR(VLOOKUP(W$3,'District Bids'!$C$5:$CU$511,56,0),\"\")","v":22.25},0,0,"",{"$f":"IFERROR(VLOOKUP(AA$3,'District Bids'!$C$5:$CU$511,56,0),\"\")","v":22.25},0,0,"",{"$f":"IFERROR(VLOOKUP(AE$3,'District Bids'!$C$5:$CU$511,56,0),\"\")","v":22.25},0,0,"",{"$f":"IFERROR(VLOOKUP(AI$3,'District Bids'!$C$5:$CU$511,56,0),\"\")","v":22.25},0,0,"",{"$f":"IFERROR(VLOOKUP(AM$3,'District Bids'!$C$5:$CU$511,56,0),\"\")","v":22.25},0,0,"",{"$f":"IFERROR(VLOOKUP(AQ$3,'District Bids'!$C$5:$CU$511,56,0),\"\")","v":22.25},0,0,"",{"$f":"IFERROR(VLOOKUP(AU$3,'District Bids'!$C$5:$CU$511,56,0),\"\")","v":""},"","","",{"$f":"IFERROR(VLOOKUP(AY$3,'District Bids'!$C$5:$CU$511,56,0),\"\")","v":""},"","","",{"$f":"IFERROR(VLOOKUP(BC$3,'District Bids'!$C$5:$CU$511,56,0),\"\")","v":""},"","","",{"$f":"IFERROR(VLOOKUP(BG$3,'District Bids'!$C$5:$CU$511,56,0),\"\")","v":""},"","","",{"$f":"IFERROR(VLOOKUP(BK$3,'District Bids'!$C$5:$CU$511,56,0),\"\")","v":""},"","","",{"$f":"IFERROR(VLOOKUP(BO$3,'District Bids'!$C$5:$CU$511,56,0),\"\")","v":""},"","","",{"$f":"IFERROR(VLOOKUP(BS$3,'District Bids'!$C$5:$CU$511,56,0),\"\")","v":""},"","","",{"$f":"IFERROR(VLOOKUP(BW$3,'District Bids'!$C$5:$CU$511,56,0),\"\")","v":""},"","","",{"$f":"IFERROR(VLOOKUP(CA$3,'District Bids'!$C$5:$CU$511,56,0),\"\")","v":""},"","","",{"$f":"IFERROR(VLOOKUP(CE$3,'District Bids'!$C$5:$CU$511,56,0),\"\")","v":""},"","","",{"$f":"IFERROR(VLOOKUP(CI$3,'District Bids'!$C$5:$CU$511,56,0),\"\")","v":""},"","","",{"$f":"IFERROR(VLOOKUP(CM$3,'District Bids'!$C$5:$CU$511,56,0),\"\")","v":""},"","","",{"$f":"IFERROR(VLOOKUP(CQ$3,'District Bids'!$C$5:$CU$511,56,0),\"\")","v":""},"","","",{"$f":"IFERROR(VLOOKUP(CU$3,'District Bids'!$C$5:$CU$511,56,0),\"\")","v":""},"","","",{"$f":"IFERROR(VLOOKUP(CY$3,'District Bids'!$C$5:$CU$511,56,0),\"\")","v":""},"","","",{"$f":"IFERROR(VLOOKUP(DC$3,'District Bids'!$C$5:$CU$511,56,0),\"\")","v":""},"","","",{"$f":"IFERROR(VLOOKUP(DG$3,'District Bids'!$C$5:$CU$511,56,0),\"\")","v":""},"","","",{"$f":"IFERROR(VLOOKUP(DK$3,'District Bids'!$C$5:$CU$511,56,0),\"\")","v":""},"","","",{"$f":"IFERROR(VLOOKUP(DO$3,'District Bids'!$C$5:$CU$511,56,0),\"\")","v":""},"","","",{"$f":"IFERROR(VLOOKUP(DS$3,'District Bids'!$C$5:$CU$511,56,0),\"\")","v":""},"","","",{"$f":"IFERROR(VLOOKUP(DW$3,'District Bids'!$C$5:$CU$511,56,0),\"\")","v":""},"","","",{"$f":"IFERROR(VLOOKUP(EA$3,'District Bids'!$C$5:$CU$511,56,0),\"\")","v":""},"","",""]
[null,51,"Pavement Profiling/Milling-WVDOH Owns Millings 251 to 500 ",{"$f":"'Order Details'!O10","v":0},{"$f":"IFERROR(VLOOKUP(G$3,'District Bids'!$C$5:$CU$511,57,0),\"\")","v":16},0,0,"",{"$f":"IFERROR(VLOOKUP(K$3,'District Bids'!$C$5:$CU$511,57,0),\"\")","v":16.75},0,0,"",{"$f":"IFERROR(VLOOKUP(O$3,'District Bids'!$C$5:$CU$511,57,0),\"\")","v":16.75},0,0,"",{"$f":"IFERROR(VLOOKUP(S$3,'District Bids'!$C$5:$CU$511,57,0),\"\")","v":16.5},0,0,"",{"$f":"IFERROR(VLOOKUP(W$3,'District Bids'!$C$5:$CU$511,57,0),\"\")","v":17.5},0,0,"",{"$f":"IFERROR(VLOOKUP(AA$3,'District Bids'!$C$5:$CU$511,57,0),\"\")","v":17.5},0,0,"",{"$f":"IFERROR(VLOOKUP(AE$3,'District Bids'!$C$5:$CU$511,57,0),\"\")","v":17.5},0,0,"",{"$f":"IFERROR(VLOOKUP(AI$3,'District Bids'!$C$5:$CU$511,57,0),\"\")","v":17.5},0,0,"",{"$f":"IFERROR(VLOOKUP(AM$3,'District Bids'!$C$5:$CU$511,57,0),\"\")","v":17.5},0,0,"",{"$f":"IFERROR(VLOOKUP(AQ$3,'District Bids'!$C$5:$CU$511,57,0),\"\")","v":17.5},0,0,"",{"$f":"IFERROR(VLOOKUP(AU$3,'District Bids'!$C$5:$CU$511,57,0),\"\")","v":""},"","","",{"$f":"IFERROR(VLOOKUP(AY$3,'District Bids'!$C$5:$CU$511,57,0),\"\")","v":""},"","","",{"$f":"IFERROR(VLOOKUP(BC$3,'District Bids'!$C$5:$CU$511,57,0),\"\")","v":""},"","","",{"$f":"IFERROR(VLOOKUP(BG$3,'District Bids'!$C$5:$CU$511,57,0),\"\")","v":""},"","","",{"$f":"IFERROR(VLOOKUP(BK$3,'District Bids'!$C$5:$CU$511,57,0),\"\")","v":""},"","","",{"$f":"IFERROR(VLOOKUP(BO$3,'District Bids'!$C$5:$CU$511,57,0),\"\")","v":""},"","","",{"$f":"IFERROR(VLOOKUP(BS$3,'District Bids'!$C$5:$CU$511,57,0),\"\")","v":""},"","","",{"$f":"IFERROR(VLOOKUP(BW$3,'District Bids'!$C$5:$CU$511,57,0),\"\")","v":""},"","","",{"$f":"IFERROR(VLOOKUP(CA$3,'District Bids'!$C$5:$CU$511,57,0),\"\")","v":""},"","","",{"$f":"IFERROR(VLOOKUP(CE$3,'District Bids'!$C$5:$CU$511,57,0),\"\")","v":""},"","","",{"$f":"IFERROR(VLOOKUP(CI$3,'District Bids'!$C$5:$CU$511,57,0),\"\")","v":""},"","","",{"$f":"IFERROR(VLOOKUP(CM$3,'District Bids'!$C$5:$CU$511,57,0),\"\")","v":""},"","","",{"$f":"IFERROR(VLOOKUP(CQ$3,'District Bids'!$C$5:$CU$511,57,0),\"\")","v":""},"","","",{"$f":"IFERROR(VLOOKUP(CU$3,'District Bids'!$C$5:$CU$511,57,0),\"\")","v":""},"","","",{"$f":"IFERROR(VLOOKUP(CY$3,'District Bids'!$C$5:$CU$511,57,0),\"\")","v":""},"","","",{"$f":"IFERROR(VLOOKUP(DC$3,'District Bids'!$C$5:$CU$511,57,0),\"\")","v":""},"","","",{"$f":"IFERROR(VLOOKUP(DG$3,'District Bids'!$C$5:$CU$511,57,0),\"\")","v":""},"","","",{"$f":"IFERROR(VLOOKUP(DK$3,'District Bids'!$C$5:$CU$511,57,0),\"\")","v":""},"","","",{"$f":"IFERROR(VLOOKUP(DO$3,'District Bids'!$C$5:$CU$511,57,0),\"\")","v":""},"","","",{"$f":"IFERROR(VLOOKUP(DS$3,'District Bids'!$C$5:$CU$511,57,0),\"\")","v":""},"","","",{"$f":"IFERROR(VLOOKUP(DW$3,'District Bids'!$C$5:$CU$511,57,0),\"\")","v":""},"","","",{"$f":"IFERROR(VLOOKUP(EA$3,'District Bids'!$C$5:$CU$511,57,0),\"\")","v":""},"","",""]
[null,52,"Pavement Profiling/Milling-WVDOH Owns Millings 501 to 1000 ",{"$f":"'Order Details'!O11","v":0},{"$f":"IFERROR(VLOOKUP(G$3,'District Bids'!$C$5:$CU$511,58,0),\"\")","v":11},0,0,"",{"$f":"IFERROR(VLOOKUP(K$3,'District Bids'!$C$5:$CU$511,58,0),\"\")","v":11.75},0,0,"",{"$f":"IFERROR(VLOOKUP(O$3,'District Bids'!$C$5:$CU$511,58,0),\"\")","v":11.75},0,0,"",{"$f":"IFERROR(VLOOKUP(S$3,'District Bids'!$C$5:$CU$511,58,0),\"\")","v":11.5},0,0,"",{"$f":"IFERROR(VLOOKUP(W$3,'District Bids'!$C$5:$CU$511,58,0),\"\")","v":12.5},0,0,"",{"$f":"IFERROR(VLOOKUP(AA$3,'District Bids'!$C$5:$CU$511,58,0),\"\")","v":12.5},0,0,"",{"$f":"IFERROR(VLOOKUP(AE$3,'District Bids'!$C$5:$CU$511,58,0),\"\")","v":12.5},0,0,"",{"$f":"IFERROR(VLOOKUP(AI$3,'District Bids'!$C$5:$CU$511,58,0),\"\")","v":12.5},0,0,"",{"$f":"IFERROR(VLOOKUP(AM$3,'District Bids'!$C$5:$CU$511,58,0),\"\")","v":12.5},0,0,"",{"$f":"IFERROR(VLOOKUP(AQ$3,'District Bids'!$C$5:$CU$511,58,0),\"\")","v":12.5},0,0,"",{"$f":"IFERROR(VLOOKUP(AU$3,'District Bids'!$C$5:$CU$511,58,0),\"\")","v":""},"","","",{"$f":"IFERROR(VLOOKUP(AY$3,'District Bids'!$C$5:$CU$511,58,0),\"\")","v":""},"","","",{"$f":"IFERROR(VLOOKUP(BC$3,'District Bids'!$C$5:$CU$511,58,0),\"\")","v":""},"","","",{"$f":"IFERROR(VLOOKUP(BG$3,'District Bids'!$C$5:$CU$511,58,0),\"\")","v":""},"","","",{"$f":"IFERROR(VLOOKUP(BK$3,'District Bids'!$C$5:$CU$511,58,0),\"\")","v":""},"","","",{"$f":"IFERROR(VLOOKUP(BO$3,'District Bids'!$C$5:$CU$511,58,0),\"\")","v":""},"","","",{"$f":"IFERROR(VLOOKUP(BS$3,'District Bids'!$C$5:$CU$511,58,0),\"\")","v":""},"","","",{"$f":"IFERROR(VLOOKUP(BW$3,'District Bids'!$C$5:$CU$511,58,0),\"\")","v":""},"","","",{"$f":"IFERROR(VLOOKUP(CA$3,'District Bids'!$C$5:$CU$511,58,0),\"\")","v":""},"","","",{"$f":"IFERROR(VLOOKUP(CE$3,'District Bids'!$C$5:$CU$511,58,0),\"\")","v":""},"","","",{"$f":"IFERROR(VLOOKUP(CI$3,'District Bids'!$C$5:$CU$511,58,0),\"\")","v":""},"","","",{"$f":"IFERROR(VLOOKUP(CM$3,'District Bids'!$C$5:$CU$511,58,0),\"\")","v":""},"","","",{"$f":"IFERROR(VLOOKUP(CQ$3,'District Bids'!$C$5:$CU$511,58,0),\"\")","v":""},"","","",{"$f":"IFERROR(VLOOKUP(CU$3,'District Bids'!$C$5:$CU$511,58,0),\"\")","v":""},"","","",{"$f":"IFERROR(VLOOKUP(CY$3,'District Bids'!$C$5:$CU$511,58,0),\"\")","v":""},"","","",{"$f":"IFERROR(VLOOKUP(DC$3,'District Bids'!$C$5:$CU$511,58,0),\"\")","v":""},"","","",{"$f":"IFERROR(VLOOKUP(DG$3,'District Bids'!$C$5:$CU$511,58,0),\"\")","v":""},"","","",{"$f":"IFERROR(VLOOKUP(DK$3,'District Bids'!$C$5:$CU$511,58,0),\"\")","v":""},"","","",{"$f":"IFERROR(VLOOKUP(DO$3,'District Bids'!$C$5:$CU$511,58,0),\"\")","v":""},"","","",{"$f":"IFERROR(VLOOKUP(DS$3,'District Bids'!$C$5:$CU$511,58,0),\"\")","v":""},"","","",{"$f":"IFERROR(VLOOKUP(DW$3,'District Bids'!$C$5:$CU$511,58,0),\"\")","v":""},"","","",{"$f":"IFERROR(VLOOKUP(EA$3,'District Bids'!$C$5:$CU$511,58,0),\"\")","v":""},"","",""]
[null,53,"Pavement Profiling/Milling-WVDOH Owns Millings 1001 to 2500 ",{"$f":"'Order Details'!O12","v":0},{"$f":"IFERROR(VLOOKUP(G$3,'District Bids'!$C$5:$CU$511,59,0),\"\")","v":6},0,0,"",{"$f":"IFERROR(VLOOKUP(K$3,'District Bids'!$C$5:$CU$511,59,0),\"\")","v":6.6},0,0,"",{"$f":"IFERROR(VLOOKUP(O$3,'District Bids'!$C$5:$CU$511,59,0),\"\")","v":6.6},0,0,"",{"$f":"IFERROR(VLOOKUP(S$3,'District Bids'!$C$5:$CU$511,59,0),\"\")","v":6.5},0,0,"",{"$f":"IFERROR(VLOOKUP(W$3,'District Bids'!$C$5:$CU$511,59,0),\"\")","v":6.75},0,0,"",{"$f":"IFERROR(VLOOKUP(AA$3,'District Bids'!$C$5:$CU$511,59,0),\"\")","v":6.75},0,0,"",{"$f":"IFERROR(VLOOKUP(AE$3,'District Bids'!$C$5:$CU$511,59,0),\"\")","v":6.75},0,0,"",{"$f":"IFERROR(VLOOKUP(AI$3,'District Bids'!$C$5:$CU$511,59,0),\"\")","v":6.75},0,0,"",{"$f":"IFERROR(VLOOKUP(AM$3,'District Bids'!$C$5:$CU$511,59,0),\"\")","v":6.75},0,0,"",{"$f":"IFERROR(VLOOKUP(AQ$3,'District Bids'!$C$5:$CU$511,59,0),\"\")","v":6.75},0,0,"",{"$f":"IFERROR(VLOOKUP(AU$3,'District Bids'!$C$5:$CU$511,59,0),\"\")","v":""},"","","",{"$f":"IFERROR(VLOOKUP(AY$3,'District Bids'!$C$5:$CU$511,59,0),\"\")","v":""},"","","",{"$f":"IFERROR(VLOOKUP(BC$3,'District Bids'!$C$5:$CU$511,59,0),\"\")","v":""},"","","",{"$f":"IFERROR(VLOOKUP(BG$3,'District Bids'!$C$5:$CU$511,59,0),\"\")","v":""},"","","",{"$f":"IFERROR(VLOOKUP(BK$3,'District Bids'!$C$5:$CU$511,59,0),\"\")","v":""},"","","",{"$f":"IFERROR(VLOOKUP(BO$3,'District Bids'!$C$5:$CU$511,59,0),\"\")","v":""},"","","",{"$f":"IFERROR(VLOOKUP(BS$3,'District Bids'!$C$5:$CU$511,59,0),\"\")","v":""},"","","",{"$f":"IFERROR(VLOOKUP(BW$3,'District Bids'!$C$5:$CU$511,59,0),\"\")","v":""},"","","",{"$f":"IFERROR(VLOOKUP(CA$3,'District Bids'!$C$5:$CU$511,59,0),\"\")","v":""},"","","",{"$f":"IFERROR(VLOOKUP(CE$3,'District Bids'!$C$5:$CU$511,59,0),\"\")","v":""},"","","",{"$f":"IFERROR(VLOOKUP(CI$3,'District Bids'!$C$5:$CU$511,59,0),\"\")","v":""},"","","",{"$f":"IFERROR(VLOOKUP(CM$3,'District Bids'!$C$5:$CU$511,59,0),\"\")","v":""},"","","",{"$f":"IFERROR(VLOOKUP(CQ$3,'District Bids'!$C$5:$CU$511,59,0),\"\")","v":""},"","","",{"$f":"IFERROR(VLOOKUP(CU$3,'District Bids'!$C$5:$CU$511,59,0),\"\")","v":""},"","","",{"$f":"IFERROR(VLOOKUP(CY$3,'District Bids'!$C$5:$CU$511,59,0),\"\")","v":""},"","","",{"$f":"IFERROR(VLOOKUP(DC$3,'District Bids'!$C$5:$CU$511,59,0),\"\")","v":""},"","","",{"$f":"IFERROR(VLOOKUP(DG$3,'District Bids'!$C$5:$CU$511,59,0),\"\")","v":""},"","","",{"$f":"IFERROR(VLOOKUP(DK$3,'District Bids'!$C$5:$CU$511,59,0),\"\")","v":""},"","","",{"$f":"IFERROR(VLOOKUP(DO$3,'District Bids'!$C$5:$CU$511,59,0),\"\")","v":""},"","","",{"$f":"IFERROR(VLOOKUP(DS$3,'District Bids'!$C$5:$CU$511,59,0),\"\")","v":""},"","","",{"$f":"IFERROR(VLOOKUP(DW$3,'District Bids'!$C$5:$CU$511,59,0),\"\")","v":""},"","","",{"$f":"IFERROR(VLOOKUP(EA$3,'District Bids'!$C$5:$CU$511,59,0),\"\")","v":""},"","",""]
[null,54,"Pavement Profiling/Milling-WVDOH Owns Millings 2501 to 5000 ",{"$f":"'Order Details'!O13","v":0},{"$f":"IFERROR(VLOOKUP(G$3,'District Bids'!$C$5:$CU$511,60,0),\"\")","v":4},0,0,"",{"$f":"IFERROR(VLOOKUP(K$3,'District Bids'!$C$5:$CU$511,60,0),\"\")","v":4.5},0,0,"",{"$f":"IFERROR(VLOOKUP(O$3,'District Bids'!$C$5:$CU$511,60,0),\"\")","v":4.5},0,0,"",{"$f":"IFERROR(VLOOKUP(S$3,'District Bids'!$C$5:$CU$511,60,0),\"\")","v":4.5999999999999996},0,0,"",{"$f":"IFERROR(VLOOKUP(W$3,'District Bids'!$C$5:$CU$511,60,0),\"\")","v":4.8499999999999996},0,0,"",{"$f":"IFERROR(VLOOKUP(AA$3,'District Bids'!$C$5:$CU$511,60,0),\"\")","v":4.8499999999999996},0,0,"",{"$f":"IFERROR(VLOOKUP(AE$3,'District Bids'!$C$5:$CU$511,60,0),\"\")","v":4.8499999999999996},0,0,"",{"$f":"IFERROR(VLOOKUP(AI$3,'District Bids'!$C$5:$CU$511,60,0),\"\")","v":4.8499999999999996},0,0,"",{"$f":"IFERROR(VLOOKUP(AM$3,'District Bids'!$C$5:$CU$511,60,0),\"\")","v":4.8499999999999996},0,0,"",{"$f":"IFERROR(VLOOKUP(AQ$3,'District Bids'!$C$5:$CU$511,60,0),\"\")","v":4.8499999999999996},0,0,"",{"$f":"IFERROR(VLOOKUP(AU$3,'District Bids'!$C$5:$CU$511,60,0),\"\")","v":""},"","","",{"$f":"IFERROR(VLOOKUP(AY$3,'District Bids'!$C$5:$CU$511,60,0),\"\")","v":""},"","","",{"$f":"IFERROR(VLOOKUP(BC$3,'District Bids'!$C$5:$CU$511,60,0),\"\")","v":""},"","","",{"$f":"IFERROR(VLOOKUP(BG$3,'District Bids'!$C$5:$CU$511,60,0),\"\")","v":""},"","","",{"$f":"IFERROR(VLOOKUP(BK$3,'District Bids'!$C$5:$CU$511,60,0),\"\")","v":""},"","","",{"$f":"IFERROR(VLOOKUP(BO$3,'District Bids'!$C$5:$CU$511,60,0),\"\")","v":""},"","","",{"$f":"IFERROR(VLOOKUP(BS$3,'District Bids'!$C$5:$CU$511,60,0),\"\")","v":""},"","","",{"$f":"IFERROR(VLOOKUP(BW$3,'District Bids'!$C$5:$CU$511,60,0),\"\")","v":""},"","","",{"$f":"IFERROR(VLOOKUP(CA$3,'District Bids'!$C$5:$CU$511,60,0),\"\")","v":""},"","","",{"$f":"IFERROR(VLOOKUP(CE$3,'District Bids'!$C$5:$CU$511,60,0),\"\")","v":""},"","","",{"$f":"IFERROR(VLOOKUP(CI$3,'District Bids'!$C$5:$CU$511,60,0),\"\")","v":""},"","","",{"$f":"IFERROR(VLOOKUP(CM$3,'District Bids'!$C$5:$CU$511,60,0),\"\")","v":""},"","","",{"$f":"IFERROR(VLOOKUP(CQ$3,'District Bids'!$C$5:$CU$511,60,0),\"\")","v":""},"","","",{"$f":"IFERROR(VLOOKUP(CU$3,'District Bids'!$C$5:$CU$511,60,0),\"\")","v":""},"","","",{"$f":"IFERROR(VLOOKUP(CY$3,'District Bids'!$C$5:$CU$511,60,0),\"\")","v":""},"","","",{"$f":"IFERROR(VLOOKUP(DC$3,'District Bids'!$C$5:$CU$511,60,0),\"\")","v":""},"","","",{"$f":"IFERROR(VLOOKUP(DG$3,'District Bids'!$C$5:$CU$511,60,0),\"\")","v":""},"","","",{"$f":"IFERROR(VLOOKUP(DK$3,'District Bids'!$C$5:$CU$511,60,0),\"\")","v":""},"","","",{"$f":"IFERROR(VLOOKUP(DO$3,'District Bids'!$C$5:$CU$511,60,0),\"\")","v":""},"","","",{"$f":"IFERROR(VLOOKUP(DS$3,'District Bids'!$C$5:$CU$511,60,0),\"\")","v":""},"","","",{"$f":"IFERROR(VLOOKUP(DW$3,'District Bids'!$C$5:$CU$511,60,0),\"\")","v":""},"","","",{"$f":"IFERROR(VLOOKUP(EA$3,'District Bids'!$C$5:$CU$511,60,0),\"\")","v":""},"","",""]
[null,55,"Pavement Profiling/Milling-WVDOH Owns Millings 5001+ ",{"$f":"'Order Details'!O14","v":0},{"$f":"IFERROR(VLOOKUP(G$3,'District Bids'!$C$5:$CU$511,61,0),\"\")","v":3},0,0,"",{"$f":"IFERROR(VLOOKUP(K$3,'District Bids'!$C$5:$CU$511,61,0),\"\")","v":3.4},0,0,"",{"$f":"IFERROR(VLOOKUP(O$3,'District Bids'!$C$5:$CU$511,61,0),\"\")","v":3.4},0,0,"",{"$f":"IFERROR(VLOOKUP(S$3,'District Bids'!$C$5:$CU$511,61,0),\"\")","v":3.5},0,0,"",{"$f":"IFERROR(VLOOKUP(W$3,'District Bids'!$C$5:$CU$511,61,0),\"\")","v":3.75},0,0,"",{"$f":"IFERROR(VLOOKUP(AA$3,'District Bids'!$C$5:$CU$511,61,0),\"\")","v":3.75},0,0,"",{"$f":"IFERROR(VLOOKUP(AE$3,'District Bids'!$C$5:$CU$511,61,0),\"\")","v":3.75},0,0,"",{"$f":"IFERROR(VLOOKUP(AI$3,'District Bids'!$C$5:$CU$511,61,0),\"\")","v":3.75},0,0,"",{"$f":"IFERROR(VLOOKUP(AM$3,'District Bids'!$C$5:$CU$511,61,0),\"\")","v":3.75},0,0,"",{"$f":"IFERROR(VLOOKUP(AQ$3,'District Bids'!$C$5:$CU$511,61,0),\"\")","v":3.75},0,0,"",{"$f":"IFERROR(VLOOKUP(AU$3,'District Bids'!$C$5:$CU$511,61,0),\"\")","v":""},"","","",{"$f":"IFERROR(VLOOKUP(AY$3,'District Bids'!$C$5:$CU$511,61,0),\"\")","v":""},"","","",{"$f":"IFERROR(VLOOKUP(BC$3,'District Bids'!$C$5:$CU$511,61,0),\"\")","v":""},"","","",{"$f":"IFERROR(VLOOKUP(BG$3,'District Bids'!$C$5:$CU$511,61,0),\"\")","v":""},"","","",{"$f":"IFERROR(VLOOKUP(BK$3,'District Bids'!$C$5:$CU$511,61,0),\"\")","v":""},"","","",{"$f":"IFERROR(VLOOKUP(BO$3,'District Bids'!$C$5:$CU$511,61,0),\"\")","v":""},"","","",{"$f":"IFERROR(VLOOKUP(BS$3,'District Bids'!$C$5:$CU$511,61,0),\"\")","v":""},"","","",{"$f":"IFERROR(VLOOKUP(BW$3,'District Bids'!$C$5:$CU$511,61,0),\"\")","v":""},"","","",{"$f":"IFERROR(VLOOKUP(CA$3,'District Bids'!$C$5:$CU$511,61,0),\"\")","v":""},"","","",{"$f":"IFERROR(VLOOKUP(CE$3,'District Bids'!$C$5:$CU$511,61,0),\"\")","v":""},"","","",{"$f":"IFERROR(VLOOKUP(CI$3,'District Bids'!$C$5:$CU$511,61,0),\"\")","v":""},"","","",{"$f":"IFERROR(VLOOKUP(CM$3,'District Bids'!$C$5:$CU$511,61,0),\"\")","v":""},"","","",{"$f":"IFERROR(VLOOKUP(CQ$3,'District Bids'!$C$5:$CU$511,61,0),\"\")","v":""},"","","",{"$f":"IFERROR(VLOOKUP(CU$3,'District Bids'!$C$5:$CU$511,61,0),\"\")","v":""},"","","",{"$f":"IFERROR(VLOOKUP(CY$3,'District Bids'!$C$5:$CU$511,61,0),\"\")","v":""},"","","",{"$f":"IFERROR(VLOOKUP(DC$3,'District Bids'!$C$5:$CU$511,61,0),\"\")","v":""},"","","",{"$f":"IFERROR(VLOOKUP(DG$3,'District Bids'!$C$5:$CU$511,61,0),\"\")","v":""},"","","",{"$f":"IFERROR(VLOOKUP(DK$3,'District Bids'!$C$5:$CU$511,61,0),\"\")","v":""},"","","",{"$f":"IFERROR(VLOOKUP(DO$3,'District Bids'!$C$5:$CU$511,61,0),\"\")","v":""},"","","",{"$f":"IFERROR(VLOOKUP(DS$3,'District Bids'!$C$5:$CU$511,61,0),\"\")","v":""},"","","",{"$f":"IFERROR(VLOOKUP(DW$3,'District Bids'!$C$5:$CU$511,61,0),\"\")","v":""},"","","",{"$f":"IFERROR(VLOOKUP(EA$3,'District Bids'!$C$5:$CU$511,61,0),\"\")","v":""},"","",""]
[null,56,"Pavement Profiling/Milling-Vendor Owns Millings 0 to 250 ",{"$f":"'Order Details'!O15","v":0},{"$f":"IFERROR(VLOOKUP(G$3,'District Bids'!$C$5:$CU$511,62,0),\"\")","v":20},{"$f":"IFERROR(E59*$D59*'Order Details'!$B$32,\"\")","v":0},{"$f":"IFERROR($D59*E59*'Order Details'!$B$32,\"\")","v":0},"",{"$f":"IFERROR(VLOOKUP(K$3,'District Bids'!$C$5:$CU$511,62,0),\"\")","v":20.25},{"$f":"IFERROR(I59*$D59*'Order Details'!$B$32,\"\")","v":0},{"$f":"IFERROR($D59*I59*'Order Details'!$B$32,\"\")","v":0},"",{"$f":"IFERROR(VLOOKUP(O$3,'District Bids'!$C$5:$CU$511,62,0),\"\")","v":20.25},{"$f":"IFERROR(M59*$D59*'Order Details'!$B$32,\"\")","v":0},{"$f":"IFERROR($D59*M59*'Order Details'!$B$32,\"\")","v":0},"",{"$f":"IFERROR(VLOOKUP(S$3,'District Bids'!$C$5:$CU$511,62,0),\"\")","v":20.5},{"$f":"IFERROR(Q59*$D59*'Order Details'!$B$32,\"\")","v":0},{"$f":"IFERROR($D59*Q59*'Order Details'!$B$32,\"\")","v":0},"",{"$f":"IFERROR(VLOOKUP(W$3,'District Bids'!$C$5:$CU$511,62,0),\"\")","v":21.5},{"$f":"IFERROR(U59*$D59*'Order Details'!$B$32,\"\")","v":0},{"$f":"IFERROR($D59*U59*'Order Details'!$B$32,\"\")","v":0},"",{"$f":"IFERROR(VLOOKUP(AA$3,'District Bids'!$C$5:$CU$511,62,0),\"\")","v":21.5},{"$f":"IFERROR(Y59*$D59*'Order Details'!$B$32,\"\")","v":0},{"$f":"IFERROR($D59*Y59*'Order Details'!$B$32,\"\")","v":0},"",{"$f":"IFERROR(VLOOKUP(AE$3,'District Bids'!$C$5:$CU$511,62,0),\"\")","v":21.5},{"$f":"IFERROR(AC59*$D59*'Order Details'!$B$32,\"\")","v":0},{"$f":"IFERROR($D59*AC59*'Order Details'!$B$32,\"\")","v":0},"",{"$f":"IFERROR(VLOOKUP(AI$3,'District Bids'!$C$5:$CU$511,62,0),\"\")","v":21.5},{"$f":"IFERROR(AG59*$D59*'Order Details'!$B$32,\"\")","v":0},{"$f":"IFERROR($D59*AG59*'Order Details'!$B$32,\"\")","v":0},"",{"$f":"IFERROR(VLOOKUP(AM$3,'District Bids'!$C$5:$CU$511,62,0),\"\")","v":21.5},{"$f":"IFERROR(AK59*$D59*'Order Details'!$B$32,\"\")","v":0},{"$f":"IFERROR($D59*AK59*'Order Details'!$B$32,\"\")","v":0},"",{"$f":"IFERROR(VLOOKUP(AQ$3,'District Bids'!$C$5:$CU$511,62,0),\"\")","v":21.5},{"$f":"IFERROR(AO59*$D59*'Order Details'!$B$32,\"\")","v":0},{"$f":"IFERROR($D59*AO59*'Order Details'!$B$32,\"\")","v":0},"",{"$f":"IFERROR(VLOOKUP(AU$3,'District Bids'!$C$5:$CU$511,62,0),\"\")","v":""},{"$f":"IFERROR(AS59*$D59*'Order Details'!$B$32,\"\")","v":""},{"$f":"IFERROR($D59*AS59*'Order Details'!$B$32,\"\")","v":""},"",{"$f":"IFERROR(VLOOKUP(AY$3,'District Bids'!$C$5:$CU$511,62,0),\"\")","v":""},{"$f":"IFERROR(AW59*$D59*'Order Details'!$B$32,\"\")","v":""},{"$f":"IFERROR($D59*AW59*'Order Details'!$B$32,\"\")","v":""},"",{"$f":"IFERROR(VLOOKUP(BC$3,'District Bids'!$C$5:$CU$511,62,0),\"\")","v":""},{"$f":"IFERROR(BA59*$D59*'Order Details'!$B$32,\"\")","v":""},{"$f":"IFERROR($D59*BA59*'Order Details'!$B$32,\"\")","v":""},"",{"$f":"IFERROR(VLOOKUP(BG$3,'District Bids'!$C$5:$CU$511,62,0),\"\")","v":""},{"$f":"IFERROR(BE59*$D59*'Order Details'!$B$32,\"\")","v":""},{"$f":"IFERROR($D59*BE59*'Order Details'!$B$32,\"\")","v":""},"",{"$f":"IFERROR(VLOOKUP(BK$3,'District Bids'!$C$5:$CU$511,62,0),\"\")","v":""},{"$f":"IFERROR(BI59*$D59*'Order Details'!$B$32,\"\")","v":""},{"$f":"IFERROR($D59*BI59*'Order Details'!$B$32,\"\")","v":""},"",{"$f":"IFERROR(VLOOKUP(BO$3,'District Bids'!$C$5:$CU$511,62,0),\"\")","v":""},{"$f":"IFERROR(BM59*$D59*'Order Details'!$B$32,\"\")","v":""},{"$f":"IFERROR($D59*BM59*'Order Details'!$B$32,\"\")","v":""},"",{"$f":"IFERROR(VLOOKUP(BS$3,'District Bids'!$C$5:$CU$511,62,0),\"\")","v":""},{"$f":"IFERROR(BQ59*$D59*'Order Details'!$B$32,\"\")","v":""},{"$f":"IFERROR($D59*BQ59*'Order Details'!$B$32,\"\")","v":""},"",{"$f":"IFERROR(VLOOKUP(BW$3,'District Bids'!$C$5:$CU$511,62,0),\"\")","v":""},{"$f":"IFERROR(BU59*$D59*'Order Details'!$B$32,\"\")","v":""},{"$f":"IFERROR($D59*BU59*'Order Details'!$B$32,\"\")","v":""},"",{"$f":"IFERROR(VLOOKUP(CA$3,'District Bids'!$C$5:$CU$511,62,0),\"\")","v":""},{"$f":"IFERROR(BY59*$D59*'Order Details'!$B$32,\"\")","v":""},{"$f":"IFERROR($D59*BY59*'Order Details'!$B$32,\"\")","v":""},"",{"$f":"IFERROR(VLOOKUP(CE$3,'District Bids'!$C$5:$CU$511,62,0),\"\")","v":""},{"$f":"IFERROR(CC59*$D59*'Order Details'!$B$32,\"\")","v":""},{"$f":"IFERROR($D59*CC59*'Order Details'!$B$32,\"\")","v":""},"",{"$f":"IFERROR(VLOOKUP(CI$3,'District Bids'!$C$5:$CU$511,62,0),\"\")","v":""},{"$f":"IFERROR(CG59*$D59*'Order Details'!$B$32,\"\")","v":""},{"$f":"IFERROR($D59*CG59*'Order Details'!$B$32,\"\")","v":""},"",{"$f":"IFERROR(VLOOKUP(CM$3,'District Bids'!$C$5:$CU$511,62,0),\"\")","v":""},{"$f":"IFERROR(CK59*$D59*'Order Details'!$B$32,\"\")","v":""},{"$f":"IFERROR($D59*CK59*'Order Details'!$B$32,\"\")","v":""},"",{"$f":"IFERROR(VLOOKUP(CQ$3,'District Bids'!$C$5:$CU$511,62,0),\"\")","v":""},{"$f":"IFERROR(CO59*$D59*'Order Details'!$B$32,\"\")","v":""},{"$f":"IFERROR($D59*CO59*'Order Details'!$B$32,\"\")","v":""},"",{"$f":"IFERROR(VLOOKUP(CU$3,'District Bids'!$C$5:$CU$511,62,0),\"\")","v":""},{"$f":"IFERROR(CS59*$D59*'Order Details'!$B$32,\"\")","v":""},{"$f":"IFERROR($D59*CS59*'Order Details'!$B$32,\"\")","v":""},"",{"$f":"IFERROR(VLOOKUP(CY$3,'District Bids'!$C$5:$CU$511,62,0),\"\")","v":""},{"$f":"IFERROR(CW59*$D59*'Order Details'!$B$32,\"\")","v":""},{"$f":"IFERROR($D59*CW59*'Order Details'!$B$32,\"\")","v":""},"",{"$f":"IFERROR(VLOOKUP(DC$3,'District Bids'!$C$5:$CU$511,62,0),\"\")","v":""},{"$f":"IFERROR(DA59*$D59*'Order Details'!$B$32,\"\")","v":""},{"$f":"IFERROR($D59*DA59*'Order Details'!$B$32,\"\")","v":""},"",{"$f":"IFERROR(VLOOKUP(DG$3,'District Bids'!$C$5:$CU$511,62,0),\"\")","v":""},{"$f":"IFERROR(DE59*$D59*'Order Details'!$B$32,\"\")","v":""},{"$f":"IFERROR($D59*DE59*'Order Details'!$B$32,\"\")","v":""},"",{"$f":"IFERROR(VLOOKUP(DK$3,'District Bids'!$C$5:$CU$511,62,0),\"\")","v":""},{"$f":"IFERROR(DI59*$D59*'Order Details'!$B$32,\"\")","v":""},{"$f":"IFERROR($D59*DI59*'Order Details'!$B$32,\"\")","v":""},"",{"$f":"IFERROR(VLOOKUP(DO$3,'District Bids'!$C$5:$CU$511,62,0),\"\")","v":""},{"$f":"IFERROR(DM59*$D59*'Order Details'!$B$32,\"\")","v":""},{"$f":"IFERROR($D59*DM59*'Order Details'!$B$32,\"\")","v":""},"",{"$f":"IFERROR(VLOOKUP(DS$3,'District Bids'!$C$5:$CU$511,62,0),\"\")","v":""},{"$f":"IFERROR(DQ59*$D59*'Order Details'!$B$32,\"\")","v":""},{"$f":"IFERROR($D59*DQ59*'Order Details'!$B$32,\"\")","v":""},"",{"$f":"IFERROR(VLOOKUP(DW$3,'District Bids'!$C$5:$CU$511,62,0),\"\")","v":""},{"$f":"IFERROR(DU59*$D59*'Order Details'!$B$32,\"\")","v":""},{"$f":"IFERROR($D59*DU59*'Order Details'!$B$32,\"\")","v":""},"",{"$f":"IFERROR(VLOOKUP(EA$3,'District Bids'!$C$5:$CU$511,62,0),\"\")","v":""},{"$f":"IFERROR(DY59*$D59*'Order Details'!$B$32,\"\")","v":""},{"$f":"IFERROR($D59*DY59*'Order Details'!$B$32,\"\")","v":""},""]
[null,57,"Pavement Profiling/Milling-Vendor Owns Millings 251 to 500 ",{"$f":"'Order Details'!O16","v":0},{"$f":"IFERROR(VLOOKUP(G$3,'District Bids'!$C$5:$CU$511,63,0),\"\")","v":15},{"$f":"IFERROR(E60*$D60*'Order Details'!$B$32,\"\")","v":0},{"$f":"IFERROR($D60*E60*'Order Details'!$B$32,\"\")","v":0},"",{"$f":"IFERROR(VLOOKUP(K$3,'District Bids'!$C$5:$CU$511,63,0),\"\")","v":15.25},{"$f":"IFERROR(I60*$D60*'Order Details'!$B$32,\"\")","v":0},{"$f":"IFERROR($D60*I60*'Order Details'!$B$32,\"\")","v":0},"",{"$f":"IFERROR(VLOOKUP(O$3,'District Bids'!$C$5:$CU$511,63,0),\"\")","v":15.25},{"$f":"IFERROR(M60*$D60*'Order Details'!$B$32,\"\")","v":0},{"$f":"IFERROR($D60*M60*'Order Details'!$B$32,\"\")","v":0},"",{"$f":"IFERROR(VLOOKUP(S$3,'District Bids'!$C$5:$CU$511,63,0),\"\")","v":15.5},{"$f":"IFERROR(Q60*$D60*'Order Details'!$B$32,\"\")","v":0},{"$f":"IFERROR($D60*Q60*'Order Details'!$B$32,\"\")","v":0},"",{"$f":"IFERROR(VLOOKUP(W$3,'District Bids'!$C$5:$CU$511,63,0),\"\")","v":16.5},{"$f":"IFERROR(U60*$D60*'Order Details'!$B$32,\"\")","v":0},{"$f":"IFERROR($D60*U60*'Order Details'!$B$32,\"\")","v":0},"",{"$f":"IFERROR(VLOOKUP(AA$3,'District Bids'!$C$5:$CU$511,63,0),\"\")","v":16.5},{"$f":"IFERROR(Y60*$D60*'Order Details'!$B$32,\"\")","v":0},{"$f":"IFERROR($D60*Y60*'Order Details'!$B$32,\"\")","v":0},"",{"$f":"IFERROR(VLOOKUP(AE$3,'District Bids'!$C$5:$CU$511,63,0),\"\")","v":16.5},{"$f":"IFERROR(AC60*$D60*'Order Details'!$B$32,\"\")","v":0},{"$f":"IFERROR($D60*AC60*'Order Details'!$B$32,\"\")","v":0},"",{"$f":"IFERROR(VLOOKUP(AI$3,'District Bids'!$C$5:$CU$511,63,0),\"\")","v":16.5},{"$f":"IFERROR(AG60*$D60*'Order Details'!$B$32,\"\")","v":0},{"$f":"IFERROR($D60*AG60*'Order Details'!$B$32,\"\")","v":0},"",{"$f":"IFERROR(VLOOKUP(AM$3,'District Bids'!$C$5:$CU$511,63,0),\"\")","v":16.5},{"$f":"IFERROR(AK60*$D60*'Order Details'!$B$32,\"\")","v":0},{"$f":"IFERROR($D60*AK60*'Order Details'!$B$32,\"\")","v":0},"",{"$f":"IFERROR(VLOOKUP(AQ$3,'District Bids'!$C$5:$CU$511,63,0),\"\")","v":16.5},{"$f":"IFERROR(AO60*$D60*'Order Details'!$B$32,\"\")","v":0},{"$f":"IFERROR($D60*AO60*'Order Details'!$B$32,\"\")","v":0},"",{"$f":"IFERROR(VLOOKUP(AU$3,'District Bids'!$C$5:$CU$511,63,0),\"\")","v":""},{"$f":"IFERROR(AS60*$D60*'Order Details'!$B$32,\"\")","v":""},{"$f":"IFERROR($D60*AS60*'Order Details'!$B$32,\"\")","v":""},"",{"$f":"IFERROR(VLOOKUP(AY$3,'District Bids'!$C$5:$CU$511,63,0),\"\")","v":""},{"$f":"IFERROR(AW60*$D60*'Order Details'!$B$32,\"\")","v":""},{"$f":"IFERROR($D60*AW60*'Order Details'!$B$32,\"\")","v":""},"",{"$f":"IFERROR(VLOOKUP(BC$3,'District Bids'!$C$5:$CU$511,63,0),\"\")","v":""},{"$f":"IFERROR(BA60*$D60*'Order Details'!$B$32,\"\")","v":""},{"$f":"IFERROR($D60*BA60*'Order Details'!$B$32,\"\")","v":""},"",{"$f":"IFERROR(VLOOKUP(BG$3,'District Bids'!$C$5:$CU$511,63,0),\"\")","v":""},{"$f":"IFERROR(BE60*$D60*'Order Details'!$B$32,\"\")","v":""},{"$f":"IFERROR($D60*BE60*'Order Details'!$B$32,\"\")","v":""},"",{"$f":"IFERROR(VLOOKUP(BK$3,'District Bids'!$C$5:$CU$511,63,0),\"\")","v":""},{"$f":"IFERROR(BI60*$D60*'Order Details'!$B$32,\"\")","v":""},{"$f":"IFERROR($D60*BI60*'Order Details'!$B$32,\"\")","v":""},"",{"$f":"IFERROR(VLOOKUP(BO$3,'District Bids'!$C$5:$CU$511,63,0),\"\")","v":""},{"$f":"IFERROR(BM60*$D60*'Order Details'!$B$32,\"\")","v":""},{"$f":"IFERROR($D60*BM60*'Order Details'!$B$32,\"\")","v":""},"",{"$f":"IFERROR(VLOOKUP(BS$3,'District Bids'!$C$5:$CU$511,63,0),\"\")","v":""},{"$f":"IFERROR(BQ60*$D60*'Order Details'!$B$32,\"\")","v":""},{"$f":"IFERROR($D60*BQ60*'Order Details'!$B$32,\"\")","v":""},"",{"$f":"IFERROR(VLOOKUP(BW$3,'District Bids'!$C$5:$CU$511,63,0),\"\")","v":""},{"$f":"IFERROR(BU60*$D60*'Order Details'!$B$32,\"\")","v":""},{"$f":"IFERROR($D60*BU60*'Order Details'!$B$32,\"\")","v":""},"",{"$f":"IFERROR(VLOOKUP(CA$3,'District Bids'!$C$5:$CU$511,63,0),\"\")","v":""},{"$f":"IFERROR(BY60*$D60*'Order Details'!$B$32,\"\")","v":""},{"$f":"IFERROR($D60*BY60*'Order Details'!$B$32,\"\")","v":""},"",{"$f":"IFERROR(VLOOKUP(CE$3,'District Bids'!$C$5:$CU$511,63,0),\"\")","v":""},{"$f":"IFERROR(CC60*$D60*'Order Details'!$B$32,\"\")","v":""},{"$f":"IFERROR($D60*CC60*'Order Details'!$B$32,\"\")","v":""},"",{"$f":"IFERROR(VLOOKUP(CI$3,'District Bids'!$C$5:$CU$511,63,0),\"\")","v":""},{"$f":"IFERROR(CG60*$D60*'Order Details'!$B$32,\"\")","v":""},{"$f":"IFERROR($D60*CG60*'Order Details'!$B$32,\"\")","v":""},"",{"$f":"IFERROR(VLOOKUP(CM$3,'District Bids'!$C$5:$CU$511,63,0),\"\")","v":""},{"$f":"IFERROR(CK60*$D60*'Order Details'!$B$32,\"\")","v":""},{"$f":"IFERROR($D60*CK60*'Order Details'!$B$32,\"\")","v":""},"",{"$f":"IFERROR(VLOOKUP(CQ$3,'District Bids'!$C$5:$CU$511,63,0),\"\")","v":""},{"$f":"IFERROR(CO60*$D60*'Order Details'!$B$32,\"\")","v":""},{"$f":"IFERROR($D60*CO60*'Order Details'!$B$32,\"\")","v":""},"",{"$f":"IFERROR(VLOOKUP(CU$3,'District Bids'!$C$5:$CU$511,63,0),\"\")","v":""},{"$f":"IFERROR(CS60*$D60*'Order Details'!$B$32,\"\")","v":""},{"$f":"IFERROR($D60*CS60*'Order Details'!$B$32,\"\")","v":""},"",{"$f":"IFERROR(VLOOKUP(CY$3,'District Bids'!$C$5:$CU$511,63,0),\"\")","v":""},{"$f":"IFERROR(CW60*$D60*'Order Details'!$B$32,\"\")","v":""},{"$f":"IFERROR($D60*CW60*'Order Details'!$B$32,\"\")","v":""},"",{"$f":"IFERROR(VLOOKUP(DC$3,'District Bids'!$C$5:$CU$511,63,0),\"\")","v":""},{"$f":"IFERROR(DA60*$D60*'Order Details'!$B$32,\"\")","v":""},{"$f":"IFERROR($D60*DA60*'Order Details'!$B$32,\"\")","v":""},"",{"$f":"IFERROR(VLOOKUP(DG$3,'District Bids'!$C$5:$CU$511,63,0),\"\")","v":""},{"$f":"IFERROR(DE60*$D60*'Order Details'!$B$32,\"\")","v":""},{"$f":"IFERROR($D60*DE60*'Order Details'!$B$32,\"\")","v":""},"",{"$f":"IFERROR(VLOOKUP(DK$3,'District Bids'!$C$5:$CU$511,63,0),\"\")","v":""},{"$f":"IFERROR(DI60*$D60*'Order Details'!$B$32,\"\")","v":""},{"$f":"IFERROR($D60*DI60*'Order Details'!$B$32,\"\")","v":""},"",{"$f":"IFERROR(VLOOKUP(DO$3,'District Bids'!$C$5:$CU$511,63,0),\"\")","v":""},{"$f":"IFERROR(DM60*$D60*'Order Details'!$B$32,\"\")","v":""},{"$f":"IFERROR($D60*DM60*'Order Details'!$B$32,\"\")","v":""},"",{"$f":"IFERROR(VLOOKUP(DS$3,'District Bids'!$C$5:$CU$511,63,0),\"\")","v":""},{"$f":"IFERROR(DQ60*$D60*'Order Details'!$B$32,\"\")","v":""},{"$f":"IFERROR($D60*DQ60*'Order Details'!$B$32,\"\")","v":""},"",{"$f":"IFERROR(VLOOKUP(DW$3,'District Bids'!$C$5:$CU$511,63,0),\"\")","v":""},{"$f":"IFERROR(DU60*$D60*'Order Details'!$B$32,\"\")","v":""},{"$f":"IFERROR($D60*DU60*'Order Details'!$B$32,\"\")","v":""},"",{"$f":"IFERROR(VLOOKUP(EA$3,'District Bids'!$C$5:$CU$511,63,0),\"\")","v":""},{"$f":"IFERROR(DY60*$D60*'Order Details'!$B$32,\"\")","v":""},{"$f":"IFERROR($D60*DY60*'Order Details'!$B$32,\"\")","v":""},""]
[null,58,"Pavement Profiling/Milling-Vendor Owns Millings 501 to 1000 ",{"$f":"'Order Details'!O17","v":0},{"$f":"IFERROR(VLOOKUP(G$3,'District Bids'!$C$5:$CU$511,64,0),\"\")","v":10},{"$f":"IFERROR(E61*$D61*'Order Details'!$B$32,\"\")","v":0},{"$f":"IFERROR($D61*E61*'Order Details'!$B$32,\"\")","v":0},"",{"$f":"IFERROR(VLOOKUP(K$3,'District Bids'!$C$5:$CU$511,64,0),\"\")","v":9.75},{"$f":"IFERROR(I61*$D61*'Order Details'!$B$32,\"\")","v":0},{"$f":"IFERROR($D61*I61*'Order Details'!$B$32,\"\")","v":0},"",{"$f":"IFERROR(VLOOKUP(O$3,'District Bids'!$C$5:$CU$511,64,0),\"\")","v":9.75},{"$f":"IFERROR(M61*$D61*'Order Details'!$B$32,\"\")","v":0},{"$f":"IFERROR($D61*M61*'Order Details'!$B$32,\"\")","v":0},"",{"$f":"IFERROR(VLOOKUP(S$3,'District Bids'!$C$5:$CU$511,64,0),\"\")","v":10.5},{"$f":"IFERROR(Q61*$D61*'Order Details'!$B$32,\"\")","v":0},{"$f":"IFERROR($D61*Q61*'Order Details'!$B$32,\"\")","v":0},"",{"$f":"IFERROR(VLOOKUP(W$3,'District Bids'!$C$5:$CU$511,64,0),\"\")","v":11.5},{"$f":"IFERROR(U61*$D61*'Order Details'!$B$32,\"\")","v":0},{"$f":"IFERROR($D61*U61*'Order Details'!$B$32,\"\")","v":0},"",{"$f":"IFERROR(VLOOKUP(AA$3,'District Bids'!$C$5:$CU$511,64,0),\"\")","v":11.5},{"$f":"IFERROR(Y61*$D61*'Order Details'!$B$32,\"\")","v":0},{"$f":"IFERROR($D61*Y61*'Order Details'!$B$32,\"\")","v":0},"",{"$f":"IFERROR(VLOOKUP(AE$3,'District Bids'!$C$5:$CU$511,64,0),\"\")","v":11.5},{"$f":"IFERROR(AC61*$D61*'Order Details'!$B$32,\"\")","v":0},{"$f":"IFERROR($D61*AC61*'Order Details'!$B$32,\"\")","v":0},"",{"$f":"IFERROR(VLOOKUP(AI$3,'District Bids'!$C$5:$CU$511,64,0),\"\")","v":11.5},{"$f":"IFERROR(AG61*$D61*'Order Details'!$B$32,\"\")","v":0},{"$f":"IFERROR($D61*AG61*'Order Details'!$B$32,\"\")","v":0},"",{"$f":"IFERROR(VLOOKUP(AM$3,'District Bids'!$C$5:$CU$511,64,0),\"\")","v":11.5},{"$f":"IFERROR(AK61*$D61*'Order Details'!$B$32,\"\")","v":0},{"$f":"IFERROR($D61*AK61*'Order Details'!$B$32,\"\")","v":0},"",{"$f":"IFERROR(VLOOKUP(AQ$3,'District Bids'!$C$5:$CU$511,64,0),\"\")","v":11.5},{"$f":"IFERROR(AO61*$D61*'Order Details'!$B$32,\"\")","v":0},{"$f":"IFERROR($D61*AO61*'Order Details'!$B$32,\"\")","v":0},"",{"$f":"IFERROR(VLOOKUP(AU$3,'District Bids'!$C$5:$CU$511,64,0),\"\")","v":""},{"$f":"IFERROR(AS61*$D61*'Order Details'!$B$32,\"\")","v":""},{"$f":"IFERROR($D61*AS61*'Order Details'!$B$32,\"\")","v":""},"",{"$f":"IFERROR(VLOOKUP(AY$3,'District Bids'!$C$5:$CU$511,64,0),\"\")","v":""},{"$f":"IFERROR(AW61*$D61*'Order Details'!$B$32,\"\")","v":""},{"$f":"IFERROR($D61*AW61*'Order Details'!$B$32,\"\")","v":""},"",{"$f":"IFERROR(VLOOKUP(BC$3,'District Bids'!$C$5:$CU$511,64,0),\"\")","v":""},{"$f":"IFERROR(BA61*$D61*'Order Details'!$B$32,\"\")","v":""},{"$f":"IFERROR($D61*BA61*'Order Details'!$B$32,\"\")","v":""},"",{"$f":"IFERROR(VLOOKUP(BG$3,'District Bids'!$C$5:$CU$511,64,0),\"\")","v":""},{"$f":"IFERROR(BE61*$D61*'Order Details'!$B$32,\"\")","v":""},{"$f":"IFERROR($D61*BE61*'Order Details'!$B$32,\"\")","v":""},"",{"$f":"IFERROR(VLOOKUP(BK$3,'District Bids'!$C$5:$CU$511,64,0),\"\")","v":""},{"$f":"IFERROR(BI61*$D61*'Order Details'!$B$32,\"\")","v":""},{"$f":"IFERROR($D61*BI61*'Order Details'!$B$32,\"\")","v":""},"",{"$f":"IFERROR(VLOOKUP(BO$3,'District Bids'!$C$5:$CU$511,64,0),\"\")","v":""},{"$f":"IFERROR(BM61*$D61*'Order Details'!$B$32,\"\")","v":""},{"$f":"IFERROR($D61*BM61*'Order Details'!$B$32,\"\")","v":""},"",{"$f":"IFERROR(VLOOKUP(BS$3,'District Bids'!$C$5:$CU$511,64,0),\"\")","v":""},{"$f":"IFERROR(BQ61*$D61*'Order Details'!$B$32,\"\")","v":""},{"$f":"IFERROR($D61*BQ61*'Order Details'!$B$32,\"\")","v":""},"",{"$f":"IFERROR(VLOOKUP(BW$3,'District Bids'!$C$5:$CU$511,64,0),\"\")","v":""},{"$f":"IFERROR(BU61*$D61*'Order Details'!$B$32,\"\")","v":""},{"$f":"IFERROR($D61*BU61*'Order Details'!$B$32,\"\")","v":""},"",{"$f":"IFERROR(VLOOKUP(CA$3,'District Bids'!$C$5:$CU$511,64,0),\"\")","v":""},{"$f":"IFERROR(BY61*$D61*'Order Details'!$B$32,\"\")","v":""},{"$f":"IFERROR($D61*BY61*'Order Details'!$B$32,\"\")","v":""},"",{"$f":"IFERROR(VLOOKUP(CE$3,'District Bids'!$C$5:$CU$511,64,0),\"\")","v":""},{"$f":"IFERROR(CC61*$D61*'Order Details'!$B$32,\"\")","v":""},{"$f":"IFERROR($D61*CC61*'Order Details'!$B$32,\"\")","v":""},"",{"$f":"IFERROR(VLOOKUP(CI$3,'District Bids'!$C$5:$CU$511,64,0),\"\")","v":""},{"$f":"IFERROR(CG61*$D61*'Order Details'!$B$32,\"\")","v":""},{"$f":"IFERROR($D61*CG61*'Order Details'!$B$32,\"\")","v":""},"",{"$f":"IFERROR(VLOOKUP(CM$3,'District Bids'!$C$5:$CU$511,64,0),\"\")","v":""},{"$f":"IFERROR(CK61*$D61*'Order Details'!$B$32,\"\")","v":""},{"$f":"IFERROR($D61*CK61*'Order Details'!$B$32,\"\")","v":""},"",{"$f":"IFERROR(VLOOKUP(CQ$3,'District Bids'!$C$5:$CU$511,64,0),\"\")","v":""},{"$f":"IFERROR(CO61*$D61*'Order Details'!$B$32,\"\")","v":""},{"$f":"IFERROR($D61*CO61*'Order Details'!$B$32,\"\")","v":""},"",{"$f":"IFERROR(VLOOKUP(CU$3,'District Bids'!$C$5:$CU$511,64,0),\"\")","v":""},{"$f":"IFERROR(CS61*$D61*'Order Details'!$B$32,\"\")","v":""},{"$f":"IFERROR($D61*CS61*'Order Details'!$B$32,\"\")","v":""},"",{"$f":"IFERROR(VLOOKUP(CY$3,'District Bids'!$C$5:$CU$511,64,0),\"\")","v":""},{"$f":"IFERROR(CW61*$D61*'Order Details'!$B$32,\"\")","v":""},{"$f":"IFERROR($D61*CW61*'Order Details'!$B$32,\"\")","v":""},"",{"$f":"IFERROR(VLOOKUP(DC$3,'District Bids'!$C$5:$CU$511,64,0),\"\")","v":""},{"$f":"IFERROR(DA61*$D61*'Order Details'!$B$32,\"\")","v":""},{"$f":"IFERROR($D61*DA61*'Order Details'!$B$32,\"\")","v":""},"",{"$f":"IFERROR(VLOOKUP(DG$3,'District Bids'!$C$5:$CU$511,64,0),\"\")","v":""},{"$f":"IFERROR(DE61*$D61*'Order Details'!$B$32,\"\")","v":""},{"$f":"IFERROR($D61*DE61*'Order Details'!$B$32,\"\")","v":""},"",{"$f":"IFERROR(VLOOKUP(DK$3,'District Bids'!$C$5:$CU$511,64,0),\"\")","v":""},{"$f":"IFERROR(DI61*$D61*'Order Details'!$B$32,\"\")","v":""},{"$f":"IFERROR($D61*DI61*'Order Details'!$B$32,\"\")","v":""},"",{"$f":"IFERROR(VLOOKUP(DO$3,'District Bids'!$C$5:$CU$511,64,0),\"\")","v":""},{"$f":"IFERROR(DM61*$D61*'Order Details'!$B$32,\"\")","v":""},{"$f":"IFERROR($D61*DM61*'Order Details'!$B$32,\"\")","v":""},"",{"$f":"IFERROR(VLOOKUP(DS$3,'District Bids'!$C$5:$CU$511,64,0),\"\")","v":""},{"$f":"IFERROR(DQ61*$D61*'Order Details'!$B$32,\"\")","v":""},{"$f":"IFERROR($D61*DQ61*'Order Details'!$B$32,\"\")","v":""},"",{"$f":"IFERROR(VLOOKUP(DW$3,'District Bids'!$C$5:$CU$511,64,0),\"\")","v":""},{"$f":"IFERROR(DU61*$D61*'Order Details'!$B$32,\"\")","v":""},{"$f":"IFERROR($D61*DU61*'Order Details'!$B$32,\"\")","v":""},"",{"$f":"IFERROR(VLOOKUP(EA$3,'District Bids'!$C$5:$CU$511,64,0),\"\")","v":""},{"$f":"IFERROR(DY61*$D61*'Order Details'!$B$32,\"\")","v":""},{"$f":"IFERROR($D61*DY61*'Order Details'!$B$32,\"\")","v":""},""]
[null,59,"Pavement Profiling/Milling-Vendor Owns Millings 1001 to 2500 ",{"$f":"'Order Details'!O18","v":0},{"$f":"IFERROR(VLOOKUP(G$3,'District Bids'!$C$5:$CU$511,65,0),\"\")","v":5.5},{"$f":"IFERROR(E62*$D62*'Order Details'!$B$32,\"\")","v":0},{"$f":"IFERROR($D62*E62*'Order Details'!$B$32,\"\")","v":0},"",{"$f":"IFERROR(VLOOKUP(K$3,'District Bids'!$C$5:$CU$511,65,0),\"\")","v":5},{"$f":"IFERROR(I62*$D62*'Order Details'!$B$32,\"\")","v":0},{"$f":"IFERROR($D62*I62*'Order Details'!$B$32,\"\")","v":0},"",{"$f":"IFERROR(VLOOKUP(O$3,'District Bids'!$C$5:$CU$511,65,0),\"\")","v":5},{"$f":"IFERROR(M62*$D62*'Order Details'!$B$32,\"\")","v":0},{"$f":"IFERROR($D62*M62*'Order Details'!$B$32,\"\")","v":0},"",{"$f":"IFERROR(VLOOKUP(S$3,'District Bids'!$C$5:$CU$511,65,0),\"\")","v":5.5},{"$f":"IFERROR(Q62*$D62*'Order Details'!$B$32,\"\")","v":0},{"$f":"IFERROR($D62*Q62*'Order Details'!$B$32,\"\")","v":0},"",{"$f":"IFERROR(VLOOKUP(W$3,'District Bids'!$C$5:$CU$511,65,0),\"\")","v":5.75},{"$f":"IFERROR(U62*$D62*'Order Details'!$B$32,\"\")","v":0},{"$f":"IFERROR($D62*U62*'Order Details'!$B$32,\"\")","v":0},"",{"$f":"IFERROR(VLOOKUP(AA$3,'District Bids'!$C$5:$CU$511,65,0),\"\")","v":5.75},{"$f":"IFERROR(Y62*$D62*'Order Details'!$B$32,\"\")","v":0},{"$f":"IFERROR($D62*Y62*'Order Details'!$B$32,\"\")","v":0},"",{"$f":"IFERROR(VLOOKUP(AE$3,'District Bids'!$C$5:$CU$511,65,0),\"\")","v":5.75},{"$f":"IFERROR(AC62*$D62*'Order Details'!$B$32,\"\")","v":0},{"$f":"IFERROR($D62*AC62*'Order Details'!$B$32,\"\")","v":0},"",{"$f":"IFERROR(VLOOKUP(AI$3,'District Bids'!$C$5:$CU$511,65,0),\"\")","v":5.75},{"$f":"IFERROR(AG62*$D62*'Order Details'!$B$32,\"\")","v":0},{"$f":"IFERROR($D62*AG62*'Order Details'!$B$32,\"\")","v":0},"",{"$f":"IFERROR(VLOOKUP(AM$3,'District Bids'!$C$5:$CU$511,65,0),\"\")","v":5.75},{"$f":"IFERROR(AK62*$D62*'Order Details'!$B$32,\"\")","v":0},{"$f":"IFERROR($D62*AK62*'Order Details'!$B$32,\"\")","v":0},"",{"$f":"IFERROR(VLOOKUP(AQ$3,'District Bids'!$C$5:$CU$511,65,0),\"\")","v":5.75},{"$f":"IFERROR(AO62*$D62*'Order Details'!$B$32,\"\")","v":0},{"$f":"IFERROR($D62*AO62*'Order Details'!$B$32,\"\")","v":0},"",{"$f":"IFERROR(VLOOKUP(AU$3,'District Bids'!$C$5:$CU$511,65,0),\"\")","v":""},{"$f":"IFERROR(AS62*$D62*'Order Details'!$B$32,\"\")","v":""},{"$f":"IFERROR($D62*AS62*'Order Details'!$B$32,\"\")","v":""},"",{"$f":"IFERROR(VLOOKUP(AY$3,'District Bids'!$C$5:$CU$511,65,0),\"\")","v":""},{"$f":"IFERROR(AW62*$D62*'Order Details'!$B$32,\"\")","v":""},{"$f":"IFERROR($D62*AW62*'Order Details'!$B$32,\"\")","v":""},"",{"$f":"IFERROR(VLOOKUP(BC$3,'District Bids'!$C$5:$CU$511,65,0),\"\")","v":""},{"$f":"IFERROR(BA62*$D62*'Order Details'!$B$32,\"\")","v":""},{"$f":"IFERROR($D62*BA62*'Order Details'!$B$32,\"\")","v":""},"",{"$f":"IFERROR(VLOOKUP(BG$3,'District Bids'!$C$5:$CU$511,65,0),\"\")","v":""},{"$f":"IFERROR(BE62*$D62*'Order Details'!$B$32,\"\")","v":""},{"$f":"IFERROR($D62*BE62*'Order Details'!$B$32,\"\")","v":""},"",{"$f":"IFERROR(VLOOKUP(BK$3,'District Bids'!$C$5:$CU$511,65,0),\"\")","v":""},{"$f":"IFERROR(BI62*$D62*'Order Details'!$B$32,\"\")","v":""},{"$f":"IFERROR($D62*BI62*'Order Details'!$B$32,\"\")","v":""},"",{"$f":"IFERROR(VLOOKUP(BO$3,'District Bids'!$C$5:$CU$511,65,0),\"\")","v":""},{"$f":"IFERROR(BM62*$D62*'Order Details'!$B$32,\"\")","v":""},{"$f":"IFERROR($D62*BM62*'Order Details'!$B$32,\"\")","v":""},"",{"$f":"IFERROR(VLOOKUP(BS$3,'District Bids'!$C$5:$CU$511,65,0),\"\")","v":""},{"$f":"IFERROR(BQ62*$D62*'Order Details'!$B$32,\"\")","v":""},{"$f":"IFERROR($D62*BQ62*'Order Details'!$B$32,\"\")","v":""},"",{"$f":"IFERROR(VLOOKUP(BW$3,'District Bids'!$C$5:$CU$511,65,0),\"\")","v":""},{"$f":"IFERROR(BU62*$D62*'Order Details'!$B$32,\"\")","v":""},{"$f":"IFERROR($D62*BU62*'Order Details'!$B$32,\"\")","v":""},"",{"$f":"IFERROR(VLOOKUP(CA$3,'District Bids'!$C$5:$CU$511,65,0),\"\")","v":""},{"$f":"IFERROR(BY62*$D62*'Order Details'!$B$32,\"\")","v":""},{"$f":"IFERROR($D62*BY62*'Order Details'!$B$32,\"\")","v":""},"",{"$f":"IFERROR(VLOOKUP(CE$3,'District Bids'!$C$5:$CU$511,65,0),\"\")","v":""},{"$f":"IFERROR(CC62*$D62*'Order Details'!$B$32,\"\")","v":""},{"$f":"IFERROR($D62*CC62*'Order Details'!$B$32,\"\")","v":""},"",{"$f":"IFERROR(VLOOKUP(CI$3,'District Bids'!$C$5:$CU$511,65,0),\"\")","v":""},{"$f":"IFERROR(CG62*$D62*'Order Details'!$B$32,\"\")","v":""},{"$f":"IFERROR($D62*CG62*'Order Details'!$B$32,\"\")","v":""},"",{"$f":"IFERROR(VLOOKUP(CM$3,'District Bids'!$C$5:$CU$511,65,0),\"\")","v":""},{"$f":"IFERROR(CK62*$D62*'Order Details'!$B$32,\"\")","v":""},{"$f":"IFERROR($D62*CK62*'Order Details'!$B$32,\"\")","v":""},"",{"$f":"IFERROR(VLOOKUP(CQ$3,'District Bids'!$C$5:$CU$511,65,0),\"\")","v":""},{"$f":"IFERROR(CO62*$D62*'Order Details'!$B$32,\"\")","v":""},{"$f":"IFERROR($D62*CO62*'Order Details'!$B$32,\"\")","v":""},"",{"$f":"IFERROR(VLOOKUP(CU$3,'District Bids'!$C$5:$CU$511,65,0),\"\")","v":""},{"$f":"IFERROR(CS62*$D62*'Order Details'!$B$32,\"\")","v":""},{"$f":"IFERROR($D62*CS62*'Order Details'!$B$32,\"\")","v":""},"",{"$f":"IFERROR(VLOOKUP(CY$3,'District Bids'!$C$5:$CU$511,65,0),\"\")","v":""},{"$f":"IFERROR(CW62*$D62*'Order Details'!$B$32,\"\")","v":""},{"$f":"IFERROR($D62*CW62*'Order Details'!$B$32,\"\")","v":""},"",{"$f":"IFERROR(VLOOKUP(DC$3,'District Bids'!$C$5:$CU$511,65,0),\"\")","v":""},{"$f":"IFERROR(DA62*$D62*'Order Details'!$B$32,\"\")","v":""},{"$f":"IFERROR($D62*DA62*'Order Details'!$B$32,\"\")","v":""},"",{"$f":"IFERROR(VLOOKUP(DG$3,'District Bids'!$C$5:$CU$511,65,0),\"\")","v":""},{"$f":"IFERROR(DE62*$D62*'Order Details'!$B$32,\"\")","v":""},{"$f":"IFERROR($D62*DE62*'Order Details'!$B$32,\"\")","v":""},"",{"$f":"IFERROR(VLOOKUP(DK$3,'District Bids'!$C$5:$CU$511,65,0),\"\")","v":""},{"$f":"IFERROR(DI62*$D62*'Order Details'!$B$32,\"\")","v":""},{"$f":"IFERROR($D62*DI62*'Order Details'!$B$32,\"\")","v":""},"",{"$f":"IFERROR(VLOOKUP(DO$3,'District Bids'!$C$5:$CU$511,65,0),\"\")","v":""},{"$f":"IFERROR(DM62*$D62*'Order Details'!$B$32,\"\")","v":""},{"$f":"IFERROR($D62*DM62*'Order Details'!$B$32,\"\")","v":""},"",{"$f":"IFERROR(VLOOKUP(DS$3,'District Bids'!$C$5:$CU$511,65,0),\"\")","v":""},{"$f":"IFERROR(DQ62*$D62*'Order Details'!$B$32,\"\")","v":""},{"$f":"IFERROR($D62*DQ62*'Order Details'!$B$32,\"\")","v":""},"",{"$f":"IFERROR(VLOOKUP(DW$3,'District Bids'!$C$5:$CU$511,65,0),\"\")","v":""},{"$f":"IFERROR(DU62*$D62*'Order Details'!$B$32,\"\")","v":""},{"$f":"IFERROR($D62*DU62*'Order Details'!$B$32,\"\")","v":""},"",{"$f":"IFERROR(VLOOKUP(EA$3,'District Bids'!$C$5:$CU$511,65,0),\"\")","v":""},{"$f":"IFERROR(DY62*$D62*'Order Details'!$B$32,\"\")","v":""},{"$f":"IFERROR($D62*DY62*'Order Details'!$B$32,\"\")","v":""},""]
[null,60,"Pavement Profiling/Milling-Vendor Owns Millings 2501 to 5000 ",{"$f":"'Order Details'!O19","v":0},{"$f":"IFERROR(VLOOKUP(G$3,'District Bids'!$C$5:$CU$511,66,0),\"\")","v":3.5},{"$f":"IFERROR(E63*$D63*'Order Details'!$B$32,\"\")","v":0},{"$f":"IFERROR($D63*E63*'Order Details'!$B$32,\"\")","v":0},"",{"$f":"IFERROR(VLOOKUP(K$3,'District Bids'!$C$5:$CU$511,66,0),\"\")","v":3.25},{"$f":"IFERROR(I63*$D63*'Order Details'!$B$32,\"\")","v":0},{"$f":"IFERROR($D63*I63*'Order Details'!$B$32,\"\")","v":0},"",{"$f":"IFERROR(VLOOKUP(O$3,'District Bids'!$C$5:$CU$511,66,0),\"\")","v":3.25},{"$f":"IFERROR(M63*$D63*'Order Details'!$B$32,\"\")","v":0},{"$f":"IFERROR($D63*M63*'Order Details'!$B$32,\"\")","v":0},"",{"$f":"IFERROR(VLOOKUP(S$3,'District Bids'!$C$5:$CU$511,66,0),\"\")","v":3.6},{"$f":"IFERROR(Q63*$D63*'Order Details'!$B$32,\"\")","v":0},{"$f":"IFERROR($D63*Q63*'Order Details'!$B$32,\"\")","v":0},"",{"$f":"IFERROR(VLOOKUP(W$3,'District Bids'!$C$5:$CU$511,66,0),\"\")","v":3.85},{"$f":"IFERROR(U63*$D63*'Order Details'!$B$32,\"\")","v":0},{"$f":"IFERROR($D63*U63*'Order Details'!$B$32,\"\")","v":0},"",{"$f":"IFERROR(VLOOKUP(AA$3,'District Bids'!$C$5:$CU$511,66,0),\"\")","v":3.85},{"$f":"IFERROR(Y63*$D63*'Order Details'!$B$32,\"\")","v":0},{"$f":"IFERROR($D63*Y63*'Order Details'!$B$32,\"\")","v":0},"",{"$f":"IFERROR(VLOOKUP(AE$3,'District Bids'!$C$5:$CU$511,66,0),\"\")","v":3.85},{"$f":"IFERROR(AC63*$D63*'Order Details'!$B$32,\"\")","v":0},{"$f":"IFERROR($D63*AC63*'Order Details'!$B$32,\"\")","v":0},"",{"$f":"IFERROR(VLOOKUP(AI$3,'District Bids'!$C$5:$CU$511,66,0),\"\")","v":3.85},{"$f":"IFERROR(AG63*$D63*'Order Details'!$B$32,\"\")","v":0},{"$f":"IFERROR($D63*AG63*'Order Details'!$B$32,\"\")","v":0},"",{"$f":"IFERROR(VLOOKUP(AM$3,'District Bids'!$C$5:$CU$511,66,0),\"\")","v":3.85},{"$f":"IFERROR(AK63*$D63*'Order Details'!$B$32,\"\")","v":0},{"$f":"IFERROR($D63*AK63*'Order Details'!$B$32,\"\")","v":0},"",{"$f":"IFERROR(VLOOKUP(AQ$3,'District Bids'!$C$5:$CU$511,66,0),\"\")","v":3.85},{"$f":"IFERROR(AO63*$D63*'Order Details'!$B$32,\"\")","v":0},{"$f":"IFERROR($D63*AO63*'Order Details'!$B$32,\"\")","v":0},"",{"$f":"IFERROR(VLOOKUP(AU$3,'District Bids'!$C$5:$CU$511,66,0),\"\")","v":""},{"$f":"IFERROR(AS63*$D63*'Order Details'!$B$32,\"\")","v":""},{"$f":"IFERROR($D63*AS63*'Order Details'!$B$32,\"\")","v":""},"",{"$f":"IFERROR(VLOOKUP(AY$3,'District Bids'!$C$5:$CU$511,66,0),\"\")","v":""},{"$f":"IFERROR(AW63*$D63*'Order Details'!$B$32,\"\")","v":""},{"$f":"IFERROR($D63*AW63*'Order Details'!$B$32,\"\")","v":""},"",{"$f":"IFERROR(VLOOKUP(BC$3,'District Bids'!$C$5:$CU$511,66,0),\"\")","v":""},{"$f":"IFERROR(BA63*$D63*'Order Details'!$B$32,\"\")","v":""},{"$f":"IFERROR($D63*BA63*'Order Details'!$B$32,\"\")","v":""},"",{"$f":"IFERROR(VLOOKUP(BG$3,'District Bids'!$C$5:$CU$511,66,0),\"\")","v":""},{"$f":"IFERROR(BE63*$D63*'Order Details'!$B$32,\"\")","v":""},{"$f":"IFERROR($D63*BE63*'Order Details'!$B$32,\"\")","v":""},"",{"$f":"IFERROR(VLOOKUP(BK$3,'District Bids'!$C$5:$CU$511,66,0),\"\")","v":""},{"$f":"IFERROR(BI63*$D63*'Order Details'!$B$32,\"\")","v":""},{"$f":"IFERROR($D63*BI63*'Order Details'!$B$32,\"\")","v":""},"",{"$f":"IFERROR(VLOOKUP(BO$3,'District Bids'!$C$5:$CU$511,66,0),\"\")","v":""},{"$f":"IFERROR(BM63*$D63*'Order Details'!$B$32,\"\")","v":""},{"$f":"IFERROR($D63*BM63*'Order Details'!$B$32,\"\")","v":""},"",{"$f":"IFERROR(VLOOKUP(BS$3,'District Bids'!$C$5:$CU$511,66,0),\"\")","v":""},{"$f":"IFERROR(BQ63*$D63*'Order Details'!$B$32,\"\")","v":""},{"$f":"IFERROR($D63*BQ63*'Order Details'!$B$32,\"\")","v":""},"",{"$f":"IFERROR(VLOOKUP(BW$3,'District Bids'!$C$5:$CU$511,66,0),\"\")","v":""},{"$f":"IFERROR(BU63*$D63*'Order Details'!$B$32,\"\")","v":""},{"$f":"IFERROR($D63*BU63*'Order Details'!$B$32,\"\")","v":""},"",{"$f":"IFERROR(VLOOKUP(CA$3,'District Bids'!$C$5:$CU$511,66,0),\"\")","v":""},{"$f":"IFERROR(BY63*$D63*'Order Details'!$B$32,\"\")","v":""},{"$f":"IFERROR($D63*BY63*'Order Details'!$B$32,\"\")","v":""},"",{"$f":"IFERROR(VLOOKUP(CE$3,'District Bids'!$C$5:$CU$511,66,0),\"\")","v":""},{"$f":"IFERROR(CC63*$D63*'Order Details'!$B$32,\"\")","v":""},{"$f":"IFERROR($D63*CC63*'Order Details'!$B$32,\"\")","v":""},"",{"$f":"IFERROR(VLOOKUP(CI$3,'District Bids'!$C$5:$CU$511,66,0),\"\")","v":""},{"$f":"IFERROR(CG63*$D63*'Order Details'!$B$32,\"\")","v":""},{"$f":"IFERROR($D63*CG63*'Order Details'!$B$32,\"\")","v":""},"",{"$f":"IFERROR(VLOOKUP(CM$3,'District Bids'!$C$5:$CU$511,66,0),\"\")","v":""},{"$f":"IFERROR(CK63*$D63*'Order Details'!$B$32,\"\")","v":""},{"$f":"IFERROR($D63*CK63*'Order Details'!$B$32,\"\")","v":""},"",{"$f":"IFERROR(VLOOKUP(CQ$3,'District Bids'!$C$5:$CU$511,66,0),\"\")","v":""},{"$f":"IFERROR(CO63*$D63*'Order Details'!$B$32,\"\")","v":""},{"$f":"IFERROR($D63*CO63*'Order Details'!$B$32,\"\")","v":""},"",{"$f":"IFERROR(VLOOKUP(CU$3,'District Bids'!$C$5:$CU$511,66,0),\"\")","v":""},{"$f":"IFERROR(CS63*$D63*'Order Details'!$B$32,\"\")","v":""},{"$f":"IFERROR($D63*CS63*'Order Details'!$B$32,\"\")","v":""},"",{"$f":"IFERROR(VLOOKUP(CY$3,'District Bids'!$C$5:$CU$511,66,0),\"\")","v":""},{"$f":"IFERROR(CW63*$D63*'Order Details'!$B$32,\"\")","v":""},{"$f":"IFERROR($D63*CW63*'Order Details'!$B$32,\"\")","v":""},"",{"$f":"IFERROR(VLOOKUP(DC$3,'District Bids'!$C$5:$CU$511,66,0),\"\")","v":""},{"$f":"IFERROR(DA63*$D63*'Order Details'!$B$32,\"\")","v":""},{"$f":"IFERROR($D63*DA63*'Order Details'!$B$32,\"\")","v":""},"",{"$f":"IFERROR(VLOOKUP(DG$3,'District Bids'!$C$5:$CU$511,66,0),\"\")","v":""},{"$f":"IFERROR(DE63*$D63*'Order Details'!$B$32,\"\")","v":""},{"$f":"IFERROR($D63*DE63*'Order Details'!$B$32,\"\")","v":""},"",{"$f":"IFERROR(VLOOKUP(DK$3,'District Bids'!$C$5:$CU$511,66,0),\"\")","v":""},{"$f":"IFERROR(DI63*$D63*'Order Details'!$B$32,\"\")","v":""},{"$f":"IFERROR($D63*DI63*'Order Details'!$B$32,\"\")","v":""},"",{"$f":"IFERROR(VLOOKUP(DO$3,'District Bids'!$C$5:$CU$511,66,0),\"\")","v":""},{"$f":"IFERROR(DM63*$D63*'Order Details'!$B$32,\"\")","v":""},{"$f":"IFERROR($D63*DM63*'Order Details'!$B$32,\"\")","v":""},"",{"$f":"IFERROR(VLOOKUP(DS$3,'District Bids'!$C$5:$CU$511,66,0),\"\")","v":""},{"$f":"IFERROR(DQ63*$D63*'Order Details'!$B$32,\"\")","v":""},{"$f":"IFERROR($D63*DQ63*'Order Details'!$B$32,\"\")","v":""},"",{"$f":"IFERROR(VLOOKUP(DW$3,'District Bids'!$C$5:$CU$511,66,0),\"\")","v":""},{"$f":"IFERROR(DU63*$D63*'Order Details'!$B$32,\"\")","v":""},{"$f":"IFERROR($D63*DU63*'Order Details'!$B$32,\"\")","v":""},"",{"$f":"IFERROR(VLOOKUP(EA$3,'District Bids'!$C$5:$CU$511,66,0),\"\")","v":""},{"$f":"IFERROR(DY63*$D63*'Order Details'!$B$32,\"\")","v":""},{"$f":"IFERROR($D63*DY63*'Order Details'!$B$32,\"\")","v":""},""]
[null,61,"Pavement Profiling/Milling-Vendor Owns Millings 5001+  ",{"$f":"'Order Details'!O20","v":0},{"$f":"IFERROR(VLOOKUP(G$3,'District Bids'!$C$5:$CU$511,67,0),\"\")","v":2.75},{"$f":"IFERROR(E64*$D64*'Order Details'!$B$32,\"\")","v":0},{"$f":"IFERROR($D64*E64*'Order Details'!$B$32,\"\")","v":0},"",{"$f":"IFERROR(VLOOKUP(K$3,'District Bids'!$C$5:$CU$511,67,0),\"\")","v":2.25},{"$f":"IFERROR(I64*$D64*'Order Details'!$B$32,\"\")","v":0},{"$f":"IFERROR($D64*I64*'Order Details'!$B$32,\"\")","v":0},"",{"$f":"IFERROR(VLOOKUP(O$3,'District Bids'!$C$5:$CU$511,67,0),\"\")","v":2.25},{"$f":"IFERROR(M64*$D64*'Order Details'!$B$32,\"\")","v":0},{"$f":"IFERROR($D64*M64*'Order Details'!$B$32,\"\")","v":0},"",{"$f":"IFERROR(VLOOKUP(S$3,'District Bids'!$C$5:$CU$511,67,0),\"\")","v":2.5},{"$f":"IFERROR(Q64*$D64*'Order Details'!$B$32,\"\")","v":0},{"$f":"IFERROR($D64*Q64*'Order Details'!$B$32,\"\")","v":0},"",{"$f":"IFERROR(VLOOKUP(W$3,'District Bids'!$C$5:$CU$511,67,0),\"\")","v":2.75},{"$f":"IFERROR(U64*$D64*'Order Details'!$B$32,\"\")","v":0},{"$f":"IFERROR($D64*U64*'Order Details'!$B$32,\"\")","v":0},"",{"$f":"IFERROR(VLOOKUP(AA$3,'District Bids'!$C$5:$CU$511,67,0),\"\")","v":2.75},{"$f":"IFERROR(Y64*$D64*'Order Details'!$B$32,\"\")","v":0},{"$f":"IFERROR($D64*Y64*'Order Details'!$B$32,\"\")","v":0},"",{"$f":"IFERROR(VLOOKUP(AE$3,'District Bids'!$C$5:$CU$511,67,0),\"\")","v":2.75},{"$f":"IFERROR(AC64*$D64*'Order Details'!$B$32,\"\")","v":0},{"$f":"IFERROR($D64*AC64*'Order Details'!$B$32,\"\")","v":0},"",{"$f":"IFERROR(VLOOKUP(AI$3,'District Bids'!$C$5:$CU$511,67,0),\"\")","v":2.75},{"$f":"IFERROR(AG64*$D64*'Order Details'!$B$32,\"\")","v":0},{"$f":"IFERROR($D64*AG64*'Order Details'!$B$32,\"\")","v":0},"",{"$f":"IFERROR(VLOOKUP(AM$3,'District Bids'!$C$5:$CU$511,67,0),\"\")","v":2.75},{"$f":"IFERROR(AK64*$D64*'Order Details'!$B$32,\"\")","v":0},{"$f":"IFERROR($D64*AK64*'Order Details'!$B$32,\"\")","v":0},"",{"$f":"IFERROR(VLOOKUP(AQ$3,'District Bids'!$C$5:$CU$511,67,0),\"\")","v":2.75},{"$f":"IFERROR(AO64*$D64*'Order Details'!$B$32,\"\")","v":0},{"$f":"IFERROR($D64*AO64*'Order Details'!$B$32,\"\")","v":0},"",{"$f":"IFERROR(VLOOKUP(AU$3,'District Bids'!$C$5:$CU$511,67,0),\"\")","v":""},{"$f":"IFERROR(AS64*$D64*'Order Details'!$B$32,\"\")","v":""},{"$f":"IFERROR($D64*AS64*'Order Details'!$B$32,\"\")","v":""},"",{"$f":"IFERROR(VLOOKUP(AY$3,'District Bids'!$C$5:$CU$511,67,0),\"\")","v":""},{"$f":"IFERROR(AW64*$D64*'Order Details'!$B$32,\"\")","v":""},{"$f":"IFERROR($D64*AW64*'Order Details'!$B$32,\"\")","v":""},"",{"$f":"IFERROR(VLOOKUP(BC$3,'District Bids'!$C$5:$CU$511,67,0),\"\")","v":""},{"$f":"IFERROR(BA64*$D64*'Order Details'!$B$32,\"\")","v":""},{"$f":"IFERROR($D64*BA64*'Order Details'!$B$32,\"\")","v":""},"",{"$f":"IFERROR(VLOOKUP(BG$3,'District Bids'!$C$5:$CU$511,67,0),\"\")","v":""},{"$f":"IFERROR(BE64*$D64*'Order Details'!$B$32,\"\")","v":""},{"$f":"IFERROR($D64*BE64*'Order Details'!$B$32,\"\")","v":""},"",{"$f":"IFERROR(VLOOKUP(BK$3,'District Bids'!$C$5:$CU$511,67,0),\"\")","v":""},{"$f":"IFERROR(BI64*$D64*'Order Details'!$B$32,\"\")","v":""},{"$f":"IFERROR($D64*BI64*'Order Details'!$B$32,\"\")","v":""},"",{"$f":"IFERROR(VLOOKUP(BO$3,'District Bids'!$C$5:$CU$511,67,0),\"\")","v":""},{"$f":"IFERROR(BM64*$D64*'Order Details'!$B$32,\"\")","v":""},{"$f":"IFERROR($D64*BM64*'Order Details'!$B$32,\"\")","v":""},"",{"$f":"IFERROR(VLOOKUP(BS$3,'District Bids'!$C$5:$CU$511,67,0),\"\")","v":""},{"$f":"IFERROR(BQ64*$D64*'Order Details'!$B$32,\"\")","v":""},{"$f":"IFERROR($D64*BQ64*'Order Details'!$B$32,\"\")","v":""},"",{"$f":"IFERROR(VLOOKUP(BW$3,'District Bids'!$C$5:$CU$511,67,0),\"\")","v":""},{"$f":"IFERROR(BU64*$D64*'Order Details'!$B$32,\"\")","v":""},{"$f":"IFERROR($D64*BU64*'Order Details'!$B$32,\"\")","v":""},"",{"$f":"IFERROR(VLOOKUP(CA$3,'District Bids'!$C$5:$CU$511,67,0),\"\")","v":""},{"$f":"IFERROR(BY64*$D64*'Order Details'!$B$32,\"\")","v":""},{"$f":"IFERROR($D64*BY64*'Order Details'!$B$32,\"\")","v":""},"",{"$f":"IFERROR(VLOOKUP(CE$3,'District Bids'!$C$5:$CU$511,67,0),\"\")","v":""},{"$f":"IFERROR(CC64*$D64*'Order Details'!$B$32,\"\")","v":""},{"$f":"IFERROR($D64*CC64*'Order Details'!$B$32,\"\")","v":""},"",{"$f":"IFERROR(VLOOKUP(CI$3,'District Bids'!$C$5:$CU$511,67,0),\"\")","v":""},{"$f":"IFERROR(CG64*$D64*'Order Details'!$B$32,\"\")","v":""},{"$f":"IFERROR($D64*CG64*'Order Details'!$B$32,\"\")","v":""},"",{"$f":"IFERROR(VLOOKUP(CM$3,'District Bids'!$C$5:$CU$511,67,0),\"\")","v":""},{"$f":"IFERROR(CK64*$D64*'Order Details'!$B$32,\"\")","v":""},{"$f":"IFERROR($D64*CK64*'Order Details'!$B$32,\"\")","v":""},"",{"$f":"IFERROR(VLOOKUP(CQ$3,'District Bids'!$C$5:$CU$511,67,0),\"\")","v":""},{"$f":"IFERROR(CO64*$D64*'Order Details'!$B$32,\"\")","v":""},{"$f":"IFERROR($D64*CO64*'Order Details'!$B$32,\"\")","v":""},"",{"$f":"IFERROR(VLOOKUP(CU$3,'District Bids'!$C$5:$CU$511,67,0),\"\")","v":""},{"$f":"IFERROR(CS64*$D64*'Order Details'!$B$32,\"\")","v":""},{"$f":"IFERROR($D64*CS64*'Order Details'!$B$32,\"\")","v":""},"",{"$f":"IFERROR(VLOOKUP(CY$3,'District Bids'!$C$5:$CU$511,67,0),\"\")","v":""},{"$f":"IFERROR(CW64*$D64*'Order Details'!$B$32,\"\")","v":""},{"$f":"IFERROR($D64*CW64*'Order Details'!$B$32,\"\")","v":""},"",{"$f":"IFERROR(VLOOKUP(DC$3,'District Bids'!$C$5:$CU$511,67,0),\"\")","v":""},{"$f":"IFERROR(DA64*$D64*'Order Details'!$B$32,\"\")","v":""},{"$f":"IFERROR($D64*DA64*'Order Details'!$B$32,\"\")","v":""},"",{"$f":"IFERROR(VLOOKUP(DG$3,'District Bids'!$C$5:$CU$511,67,0),\"\")","v":""},{"$f":"IFERROR(DE64*$D64*'Order Details'!$B$32,\"\")","v":""},{"$f":"IFERROR($D64*DE64*'Order Details'!$B$32,\"\")","v":""},"",{"$f":"IFERROR(VLOOKUP(DK$3,'District Bids'!$C$5:$CU$511,67,0),\"\")","v":""},{"$f":"IFERROR(DI64*$D64*'Order Details'!$B$32,\"\")","v":""},{"$f":"IFERROR($D64*DI64*'Order Details'!$B$32,\"\")","v":""},"",{"$f":"IFERROR(VLOOKUP(DO$3,'District Bids'!$C$5:$CU$511,67,0),\"\")","v":""},{"$f":"IFERROR(DM64*$D64*'Order Details'!$B$32,\"\")","v":""},{"$f":"IFERROR($D64*DM64*'Order Details'!$B$32,\"\")","v":""},"",{"$f":"IFERROR(VLOOKUP(DS$3,'District Bids'!$C$5:$CU$511,67,0),\"\")","v":""},{"$f":"IFERROR(DQ64*$D64*'Order Details'!$B$32,\"\")","v":""},{"$f":"IFERROR($D64*DQ64*'Order Details'!$B$32,\"\")","v":""},"",{"$f":"IFERROR(VLOOKUP(DW$3,'District Bids'!$C$5:$CU$511,67,0),\"\")","v":""},{"$f":"IFERROR(DU64*$D64*'Order Details'!$B$32,\"\")","v":""},{"$f":"IFERROR($D64*DU64*'Order Details'!$B$32,\"\")","v":""},"",{"$f":"IFERROR(VLOOKUP(EA$3,'District Bids'!$C$5:$CU$511,67,0),\"\")","v":""},{"$f":"IFERROR(DY64*$D64*'Order Details'!$B$32,\"\")","v":""},{"$f":"IFERROR($D64*DY64*'Order Details'!$B$32,\"\")","v":""},""]
[null,62,"Mobilization - Pavement Profiling/Milling ",{"$f":"'Order Details'!O21","v":0},{"$f":"IFERROR(VLOOKUP(G$3,'District Bids'!$C$5:$CU$511,68,0),\"\")","v":3200},0,0,"",{"$f":"IFERROR(VLOOKUP(K$3,'District Bids'!$C$5:$CU$511,68,0),\"\")","v":3250},{"$f":"IFERROR(I65*$D65,\"\")","v":0},{"$f":"IFERROR($D65*I65,\"\")","v":0},"",{"$f":"IFERROR(VLOOKUP(O$3,'District Bids'!$C$5:$CU$511,68,0),\"\")","v":3250},{"$f":"IFERROR(M65*$D65,\"\")","v":0},{"$f":"IFERROR($D65*M65,\"\")","v":0},"",{"$f":"IFERROR(VLOOKUP(S$3,'District Bids'!$C$5:$CU$511,68,0),\"\")","v":4000},{"$f":"IFERROR(Q65*$D65,\"\")","v":0},{"$f":"IFERROR($D65*Q65,\"\")","v":0},"",{"$f":"IFERROR(VLOOKUP(W$3,'District Bids'!$C$5:$CU$511,68,0),\"\")","v":3500},{"$f":"IFERROR(U65*$D65,\"\")","v":0},{"$f":"IFERROR($D65*U65,\"\")","v":0},"",{"$f":"IFERROR(VLOOKUP(AA$3,'District Bids'!$C$5:$CU$511,68,0),\"\")","v":3500},{"$f":"IFERROR(Y65*$D65,\"\")","v":0},{"$f":"IFERROR($D65*Y65,\"\")","v":0},"",{"$f":"IFERROR(VLOOKUP(AE$3,'District Bids'!$C$5:$CU$511,68,0),\"\")","v":3500},{"$f":"IFERROR(AC65*$D65,\"\")","v":0},{"$f":"IFERROR($D65*AC65,\"\")","v":0},"",{"$f":"IFERROR(VLOOKUP(AI$3,'District Bids'!$C$5:$CU$511,68,0),\"\")","v":3500},{"$f":"IFERROR(AG65*$D65,\"\")","v":0},{"$f":"IFERROR($D65*AG65,\"\")","v":0},"",{"$f":"IFERROR(VLOOKUP(AM$3,'District Bids'!$C$5:$CU$511,68,0),\"\")","v":3500},{"$f":"IFERROR(AK65*$D65,\"\")","v":0},{"$f":"IFERROR($D65*AK65,\"\")","v":0},"",{"$f":"IFERROR(VLOOKUP(AQ$3,'District Bids'!$C$5:$CU$511,68,0),\"\")","v":3500},{"$f":"IFERROR(AO65*$D65,\"\")","v":0},{"$f":"IFERROR($D65*AO65,\"\")","v":0},"",{"$f":"IFERROR(VLOOKUP(AU$3,'District Bids'!$C$5:$CU$511,68,0),\"\")","v":""},{"$f":"IFERROR(AS65*$D65,\"\")","v":""},{"$f":"IFERROR($D65*AS65,\"\")","v":""},"",{"$f":"IFERROR(VLOOKUP(AY$3,'District Bids'!$C$5:$CU$511,68,0),\"\")","v":""},{"$f":"IFERROR(AW65*$D65,\"\")","v":""},{"$f":"IFERROR($D65*AW65,\"\")","v":""},"",{"$f":"IFERROR(VLOOKUP(BC$3,'District Bids'!$C$5:$CU$511,68,0),\"\")","v":""},{"$f":"IFERROR(BA65*$D65,\"\")","v":""},{"$f":"IFERROR($D65*BA65,\"\")","v":""},"",{"$f":"IFERROR(VLOOKUP(BG$3,'District Bids'!$C$5:$CU$511,68,0),\"\")","v":""},{"$f":"IFERROR(BE65*$D65,\"\")","v":""},{"$f":"IFERROR($D65*BE65,\"\")","v":""},"",{"$f":"IFERROR(VLOOKUP(BK$3,'District Bids'!$C$5:$CU$511,68,0),\"\")","v":""},{"$f":"IFERROR(BI65*$D65,\"\")","v":""},{"$f":"IFERROR($D65*BI65,\"\")","v":""},"",{"$f":"IFERROR(VLOOKUP(BO$3,'District Bids'!$C$5:$CU$511,68,0),\"\")","v":""},{"$f":"IFERROR(BM65*$D65,\"\")","v":""},{"$f":"IFERROR($D65*BM65,\"\")","v":""},"",{"$f":"IFERROR(VLOOKUP(BS$3,'District Bids'!$C$5:$CU$511,68,0),\"\")","v":""},{"$f":"IFERROR(BQ65*$D65,\"\")","v":""},{"$f":"IFERROR($D65*BQ65,\"\")","v":""},"",{"$f":"IFERROR(VLOOKUP(BW$3,'District Bids'!$C$5:$CU$511,68,0),\"\")","v":""},{"$f":"IFERROR(BU65*$D65,\"\")","v":""},{"$f":"IFERROR($D65*BU65,\"\")","v":""},"",{"$f":"IFERROR(VLOOKUP(CA$3,'District Bids'!$C$5:$CU$511,68,0),\"\")","v":""},{"$f":"IFERROR(BY65*$D65,\"\")","v":""},{"$f":"IFERROR($D65*BY65,\"\")","v":""},"",{"$f":"IFERROR(VLOOKUP(CE$3,'District Bids'!$C$5:$CU$511,68,0),\"\")","v":""},{"$f":"IFERROR(CC65*$D65,\"\")","v":""},{"$f":"IFERROR($D65*CC65,\"\")","v":""},"",{"$f":"IFERROR(VLOOKUP(CI$3,'District Bids'!$C$5:$CU$511,68,0),\"\")","v":""},{"$f":"IFERROR(CG65*$D65,\"\")","v":""},{"$f":"IFERROR($D65*CG65,\"\")","v":""},"",{"$f":"IFERROR(VLOOKUP(CM$3,'District Bids'!$C$5:$CU$511,68,0),\"\")","v":""},{"$f":"IFERROR(CK65*$D65,\"\")","v":""},{"$f":"IFERROR($D65*CK65,\"\")","v":""},"",{"$f":"IFERROR(VLOOKUP(CQ$3,'District Bids'!$C$5:$CU$511,68,0),\"\")","v":""},{"$f":"IFERROR(CO65*$D65,\"\")","v":""},{"$f":"IFERROR($D65*CO65,\"\")","v":""},"",{"$f":"IFERROR(VLOOKUP(CU$3,'District Bids'!$C$5:$CU$511,68,0),\"\")","v":""},{"$f":"IFERROR(CS65*$D65,\"\")","v":""},{"$f":"IFERROR($D65*CS65,\"\")","v":""},"",{"$f":"IFERROR(VLOOKUP(CY$3,'District Bids'!$C$5:$CU$511,68,0),\"\")","v":""},{"$f":"IFERROR(CW65*$D65,\"\")","v":""},{"$f":"IFERROR($D65*CW65,\"\")","v":""},"",{"$f":"IFERROR(VLOOKUP(DC$3,'District Bids'!$C$5:$CU$511,68,0),\"\")","v":""},{"$f":"IFERROR(DA65*$D65,\"\")","v":""},{"$f":"IFERROR($D65*DA65,\"\")","v":""},"",{"$f":"IFERROR(VLOOKUP(DG$3,'District Bids'!$C$5:$CU$511,68,0),\"\")","v":""},{"$f":"IFERROR(DE65*$D65,\"\")","v":""},{"$f":"IFERROR($D65*DE65,\"\")","v":""},"",{"$f":"IFERROR(VLOOKUP(DK$3,'District Bids'!$C$5:$CU$511,68,0),\"\")","v":""},{"$f":"IFERROR(DI65*$D65,\"\")","v":""},{"$f":"IFERROR($D65*DI65,\"\")","v":""},"",{"$f":"IFERROR(VLOOKUP(DO$3,'District Bids'!$C$5:$CU$511,68,0),\"\")","v":""},{"$f":"IFERROR(DM65*$D65,\"\")","v":""},{"$f":"IFERROR($D65*DM65,\"\")","v":""},"",{"$f":"IFERROR(VLOOKUP(DS$3,'District Bids'!$C$5:$CU$511,68,0),\"\")","v":""},{"$f":"IFERROR(DQ65*$D65,\"\")","v":""},{"$f":"IFERROR($D65*DQ65,\"\")","v":""},"",{"$f":"IFERROR(VLOOKUP(DW$3,'District Bids'!$C$5:$CU$511,68,0),\"\")","v":""},{"$f":"IFERROR(DU65*$D65,\"\")","v":""},{"$f":"IFERROR($D65*DU65,\"\")","v":""},"",{"$f":"IFERROR(VLOOKUP(EA$3,'District Bids'!$C$5:$CU$511,68,0),\"\")","v":""},{"$f":"IFERROR(DY65*$D65,\"\")","v":""},{"$f":"IFERROR($D65*DY65,\"\")","v":""},""]
[null,65,"Pavement Repair - Asphalt Base II",{"$f":"'Order Details'!O22","v":0},{"$f":"IFERROR(VLOOKUP(G$3,'District Bids'!$C$5:$CU$511,71,0),\"\")","v":350},0,0,"",{"$f":"IFERROR(VLOOKUP(K$3,'District Bids'!$C$5:$CU$511,71,0),\"\")","v":345},0,0,"",{"$f":"IFERROR(VLOOKUP(O$3,'District Bids'!$C$5:$CU$511,71,0),\"\")","v":345},0,0,"",{"$f":"IFERROR(VLOOKUP(S$3,'District Bids'!$C$5:$CU$511,71,0),\"\")","v":350},0,0,"",{"$f":"IFERROR(VLOOKUP(W$3,'District Bids'!$C$5:$CU$511,71,0),\"\")","v":350},0,0,"",{"$f":"IFERROR(VLOOKUP(AA$3,'District Bids'!$C$5:$CU$511,71,0),\"\")","v":350},0,0,"",{"$f":"IFERROR(VLOOKUP(AE$3,'District Bids'!$C$5:$CU$511,71,0),\"\")","v":350},0,0,"",{"$f":"IFERROR(VLOOKUP(AI$3,'District Bids'!$C$5:$CU$511,71,0),\"\")","v":350},0,0,"",{"$f":"IFERROR(VLOOKUP(AM$3,'District Bids'!$C$5:$CU$511,71,0),\"\")","v":350},0,0,"",{"$f":"IFERROR(VLOOKUP(AQ$3,'District Bids'!$C$5:$CU$511,71,0),\"\")","v":350},0,0,"",{"$f":"IFERROR(VLOOKUP(AU$3,'District Bids'!$C$5:$CU$511,71,0),\"\")","v":""},"","","",{"$f":"IFERROR(VLOOKUP(AY$3,'District Bids'!$C$5:$CU$511,71,0),\"\")","v":""},"","","",{"$f":"IFERROR(VLOOKUP(BC$3,'District Bids'!$C$5:$CU$511,71,0),\"\")","v":""},"","","",{"$f":"IFERROR(VLOOKUP(BG$3,'District Bids'!$C$5:$CU$511,71,0),\"\")","v":""},"","","",{"$f":"IFERROR(VLOOKUP(BK$3,'District Bids'!$C$5:$CU$511,71,0),\"\")","v":""},"","","",{"$f":"IFERROR(VLOOKUP(BO$3,'District Bids'!$C$5:$CU$511,71,0),\"\")","v":""},"","","",{"$f":"IFERROR(VLOOKUP(BS$3,'District Bids'!$C$5:$CU$511,71,0),\"\")","v":""},"","","",{"$f":"IFERROR(VLOOKUP(BW$3,'District Bids'!$C$5:$CU$511,71,0),\"\")","v":""},"","","",{"$f":"IFERROR(VLOOKUP(CA$3,'District Bids'!$C$5:$CU$511,71,0),\"\")","v":""},"","","",{"$f":"IFERROR(VLOOKUP(CE$3,'District Bids'!$C$5:$CU$511,71,0),\"\")","v":""},"","","",{"$f":"IFERROR(VLOOKUP(CI$3,'District Bids'!$C$5:$CU$511,71,0),\"\")","v":""},"","","",{"$f":"IFERROR(VLOOKUP(CM$3,'District Bids'!$C$5:$CU$511,71,0),\"\")","v":""},"","","",{"$f":"IFERROR(VLOOKUP(CQ$3,'District Bids'!$C$5:$CU$511,71,0),\"\")","v":""},"","","",{"$f":"IFERROR(VLOOKUP(CU$3,'District Bids'!$C$5:$CU$511,71,0),\"\")","v":""},"","","",{"$f":"IFERROR(VLOOKUP(CY$3,'District Bids'!$C$5:$CU$511,71,0),\"\")","v":""},"","","",{"$f":"IFERROR(VLOOKUP(DC$3,'District Bids'!$C$5:$CU$511,71,0),\"\")","v":""},"","","",{"$f":"IFERROR(VLOOKUP(DG$3,'District Bids'!$C$5:$CU$511,71,0),\"\")","v":""},"","","",{"$f":"IFERROR(VLOOKUP(DK$3,'District Bids'!$C$5:$CU$511,71,0),\"\")","v":""},"","","",{"$f":"IFERROR(VLOOKUP(DO$3,'District Bids'!$C$5:$CU$511,71,0),\"\")","v":""},"","","",{"$f":"IFERROR(VLOOKUP(DS$3,'District Bids'!$C$5:$CU$511,71,0),\"\")","v":""},"","","",{"$f":"IFERROR(VLOOKUP(DW$3,'District Bids'!$C$5:$CU$511,71,0),\"\")","v":""},"","","",{"$f":"IFERROR(VLOOKUP(EA$3,'District Bids'!$C$5:$CU$511,71,0),\"\")","v":""},"","",""]
[null,66,"Asphalt HPTO - SP496 - PG 64E-22 ordered 400 Ton increments",{"$f":"'Order Details'!O23","v":0},{"$f":"IFERROR(VLOOKUP(G$3,'District Bids'!$C$5:$CU$511,72,0),\"\")","v":0},0,{"$f":"IFERROR(IF(E$67=0,0,($D$67*E$67+($D$67*'Complicated Price Adjustment'!$E49))),\"\")","v":0},"",{"$f":"IFERROR(VLOOKUP(K$3,'District Bids'!$C$5:$CU$511,72,0),\"\")","v":0},0,{"$f":"IFERROR(IF(I$67=0,0,($D$67*I$67+($D$67*'Complicated Price Adjustment'!$E49))),\"\")","v":0},"",{"$f":"IFERROR(VLOOKUP(O$3,'District Bids'!$C$5:$CU$511,72,0),\"\")","v":0},0,{"$f":"IFERROR(IF(M$67=0,0,($D$67*M$67+($D$67*'Complicated Price Adjustment'!$E49))),\"\")","v":0},"",{"$f":"IFERROR(VLOOKUP(S$3,'District Bids'!$C$5:$CU$511,72,0),\"\")","v":0},0,{"$f":"IFERROR(IF(Q$67=0,0,($D$67*Q$67+($D$67*'Complicated Price Adjustment'!$E49))),\"\")","v":0},"",{"$f":"IFERROR(VLOOKUP(W$3,'District Bids'!$C$5:$CU$511,72,0),\"\")","v":0},0,{"$f":"IFERROR(IF(U$67=0,0,($D$67*U$67+($D$67*'Complicated Price Adjustment'!$E49))),\"\")","v":0},"",{"$f":"IFERROR(VLOOKUP(AA$3,'District Bids'!$C$5:$CU$511,72,0),\"\")","v":0},0,{"$f":"IFERROR(IF(Y$67=0,0,($D$67*Y$67+($D$67*'Complicated Price Adjustment'!$E49))),\"\")","v":0},"",{"$f":"IFERROR(VLOOKUP(AE$3,'District Bids'!$C$5:$CU$511,72,0),\"\")","v":0},0,{"$f":"IFERROR(IF(AC$67=0,0,($D$67*AC$67+($D$67*'Complicated Price Adjustment'!$E49))),\"\")","v":0},"",{"$f":"IFERROR(VLOOKUP(AI$3,'District Bids'!$C$5:$CU$511,72,0),\"\")","v":0},0,{"$f":"IFERROR(IF(AG$67=0,0,($D$67*AG$67+($D$67*'Complicated Price Adjustment'!$E49))),\"\")","v":0},"",{"$f":"IFERROR(VLOOKUP(AM$3,'District Bids'!$C$5:$CU$511,72,0),\"\")","v":0},0,{"$f":"IFERROR(IF(AK$67=0,0,($D$67*AK$67+($D$67*'Complicated Price Adjustment'!$E49))),\"\")","v":0},"",{"$f":"IFERROR(VLOOKUP(AQ$3,'District Bids'!$C$5:$CU$511,72,0),\"\")","v":0},0,{"$f":"IFERROR(IF(AO$67=0,0,($D$67*AO$67+($D$67*'Complicated Price Adjustment'!$E49))),\"\")","v":0},"",{"$f":"IFERROR(VLOOKUP(AU$3,'District Bids'!$C$5:$CU$511,72,0),\"\")","v":""},"",{"$f":"IFERROR(IF(AS$67=0,0,($D$67*AS$67+($D$67*'Complicated Price Adjustment'!$E49))),\"\")","v":""},"",{"$f":"IFERROR(VLOOKUP(AY$3,'District Bids'!$C$5:$CU$511,72,0),\"\")","v":""},"",{"$f":"IFERROR(IF(AW$67=0,0,($D$67*AW$67+($D$67*'Complicated Price Adjustment'!$E49))),\"\")","v":""},"",{"$f":"IFERROR(VLOOKUP(BC$3,'District Bids'!$C$5:$CU$511,72,0),\"\")","v":""},"",{"$f":"IFERROR(IF(BA$67=0,0,($D$67*BA$67+($D$67*'Complicated Price Adjustment'!$E49))),\"\")","v":""},"",{"$f":"IFERROR(VLOOKUP(BG$3,'District Bids'!$C$5:$CU$511,72,0),\"\")","v":""},"",{"$f":"IFERROR(IF(BE$67=0,0,($D$67*BE$67+($D$67*'Complicated Price Adjustment'!$E49))),\"\")","v":""},"",{"$f":"IFERROR(VLOOKUP(BK$3,'District Bids'!$C$5:$CU$511,72,0),\"\")","v":""},"",{"$f":"IFERROR(IF(BI$67=0,0,($D$67*BI$67+($D$67*'Complicated Price Adjustment'!$E49))),\"\")","v":""},"",{"$f":"IFERROR(VLOOKUP(BO$3,'District Bids'!$C$5:$CU$511,72,0),\"\")","v":""},"",{"$f":"IFERROR(IF(BM$67=0,0,($D$67*BM$67+($D$67*'Complicated Price Adjustment'!$E49))),\"\")","v":""},"",{"$f":"IFERROR(VLOOKUP(BS$3,'District Bids'!$C$5:$CU$511,72,0),\"\")","v":""},"",{"$f":"IFERROR(IF(BQ$67=0,0,($D$67*BQ$67+($D$67*'Complicated Price Adjustment'!$E49))),\"\")","v":""},"",{"$f":"IFERROR(VLOOKUP(BW$3,'District Bids'!$C$5:$CU$511,72,0),\"\")","v":""},"",{"$f":"IFERROR(IF(BU$67=0,0,($D$67*BU$67+($D$67*'Complicated Price Adjustment'!$E49))),\"\")","v":""},"",{"$f":"IFERROR(VLOOKUP(CA$3,'District Bids'!$C$5:$CU$511,72,0),\"\")","v":""},"",{"$f":"IFERROR(IF(BY$67=0,0,($D$67*BY$67+($D$67*'Complicated Price Adjustment'!$E49))),\"\")","v":""},"",{"$f":"IFERROR(VLOOKUP(CE$3,'District Bids'!$C$5:$CU$511,72,0),\"\")","v":""},"",{"$f":"IFERROR(IF(CC$67=0,0,($D$67*CC$67+($D$67*'Complicated Price Adjustment'!$E49))),\"\")","v":""},"",{"$f":"IFERROR(VLOOKUP(CI$3,'District Bids'!$C$5:$CU$511,72,0),\"\")","v":""},"",{"$f":"IFERROR(IF(CG$67=0,0,($D$67*CG$67+($D$67*'Complicated Price Adjustment'!$E49))),\"\")","v":""},"",{"$f":"IFERROR(VLOOKUP(CM$3,'District Bids'!$C$5:$CU$511,72,0),\"\")","v":""},"",{"$f":"IFERROR(IF(CK$67=0,0,($D$67*CK$67+($D$67*'Complicated Price Adjustment'!$E49))),\"\")","v":""},"",{"$f":"IFERROR(VLOOKUP(CQ$3,'District Bids'!$C$5:$CU$511,72,0),\"\")","v":""},"",{"$f":"IFERROR(IF(CO$67=0,0,($D$67*CO$67+($D$67*'Complicated Price Adjustment'!$E49))),\"\")","v":""},"",{"$f":"IFERROR(VLOOKUP(CU$3,'District Bids'!$C$5:$CU$511,72,0),\"\")","v":""},"",{"$f":"IFERROR(IF(CS$67=0,0,($D$67*CS$67+($D$67*'Complicated Price Adjustment'!$E49))),\"\")","v":""},"",{"$f":"IFERROR(VLOOKUP(CY$3,'District Bids'!$C$5:$CU$511,72,0),\"\")","v":""},"",{"$f":"IFERROR(IF(CW$67=0,0,($D$67*CW$67+($D$67*'Complicated Price Adjustment'!$E49))),\"\")","v":""},"",{"$f":"IFERROR(VLOOKUP(DC$3,'District Bids'!$C$5:$CU$511,72,0),\"\")","v":""},"",{"$f":"IFERROR(IF(DA$67=0,0,($D$67*DA$67+($D$67*'Complicated Price Adjustment'!$E49))),\"\")","v":""},"",{"$f":"IFERROR(VLOOKUP(DG$3,'District Bids'!$C$5:$CU$511,72,0),\"\")","v":""},"",{"$f":"IFERROR(IF(DE$67=0,0,($D$67*DE$67+($D$67*'Complicated Price Adjustment'!$E49))),\"\")","v":""},"",{"$f":"IFERROR(VLOOKUP(DK$3,'District Bids'!$C$5:$CU$511,72,0),\"\")","v":""},"",{"$f":"IFERROR(IF(DI$67=0,0,($D$67*DI$67+($D$67*'Complicated Price Adjustment'!$E49))),\"\")","v":""},"",{"$f":"IFERROR(VLOOKUP(DO$3,'District Bids'!$C$5:$CU$511,72,0),\"\")","v":""},"",{"$f":"IFERROR(IF(DM$67=0,0,($D$67*DM$67+($D$67*'Complicated Price Adjustment'!$E49))),\"\")","v":""},"",{"$f":"IFERROR(VLOOKUP(DS$3,'District Bids'!$C$5:$CU$511,72,0),\"\")","v":""},"",{"$f":"IFERROR(IF(DQ$67=0,0,($D$67*DQ$67+($D$67*'Complicated Price Adjustment'!$E49))),\"\")","v":""},"",{"$f":"IFERROR(VLOOKUP(DW$3,'District Bids'!$C$5:$CU$511,72,0),\"\")","v":""},"",{"$f":"IFERROR(IF(DU$67=0,0,($D$67*DU$67+($D$67*'Complicated Price Adjustment'!$E49))),\"\")","v":""},"",{"$f":"IFERROR(VLOOKUP(EA$3,'District Bids'!$C$5:$CU$511,72,0),\"\")","v":""},"",{"$f":"IFERROR(IF(DY$67=0,0,($D$67*DY$67+($D$67*'Complicated Price Adjustment'!$E49))),\"\")","v":""},""]
[null,67,"Non-Tracking Tack - to be used with #65",{"$f":"'Order Details'!O24","v":0},{"$f":"IFERROR(VLOOKUP(G$3,'District Bids'!$C$5:$CU$511,73,0),\"\")","v":0},0,{"$f":"IFERROR($D68*E68,\"\")","v":0},"",{"$f":"IFERROR(VLOOKUP(K$3,'District Bids'!$C$5:$CU$511,73,0),\"\")","v":5},0,{"$f":"IFERROR($D68*I68,\"\")","v":0},"",{"$f":"IFERROR(VLOOKUP(O$3,'District Bids'!$C$5:$CU$511,73,0),\"\")","v":5},0,{"$f":"IFERROR($D68*M68,\"\")","v":0},"",{"$f":"IFERROR(VLOOKUP(S$3,'District Bids'!$C$5:$CU$511,73,0),\"\")","v":0},0,{"$f":"IFERROR($D68*Q68,\"\")","v":0},"",{"$f":"IFERROR(VLOOKUP(W$3,'District Bids'!$C$5:$CU$511,73,0),\"\")","v":5},0,{"$f":"IFERROR($D68*U68,\"\")","v":0},"",{"$f":"IFERROR(VLOOKUP(AA$3,'District Bids'!$C$5:$CU$511,73,0),\"\")","v":5},0,{"$f":"IFERROR($D68*Y68,\"\")","v":0},"",{"$f":"IFERROR(VLOOKUP(AE$3,'District Bids'!$C$5:$CU$511,73,0),\"\")","v":5},0,{"$f":"IFERROR($D68*AC68,\"\")","v":0},"",{"$f":"IFERROR(VLOOKUP(AI$3,'District Bids'!$C$5:$CU$511,73,0),\"\")","v":5},0,{"$f":"IFERROR($D68*AG68,\"\")","v":0},"",{"$f":"IFERROR(VLOOKUP(AM$3,'District Bids'!$C$5:$CU$511,73,0),\"\")","v":5},0,{"$f":"IFERROR($D68*AK68,\"\")","v":0},"",{"$f":"IFERROR(VLOOKUP(AQ$3,'District Bids'!$C$5:$CU$511,73,0),\"\")","v":5},0,{"$f":"IFERROR($D68*AO68,\"\")","v":0},"",{"$f":"IFERROR(VLOOKUP(AU$3,'District Bids'!$C$5:$CU$511,73,0),\"\")","v":""},"",{"$f":"IFERROR($D68*AS68,\"\")","v":""},"",{"$f":"IFERROR(VLOOKUP(AY$3,'District Bids'!$C$5:$CU$511,73,0),\"\")","v":""},"",{"$f":"IFERROR($D68*AW68,\"\")","v":""},"",{"$f":"IFERROR(VLOOKUP(BC$3,'District Bids'!$C$5:$CU$511,73,0),\"\")","v":""},"",{"$f":"IFERROR($D68*BA68,\"\")","v":""},"",{"$f":"IFERROR(VLOOKUP(BG$3,'District Bids'!$C$5:$CU$511,73,0),\"\")","v":""},"",{"$f":"IFERROR($D68*BE68,\"\")","v":""},"",{"$f":"IFERROR(VLOOKUP(BK$3,'District Bids'!$C$5:$CU$511,73,0),\"\")","v":""},"",{"$f":"IFERROR($D68*BI68,\"\")","v":""},"",{"$f":"IFERROR(VLOOKUP(BO$3,'District Bids'!$C$5:$CU$511,73,0),\"\")","v":""},"",{"$f":"IFERROR($D68*BM68,\"\")","v":""},"",{"$f":"IFERROR(VLOOKUP(BS$3,'District Bids'!$C$5:$CU$511,73,0),\"\")","v":""},"",{"$f":"IFERROR($D68*BQ68,\"\")","v":""},"",{"$f":"IFERROR(VLOOKUP(BW$3,'District Bids'!$C$5:$CU$511,73,0),\"\")","v":""},"",{"$f":"IFERROR($D68*BU68,\"\")","v":""},"",{"$f":"IFERROR(VLOOKUP(CA$3,'District Bids'!$C$5:$CU$511,73,0),\"\")","v":""},"",{"$f":"IFERROR($D68*BY68,\"\")","v":""},"",{"$f":"IFERROR(VLOOKUP(CE$3,'District Bids'!$C$5:$CU$511,73,0),\"\")","v":""},"",{"$f":"IFERROR($D68*CC68,\"\")","v":""},"",{"$f":"IFERROR(VLOOKUP(CI$3,'District Bids'!$C$5:$CU$511,73,0),\"\")","v":""},"",{"$f":"IFERROR($D68*CG68,\"\")","v":""},"",{"$f":"IFERROR(VLOOKUP(CM$3,'District Bids'!$C$5:$CU$511,73,0),\"\")","v":""},"",{"$f":"IFERROR($D68*CK68,\"\")","v":""},"",{"$f":"IFERROR(VLOOKUP(CQ$3,'District Bids'!$C$5:$CU$511,73,0),\"\")","v":""},"",{"$f":"IFERROR($D68*CO68,\"\")","v":""},"",{"$f":"IFERROR(VLOOKUP(CU$3,'District Bids'!$C$5:$CU$511,73,0),\"\")","v":""},"",{"$f":"IFERROR($D68*CS68,\"\")","v":""},"",{"$f":"IFERROR(VLOOKUP(CY$3,'District Bids'!$C$5:$CU$511,73,0),\"\")","v":""},"",{"$f":"IFERROR($D68*CW68,\"\")","v":""},"",{"$f":"IFERROR(VLOOKUP(DC$3,'District Bids'!$C$5:$CU$511,73,0),\"\")","v":""},"",{"$f":"IFERROR($D68*DA68,\"\")","v":""},"",{"$f":"IFERROR(VLOOKUP(DG$3,'District Bids'!$C$5:$CU$511,73,0),\"\")","v":""},"",{"$f":"IFERROR($D68*DE68,\"\")","v":""},"",{"$f":"IFERROR(VLOOKUP(DK$3,'District Bids'!$C$5:$CU$511,73,0),\"\")","v":""},"",{"$f":"IFERROR($D68*DI68,\"\")","v":""},"",{"$f":"IFERROR(VLOOKUP(DO$3,'District Bids'!$C$5:$CU$511,73,0),\"\")","v":""},"",{"$f":"IFERROR($D68*DM68,\"\")","v":""},"",{"$f":"IFERROR(VLOOKUP(DS$3,'District Bids'!$C$5:$CU$511,73,0),\"\")","v":""},"",{"$f":"IFERROR($D68*DQ68,\"\")","v":""},"",{"$f":"IFERROR(VLOOKUP(DW$3,'District Bids'!$C$5:$CU$511,73,0),\"\")","v":""},"",{"$f":"IFERROR($D68*DU68,\"\")","v":""},"",{"$f":"IFERROR(VLOOKUP(EA$3,'District Bids'!$C$5:$CU$511,73,0),\"\")","v":""},"",{"$f":"IFERROR($D68*DY68,\"\")","v":""},""]
[null,68,"Lay Down of Materials - to be used with #65 - 400+ ",{"$f":"'Order Details'!O25","v":0},{"$f":"IFERROR(VLOOKUP(G$3,'District Bids'!$C$5:$CU$511,74,0),\"\")","v":0},0,{"$f":"IFERROR($D69*E69,\"\")","v":0},"",{"$f":"IFERROR(VLOOKUP(K$3,'District Bids'!$C$5:$CU$511,74,0),\"\")","v":0},0,{"$f":"IFERROR($D69*I69,\"\")","v":0},"",{"$f":"IFERROR(VLOOKUP(O$3,'District Bids'!$C$5:$CU$511,74,0),\"\")","v":0},0,{"$f":"IFERROR($D69*M69,\"\")","v":0},"",{"$f":"IFERROR(VLOOKUP(S$3,'District Bids'!$C$5:$CU$511,74,0),\"\")","v":0},0,{"$f":"IFERROR($D69*Q69,\"\")","v":0},"",{"$f":"IFERROR(VLOOKUP(W$3,'District Bids'!$C$5:$CU$511,74,0),\"\")","v":0},0,{"$f":"IFERROR($D69*U69,\"\")","v":0},"",{"$f":"IFERROR(VLOOKUP(AA$3,'District Bids'!$C$5:$CU$511,74,0),\"\")","v":0},0,{"$f":"IFERROR($D69*Y69,\"\")","v":0},"",{"$f":"IFERROR(VLOOKUP(AE$3,'District Bids'!$C$5:$CU$511,74,0),\"\")","v":0},0,{"$f":"IFERROR($D69*AC69,\"\")","v":0},"",{"$f":"IFERROR(VLOOKUP(AI$3,'District Bids'!$C$5:$CU$511,74,0),\"\")","v":0},0,{"$f":"IFERROR($D69*AG69,\"\")","v":0},"",{"$f":"IFERROR(VLOOKUP(AM$3,'District Bids'!$C$5:$CU$511,74,0),\"\")","v":0},0,{"$f":"IFERROR($D69*AK69,\"\")","v":0},"",{"$f":"IFERROR(VLOOKUP(AQ$3,'District Bids'!$C$5:$CU$511,74,0),\"\")","v":0},0,{"$f":"IFERROR($D69*AO69,\"\")","v":0},"",{"$f":"IFERROR(VLOOKUP(AU$3,'District Bids'!$C$5:$CU$511,74,0),\"\")","v":""},"",{"$f":"IFERROR($D69*AS69,\"\")","v":""},"",{"$f":"IFERROR(VLOOKUP(AY$3,'District Bids'!$C$5:$CU$511,74,0),\"\")","v":""},"",{"$f":"IFERROR($D69*AW69,\"\")","v":""},"",{"$f":"IFERROR(VLOOKUP(BC$3,'District Bids'!$C$5:$CU$511,74,0),\"\")","v":""},"",{"$f":"IFERROR($D69*BA69,\"\")","v":""},"",{"$f":"IFERROR(VLOOKUP(BG$3,'District Bids'!$C$5:$CU$511,74,0),\"\")","v":""},"",{"$f":"IFERROR($D69*BE69,\"\")","v":""},"",{"$f":"IFERROR(VLOOKUP(BK$3,'District Bids'!$C$5:$CU$511,74,0),\"\")","v":""},"",{"$f":"IFERROR($D69*BI69,\"\")","v":""},"",{"$f":"IFERROR(VLOOKUP(BO$3,'District Bids'!$C$5:$CU$511,74,0),\"\")","v":""},"",{"$f":"IFERROR($D69*BM69,\"\")","v":""},"",{"$f":"IFERROR(VLOOKUP(BS$3,'District Bids'!$C$5:$CU$511,74,0),\"\")","v":""},"",{"$f":"IFERROR($D69*BQ69,\"\")","v":""},"",{"$f":"IFERROR(VLOOKUP(BW$3,'District Bids'!$C$5:$CU$511,74,0),\"\")","v":""},"",{"$f":"IFERROR($D69*BU69,\"\")","v":""},"",{"$f":"IFERROR(VLOOKUP(CA$3,'District Bids'!$C$5:$CU$511,74,0),\"\")","v":""},"",{"$f":"IFERROR($D69*BY69,\"\")","v":""},"",{"$f":"IFERROR(VLOOKUP(CE$3,'District Bids'!$C$5:$CU$511,74,0),\"\")","v":""},"",{"$f":"IFERROR($D69*CC69,\"\")","v":""},"",{"$f":"IFERROR(VLOOKUP(CI$3,'District Bids'!$C$5:$CU$511,74,0),\"\")","v":""},"",{"$f":"IFERROR($D69*CG69,\"\")","v":""},"",{"$f":"IFERROR(VLOOKUP(CM$3,'District Bids'!$C$5:$CU$511,74,0),\"\")","v":""},"",{"$f":"IFERROR($D69*CK69,\"\")","v":""},"",{"$f":"IFERROR(VLOOKUP(CQ$3,'District Bids'!$C$5:$CU$511,74,0),\"\")","v":""},"",{"$f":"IFERROR($D69*CO69,\"\")","v":""},"",{"$f":"IFERROR(VLOOKUP(CU$3,'District Bids'!$C$5:$CU$511,74,0),\"\")","v":""},"",{"$f":"IFERROR($D69*CS69,\"\")","v":""},"",{"$f":"IFERROR(VLOOKUP(CY$3,'District Bids'!$C$5:$CU$511,74,0),\"\")","v":""},"",{"$f":"IFERROR($D69*CW69,\"\")","v":""},"",{"$f":"IFERROR(VLOOKUP(DC$3,'District Bids'!$C$5:$CU$511,74,0),\"\")","v":""},"",{"$f":"IFERROR($D69*DA69,\"\")","v":""},"",{"$f":"IFERROR(VLOOKUP(DG$3,'District Bids'!$C$5:$CU$511,74,0),\"\")","v":""},"",{"$f":"IFERROR($D69*DE69,\"\")","v":""},"",{"$f":"IFERROR(VLOOKUP(DK$3,'District Bids'!$C$5:$CU$511,74,0),\"\")","v":""},"",{"$f":"IFERROR($D69*DI69,\"\")","v":""},"",{"$f":"IFERROR(VLOOKUP(DO$3,'District Bids'!$C$5:$CU$511,74,0),\"\")","v":""},"",{"$f":"IFERROR($D69*DM69,\"\")","v":""},"",{"$f":"IFERROR(VLOOKUP(DS$3,'District Bids'!$C$5:$CU$511,74,0),\"\")","v":""},"",{"$f":"IFERROR($D69*DQ69,\"\")","v":""},"",{"$f":"IFERROR(VLOOKUP(DW$3,'District Bids'!$C$5:$CU$511,74,0),\"\")","v":""},"",{"$f":"IFERROR($D69*DU69,\"\")","v":""},"",{"$f":"IFERROR(VLOOKUP(EA$3,'District Bids'!$C$5:$CU$511,74,0),\"\")","v":""},"",{"$f":"IFERROR($D69*DY69,\"\")","v":""},""]
[null,69,"Ultra-Thin Asphalt Overlay - SP498",{"$f":"'Order Details'!O26","v":0},{"$f":"IFERROR(VLOOKUP(G$3,'District Bids'!$C$5:$CU$511,75,0),\"\")","v":0},0,{"$f":"IFERROR(IF(E$70=0,0,($D$70*E$70+($D$70*'Complicated Price Adjustment'!$E50))),\"\")","v":0},"",{"$f":"IFERROR(VLOOKUP(K$3,'District Bids'!$C$5:$CU$511,75,0),\"\")","v":0},0,{"$f":"IFERROR(IF(I$70=0,0,($D$70*I$70+($D$70*'Complicated Price Adjustment'!$E50))),\"\")","v":0},"",{"$f":"IFERROR(VLOOKUP(O$3,'District Bids'!$C$5:$CU$511,75,0),\"\")","v":0},0,{"$f":"IFERROR(IF(M$70=0,0,($D$70*M$70+($D$70*'Complicated Price Adjustment'!$E50))),\"\")","v":0},"",{"$f":"IFERROR(VLOOKUP(S$3,'District Bids'!$C$5:$CU$511,75,0),\"\")","v":0},0,{"$f":"IFERROR(IF(Q$70=0,0,($D$70*Q$70+($D$70*'Complicated Price Adjustment'!$E50))),\"\")","v":0},"",{"$f":"IFERROR(VLOOKUP(W$3,'District Bids'!$C$5:$CU$511,75,0),\"\")","v":0},0,{"$f":"IFERROR(IF(U$70=0,0,($D$70*U$70+($D$70*'Complicated Price Adjustment'!$E50))),\"\")","v":0},"",{"$f":"IFERROR(VLOOKUP(AA$3,'District Bids'!$C$5:$CU$511,75,0),\"\")","v":0},0,{"$f":"IFERROR(IF(Y$70=0,0,($D$70*Y$70+($D$70*'Complicated Price Adjustment'!$E50))),\"\")","v":0},"",{"$f":"IFERROR(VLOOKUP(AE$3,'District Bids'!$C$5:$CU$511,75,0),\"\")","v":0},0,{"$f":"IFERROR(IF(AC$70=0,0,($D$70*AC$70+($D$70*'Complicated Price Adjustment'!$E50))),\"\")","v":0},"",{"$f":"IFERROR(VLOOKUP(AI$3,'District Bids'!$C$5:$CU$511,75,0),\"\")","v":0},0,{"$f":"IFERROR(IF(AG$70=0,0,($D$70*AG$70+($D$70*'Complicated Price Adjustment'!$E50))),\"\")","v":0},"",{"$f":"IFERROR(VLOOKUP(AM$3,'District Bids'!$C$5:$CU$511,75,0),\"\")","v":0},0,{"$f":"IFERROR(IF(AK$70=0,0,($D$70*AK$70+($D$70*'Complicated Price Adjustment'!$E50))),\"\")","v":0},"",{"$f":"IFERROR(VLOOKUP(AQ$3,'District Bids'!$C$5:$CU$511,75,0),\"\")","v":0},0,{"$f":"IFERROR(IF(AO$70=0,0,($D$70*AO$70+($D$70*'Complicated Price Adjustment'!$E50))),\"\")","v":0},"",{"$f":"IFERROR(VLOOKUP(AU$3,'District Bids'!$C$5:$CU$511,75,0),\"\")","v":""},"",{"$f":"IFERROR(IF(AS$70=0,0,($D$70*AS$70+($D$70*'Complicated Price Adjustment'!$E50))),\"\")","v":""},"",{"$f":"IFERROR(VLOOKUP(AY$3,'District Bids'!$C$5:$CU$511,75,0),\"\")","v":""},"",{"$f":"IFERROR(IF(AW$70=0,0,($D$70*AW$70+($D$70*'Complicated Price Adjustment'!$E50))),\"\")","v":""},"",{"$f":"IFERROR(VLOOKUP(BC$3,'District Bids'!$C$5:$CU$511,75,0),\"\")","v":""},"",{"$f":"IFERROR(IF(BA$70=0,0,($D$70*BA$70+($D$70*'Complicated Price Adjustment'!$E50))),\"\")","v":""},"",{"$f":"IFERROR(VLOOKUP(BG$3,'District Bids'!$C$5:$CU$511,75,0),\"\")","v":""},"",{"$f":"IFERROR(IF(BE$70=0,0,($D$70*BE$70+($D$70*'Complicated Price Adjustment'!$E50))),\"\")","v":""},"",{"$f":"IFERROR(VLOOKUP(BK$3,'District Bids'!$C$5:$CU$511,75,0),\"\")","v":""},"",{"$f":"IFERROR(IF(BI$70=0,0,($D$70*BI$70+($D$70*'Complicated Price Adjustment'!$E50))),\"\")","v":""},"",{"$f":"IFERROR(VLOOKUP(BO$3,'District Bids'!$C$5:$CU$511,75,0),\"\")","v":""},"",{"$f":"IFERROR(IF(BM$70=0,0,($D$70*BM$70+($D$70*'Complicated Price Adjustment'!$E50))),\"\")","v":""},"",{"$f":"IFERROR(VLOOKUP(BS$3,'District Bids'!$C$5:$CU$511,75,0),\"\")","v":""},"",{"$f":"IFERROR(IF(BQ$70=0,0,($D$70*BQ$70+($D$70*'Complicated Price Adjustment'!$E50))),\"\")","v":""},"",{"$f":"IFERROR(VLOOKUP(BW$3,'District Bids'!$C$5:$CU$511,75,0),\"\")","v":""},"",{"$f":"IFERROR(IF(BU$70=0,0,($D$70*BU$70+($D$70*'Complicated Price Adjustment'!$E50))),\"\")","v":""},"",{"$f":"IFERROR(VLOOKUP(CA$3,'District Bids'!$C$5:$CU$511,75,0),\"\")","v":""},"",{"$f":"IFERROR(IF(BY$70=0,0,($D$70*BY$70+($D$70*'Complicated Price Adjustment'!$E50))),\"\")","v":""},"",{"$f":"IFERROR(VLOOKUP(CE$3,'District Bids'!$C$5:$CU$511,75,0),\"\")","v":""},"",{"$f":"IFERROR(IF(CC$70=0,0,($D$70*CC$70+($D$70*'Complicated Price Adjustment'!$E50))),\"\")","v":""},"",{"$f":"IFERROR(VLOOKUP(CI$3,'District Bids'!$C$5:$CU$511,75,0),\"\")","v":""},"",{"$f":"IFERROR(IF(CG$70=0,0,($D$70*CG$70+($D$70*'Complicated Price Adjustment'!$E50))),\"\")","v":""},"",{"$f":"IFERROR(VLOOKUP(CM$3,'District Bids'!$C$5:$CU$511,75,0),\"\")","v":""},"",{"$f":"IFERROR(IF(CK$70=0,0,($D$70*CK$70+($D$70*'Complicated Price Adjustment'!$E50))),\"\")","v":""},"",{"$f":"IFERROR(VLOOKUP(CQ$3,'District Bids'!$C$5:$CU$511,75,0),\"\")","v":""},"",{"$f":"IFERROR(IF(CO$70=0,0,($D$70*CO$70+($D$70*'Complicated Price Adjustment'!$E50))),\"\")","v":""},"",{"$f":"IFERROR(VLOOKUP(CU$3,'District Bids'!$C$5:$CU$511,75,0),\"\")","v":""},"",{"$f":"IFERROR(IF(CS$70=0,0,($D$70*CS$70+($D$70*'Complicated Price Adjustment'!$E50))),\"\")","v":""},"",{"$f":"IFERROR(VLOOKUP(CY$3,'District Bids'!$C$5:$CU$511,75,0),\"\")","v":""},"",{"$f":"IFERROR(IF(CW$70=0,0,($D$70*CW$70+($D$70*'Complicated Price Adjustment'!$E50))),\"\")","v":""},"",{"$f":"IFERROR(VLOOKUP(DC$3,'District Bids'!$C$5:$CU$511,75,0),\"\")","v":""},"",{"$f":"IFERROR(IF(DA$70=0,0,($D$70*DA$70+($D$70*'Complicated Price Adjustment'!$E50))),\"\")","v":""},"",{"$f":"IFERROR(VLOOKUP(DG$3,'District Bids'!$C$5:$CU$511,75,0),\"\")","v":""},"",{"$f":"IFERROR(IF(DE$70=0,0,($D$70*DE$70+($D$70*'Complicated Price Adjustment'!$E50))),\"\")","v":""},"",{"$f":"IFERROR(VLOOKUP(DK$3,'District Bids'!$C$5:$CU$511,75,0),\"\")","v":""},"",{"$f":"IFERROR(IF(DI$70=0,0,($D$70*DI$70+($D$70*'Complicated Price Adjustment'!$E50))),\"\")","v":""},"",{"$f":"IFERROR(VLOOKUP(DO$3,'District Bids'!$C$5:$CU$511,75,0),\"\")","v":""},"",{"$f":"IFERROR(IF(DM$70=0,0,($D$70*DM$70+($D$70*'Complicated Price Adjustment'!$E50))),\"\")","v":""},"",{"$f":"IFERROR(VLOOKUP(DS$3,'District Bids'!$C$5:$CU$511,75,0),\"\")","v":""},"",{"$f":"IFERROR(IF(DQ$70=0,0,($D$70*DQ$70+($D$70*'Complicated Price Adjustment'!$E50))),\"\")","v":""},"",{"$f":"IFERROR(VLOOKUP(DW$3,'District Bids'!$C$5:$CU$511,75,0),\"\")","v":""},"",{"$f":"IFERROR(IF(DU$70=0,0,($D$70*DU$70+($D$70*'Complicated Price Adjustment'!$E50))),\"\")","v":""},"",{"$f":"IFERROR(VLOOKUP(EA$3,'District Bids'!$C$5:$CU$511,75,0),\"\")","v":""},"",{"$f":"IFERROR(IF(DY$70=0,0,($D$70*DY$70+($D$70*'Complicated Price Adjustment'!$E50))),\"\")","v":""},""]
[null,70,"Fine Milling -WVDOH Owns Millings 0 to 250 ",{"$f":"'Order Details'!O27","v":0},{"$f":"IFERROR(VLOOKUP(G$3,'District Bids'!$C$5:$CU$511,76,0),\"\")","v":24},0,{"$f":"IFERROR($D71*E71,\"\")","v":0},"",{"$f":"IFERROR(VLOOKUP(K$3,'District Bids'!$C$5:$CU$511,76,0),\"\")","v":24},0,{"$f":"IFERROR($D71*I71,\"\")","v":0},"",{"$f":"IFERROR(VLOOKUP(O$3,'District Bids'!$C$5:$CU$511,76,0),\"\")","v":24},0,{"$f":"IFERROR($D71*M71,\"\")","v":0},"",{"$f":"IFERROR(VLOOKUP(S$3,'District Bids'!$C$5:$CU$511,76,0),\"\")","v":23.9},0,{"$f":"IFERROR($D71*Q71,\"\")","v":0},"",{"$f":"IFERROR(VLOOKUP(W$3,'District Bids'!$C$5:$CU$511,76,0),\"\")","v":24.9},0,{"$f":"IFERROR($D71*U71,\"\")","v":0},"",{"$f":"IFERROR(VLOOKUP(AA$3,'District Bids'!$C$5:$CU$511,76,0),\"\")","v":24.9},0,{"$f":"IFERROR($D71*Y71,\"\")","v":0},"",{"$f":"IFERROR(VLOOKUP(AE$3,'District Bids'!$C$5:$CU$511,76,0),\"\")","v":24.9},0,{"$f":"IFERROR($D71*AC71,\"\")","v":0},"",{"$f":"IFERROR(VLOOKUP(AI$3,'District Bids'!$C$5:$CU$511,76,0),\"\")","v":24.9},0,{"$f":"IFERROR($D71*AG71,\"\")","v":0},"",{"$f":"IFERROR(VLOOKUP(AM$3,'District Bids'!$C$5:$CU$511,76,0),\"\")","v":24.9},0,{"$f":"IFERROR($D71*AK71,\"\")","v":0},"",{"$f":"IFERROR(VLOOKUP(AQ$3,'District Bids'!$C$5:$CU$511,76,0),\"\")","v":24.9},0,{"$f":"IFERROR($D71*AO71,\"\")","v":0},"",{"$f":"IFERROR(VLOOKUP(AU$3,'District Bids'!$C$5:$CU$511,76,0),\"\")","v":""},"",{"$f":"IFERROR($D71*AS71,\"\")","v":""},"",{"$f":"IFERROR(VLOOKUP(AY$3,'District Bids'!$C$5:$CU$511,76,0),\"\")","v":""},"",{"$f":"IFERROR($D71*AW71,\"\")","v":""},"",{"$f":"IFERROR(VLOOKUP(BC$3,'District Bids'!$C$5:$CU$511,76,0),\"\")","v":""},"",{"$f":"IFERROR($D71*BA71,\"\")","v":""},"",{"$f":"IFERROR(VLOOKUP(BG$3,'District Bids'!$C$5:$CU$511,76,0),\"\")","v":""},"",{"$f":"IFERROR($D71*BE71,\"\")","v":""},"",{"$f":"IFERROR(VLOOKUP(BK$3,'District Bids'!$C$5:$CU$511,76,0),\"\")","v":""},"",{"$f":"IFERROR($D71*BI71,\"\")","v":""},"",{"$f":"IFERROR(VLOOKUP(BO$3,'District Bids'!$C$5:$CU$511,76,0),\"\")","v":""},"",{"$f":"IFERROR($D71*BM71,\"\")","v":""},"",{"$f":"IFERROR(VLOOKUP(BS$3,'District Bids'!$C$5:$CU$511,76,0),\"\")","v":""},"",{"$f":"IFERROR($D71*BQ71,\"\")","v":""},"",{"$f":"IFERROR(VLOOKUP(BW$3,'District Bids'!$C$5:$CU$511,76,0),\"\")","v":""},"",{"$f":"IFERROR($D71*BU71,\"\")","v":""},"",{"$f":"IFERROR(VLOOKUP(CA$3,'District Bids'!$C$5:$CU$511,76,0),\"\")","v":""},"",{"$f":"IFERROR($D71*BY71,\"\")","v":""},"",{"$f":"IFERROR(VLOOKUP(CE$3,'District Bids'!$C$5:$CU$511,76,0),\"\")","v":""},"",{"$f":"IFERROR($D71*CC71,\"\")","v":""},"",{"$f":"IFERROR(VLOOKUP(CI$3,'District Bids'!$C$5:$CU$511,76,0),\"\")","v":""},"",{"$f":"IFERROR($D71*CG71,\"\")","v":""},"",{"$f":"IFERROR(VLOOKUP(CM$3,'District Bids'!$C$5:$CU$511,76,0),\"\")","v":""},"",{"$f":"IFERROR($D71*CK71,\"\")","v":""},"",{"$f":"IFERROR(VLOOKUP(CQ$3,'District Bids'!$C$5:$CU$511,76,0),\"\")","v":""},"",{"$f":"IFERROR($D71*CO71,\"\")","v":""},"",{"$f":"IFERROR(VLOOKUP(CU$3,'District Bids'!$C$5:$CU$511,76,0),\"\")","v":""},"",{"$f":"IFERROR($D71*CS71,\"\")","v":""},"",{"$f":"IFERROR(VLOOKUP(CY$3,'District Bids'!$C$5:$CU$511,76,0),\"\")","v":""},"",{"$f":"IFERROR($D71*CW71,\"\")","v":""},"",{"$f":"IFERROR(VLOOKUP(DC$3,'District Bids'!$C$5:$CU$511,76,0),\"\")","v":""},"",{"$f":"IFERROR($D71*DA71,\"\")","v":""},"",{"$f":"IFERROR(VLOOKUP(DG$3,'District Bids'!$C$5:$CU$511,76,0),\"\")","v":""},"",{"$f":"IFERROR($D71*DE71,\"\")","v":""},"",{"$f":"IFERROR(VLOOKUP(DK$3,'District Bids'!$C$5:$CU$511,76,0),\"\")","v":""},"",{"$f":"IFERROR($D71*DI71,\"\")","v":""},"",{"$f":"IFERROR(VLOOKUP(DO$3,'District Bids'!$C$5:$CU$511,76,0),\"\")","v":""},"",{"$f":"IFERROR($D71*DM71,\"\")","v":""},"",{"$f":"IFERROR(VLOOKUP(DS$3,'District Bids'!$C$5:$CU$511,76,0),\"\")","v":""},"",{"$f":"IFERROR($D71*DQ71,\"\")","v":""},"",{"$f":"IFERROR(VLOOKUP(DW$3,'District Bids'!$C$5:$CU$511,76,0),\"\")","v":""},"",{"$f":"IFERROR($D71*DU71,\"\")","v":""},"",{"$f":"IFERROR(VLOOKUP(EA$3,'District Bids'!$C$5:$CU$511,76,0),\"\")","v":""},"",{"$f":"IFERROR($D71*DY71,\"\")","v":""},""]
[null,71,"Fine Milling -WVDOH Owns Millings 251 to 500 ",{"$f":"'Order Details'!O28","v":0},{"$f":"IFERROR(VLOOKUP(G$3,'District Bids'!$C$5:$CU$511,77,0),\"\")","v":19},0,{"$f":"IFERROR($D72*E72,\"\")","v":0},"",{"$f":"IFERROR(VLOOKUP(K$3,'District Bids'!$C$5:$CU$511,77,0),\"\")","v":18},0,{"$f":"IFERROR($D72*I72,\"\")","v":0},"",{"$f":"IFERROR(VLOOKUP(O$3,'District Bids'!$C$5:$CU$511,77,0),\"\")","v":18},0,{"$f":"IFERROR($D72*M72,\"\")","v":0},"",{"$f":"IFERROR(VLOOKUP(S$3,'District Bids'!$C$5:$CU$511,77,0),\"\")","v":18.899999999999999},0,{"$f":"IFERROR($D72*Q72,\"\")","v":0},"",{"$f":"IFERROR(VLOOKUP(W$3,'District Bids'!$C$5:$CU$511,77,0),\"\")","v":19.899999999999999},0,{"$f":"IFERROR($D72*U72,\"\")","v":0},"",{"$f":"IFERROR(VLOOKUP(AA$3,'District Bids'!$C$5:$CU$511,77,0),\"\")","v":19.899999999999999},0,{"$f":"IFERROR($D72*Y72,\"\")","v":0},"",{"$f":"IFERROR(VLOOKUP(AE$3,'District Bids'!$C$5:$CU$511,77,0),\"\")","v":19.899999999999999},0,{"$f":"IFERROR($D72*AC72,\"\")","v":0},"",{"$f":"IFERROR(VLOOKUP(AI$3,'District Bids'!$C$5:$CU$511,77,0),\"\")","v":19.899999999999999},0,{"$f":"IFERROR($D72*AG72,\"\")","v":0},"",{"$f":"IFERROR(VLOOKUP(AM$3,'District Bids'!$C$5:$CU$511,77,0),\"\")","v":19.899999999999999},0,{"$f":"IFERROR($D72*AK72,\"\")","v":0},"",{"$f":"IFERROR(VLOOKUP(AQ$3,'District Bids'!$C$5:$CU$511,77,0),\"\")","v":19.899999999999999},0,{"$f":"IFERROR($D72*AO72,\"\")","v":0},"",{"$f":"IFERROR(VLOOKUP(AU$3,'District Bids'!$C$5:$CU$511,77,0),\"\")","v":""},"",{"$f":"IFERROR($D72*AS72,\"\")","v":""},"",{"$f":"IFERROR(VLOOKUP(AY$3,'District Bids'!$C$5:$CU$511,77,0),\"\")","v":""},"",{"$f":"IFERROR($D72*AW72,\"\")","v":""},"",{"$f":"IFERROR(VLOOKUP(BC$3,'District Bids'!$C$5:$CU$511,77,0),\"\")","v":""},"",{"$f":"IFERROR($D72*BA72,\"\")","v":""},"",{"$f":"IFERROR(VLOOKUP(BG$3,'District Bids'!$C$5:$CU$511,77,0),\"\")","v":""},"",{"$f":"IFERROR($D72*BE72,\"\")","v":""},"",{"$f":"IFERROR(VLOOKUP(BK$3,'District Bids'!$C$5:$CU$511,77,0),\"\")","v":""},"",{"$f":"IFERROR($D72*BI72,\"\")","v":""},"",{"$f":"IFERROR(VLOOKUP(BO$3,'District Bids'!$C$5:$CU$511,77,0),\"\")","v":""},"",{"$f":"IFERROR($D72*BM72,\"\")","v":""},"",{"$f":"IFERROR(VLOOKUP(BS$3,'District Bids'!$C$5:$CU$511,77,0),\"\")","v":""},"",{"$f":"IFERROR($D72*BQ72,\"\")","v":""},"",{"$f":"IFERROR(VLOOKUP(BW$3,'District Bids'!$C$5:$CU$511,77,0),\"\")","v":""},"",{"$f":"IFERROR($D72*BU72,\"\")","v":""},"",{"$f":"IFERROR(VLOOKUP(CA$3,'District Bids'!$C$5:$CU$511,77,0),\"\")","v":""},"",{"$f":"IFERROR($D72*BY72,\"\")","v":""},"",{"$f":"IFERROR(VLOOKUP(CE$3,'District Bids'!$C$5:$CU$511,77,0),\"\")","v":""},"",{"$f":"IFERROR($D72*CC72,\"\")","v":""},"",{"$f":"IFERROR(VLOOKUP(CI$3,'District Bids'!$C$5:$CU$511,77,0),\"\")","v":""},"",{"$f":"IFERROR($D72*CG72,\"\")","v":""},"",{"$f":"IFERROR(VLOOKUP(CM$3,'District Bids'!$C$5:$CU$511,77,0),\"\")","v":""},"",{"$f":"IFERROR($D72*CK72,\"\")","v":""},"",{"$f":"IFERROR(VLOOKUP(CQ$3,'District Bids'!$C$5:$CU$511,77,0),\"\")","v":""},"",{"$f":"IFERROR($D72*CO72,\"\")","v":""},"",{"$f":"IFERROR(VLOOKUP(CU$3,'District Bids'!$C$5:$CU$511,77,0),\"\")","v":""},"",{"$f":"IFERROR($D72*CS72,\"\")","v":""},"",{"$f":"IFERROR(VLOOKUP(CY$3,'District Bids'!$C$5:$CU$511,77,0),\"\")","v":""},"",{"$f":"IFERROR($D72*CW72,\"\")","v":""},"",{"$f":"IFERROR(VLOOKUP(DC$3,'District Bids'!$C$5:$CU$511,77,0),\"\")","v":""},"",{"$f":"IFERROR($D72*DA72,\"\")","v":""},"",{"$f":"IFERROR(VLOOKUP(DG$3,'District Bids'!$C$5:$CU$511,77,0),\"\")","v":""},"",{"$f":"IFERROR($D72*DE72,\"\")","v":""},"",{"$f":"IFERROR(VLOOKUP(DK$3,'District Bids'!$C$5:$CU$511,77,0),\"\")","v":""},"",{"$f":"IFERROR($D72*DI72,\"\")","v":""},"",{"$f":"IFERROR(VLOOKUP(DO$3,'District Bids'!$C$5:$CU$511,77,0),\"\")","v":""},"",{"$f":"IFERROR($D72*DM72,\"\")","v":""},"",{"$f":"IFERROR(VLOOKUP(DS$3,'District Bids'!$C$5:$CU$511,77,0),\"\")","v":""},"",{"$f":"IFERROR($D72*DQ72,\"\")","v":""},"",{"$f":"IFERROR(VLOOKUP(DW$3,'District Bids'!$C$5:$CU$511,77,0),\"\")","v":""},"",{"$f":"IFERROR($D72*DU72,\"\")","v":""},"",{"$f":"IFERROR(VLOOKUP(EA$3,'District Bids'!$C$5:$CU$511,77,0),\"\")","v":""},"",{"$f":"IFERROR($D72*DY72,\"\")","v":""},""]
[null,72,"Fine Milling -WVDOH Owns Millings 501 to 1000 ",{"$f":"'Order Details'!O29","v":0},{"$f":"IFERROR(VLOOKUP(G$3,'District Bids'!$C$5:$CU$511,78,0),\"\")","v":14},0,0,"",{"$f":"IFERROR(VLOOKUP(K$3,'District Bids'!$C$5:$CU$511,78,0),\"\")","v":13.5},0,0,"",{"$f":"IFERROR(VLOOKUP(O$3,'District Bids'!$C$5:$CU$511,78,0),\"\")","v":13.5},0,0,"",{"$f":"IFERROR(VLOOKUP(S$3,'District Bids'!$C$5:$CU$511,78,0),\"\")","v":13.9},0,0,"",{"$f":"IFERROR(VLOOKUP(W$3,'District Bids'!$C$5:$CU$511,78,0),\"\")","v":14.9},0,0,"",{"$f":"IFERROR(VLOOKUP(AA$3,'District Bids'!$C$5:$CU$511,78,0),\"\")","v":14.9},0,0,"",{"$f":"IFERROR(VLOOKUP(AE$3,'District Bids'!$C$5:$CU$511,78,0),\"\")","v":14.9},0,0,"",{"$f":"IFERROR(VLOOKUP(AI$3,'District Bids'!$C$5:$CU$511,78,0),\"\")","v":14.9},0,0,"",{"$f":"IFERROR(VLOOKUP(AM$3,'District Bids'!$C$5:$CU$511,78,0),\"\")","v":14.9},0,0,"",{"$f":"IFERROR(VLOOKUP(AQ$3,'District Bids'!$C$5:$CU$511,78,0),\"\")","v":14.9},0,0,"",{"$f":"IFERROR(VLOOKUP(AU$3,'District Bids'!$C$5:$CU$511,78,0),\"\")","v":""},"","","",{"$f":"IFERROR(VLOOKUP(AY$3,'District Bids'!$C$5:$CU$511,78,0),\"\")","v":""},"","","",{"$f":"IFERROR(VLOOKUP(BC$3,'District Bids'!$C$5:$CU$511,78,0),\"\")","v":""},"","","",{"$f":"IFERROR(VLOOKUP(BG$3,'District Bids'!$C$5:$CU$511,78,0),\"\")","v":""},"","","",{"$f":"IFERROR(VLOOKUP(BK$3,'District Bids'!$C$5:$CU$511,78,0),\"\")","v":""},"","","",{"$f":"IFERROR(VLOOKUP(BO$3,'District Bids'!$C$5:$CU$511,78,0),\"\")","v":""},"","","",{"$f":"IFERROR(VLOOKUP(BS$3,'District Bids'!$C$5:$CU$511,78,0),\"\")","v":""},"","","",{"$f":"IFERROR(VLOOKUP(BW$3,'District Bids'!$C$5:$CU$511,78,0),\"\")","v":""},"","","",{"$f":"IFERROR(VLOOKUP(CA$3,'District Bids'!$C$5:$CU$511,78,0),\"\")","v":""},"","","",{"$f":"IFERROR(VLOOKUP(CE$3,'District Bids'!$C$5:$CU$511,78,0),\"\")","v":""},"","","",{"$f":"IFERROR(VLOOKUP(CI$3,'District Bids'!$C$5:$CU$511,78,0),\"\")","v":""},"","","",{"$f":"IFERROR(VLOOKUP(CM$3,'District Bids'!$C$5:$CU$511,78,0),\"\")","v":""},"","","",{"$f":"IFERROR(VLOOKUP(CQ$3,'District Bids'!$C$5:$CU$511,78,0),\"\")","v":""},"","","",{"$f":"IFERROR(VLOOKUP(CU$3,'District Bids'!$C$5:$CU$511,78,0),\"\")","v":""},"","","",{"$f":"IFERROR(VLOOKUP(CY$3,'District Bids'!$C$5:$CU$511,78,0),\"\")","v":""},"","","",{"$f":"IFERROR(VLOOKUP(DC$3,'District Bids'!$C$5:$CU$511,78,0),\"\")","v":""},"","","",{"$f":"IFERROR(VLOOKUP(DG$3,'District Bids'!$C$5:$CU$511,78,0),\"\")","v":""},"","","",{"$f":"IFERROR(VLOOKUP(DK$3,'District Bids'!$C$5:$CU$511,78,0),\"\")","v":""},"","","",{"$f":"IFERROR(VLOOKUP(DO$3,'District Bids'!$C$5:$CU$511,78,0),\"\")","v":""},"","","",{"$f":"IFERROR(VLOOKUP(DS$3,'District Bids'!$C$5:$CU$511,78,0),\"\")","v":""},"","","",{"$f":"IFERROR(VLOOKUP(DW$3,'District Bids'!$C$5:$CU$511,78,0),\"\")","v":""},"","","",{"$f":"IFERROR(VLOOKUP(EA$3,'District Bids'!$C$5:$CU$511,78,0),\"\")","v":""},"","",""]
[null,73,"Fine Milling -WVDOH Owns Millings 1001 to 2500 ",{"$f":"'Order Details'!O30","v":0},{"$f":"IFERROR(VLOOKUP(G$3,'District Bids'!$C$5:$CU$511,79,0),\"\")","v":8},{"$f":"IFERROR(E74*$D74,\"\")","v":0},0,{"$f":"IF(AND($D74>0,E74=0),\"Incomplete\",\"\")","v":""},{"$f":"IFERROR(VLOOKUP(K$3,'District Bids'!$C$5:$CU$511,79,0),\"\")","v":7.25},0,0,{"$f":"IF(AND($D74>0,I74=0),\"Incomplete\",\"\")","v":""},{"$f":"IFERROR(VLOOKUP(O$3,'District Bids'!$C$5:$CU$511,79,0),\"\")","v":7.25},0,0,{"$f":"IF(AND($D74>0,M74=0),\"Incomplete\",\"\")","v":""},{"$f":"IFERROR(VLOOKUP(S$3,'District Bids'!$C$5:$CU$511,79,0),\"\")","v":7.75},0,0,{"$f":"IF(AND($D74>0,Q74=0),\"Incomplete\",\"\")","v":""},{"$f":"IFERROR(VLOOKUP(W$3,'District Bids'!$C$5:$CU$511,79,0),\"\")","v":8},0,0,{"$f":"IF(AND($D74>0,U74=0),\"Incomplete\",\"\")","v":""},{"$f":"IFERROR(VLOOKUP(AA$3,'District Bids'!$C$5:$CU$511,79,0),\"\")","v":8},0,0,{"$f":"IF(AND($D74>0,Y74=0),\"Incomplete\",\"\")","v":""},{"$f":"IFERROR(VLOOKUP(AE$3,'District Bids'!$C$5:$CU$511,79,0),\"\")","v":8},0,0,{"$f":"IF(AND($D74>0,AC74=0),\"Incomplete\",\"\")","v":""},{"$f":"IFERROR(VLOOKUP(AI$3,'District Bids'!$C$5:$CU$511,79,0),\"\")","v":8},0,0,{"$f":"IF(AND($D74>0,AG74=0),\"Incomplete\",\"\")","v":""},{"$f":"IFERROR(VLOOKUP(AM$3,'District Bids'!$C$5:$CU$511,79,0),\"\")","v":8},0,0,{"$f":"IF(AND($D74>0,AK74=0),\"Incomplete\",\"\")","v":""},{"$f":"IFERROR(VLOOKUP(AQ$3,'District Bids'!$C$5:$CU$511,79,0),\"\")","v":8},0,0,{"$f":"IF(AND($D74>0,AO74=0),\"Incomplete\",\"\")","v":""},{"$f":"IFERROR(VLOOKUP(AU$3,'District Bids'!$C$5:$CU$511,79,0),\"\")","v":""},"","",{"$f":"IF(AND($D74>0,AS74=0),\"Incomplete\",\"\")","v":""},{"$f":"IFERROR(VLOOKUP(AY$3,'District Bids'!$C$5:$CU$511,79,0),\"\")","v":""},"","",{"$f":"IF(AND($D74>0,AW74=0),\"Incomplete\",\"\")","v":""},{"$f":"IFERROR(VLOOKUP(BC$3,'District Bids'!$C$5:$CU$511,79,0),\"\")","v":""},"","",{"$f":"IF(AND($D74>0,BA74=0),\"Incomplete\",\"\")","v":""},{"$f":"IFERROR(VLOOKUP(BG$3,'District Bids'!$C$5:$CU$511,79,0),\"\")","v":""},"","",{"$f":"IF(AND($D74>0,BE74=0),\"Incomplete\",\"\")","v":""},{"$f":"IFERROR(VLOOKUP(BK$3,'District Bids'!$C$5:$CU$511,79,0),\"\")","v":""},"","",{"$f":"IF(AND($D74>0,BI74=0),\"Incomplete\",\"\")","v":""},{"$f":"IFERROR(VLOOKUP(BO$3,'District Bids'!$C$5:$CU$511,79,0),\"\")","v":""},"","",{"$f":"IF(AND($D74>0,BM74=0),\"Incomplete\",\"\")","v":""},{"$f":"IFERROR(VLOOKUP(BS$3,'District Bids'!$C$5:$CU$511,79,0),\"\")","v":""},"","",{"$f":"IF(AND($D74>0,BQ74=0),\"Incomplete\",\"\")","v":""},{"$f":"IFERROR(VLOOKUP(BW$3,'District Bids'!$C$5:$CU$511,79,0),\"\")","v":""},"","",{"$f":"IF(AND($D74>0,BU74=0),\"Incomplete\",\"\")","v":""},{"$f":"IFERROR(VLOOKUP(CA$3,'District Bids'!$C$5:$CU$511,79,0),\"\")","v":""},"","",{"$f":"IF(AND($D74>0,BY74=0),\"Incomplete\",\"\")","v":""},{"$f":"IFERROR(VLOOKUP(CE$3,'District Bids'!$C$5:$CU$511,79,0),\"\")","v":""},"","",{"$f":"IF(AND($D74>0,CC74=0),\"Incomplete\",\"\")","v":""},{"$f":"IFERROR(VLOOKUP(CI$3,'District Bids'!$C$5:$CU$511,79,0),\"\")","v":""},"","",{"$f":"IF(AND($D74>0,CG74=0),\"Incomplete\",\"\")","v":""},{"$f":"IFERROR(VLOOKUP(CM$3,'District Bids'!$C$5:$CU$511,79,0),\"\")","v":""},"","",{"$f":"IF(AND($D74>0,CK74=0),\"Incomplete\",\"\")","v":""},{"$f":"IFERROR(VLOOKUP(CQ$3,'District Bids'!$C$5:$CU$511,79,0),\"\")","v":""},"","",{"$f":"IF(AND($D74>0,CO74=0),\"Incomplete\",\"\")","v":""},{"$f":"IFERROR(VLOOKUP(CU$3,'District Bids'!$C$5:$CU$511,79,0),\"\")","v":""},"","",{"$f":"IF(AND($D74>0,CS74=0),\"Incomplete\",\"\")","v":""},{"$f":"IFERROR(VLOOKUP(CY$3,'District Bids'!$C$5:$CU$511,79,0),\"\")","v":""},"","",{"$f":"IF(AND($D74>0,CW74=0),\"Incomplete\",\"\")","v":""},{"$f":"IFERROR(VLOOKUP(DC$3,'District Bids'!$C$5:$CU$511,79,0),\"\")","v":""},"","",{"$f":"IF(AND($D74>0,DA74=0),\"Incomplete\",\"\")","v":""},{"$f":"IFERROR(VLOOKUP(DG$3,'District Bids'!$C$5:$CU$511,79,0),\"\")","v":""},"","",{"$f":"IF(AND($D74>0,DE74=0),\"Incomplete\",\"\")","v":""},{"$f":"IFERROR(VLOOKUP(DK$3,'District Bids'!$C$5:$CU$511,79,0),\"\")","v":""},"","",{"$f":"IF(AND($D74>0,DI74=0),\"Incomplete\",\"\")","v":""},{"$f":"IFERROR(VLOOKUP(DO$3,'District Bids'!$C$5:$CU$511,79,0),\"\")","v":""},"","",{"$f":"IF(AND($D74>0,DM74=0),\"Incomplete\",\"\")","v":""},{"$f":"IFERROR(VLOOKUP(DS$3,'District Bids'!$C$5:$CU$511,79,0),\"\")","v":""},"","",{"$f":"IF(AND($D74>0,DQ74=0),\"Incomplete\",\"\")","v":""},{"$f":"IFERROR(VLOOKUP(DW$3,'District Bids'!$C$5:$CU$511,79,0),\"\")","v":""},"","",{"$f":"IF(AND($D74>0,DU74=0),\"Incomplete\",\"\")","v":""},{"$f":"IFERROR(VLOOKUP(EA$3,'District Bids'!$C$5:$CU$511,79,0),\"\")","v":""},"","",{"$f":"IF(AND($D74>0,DY74=0),\"Incomplete\",\"\")","v":""}]
[null,74,"Fine Milling -WVDOH Owns Millings 2501 to 5000 ",{"$f":"'Order Details'!O31","v":0},{"$f":"IFERROR(VLOOKUP(G$3,'District Bids'!$C$5:$CU$511,80,0),\"\")","v":6},0,0,"",{"$f":"IFERROR(VLOOKUP(K$3,'District Bids'!$C$5:$CU$511,80,0),\"\")","v":5.5},0,0,"",{"$f":"IFERROR(VLOOKUP(O$3,'District Bids'!$C$5:$CU$511,80,0),\"\")","v":5.5},0,0,"",{"$f":"IFERROR(VLOOKUP(S$3,'District Bids'!$C$5:$CU$511,80,0),\"\")","v":5.9},0,0,"",{"$f":"IFERROR(VLOOKUP(W$3,'District Bids'!$C$5:$CU$511,80,0),\"\")","v":6.15},0,0,"",{"$f":"IFERROR(VLOOKUP(AA$3,'District Bids'!$C$5:$CU$511,80,0),\"\")","v":6.15},0,0,"",{"$f":"IFERROR(VLOOKUP(AE$3,'District Bids'!$C$5:$CU$511,80,0),\"\")","v":6.15},0,0,"",{"$f":"IFERROR(VLOOKUP(AI$3,'District Bids'!$C$5:$CU$511,80,0),\"\")","v":6.15},0,0,"",{"$f":"IFERROR(VLOOKUP(AM$3,'District Bids'!$C$5:$CU$511,80,0),\"\")","v":6.15},0,0,"",{"$f":"IFERROR(VLOOKUP(AQ$3,'District Bids'!$C$5:$CU$511,80,0),\"\")","v":6.15},0,0,"",{"$f":"IFERROR(VLOOKUP(AU$3,'District Bids'!$C$5:$CU$511,80,0),\"\")","v":""},"","","",{"$f":"IFERROR(VLOOKUP(AY$3,'District Bids'!$C$5:$CU$511,80,0),\"\")","v":""},"","","",{"$f":"IFERROR(VLOOKUP(BC$3,'District Bids'!$C$5:$CU$511,80,0),\"\")","v":""},"","","",{"$f":"IFERROR(VLOOKUP(BG$3,'District Bids'!$C$5:$CU$511,80,0),\"\")","v":""},"","","",{"$f":"IFERROR(VLOOKUP(BK$3,'District Bids'!$C$5:$CU$511,80,0),\"\")","v":""},"","","",{"$f":"IFERROR(VLOOKUP(BO$3,'District Bids'!$C$5:$CU$511,80,0),\"\")","v":""},"","","",{"$f":"IFERROR(VLOOKUP(BS$3,'District Bids'!$C$5:$CU$511,80,0),\"\")","v":""},"","","",{"$f":"IFERROR(VLOOKUP(BW$3,'District Bids'!$C$5:$CU$511,80,0),\"\")","v":""},"","","",{"$f":"IFERROR(VLOOKUP(CA$3,'District Bids'!$C$5:$CU$511,80,0),\"\")","v":""},"","","",{"$f":"IFERROR(VLOOKUP(CE$3,'District Bids'!$C$5:$CU$511,80,0),\"\")","v":""},"","","",{"$f":"IFERROR(VLOOKUP(CI$3,'District Bids'!$C$5:$CU$511,80,0),\"\")","v":""},"","","",{"$f":"IFERROR(VLOOKUP(CM$3,'District Bids'!$C$5:$CU$511,80,0),\"\")","v":""},"","","",{"$f":"IFERROR(VLOOKUP(CQ$3,'District Bids'!$C$5:$CU$511,80,0),\"\")","v":""},"","","",{"$f":"IFERROR(VLOOKUP(CU$3,'District Bids'!$C$5:$CU$511,80,0),\"\")","v":""},"","","",{"$f":"IFERROR(VLOOKUP(CY$3,'District Bids'!$C$5:$CU$511,80,0),\"\")","v":""},"","","",{"$f":"IFERROR(VLOOKUP(DC$3,'District Bids'!$C$5:$CU$511,80,0),\"\")","v":""},"","","",{"$f":"IFERROR(VLOOKUP(DG$3,'District Bids'!$C$5:$CU$511,80,0),\"\")","v":""},"","","",{"$f":"IFERROR(VLOOKUP(DK$3,'District Bids'!$C$5:$CU$511,80,0),\"\")","v":""},"","","",{"$f":"IFERROR(VLOOKUP(DO$3,'District Bids'!$C$5:$CU$511,80,0),\"\")","v":""},"","","",{"$f":"IFERROR(VLOOKUP(DS$3,'District Bids'!$C$5:$CU$511,80,0),\"\")","v":""},"","","",{"$f":"IFERROR(VLOOKUP(DW$3,'District Bids'!$C$5:$CU$511,80,0),\"\")","v":""},"","","",{"$f":"IFERROR(VLOOKUP(EA$3,'District Bids'!$C$5:$CU$511,80,0),\"\")","v":""},"","",""]
[null,75,"Fine Milling -WVDOH Owns Millings 5001+ ",{"$f":"'Order Details'!O32","v":0},{"$f":"IFERROR(VLOOKUP(G$3,'District Bids'!$C$5:$CU$511,81,0),\"\")","v":4},0,0,"",{"$f":"IFERROR(VLOOKUP(K$3,'District Bids'!$C$5:$CU$511,81,0),\"\")","v":3.6},0,0,"",{"$f":"IFERROR(VLOOKUP(O$3,'District Bids'!$C$5:$CU$511,81,0),\"\")","v":3.6},0,0,"",{"$f":"IFERROR(VLOOKUP(S$3,'District Bids'!$C$5:$CU$511,81,0),\"\")","v":4.0999999999999996},0,0,"",{"$f":"IFERROR(VLOOKUP(W$3,'District Bids'!$C$5:$CU$511,81,0),\"\")","v":4.3499999999999996},0,0,"",{"$f":"IFERROR(VLOOKUP(AA$3,'District Bids'!$C$5:$CU$511,81,0),\"\")","v":4.3499999999999996},0,0,"",{"$f":"IFERROR(VLOOKUP(AE$3,'District Bids'!$C$5:$CU$511,81,0),\"\")","v":4.3499999999999996},0,0,"",{"$f":"IFERROR(VLOOKUP(AI$3,'District Bids'!$C$5:$CU$511,81,0),\"\")","v":4.3499999999999996},0,0,"",{"$f":"IFERROR(VLOOKUP(AM$3,'District Bids'!$C$5:$CU$511,81,0),\"\")","v":4.3499999999999996},0,0,"",{"$f":"IFERROR(VLOOKUP(AQ$3,'District Bids'!$C$5:$CU$511,81,0),\"\")","v":4.3499999999999996},0,0,"",{"$f":"IFERROR(VLOOKUP(AU$3,'District Bids'!$C$5:$CU$511,81,0),\"\")","v":""},"","","",{"$f":"IFERROR(VLOOKUP(AY$3,'District Bids'!$C$5:$CU$511,81,0),\"\")","v":""},"","","",{"$f":"IFERROR(VLOOKUP(BC$3,'District Bids'!$C$5:$CU$511,81,0),\"\")","v":""},"","","",{"$f":"IFERROR(VLOOKUP(BG$3,'District Bids'!$C$5:$CU$511,81,0),\"\")","v":""},"","","",{"$f":"IFERROR(VLOOKUP(BK$3,'District Bids'!$C$5:$CU$511,81,0),\"\")","v":""},"","","",{"$f":"IFERROR(VLOOKUP(BO$3,'District Bids'!$C$5:$CU$511,81,0),\"\")","v":""},"","","",{"$f":"IFERROR(VLOOKUP(BS$3,'District Bids'!$C$5:$CU$511,81,0),\"\")","v":""},"","","",{"$f":"IFERROR(VLOOKUP(BW$3,'District Bids'!$C$5:$CU$511,81,0),\"\")","v":""},"","","",{"$f":"IFERROR(VLOOKUP(CA$3,'District Bids'!$C$5:$CU$511,81,0),\"\")","v":""},"","","",{"$f":"IFERROR(VLOOKUP(CE$3,'District Bids'!$C$5:$CU$511,81,0),\"\")","v":""},"","","",{"$f":"IFERROR(VLOOKUP(CI$3,'District Bids'!$C$5:$CU$511,81,0),\"\")","v":""},"","","",{"$f":"IFERROR(VLOOKUP(CM$3,'District Bids'!$C$5:$CU$511,81,0),\"\")","v":""},"","","",{"$f":"IFERROR(VLOOKUP(CQ$3,'District Bids'!$C$5:$CU$511,81,0),\"\")","v":""},"","","",{"$f":"IFERROR(VLOOKUP(CU$3,'District Bids'!$C$5:$CU$511,81,0),\"\")","v":""},"","","",{"$f":"IFERROR(VLOOKUP(CY$3,'District Bids'!$C$5:$CU$511,81,0),\"\")","v":""},"","","",{"$f":"IFERROR(VLOOKUP(DC$3,'District Bids'!$C$5:$CU$511,81,0),\"\")","v":""},"","","",{"$f":"IFERROR(VLOOKUP(DG$3,'District Bids'!$C$5:$CU$511,81,0),\"\")","v":""},"","","",{"$f":"IFERROR(VLOOKUP(DK$3,'District Bids'!$C$5:$CU$511,81,0),\"\")","v":""},"","","",{"$f":"IFERROR(VLOOKUP(DO$3,'District Bids'!$C$5:$CU$511,81,0),\"\")","v":""},"","","",{"$f":"IFERROR(VLOOKUP(DS$3,'District Bids'!$C$5:$CU$511,81,0),\"\")","v":""},"","","",{"$f":"IFERROR(VLOOKUP(DW$3,'District Bids'!$C$5:$CU$511,81,0),\"\")","v":""},"","","",{"$f":"IFERROR(VLOOKUP(EA$3,'District Bids'!$C$5:$CU$511,81,0),\"\")","v":""},"","",""]
[null,76,"Fine Milling- Vendor Owns Millings 0 to 250 ",{"$f":"'Order Details'!O33","v":0},{"$f":"IFERROR(VLOOKUP(G$3,'District Bids'!$C$5:$CU$511,82,0),\"\")","v":23},0,0,"",{"$f":"IFERROR(VLOOKUP(K$3,'District Bids'!$C$5:$CU$511,82,0),\"\")","v":22.5},0,0,"",{"$f":"IFERROR(VLOOKUP(O$3,'District Bids'!$C$5:$CU$511,82,0),\"\")","v":22.5},0,0,"",{"$f":"IFERROR(VLOOKUP(S$3,'District Bids'!$C$5:$CU$511,82,0),\"\")","v":22.9},0,0,"",{"$f":"IFERROR(VLOOKUP(W$3,'District Bids'!$C$5:$CU$511,82,0),\"\")","v":23.9},0,0,"",{"$f":"IFERROR(VLOOKUP(AA$3,'District Bids'!$C$5:$CU$511,82,0),\"\")","v":23.9},0,0,"",{"$f":"IFERROR(VLOOKUP(AE$3,'District Bids'!$C$5:$CU$511,82,0),\"\")","v":23.9},0,0,"",{"$f":"IFERROR(VLOOKUP(AI$3,'District Bids'!$C$5:$CU$511,82,0),\"\")","v":23.9},0,0,"",{"$f":"IFERROR(VLOOKUP(AM$3,'District Bids'!$C$5:$CU$511,82,0),\"\")","v":23.9},0,0,"",{"$f":"IFERROR(VLOOKUP(AQ$3,'District Bids'!$C$5:$CU$511,82,0),\"\")","v":23.9},0,0,"",{"$f":"IFERROR(VLOOKUP(AU$3,'District Bids'!$C$5:$CU$511,82,0),\"\")","v":""},"","","",{"$f":"IFERROR(VLOOKUP(AY$3,'District Bids'!$C$5:$CU$511,82,0),\"\")","v":""},"","","",{"$f":"IFERROR(VLOOKUP(BC$3,'District Bids'!$C$5:$CU$511,82,0),\"\")","v":""},"","","",{"$f":"IFERROR(VLOOKUP(BG$3,'District Bids'!$C$5:$CU$511,82,0),\"\")","v":""},"","","",{"$f":"IFERROR(VLOOKUP(BK$3,'District Bids'!$C$5:$CU$511,82,0),\"\")","v":""},"","","",{"$f":"IFERROR(VLOOKUP(BO$3,'District Bids'!$C$5:$CU$511,82,0),\"\")","v":""},"","","",{"$f":"IFERROR(VLOOKUP(BS$3,'District Bids'!$C$5:$CU$511,82,0),\"\")","v":""},"","","",{"$f":"IFERROR(VLOOKUP(BW$3,'District Bids'!$C$5:$CU$511,82,0),\"\")","v":""},"","","",{"$f":"IFERROR(VLOOKUP(CA$3,'District Bids'!$C$5:$CU$511,82,0),\"\")","v":""},"","","",{"$f":"IFERROR(VLOOKUP(CE$3,'District Bids'!$C$5:$CU$511,82,0),\"\")","v":""},"","","",{"$f":"IFERROR(VLOOKUP(CI$3,'District Bids'!$C$5:$CU$511,82,0),\"\")","v":""},"","","",{"$f":"IFERROR(VLOOKUP(CM$3,'District Bids'!$C$5:$CU$511,82,0),\"\")","v":""},"","","",{"$f":"IFERROR(VLOOKUP(CQ$3,'District Bids'!$C$5:$CU$511,82,0),\"\")","v":""},"","","",{"$f":"IFERROR(VLOOKUP(CU$3,'District Bids'!$C$5:$CU$511,82,0),\"\")","v":""},"","","",{"$f":"IFERROR(VLOOKUP(CY$3,'District Bids'!$C$5:$CU$511,82,0),\"\")","v":""},"","","",{"$f":"IFERROR(VLOOKUP(DC$3,'District Bids'!$C$5:$CU$511,82,0),\"\")","v":""},"","","",{"$f":"IFERROR(VLOOKUP(DG$3,'District Bids'!$C$5:$CU$511,82,0),\"\")","v":""},"","","",{"$f":"IFERROR(VLOOKUP(DK$3,'District Bids'!$C$5:$CU$511,82,0),\"\")","v":""},"","","",{"$f":"IFERROR(VLOOKUP(DO$3,'District Bids'!$C$5:$CU$511,82,0),\"\")","v":""},"","","",{"$f":"IFERROR(VLOOKUP(DS$3,'District Bids'!$C$5:$CU$511,82,0),\"\")","v":""},"","","",{"$f":"IFERROR(VLOOKUP(DW$3,'District Bids'!$C$5:$CU$511,82,0),\"\")","v":""},"","","",{"$f":"IFERROR(VLOOKUP(EA$3,'District Bids'!$C$5:$CU$511,82,0),\"\")","v":""},"","",""]
[null,77,"Fine Milling- Vendor Owns Millings 251 to 500 ",{"$f":"'Order Details'!O34","v":0},{"$f":"IFERROR(VLOOKUP(G$3,'District Bids'!$C$5:$CU$511,83,0),\"\")","v":18},0,0,"",{"$f":"IFERROR(VLOOKUP(K$3,'District Bids'!$C$5:$CU$511,83,0),\"\")","v":16.5},0,0,"",{"$f":"IFERROR(VLOOKUP(O$3,'District Bids'!$C$5:$CU$511,83,0),\"\")","v":16.5},0,0,"",{"$f":"IFERROR(VLOOKUP(S$3,'District Bids'!$C$5:$CU$511,83,0),\"\")","v":17.899999999999999},0,0,"",{"$f":"IFERROR(VLOOKUP(W$3,'District Bids'!$C$5:$CU$511,83,0),\"\")","v":18.899999999999999},0,0,"",{"$f":"IFERROR(VLOOKUP(AA$3,'District Bids'!$C$5:$CU$511,83,0),\"\")","v":18.899999999999999},0,0,"",{"$f":"IFERROR(VLOOKUP(AE$3,'District Bids'!$C$5:$CU$511,83,0),\"\")","v":18.899999999999999},0,0,"",{"$f":"IFERROR(VLOOKUP(AI$3,'District Bids'!$C$5:$CU$511,83,0),\"\")","v":18.899999999999999},0,0,"",{"$f":"IFERROR(VLOOKUP(AM$3,'District Bids'!$C$5:$CU$511,83,0),\"\")","v":18.899999999999999},0,0,"",{"$f":"IFERROR(VLOOKUP(AQ$3,'District Bids'!$C$5:$CU$511,83,0),\"\")","v":18.899999999999999},0,0,"",{"$f":"IFERROR(VLOOKUP(AU$3,'District Bids'!$C$5:$CU$511,83,0),\"\")","v":""},"","","",{"$f":"IFERROR(VLOOKUP(AY$3,'District Bids'!$C$5:$CU$511,83,0),\"\")","v":""},"","","",{"$f":"IFERROR(VLOOKUP(BC$3,'District Bids'!$C$5:$CU$511,83,0),\"\")","v":""},"","","",{"$f":"IFERROR(VLOOKUP(BG$3,'District Bids'!$C$5:$CU$511,83,0),\"\")","v":""},"","","",{"$f":"IFERROR(VLOOKUP(BK$3,'District Bids'!$C$5:$CU$511,83,0),\"\")","v":""},"","","",{"$f":"IFERROR(VLOOKUP(BO$3,'District Bids'!$C$5:$CU$511,83,0),\"\")","v":""},"","","",{"$f":"IFERROR(VLOOKUP(BS$3,'District Bids'!$C$5:$CU$511,83,0),\"\")","v":""},"","","",{"$f":"IFERROR(VLOOKUP(BW$3,'District Bids'!$C$5:$CU$511,83,0),\"\")","v":""},"","","",{"$f":"IFERROR(VLOOKUP(CA$3,'District Bids'!$C$5:$CU$511,83,0),\"\")","v":""},"","","",{"$f":"IFERROR(VLOOKUP(CE$3,'District Bids'!$C$5:$CU$511,83,0),\"\")","v":""},"","","",{"$f":"IFERROR(VLOOKUP(CI$3,'District Bids'!$C$5:$CU$511,83,0),\"\")","v":""},"","","",{"$f":"IFERROR(VLOOKUP(CM$3,'District Bids'!$C$5:$CU$511,83,0),\"\")","v":""},"","","",{"$f":"IFERROR(VLOOKUP(CQ$3,'District Bids'!$C$5:$CU$511,83,0),\"\")","v":""},"","","",{"$f":"IFERROR(VLOOKUP(CU$3,'District Bids'!$C$5:$CU$511,83,0),\"\")","v":""},"","","",{"$f":"IFERROR(VLOOKUP(CY$3,'District Bids'!$C$5:$CU$511,83,0),\"\")","v":""},"","","",{"$f":"IFERROR(VLOOKUP(DC$3,'District Bids'!$C$5:$CU$511,83,0),\"\")","v":""},"","","",{"$f":"IFERROR(VLOOKUP(DG$3,'District Bids'!$C$5:$CU$511,83,0),\"\")","v":""},"","","",{"$f":"IFERROR(VLOOKUP(DK$3,'District Bids'!$C$5:$CU$511,83,0),\"\")","v":""},"","","",{"$f":"IFERROR(VLOOKUP(DO$3,'District Bids'!$C$5:$CU$511,83,0),\"\")","v":""},"","","",{"$f":"IFERROR(VLOOKUP(DS$3,'District Bids'!$C$5:$CU$511,83,0),\"\")","v":""},"","","",{"$f":"IFERROR(VLOOKUP(DW$3,'District Bids'!$C$5:$CU$511,83,0),\"\")","v":""},"","","",{"$f":"IFERROR(VLOOKUP(EA$3,'District Bids'!$C$5:$CU$511,83,0),\"\")","v":""},"","",""]
[null,78,"Fine Milling- Vendor Owns Millings 501 to 1000 ",{"$f":"'Order Details'!O35","v":0},{"$f":"IFERROR(VLOOKUP(G$3,'District Bids'!$C$5:$CU$511,84,0),\"\")","v":13},0,0,"",{"$f":"IFERROR(VLOOKUP(K$3,'District Bids'!$C$5:$CU$511,84,0),\"\")","v":12},0,0,"",{"$f":"IFERROR(VLOOKUP(O$3,'District Bids'!$C$5:$CU$511,84,0),\"\")","v":12},0,0,"",{"$f":"IFERROR(VLOOKUP(S$3,'District Bids'!$C$5:$CU$511,84,0),\"\")","v":12.9},0,0,"",{"$f":"IFERROR(VLOOKUP(W$3,'District Bids'!$C$5:$CU$511,84,0),\"\")","v":13.9},0,0,"",{"$f":"IFERROR(VLOOKUP(AA$3,'District Bids'!$C$5:$CU$511,84,0),\"\")","v":13.9},0,0,"",{"$f":"IFERROR(VLOOKUP(AE$3,'District Bids'!$C$5:$CU$511,84,0),\"\")","v":13.9},0,0,"",{"$f":"IFERROR(VLOOKUP(AI$3,'District Bids'!$C$5:$CU$511,84,0),\"\")","v":13.9},0,0,"",{"$f":"IFERROR(VLOOKUP(AM$3,'District Bids'!$C$5:$CU$511,84,0),\"\")","v":13.9},0,0,"",{"$f":"IFERROR(VLOOKUP(AQ$3,'District Bids'!$C$5:$CU$511,84,0),\"\")","v":13.9},0,0,"",{"$f":"IFERROR(VLOOKUP(AU$3,'District Bids'!$C$5:$CU$511,84,0),\"\")","v":""},"","","",{"$f":"IFERROR(VLOOKUP(AY$3,'District Bids'!$C$5:$CU$511,84,0),\"\")","v":""},"","","",{"$f":"IFERROR(VLOOKUP(BC$3,'District Bids'!$C$5:$CU$511,84,0),\"\")","v":""},"","","",{"$f":"IFERROR(VLOOKUP(BG$3,'District Bids'!$C$5:$CU$511,84,0),\"\")","v":""},"","","",{"$f":"IFERROR(VLOOKUP(BK$3,'District Bids'!$C$5:$CU$511,84,0),\"\")","v":""},"","","",{"$f":"IFERROR(VLOOKUP(BO$3,'District Bids'!$C$5:$CU$511,84,0),\"\")","v":""},"","","",{"$f":"IFERROR(VLOOKUP(BS$3,'District Bids'!$C$5:$CU$511,84,0),\"\")","v":""},"","","",{"$f":"IFERROR(VLOOKUP(BW$3,'District Bids'!$C$5:$CU$511,84,0),\"\")","v":""},"","","",{"$f":"IFERROR(VLOOKUP(CA$3,'District Bids'!$C$5:$CU$511,84,0),\"\")","v":""},"","","",{"$f":"IFERROR(VLOOKUP(CE$3,'District Bids'!$C$5:$CU$511,84,0),\"\")","v":""},"","","",{"$f":"IFERROR(VLOOKUP(CI$3,'District Bids'!$C$5:$CU$511,84,0),\"\")","v":""},"","","",{"$f":"IFERROR(VLOOKUP(CM$3,'District Bids'!$C$5:$CU$511,84,0),\"\")","v":""},"","","",{"$f":"IFERROR(VLOOKUP(CQ$3,'District Bids'!$C$5:$CU$511,84,0),\"\")","v":""},"","","",{"$f":"IFERROR(VLOOKUP(CU$3,'District Bids'!$C$5:$CU$511,84,0),\"\")","v":""},"","","",{"$f":"IFERROR(VLOOKUP(CY$3,'District Bids'!$C$5:$CU$511,84,0),\"\")","v":""},"","","",{"$f":"IFERROR(VLOOKUP(DC$3,'District Bids'!$C$5:$CU$511,84,0),\"\")","v":""},"","","",{"$f":"IFERROR(VLOOKUP(DG$3,'District Bids'!$C$5:$CU$511,84,0),\"\")","v":""},"","","",{"$f":"IFERROR(VLOOKUP(DK$3,'District Bids'!$C$5:$CU$511,84,0),\"\")","v":""},"","","",{"$f":"IFERROR(VLOOKUP(DO$3,'District Bids'!$C$5:$CU$511,84,0),\"\")","v":""},"","","",{"$f":"IFERROR(VLOOKUP(DS$3,'District Bids'!$C$5:$CU$511,84,0),\"\")","v":""},"","","",{"$f":"IFERROR(VLOOKUP(DW$3,'District Bids'!$C$5:$CU$511,84,0),\"\")","v":""},"","","",{"$f":"IFERROR(VLOOKUP(EA$3,'District Bids'!$C$5:$CU$511,84,0),\"\")","v":""},"","",""]
[null,79,"Fine Milling- Vendor Owns Millings 1001 to 2500 ",{"$f":"'Order Details'!O36","v":0},{"$f":"IFERROR(VLOOKUP(G$3,'District Bids'!$C$5:$CU$511,85,0),\"\")","v":7},0,0,"",{"$f":"IFERROR(VLOOKUP(K$3,'District Bids'!$C$5:$CU$511,85,0),\"\")","v":6},0,0,"",{"$f":"IFERROR(VLOOKUP(O$3,'District Bids'!$C$5:$CU$511,85,0),\"\")","v":6},0,0,"",{"$f":"IFERROR(VLOOKUP(S$3,'District Bids'!$C$5:$CU$511,85,0),\"\")","v":6.75},0,0,"",{"$f":"IFERROR(VLOOKUP(W$3,'District Bids'!$C$5:$CU$511,85,0),\"\")","v":7},0,0,"",{"$f":"IFERROR(VLOOKUP(AA$3,'District Bids'!$C$5:$CU$511,85,0),\"\")","v":7},0,0,"",{"$f":"IFERROR(VLOOKUP(AE$3,'District Bids'!$C$5:$CU$511,85,0),\"\")","v":7},0,0,"",{"$f":"IFERROR(VLOOKUP(AI$3,'District Bids'!$C$5:$CU$511,85,0),\"\")","v":7},0,0,"",{"$f":"IFERROR(VLOOKUP(AM$3,'District Bids'!$C$5:$CU$511,85,0),\"\")","v":7},0,0,"",{"$f":"IFERROR(VLOOKUP(AQ$3,'District Bids'!$C$5:$CU$511,85,0),\"\")","v":7},0,0,"",{"$f":"IFERROR(VLOOKUP(AU$3,'District Bids'!$C$5:$CU$511,85,0),\"\")","v":""},"","","",{"$f":"IFERROR(VLOOKUP(AY$3,'District Bids'!$C$5:$CU$511,85,0),\"\")","v":""},"","","",{"$f":"IFERROR(VLOOKUP(BC$3,'District Bids'!$C$5:$CU$511,85,0),\"\")","v":""},"","","",{"$f":"IFERROR(VLOOKUP(BG$3,'District Bids'!$C$5:$CU$511,85,0),\"\")","v":""},"","","",{"$f":"IFERROR(VLOOKUP(BK$3,'District Bids'!$C$5:$CU$511,85,0),\"\")","v":""},"","","",{"$f":"IFERROR(VLOOKUP(BO$3,'District Bids'!$C$5:$CU$511,85,0),\"\")","v":""},"","","",{"$f":"IFERROR(VLOOKUP(BS$3,'District Bids'!$C$5:$CU$511,85,0),\"\")","v":""},"","","",{"$f":"IFERROR(VLOOKUP(BW$3,'District Bids'!$C$5:$CU$511,85,0),\"\")","v":""},"","","",{"$f":"IFERROR(VLOOKUP(CA$3,'District Bids'!$C$5:$CU$511,85,0),\"\")","v":""},"","","",{"$f":"IFERROR(VLOOKUP(CE$3,'District Bids'!$C$5:$CU$511,85,0),\"\")","v":""},"","","",{"$f":"IFERROR(VLOOKUP(CI$3,'District Bids'!$C$5:$CU$511,85,0),\"\")","v":""},"","","",{"$f":"IFERROR(VLOOKUP(CM$3,'District Bids'!$C$5:$CU$511,85,0),\"\")","v":""},"","","",{"$f":"IFERROR(VLOOKUP(CQ$3,'District Bids'!$C$5:$CU$511,85,0),\"\")","v":""},"","","",{"$f":"IFERROR(VLOOKUP(CU$3,'District Bids'!$C$5:$CU$511,85,0),\"\")","v":""},"","","",{"$f":"IFERROR(VLOOKUP(CY$3,'District Bids'!$C$5:$CU$511,85,0),\"\")","v":""},"","","",{"$f":"IFERROR(VLOOKUP(DC$3,'District Bids'!$C$5:$CU$511,85,0),\"\")","v":""},"","","",{"$f":"IFERROR(VLOOKUP(DG$3,'District Bids'!$C$5:$CU$511,85,0),\"\")","v":""},"","","",{"$f":"IFERROR(VLOOKUP(DK$3,'District Bids'!$C$5:$CU$511,85,0),\"\")","v":""},"","","",{"$f":"IFERROR(VLOOKUP(DO$3,'District Bids'!$C$5:$CU$511,85,0),\"\")","v":""},"","","",{"$f":"IFERROR(VLOOKUP(DS$3,'District Bids'!$C$5:$CU$511,85,0),\"\")","v":""},"","","",{"$f":"IFERROR(VLOOKUP(DW$3,'District Bids'!$C$5:$CU$511,85,0),\"\")","v":""},"","","",{"$f":"IFERROR(VLOOKUP(EA$3,'District Bids'!$C$5:$CU$511,85,0),\"\")","v":""},"","",""]
[null,80,"Fine Milling- Vendor Owns Millings 2501 to 5000 ",{"$f":"'Order Details'!O37","v":0},{"$f":"IFERROR(VLOOKUP(G$3,'District Bids'!$C$5:$CU$511,86,0),\"\")","v":5},0,0,"",{"$f":"IFERROR(VLOOKUP(K$3,'District Bids'!$C$5:$CU$511,86,0),\"\")","v":4.4000000000000004},0,0,"",{"$f":"IFERROR(VLOOKUP(O$3,'District Bids'!$C$5:$CU$511,86,0),\"\")","v":4.4000000000000004},0,0,"",{"$f":"IFERROR(VLOOKUP(S$3,'District Bids'!$C$5:$CU$511,86,0),\"\")","v":4.9000000000000004},0,0,"",{"$f":"IFERROR(VLOOKUP(W$3,'District Bids'!$C$5:$CU$511,86,0),\"\")","v":5.15},0,0,"",{"$f":"IFERROR(VLOOKUP(AA$3,'District Bids'!$C$5:$CU$511,86,0),\"\")","v":5.15},0,0,"",{"$f":"IFERROR(VLOOKUP(AE$3,'District Bids'!$C$5:$CU$511,86,0),\"\")","v":5.15},0,0,"",{"$f":"IFERROR(VLOOKUP(AI$3,'District Bids'!$C$5:$CU$511,86,0),\"\")","v":5.15},0,0,"",{"$f":"IFERROR(VLOOKUP(AM$3,'District Bids'!$C$5:$CU$511,86,0),\"\")","v":5.15},0,0,"",{"$f":"IFERROR(VLOOKUP(AQ$3,'District Bids'!$C$5:$CU$511,86,0),\"\")","v":5.15},0,0,"",{"$f":"IFERROR(VLOOKUP(AU$3,'District Bids'!$C$5:$CU$511,86,0),\"\")","v":""},"","","",{"$f":"IFERROR(VLOOKUP(AY$3,'District Bids'!$C$5:$CU$511,86,0),\"\")","v":""},"","","",{"$f":"IFERROR(VLOOKUP(BC$3,'District Bids'!$C$5:$CU$511,86,0),\"\")","v":""},"","","",{"$f":"IFERROR(VLOOKUP(BG$3,'District Bids'!$C$5:$CU$511,86,0),\"\")","v":""},"","","",{"$f":"IFERROR(VLOOKUP(BK$3,'District Bids'!$C$5:$CU$511,86,0),\"\")","v":""},"","","",{"$f":"IFERROR(VLOOKUP(BO$3,'District Bids'!$C$5:$CU$511,86,0),\"\")","v":""},"","","",{"$f":"IFERROR(VLOOKUP(BS$3,'District Bids'!$C$5:$CU$511,86,0),\"\")","v":""},"","","",{"$f":"IFERROR(VLOOKUP(BW$3,'District Bids'!$C$5:$CU$511,86,0),\"\")","v":""},"","","",{"$f":"IFERROR(VLOOKUP(CA$3,'District Bids'!$C$5:$CU$511,86,0),\"\")","v":""},"","","",{"$f":"IFERROR(VLOOKUP(CE$3,'District Bids'!$C$5:$CU$511,86,0),\"\")","v":""},"","","",{"$f":"IFERROR(VLOOKUP(CI$3,'District Bids'!$C$5:$CU$511,86,0),\"\")","v":""},"","","",{"$f":"IFERROR(VLOOKUP(CM$3,'District Bids'!$C$5:$CU$511,86,0),\"\")","v":""},"","","",{"$f":"IFERROR(VLOOKUP(CQ$3,'District Bids'!$C$5:$CU$511,86,0),\"\")","v":""},"","","",{"$f":"IFERROR(VLOOKUP(CU$3,'District Bids'!$C$5:$CU$511,86,0),\"\")","v":""},"","","",{"$f":"IFERROR(VLOOKUP(CY$3,'District Bids'!$C$5:$CU$511,86,0),\"\")","v":""},"","","",{"$f":"IFERROR(VLOOKUP(DC$3,'District Bids'!$C$5:$CU$511,86,0),\"\")","v":""},"","","",{"$f":"IFERROR(VLOOKUP(DG$3,'District Bids'!$C$5:$CU$511,86,0),\"\")","v":""},"","","",{"$f":"IFERROR(VLOOKUP(DK$3,'District Bids'!$C$5:$CU$511,86,0),\"\")","v":""},"","","",{"$f":"IFERROR(VLOOKUP(DO$3,'District Bids'!$C$5:$CU$511,86,0),\"\")","v":""},"","","",{"$f":"IFERROR(VLOOKUP(DS$3,'District Bids'!$C$5:$CU$511,86,0),\"\")","v":""},"","","",{"$f":"IFERROR(VLOOKUP(DW$3,'District Bids'!$C$5:$CU$511,86,0),\"\")","v":""},"","","",{"$f":"IFERROR(VLOOKUP(EA$3,'District Bids'!$C$5:$CU$511,86,0),\"\")","v":""},"","",""]
[null,81,"Fine Milling- Vendor Owns Millings 5001+ ",{"$f":"'Order Details'!O38","v":0},{"$f":"IFERROR(VLOOKUP(G$3,'District Bids'!$C$5:$CU$511,87,0),\"\")","v":3},0,0,"",{"$f":"IFERROR(VLOOKUP(K$3,'District Bids'!$C$5:$CU$511,87,0),\"\")","v":2.6},0,0,"",{"$f":"IFERROR(VLOOKUP(O$3,'District Bids'!$C$5:$CU$511,87,0),\"\")","v":2.6},0,0,"",{"$f":"IFERROR(VLOOKUP(S$3,'District Bids'!$C$5:$CU$511,87,0),\"\")","v":3.1},0,0,"",{"$f":"IFERROR(VLOOKUP(W$3,'District Bids'!$C$5:$CU$511,87,0),\"\")","v":3.35},0,0,"",{"$f":"IFERROR(VLOOKUP(AA$3,'District Bids'!$C$5:$CU$511,87,0),\"\")","v":3.35},0,0,"",{"$f":"IFERROR(VLOOKUP(AE$3,'District Bids'!$C$5:$CU$511,87,0),\"\")","v":3.35},0,0,"",{"$f":"IFERROR(VLOOKUP(AI$3,'District Bids'!$C$5:$CU$511,87,0),\"\")","v":3.35},0,0,"",{"$f":"IFERROR(VLOOKUP(AM$3,'District Bids'!$C$5:$CU$511,87,0),\"\")","v":3.35},0,0,"",{"$f":"IFERROR(VLOOKUP(AQ$3,'District Bids'!$C$5:$CU$511,87,0),\"\")","v":3.35},0,0,"",{"$f":"IFERROR(VLOOKUP(AU$3,'District Bids'!$C$5:$CU$511,87,0),\"\")","v":""},"","","",{"$f":"IFERROR(VLOOKUP(AY$3,'District Bids'!$C$5:$CU$511,87,0),\"\")","v":""},"","","",{"$f":"IFERROR(VLOOKUP(BC$3,'District Bids'!$C$5:$CU$511,87,0),\"\")","v":""},"","","",{"$f":"IFERROR(VLOOKUP(BG$3,'District Bids'!$C$5:$CU$511,87,0),\"\")","v":""},"","","",{"$f":"IFERROR(VLOOKUP(BK$3,'District Bids'!$C$5:$CU$511,87,0),\"\")","v":""},"","","",{"$f":"IFERROR(VLOOKUP(BO$3,'District Bids'!$C$5:$CU$511,87,0),\"\")","v":""},"","","",{"$f":"IFERROR(VLOOKUP(BS$3,'District Bids'!$C$5:$CU$511,87,0),\"\")","v":""},"","","",{"$f":"IFERROR(VLOOKUP(BW$3,'District Bids'!$C$5:$CU$511,87,0),\"\")","v":""},"","","",{"$f":"IFERROR(VLOOKUP(CA$3,'District Bids'!$C$5:$CU$511,87,0),\"\")","v":""},"","","",{"$f":"IFERROR(VLOOKUP(CE$3,'District Bids'!$C$5:$CU$511,87,0),\"\")","v":""},"","","",{"$f":"IFERROR(VLOOKUP(CI$3,'District Bids'!$C$5:$CU$511,87,0),\"\")","v":""},"","","",{"$f":"IFERROR(VLOOKUP(CM$3,'District Bids'!$C$5:$CU$511,87,0),\"\")","v":""},"","","",{"$f":"IFERROR(VLOOKUP(CQ$3,'District Bids'!$C$5:$CU$511,87,0),\"\")","v":""},"","","",{"$f":"IFERROR(VLOOKUP(CU$3,'District Bids'!$C$5:$CU$511,87,0),\"\")","v":""},"","","",{"$f":"IFERROR(VLOOKUP(CY$3,'District Bids'!$C$5:$CU$511,87,0),\"\")","v":""},"","","",{"$f":"IFERROR(VLOOKUP(DC$3,'District Bids'!$C$5:$CU$511,87,0),\"\")","v":""},"","","",{"$f":"IFERROR(VLOOKUP(DG$3,'District Bids'!$C$5:$CU$511,87,0),\"\")","v":""},"","","",{"$f":"IFERROR(VLOOKUP(DK$3,'District Bids'!$C$5:$CU$511,87,0),\"\")","v":""},"","","",{"$f":"IFERROR(VLOOKUP(DO$3,'District Bids'!$C$5:$CU$511,87,0),\"\")","v":""},"","","",{"$f":"IFERROR(VLOOKUP(DS$3,'District Bids'!$C$5:$CU$511,87,0),\"\")","v":""},"","","",{"$f":"IFERROR(VLOOKUP(DW$3,'District Bids'!$C$5:$CU$511,87,0),\"\")","v":""},"","","",{"$f":"IFERROR(VLOOKUP(EA$3,'District Bids'!$C$5:$CU$511,87,0),\"\")","v":""},"","",""]
[null,82,"Milled Rumble Strips",{"$f":"'Order Details'!O39","v":0},{"$f":"IFERROR(VLOOKUP(G$3,'District Bids'!$C$5:$CU$511,88,0),\"\")","v":0.5},0,0,"",{"$f":"IFERROR(VLOOKUP(K$3,'District Bids'!$C$5:$CU$511,88,0),\"\")","v":0.75},0,0,"",{"$f":"IFERROR(VLOOKUP(O$3,'District Bids'!$C$5:$CU$511,88,0),\"\")","v":0.75},0,0,"",{"$f":"IFERROR(VLOOKUP(S$3,'District Bids'!$C$5:$CU$511,88,0),\"\")","v":0.5},0,0,"",{"$f":"IFERROR(VLOOKUP(W$3,'District Bids'!$C$5:$CU$511,88,0),\"\")","v":0.5},0,0,"",{"$f":"IFERROR(VLOOKUP(AA$3,'District Bids'!$C$5:$CU$511,88,0),\"\")","v":0.5},0,0,"",{"$f":"IFERROR(VLOOKUP(AE$3,'District Bids'!$C$5:$CU$511,88,0),\"\")","v":0.5},0,0,"",{"$f":"IFERROR(VLOOKUP(AI$3,'District Bids'!$C$5:$CU$511,88,0),\"\")","v":0.5},0,0,"",{"$f":"IFERROR(VLOOKUP(AM$3,'District Bids'!$C$5:$CU$511,88,0),\"\")","v":0.5},0,0,"",{"$f":"IFERROR(VLOOKUP(AQ$3,'District Bids'!$C$5:$CU$511,88,0),\"\")","v":0.5},0,0,"",{"$f":"IFERROR(VLOOKUP(AU$3,'District Bids'!$C$5:$CU$511,88,0),\"\")","v":""},"","","",{"$f":"IFERROR(VLOOKUP(AY$3,'District Bids'!$C$5:$CU$511,88,0),\"\")","v":""},"","","",{"$f":"IFERROR(VLOOKUP(BC$3,'District Bids'!$C$5:$CU$511,88,0),\"\")","v":""},"","","",{"$f":"IFERROR(VLOOKUP(BG$3,'District Bids'!$C$5:$CU$511,88,0),\"\")","v":""},"","","",{"$f":"IFERROR(VLOOKUP(BK$3,'District Bids'!$C$5:$CU$511,88,0),\"\")","v":""},"","","",{"$f":"IFERROR(VLOOKUP(BO$3,'District Bids'!$C$5:$CU$511,88,0),\"\")","v":""},"","","",{"$f":"IFERROR(VLOOKUP(BS$3,'District Bids'!$C$5:$CU$511,88,0),\"\")","v":""},"","","",{"$f":"IFERROR(VLOOKUP(BW$3,'District Bids'!$C$5:$CU$511,88,0),\"\")","v":""},"","","",{"$f":"IFERROR(VLOOKUP(CA$3,'District Bids'!$C$5:$CU$511,88,0),\"\")","v":""},"","","",{"$f":"IFERROR(VLOOKUP(CE$3,'District Bids'!$C$5:$CU$511,88,0),\"\")","v":""},"","","",{"$f":"IFERROR(VLOOKUP(CI$3,'District Bids'!$C$5:$CU$511,88,0),\"\")","v":""},"","","",{"$f":"IFERROR(VLOOKUP(CM$3,'District Bids'!$C$5:$CU$511,88,0),\"\")","v":""},"","","",{"$f":"IFERROR(VLOOKUP(CQ$3,'District Bids'!$C$5:$CU$511,88,0),\"\")","v":""},"","","",{"$f":"IFERROR(VLOOKUP(CU$3,'District Bids'!$C$5:$CU$511,88,0),\"\")","v":""},"","","",{"$f":"IFERROR(VLOOKUP(CY$3,'District Bids'!$C$5:$CU$511,88,0),\"\")","v":""},"","","",{"$f":"IFERROR(VLOOKUP(DC$3,'District Bids'!$C$5:$CU$511,88,0),\"\")","v":""},"","","",{"$f":"IFERROR(VLOOKUP(DG$3,'District Bids'!$C$5:$CU$511,88,0),\"\")","v":""},"","","",{"$f":"IFERROR(VLOOKUP(DK$3,'District Bids'!$C$5:$CU$511,88,0),\"\")","v":""},"","","",{"$f":"IFERROR(VLOOKUP(DO$3,'District Bids'!$C$5:$CU$511,88,0),\"\")","v":""},"","","",{"$f":"IFERROR(VLOOKUP(DS$3,'District Bids'!$C$5:$CU$511,88,0),\"\")","v":""},"","","",{"$f":"IFERROR(VLOOKUP(DW$3,'District Bids'!$C$5:$CU$511,88,0),\"\")","v":""},"","","",{"$f":"IFERROR(VLOOKUP(EA$3,'District Bids'!$C$5:$CU$511,88,0),\"\")","v":""},"","",""]
[null,83,"Mobilization - Milled Rumble Strips ",{"$f":"'Order Details'!O40","v":0},{"$f":"IFERROR(VLOOKUP(G$3,'District Bids'!$C$5:$CU$511,89,0),\"\")","v":4000},0,0,"",{"$f":"IFERROR(VLOOKUP(K$3,'District Bids'!$C$5:$CU$511,89,0),\"\")","v":4250},0,0,"",{"$f":"IFERROR(VLOOKUP(O$3,'District Bids'!$C$5:$CU$511,89,0),\"\")","v":4250},0,0,"",{"$f":"IFERROR(VLOOKUP(S$3,'District Bids'!$C$5:$CU$511,89,0),\"\")","v":4500},0,0,"",{"$f":"IFERROR(VLOOKUP(W$3,'District Bids'!$C$5:$CU$511,89,0),\"\")","v":4500},0,0,"",{"$f":"IFERROR(VLOOKUP(AA$3,'District Bids'!$C$5:$CU$511,89,0),\"\")","v":4500},0,0,"",{"$f":"IFERROR(VLOOKUP(AE$3,'District Bids'!$C$5:$CU$511,89,0),\"\")","v":4500},0,0,"",{"$f":"IFERROR(VLOOKUP(AI$3,'District Bids'!$C$5:$CU$511,89,0),\"\")","v":4500},0,0,"",{"$f":"IFERROR(VLOOKUP(AM$3,'District Bids'!$C$5:$CU$511,89,0),\"\")","v":4500},0,0,"",{"$f":"IFERROR(VLOOKUP(AQ$3,'District Bids'!$C$5:$CU$511,89,0),\"\")","v":4500},0,0,"",{"$f":"IFERROR(VLOOKUP(AU$3,'District Bids'!$C$5:$CU$511,89,0),\"\")","v":""},"","","",{"$f":"IFERROR(VLOOKUP(AY$3,'District Bids'!$C$5:$CU$511,89,0),\"\")","v":""},"","","",{"$f":"IFERROR(VLOOKUP(BC$3,'District Bids'!$C$5:$CU$511,89,0),\"\")","v":""},"","","",{"$f":"IFERROR(VLOOKUP(BG$3,'District Bids'!$C$5:$CU$511,89,0),\"\")","v":""},"","","",{"$f":"IFERROR(VLOOKUP(BK$3,'District Bids'!$C$5:$CU$511,89,0),\"\")","v":""},"","","",{"$f":"IFERROR(VLOOKUP(BO$3,'District Bids'!$C$5:$CU$511,89,0),\"\")","v":""},"","","",{"$f":"IFERROR(VLOOKUP(BS$3,'District Bids'!$C$5:$CU$511,89,0),\"\")","v":""},"","","",{"$f":"IFERROR(VLOOKUP(BW$3,'District Bids'!$C$5:$CU$511,89,0),\"\")","v":""},"","","",{"$f":"IFERROR(VLOOKUP(CA$3,'District Bids'!$C$5:$CU$511,89,0),\"\")","v":""},"","","",{"$f":"IFERROR(VLOOKUP(CE$3,'District Bids'!$C$5:$CU$511,89,0),\"\")","v":""},"","","",{"$f":"IFERROR(VLOOKUP(CI$3,'District Bids'!$C$5:$CU$511,89,0),\"\")","v":""},"","","",{"$f":"IFERROR(VLOOKUP(CM$3,'District Bids'!$C$5:$CU$511,89,0),\"\")","v":""},"","","",{"$f":"IFERROR(VLOOKUP(CQ$3,'District Bids'!$C$5:$CU$511,89,0),\"\")","v":""},"","","",{"$f":"IFERROR(VLOOKUP(CU$3,'District Bids'!$C$5:$CU$511,89,0),\"\")","v":""},"","","",{"$f":"IFERROR(VLOOKUP(CY$3,'District Bids'!$C$5:$CU$511,89,0),\"\")","v":""},"","","",{"$f":"IFERROR(VLOOKUP(DC$3,'District Bids'!$C$5:$CU$511,89,0),\"\")","v":""},"","","",{"$f":"IFERROR(VLOOKUP(DG$3,'District Bids'!$C$5:$CU$511,89,0),\"\")","v":""},"","","",{"$f":"IFERROR(VLOOKUP(DK$3,'District Bids'!$C$5:$CU$511,89,0),\"\")","v":""},"","","",{"$f":"IFERROR(VLOOKUP(DO$3,'District Bids'!$C$5:$CU$511,89,0),\"\")","v":""},"","","",{"$f":"IFERROR(VLOOKUP(DS$3,'District Bids'!$C$5:$CU$511,89,0),\"\")","v":""},"","","",{"$f":"IFERROR(VLOOKUP(DW$3,'District Bids'!$C$5:$CU$511,89,0),\"\")","v":""},"","","",{"$f":"IFERROR(VLOOKUP(EA$3,'District Bids'!$C$5:$CU$511,89,0),\"\")","v":""},"","",""]
[null,84,"Surcharge for Parking Lot and Facility Paving ",{"$f":"'Order Details'!O41","v":0},{"$f":"IFERROR(VLOOKUP(G$3,'District Bids'!$C$5:$CU$511,90,0),\"\")","v":10},0,0,"",{"$f":"IFERROR(VLOOKUP(K$3,'District Bids'!$C$5:$CU$511,90,0),\"\")","v":7.25},0,0,"",{"$f":"IFERROR(VLOOKUP(O$3,'District Bids'!$C$5:$CU$511,90,0),\"\")","v":7.25},0,0,"",{"$f":"IFERROR(VLOOKUP(S$3,'District Bids'!$C$5:$CU$511,90,0),\"\")","v":7.5},0,0,"",{"$f":"IFERROR(VLOOKUP(W$3,'District Bids'!$C$5:$CU$511,90,0),\"\")","v":8},0,0,"",{"$f":"IFERROR(VLOOKUP(AA$3,'District Bids'!$C$5:$CU$511,90,0),\"\")","v":8},0,0,"",{"$f":"IFERROR(VLOOKUP(AE$3,'District Bids'!$C$5:$CU$511,90,0),\"\")","v":8},0,0,"",{"$f":"IFERROR(VLOOKUP(AI$3,'District Bids'!$C$5:$CU$511,90,0),\"\")","v":8},0,0,"",{"$f":"IFERROR(VLOOKUP(AM$3,'District Bids'!$C$5:$CU$511,90,0),\"\")","v":8},0,0,"",{"$f":"IFERROR(VLOOKUP(AQ$3,'District Bids'!$C$5:$CU$511,90,0),\"\")","v":8},0,0,"",{"$f":"IFERROR(VLOOKUP(AU$3,'District Bids'!$C$5:$CU$511,90,0),\"\")","v":""},"","","",{"$f":"IFERROR(VLOOKUP(AY$3,'District Bids'!$C$5:$CU$511,90,0),\"\")","v":""},"","","",{"$f":"IFERROR(VLOOKUP(BC$3,'District Bids'!$C$5:$CU$511,90,0),\"\")","v":""},"","","",{"$f":"IFERROR(VLOOKUP(BG$3,'District Bids'!$C$5:$CU$511,90,0),\"\")","v":""},"","","",{"$f":"IFERROR(VLOOKUP(BK$3,'District Bids'!$C$5:$CU$511,90,0),\"\")","v":""},"","","",{"$f":"IFERROR(VLOOKUP(BO$3,'District Bids'!$C$5:$CU$511,90,0),\"\")","v":""},"","","",{"$f":"IFERROR(VLOOKUP(BS$3,'District Bids'!$C$5:$CU$511,90,0),\"\")","v":""},"","","",{"$f":"IFERROR(VLOOKUP(BW$3,'District Bids'!$C$5:$CU$511,90,0),\"\")","v":""},"","","",{"$f":"IFERROR(VLOOKUP(CA$3,'District Bids'!$C$5:$CU$511,90,0),\"\")","v":""},"","","",{"$f":"IFERROR(VLOOKUP(CE$3,'District Bids'!$C$5:$CU$511,90,0),\"\")","v":""},"","","",{"$f":"IFERROR(VLOOKUP(CI$3,'District Bids'!$C$5:$CU$511,90,0),\"\")","v":""},"","","",{"$f":"IFERROR(VLOOKUP(CM$3,'District Bids'!$C$5:$CU$511,90,0),\"\")","v":""},"","","",{"$f":"IFERROR(VLOOKUP(CQ$3,'District Bids'!$C$5:$CU$511,90,0),\"\")","v":""},"","","",{"$f":"IFERROR(VLOOKUP(CU$3,'District Bids'!$C$5:$CU$511,90,0),\"\")","v":""},"","","",{"$f":"IFERROR(VLOOKUP(CY$3,'District Bids'!$C$5:$CU$511,90,0),\"\")","v":""},"","","",{"$f":"IFERROR(VLOOKUP(DC$3,'District Bids'!$C$5:$CU$511,90,0),\"\")","v":""},"","","",{"$f":"IFERROR(VLOOKUP(DG$3,'District Bids'!$C$5:$CU$511,90,0),\"\")","v":""},"","","",{"$f":"IFERROR(VLOOKUP(DK$3,'District Bids'!$C$5:$CU$511,90,0),\"\")","v":""},"","","",{"$f":"IFERROR(VLOOKUP(DO$3,'District Bids'!$C$5:$CU$511,90,0),\"\")","v":""},"","","",{"$f":"IFERROR(VLOOKUP(DS$3,'District Bids'!$C$5:$CU$511,90,0),\"\")","v":""},"","","",{"$f":"IFERROR(VLOOKUP(DW$3,'District Bids'!$C$5:$CU$511,90,0),\"\")","v":""},"","","",{"$f":"IFERROR(VLOOKUP(EA$3,'District Bids'!$C$5:$CU$511,90,0),\"\")","v":""},"","",""]
[null,85,"Cleaning and Sweeping",{"$f":"'Order Details'!O42","v":0},{"$f":"IFERROR(VLOOKUP(G$3,'District Bids'!$C$5:$CU$511,91,0),\"\")","v":0.01},0,0,"",{"$f":"IFERROR(VLOOKUP(K$3,'District Bids'!$C$5:$CU$511,91,0),\"\")","v":0.01},0,0,"",{"$f":"IFERROR(VLOOKUP(O$3,'District Bids'!$C$5:$CU$511,91,0),\"\")","v":0.01},0,0,"",{"$f":"IFERROR(VLOOKUP(S$3,'District Bids'!$C$5:$CU$511,91,0),\"\")","v":0.01},0,0,"",{"$f":"IFERROR(VLOOKUP(W$3,'District Bids'!$C$5:$CU$511,91,0),\"\")","v":0.01},0,0,"",{"$f":"IFERROR(VLOOKUP(AA$3,'District Bids'!$C$5:$CU$511,91,0),\"\")","v":0.01},0,0,"",{"$f":"IFERROR(VLOOKUP(AE$3,'District Bids'!$C$5:$CU$511,91,0),\"\")","v":0.01},0,0,"",{"$f":"IFERROR(VLOOKUP(AI$3,'District Bids'!$C$5:$CU$511,91,0),\"\")","v":0.01},0,0,"",{"$f":"IFERROR(VLOOKUP(AM$3,'District Bids'!$C$5:$CU$511,91,0),\"\")","v":0.01},0,0,"",{"$f":"IFERROR(VLOOKUP(AQ$3,'District Bids'!$C$5:$CU$511,91,0),\"\")","v":0.01},0,0,"",{"$f":"IFERROR(VLOOKUP(AU$3,'District Bids'!$C$5:$CU$511,91,0),\"\")","v":""},"","","",{"$f":"IFERROR(VLOOKUP(AY$3,'District Bids'!$C$5:$CU$511,91,0),\"\")","v":""},"","","",{"$f":"IFERROR(VLOOKUP(BC$3,'District Bids'!$C$5:$CU$511,91,0),\"\")","v":""},"","","",{"$f":"IFERROR(VLOOKUP(BG$3,'District Bids'!$C$5:$CU$511,91,0),\"\")","v":""},"","","",{"$f":"IFERROR(VLOOKUP(BK$3,'District Bids'!$C$5:$CU$511,91,0),\"\")","v":""},"","","",{"$f":"IFERROR(VLOOKUP(BO$3,'District Bids'!$C$5:$CU$511,91,0),\"\")","v":""},"","","",{"$f":"IFERROR(VLOOKUP(BS$3,'District Bids'!$C$5:$CU$511,91,0),\"\")","v":""},"","","",{"$f":"IFERROR(VLOOKUP(BW$3,'District Bids'!$C$5:$CU$511,91,0),\"\")","v":""},"","","",{"$f":"IFERROR(VLOOKUP(CA$3,'District Bids'!$C$5:$CU$511,91,0),\"\")","v":""},"","","",{"$f":"IFERROR(VLOOKUP(CE$3,'District Bids'!$C$5:$CU$511,91,0),\"\")","v":""},"","","",{"$f":"IFERROR(VLOOKUP(CI$3,'District Bids'!$C$5:$CU$511,91,0),\"\")","v":""},"","","",{"$f":"IFERROR(VLOOKUP(CM$3,'District Bids'!$C$5:$CU$511,91,0),\"\")","v":""},"","","",{"$f":"IFERROR(VLOOKUP(CQ$3,'District Bids'!$C$5:$CU$511,91,0),\"\")","v":""},"","","",{"$f":"IFERROR(VLOOKUP(CU$3,'District Bids'!$C$5:$CU$511,91,0),\"\")","v":""},"","","",{"$f":"IFERROR(VLOOKUP(CY$3,'District Bids'!$C$5:$CU$511,91,0),\"\")","v":""},"","","",{"$f":"IFERROR(VLOOKUP(DC$3,'District Bids'!$C$5:$CU$511,91,0),\"\")","v":""},"","","",{"$f":"IFERROR(VLOOKUP(DG$3,'District Bids'!$C$5:$CU$511,91,0),\"\")","v":""},"","","",{"$f":"IFERROR(VLOOKUP(DK$3,'District Bids'!$C$5:$CU$511,91,0),\"\")","v":""},"","","",{"$f":"IFERROR(VLOOKUP(DO$3,'District Bids'!$C$5:$CU$511,91,0),\"\")","v":""},"","","",{"$f":"IFERROR(VLOOKUP(DS$3,'District Bids'!$C$5:$CU$511,91,0),\"\")","v":""},"","","",{"$f":"IFERROR(VLOOKUP(DW$3,'District Bids'!$C$5:$CU$511,91,0),\"\")","v":""},"","","",{"$f":"IFERROR(VLOOKUP(EA$3,'District Bids'!$C$5:$CU$511,91,0),\"\")","v":""},"","",""]
[null,86,"Maintaining Traffic - Pilot Truck and Driver",{"$f":"'Order Details'!O43","v":0},{"$f":"IFERROR(VLOOKUP(G$3,'District Bids'!$C$5:$CU$511,92,0),\"\")","v":1000},0,0,"",{"$f":"IFERROR(VLOOKUP(K$3,'District Bids'!$C$5:$CU$511,92,0),\"\")","v":960},0,0,"",{"$f":"IFERROR(VLOOKUP(O$3,'District Bids'!$C$5:$CU$511,92,0),\"\")","v":960},0,0,"",{"$f":"IFERROR(VLOOKUP(S$3,'District Bids'!$C$5:$CU$511,92,0),\"\")","v":975},0,0,"",{"$f":"IFERROR(VLOOKUP(W$3,'District Bids'!$C$5:$CU$511,92,0),\"\")","v":1000},0,0,"",{"$f":"IFERROR(VLOOKUP(AA$3,'District Bids'!$C$5:$CU$511,92,0),\"\")","v":1000},0,0,"",{"$f":"IFERROR(VLOOKUP(AE$3,'District Bids'!$C$5:$CU$511,92,0),\"\")","v":1000},0,0,"",{"$f":"IFERROR(VLOOKUP(AI$3,'District Bids'!$C$5:$CU$511,92,0),\"\")","v":1000},0,0,"",{"$f":"IFERROR(VLOOKUP(AM$3,'District Bids'!$C$5:$CU$511,92,0),\"\")","v":1000},0,0,"",{"$f":"IFERROR(VLOOKUP(AQ$3,'District Bids'!$C$5:$CU$511,92,0),\"\")","v":1000},0,0,"",{"$f":"IFERROR(VLOOKUP(AU$3,'District Bids'!$C$5:$CU$511,92,0),\"\")","v":""},"","","",{"$f":"IFERROR(VLOOKUP(AY$3,'District Bids'!$C$5:$CU$511,92,0),\"\")","v":""},"","","",{"$f":"IFERROR(VLOOKUP(BC$3,'District Bids'!$C$5:$CU$511,92,0),\"\")","v":""},"","","",{"$f":"IFERROR(VLOOKUP(BG$3,'District Bids'!$C$5:$CU$511,92,0),\"\")","v":""},"","","",{"$f":"IFERROR(VLOOKUP(BK$3,'District Bids'!$C$5:$CU$511,92,0),\"\")","v":""},"","","",{"$f":"IFERROR(VLOOKUP(BO$3,'District Bids'!$C$5:$CU$511,92,0),\"\")","v":""},"","","",{"$f":"IFERROR(VLOOKUP(BS$3,'District Bids'!$C$5:$CU$511,92,0),\"\")","v":""},"","","",{"$f":"IFERROR(VLOOKUP(BW$3,'District Bids'!$C$5:$CU$511,92,0),\"\")","v":""},"","","",{"$f":"IFERROR(VLOOKUP(CA$3,'District Bids'!$C$5:$CU$511,92,0),\"\")","v":""},"","","",{"$f":"IFERROR(VLOOKUP(CE$3,'District Bids'!$C$5:$CU$511,92,0),\"\")","v":""},"","","",{"$f":"IFERROR(VLOOKUP(CI$3,'District Bids'!$C$5:$CU$511,92,0),\"\")","v":""},"","","",{"$f":"IFERROR(VLOOKUP(CM$3,'District Bids'!$C$5:$CU$511,92,0),\"\")","v":""},"","","",{"$f":"IFERROR(VLOOKUP(CQ$3,'District Bids'!$C$5:$CU$511,92,0),\"\")","v":""},"","","",{"$f":"IFERROR(VLOOKUP(CU$3,'District Bids'!$C$5:$CU$511,92,0),\"\")","v":""},"","","",{"$f":"IFERROR(VLOOKUP(CY$3,'District Bids'!$C$5:$CU$511,92,0),\"\")","v":""},"","","",{"$f":"IFERROR(VLOOKUP(DC$3,'District Bids'!$C$5:$CU$511,92,0),\"\")","v":""},"","","",{"$f":"IFERROR(VLOOKUP(DG$3,'District Bids'!$C$5:$CU$511,92,0),\"\")","v":""},"","","",{"$f":"IFERROR(VLOOKUP(DK$3,'District Bids'!$C$5:$CU$511,92,0),\"\")","v":""},"","","",{"$f":"IFERROR(VLOOKUP(DO$3,'District Bids'!$C$5:$CU$511,92,0),\"\")","v":""},"","","",{"$f":"IFERROR(VLOOKUP(DS$3,'District Bids'!$C$5:$CU$511,92,0),\"\")","v":""},"","","",{"$f":"IFERROR(VLOOKUP(DW$3,'District Bids'!$C$5:$CU$511,92,0),\"\")","v":""},"","","",{"$f":"IFERROR(VLOOKUP(EA$3,'District Bids'!$C$5:$CU$511,92,0),\"\")","v":""},"","",""]
[null,87,"Maintaining Traffic - Traffic Control Devices",{"$f":"'Order Details'!O44","v":0},{"$f":"IFERROR(VLOOKUP(G$3,'District Bids'!$C$5:$CU$511,93,0),\"\")","v":1},0,0,"",{"$f":"IFERROR(VLOOKUP(K$3,'District Bids'!$C$5:$CU$511,93,0),\"\")","v":1},0,0,"",{"$f":"IFERROR(VLOOKUP(O$3,'District Bids'!$C$5:$CU$511,93,0),\"\")","v":1},0,0,"",{"$f":"IFERROR(VLOOKUP(S$3,'District Bids'!$C$5:$CU$511,93,0),\"\")","v":1},0,0,"",{"$f":"IFERROR(VLOOKUP(W$3,'District Bids'!$C$5:$CU$511,93,0),\"\")","v":1.5},0,0,"",{"$f":"IFERROR(VLOOKUP(AA$3,'District Bids'!$C$5:$CU$511,93,0),\"\")","v":1.5},0,0,"",{"$f":"IFERROR(VLOOKUP(AE$3,'District Bids'!$C$5:$CU$511,93,0),\"\")","v":1.5},0,0,"",{"$f":"IFERROR(VLOOKUP(AI$3,'District Bids'!$C$5:$CU$511,93,0),\"\")","v":1.5},0,0,"",{"$f":"IFERROR(VLOOKUP(AM$3,'District Bids'!$C$5:$CU$511,93,0),\"\")","v":1.5},0,0,"",{"$f":"IFERROR(VLOOKUP(AQ$3,'District Bids'!$C$5:$CU$511,93,0),\"\")","v":1.5},0,0,"",{"$f":"IFERROR(VLOOKUP(AU$3,'District Bids'!$C$5:$CU$511,93,0),\"\")","v":""},"","","",{"$f":"IFERROR(VLOOKUP(AY$3,'District Bids'!$C$5:$CU$511,93,0),\"\")","v":""},"","","",{"$f":"IFERROR(VLOOKUP(BC$3,'District Bids'!$C$5:$CU$511,93,0),\"\")","v":""},"","","",{"$f":"IFERROR(VLOOKUP(BG$3,'District Bids'!$C$5:$CU$511,93,0),\"\")","v":""},"","","",{"$f":"IFERROR(VLOOKUP(BK$3,'District Bids'!$C$5:$CU$511,93,0),\"\")","v":""},"","","",{"$f":"IFERROR(VLOOKUP(BO$3,'District Bids'!$C$5:$CU$511,93,0),\"\")","v":""},"","","",{"$f":"IFERROR(VLOOKUP(BS$3,'District Bids'!$C$5:$CU$511,93,0),\"\")","v":""},"","","",{"$f":"IFERROR(VLOOKUP(BW$3,'District Bids'!$C$5:$CU$511,93,0),\"\")","v":""},"","","",{"$f":"IFERROR(VLOOKUP(CA$3,'District Bids'!$C$5:$CU$511,93,0),\"\")","v":""},"","","",{"$f":"IFERROR(VLOOKUP(CE$3,'District Bids'!$C$5:$CU$511,93,0),\"\")","v":""},"","","",{"$f":"IFERROR(VLOOKUP(CI$3,'District Bids'!$C$5:$CU$511,93,0),\"\")","v":""},"","","",{"$f":"IFERROR(VLOOKUP(CM$3,'District Bids'!$C$5:$CU$511,93,0),\"\")","v":""},"","","",{"$f":"IFERROR(VLOOKUP(CQ$3,'District Bids'!$C$5:$CU$511,93,0),\"\")","v":""},"","","",{"$f":"IFERROR(VLOOKUP(CU$3,'District Bids'!$C$5:$CU$511,93,0),\"\")","v":""},"","","",{"$f":"IFERROR(VLOOKUP(CY$3,'District Bids'!$C$5:$CU$511,93,0),\"\")","v":""},"","","",{"$f":"IFERROR(VLOOKUP(DC$3,'District Bids'!$C$5:$CU$511,93,0),\"\")","v":""},"","","",{"$f":"IFERROR(VLOOKUP(DG$3,'District Bids'!$C$5:$CU$511,93,0),\"\")","v":""},"","","",{"$f":"IFERROR(VLOOKUP(DK$3,'District Bids'!$C$5:$CU$511,93,0),\"\")","v":""},"","","",{"$f":"IFERROR(VLOOKUP(DO$3,'District Bids'!$C$5:$CU$511,93,0),\"\")","v":""},"","","",{"$f":"IFERROR(VLOOKUP(DS$3,'District Bids'!$C$5:$CU$511,93,0),\"\")","v":""},"","","",{"$f":"IFERROR(VLOOKUP(DW$3,'District Bids'!$C$5:$CU$511,93,0),\"\")","v":""},"","","",{"$f":"IFERROR(VLOOKUP(EA$3,'District Bids'!$C$5:$CU$511,93,0),\"\")","v":""},"","",""]
[null,88,"Maintaining Traffic - Flagger",{"$f":"'Order Details'!O45","v":0},{"$f":"IFERROR(VLOOKUP(G$3,'District Bids'!$C$5:$CU$511,94,0),\"\")","v":70},0,0,"",{"$f":"IFERROR(VLOOKUP(K$3,'District Bids'!$C$5:$CU$511,94,0),\"\")","v":69},0,0,"",{"$f":"IFERROR(VLOOKUP(O$3,'District Bids'!$C$5:$CU$511,94,0),\"\")","v":69},0,0,"",{"$f":"IFERROR(VLOOKUP(S$3,'District Bids'!$C$5:$CU$511,94,0),\"\")","v":70},0,0,"",{"$f":"IFERROR(VLOOKUP(W$3,'District Bids'!$C$5:$CU$511,94,0),\"\")","v":70},0,0,"",{"$f":"IFERROR(VLOOKUP(AA$3,'District Bids'!$C$5:$CU$511,94,0),\"\")","v":70},0,0,"",{"$f":"IFERROR(VLOOKUP(AE$3,'District Bids'!$C$5:$CU$511,94,0),\"\")","v":70},0,0,"",{"$f":"IFERROR(VLOOKUP(AI$3,'District Bids'!$C$5:$CU$511,94,0),\"\")","v":70},0,0,"",{"$f":"IFERROR(VLOOKUP(AM$3,'District Bids'!$C$5:$CU$511,94,0),\"\")","v":70},0,0,"",{"$f":"IFERROR(VLOOKUP(AQ$3,'District Bids'!$C$5:$CU$511,94,0),\"\")","v":70},0,0,"",{"$f":"IFERROR(VLOOKUP(AU$3,'District Bids'!$C$5:$CU$511,94,0),\"\")","v":""},"","","",{"$f":"IFERROR(VLOOKUP(AY$3,'District Bids'!$C$5:$CU$511,94,0),\"\")","v":""},"","","",{"$f":"IFERROR(VLOOKUP(BC$3,'District Bids'!$C$5:$CU$511,94,0),\"\")","v":""},"","","",{"$f":"IFERROR(VLOOKUP(BG$3,'District Bids'!$C$5:$CU$511,94,0),\"\")","v":""},"","","",{"$f":"IFERROR(VLOOKUP(BK$3,'District Bids'!$C$5:$CU$511,94,0),\"\")","v":""},"","","",{"$f":"IFERROR(VLOOKUP(BO$3,'District Bids'!$C$5:$CU$511,94,0),\"\")","v":""},"","","",{"$f":"IFERROR(VLOOKUP(BS$3,'District Bids'!$C$5:$CU$511,94,0),\"\")","v":""},"","","",{"$f":"IFERROR(VLOOKUP(BW$3,'District Bids'!$C$5:$CU$511,94,0),\"\")","v":""},"","","",{"$f":"IFERROR(VLOOKUP(CA$3,'District Bids'!$C$5:$CU$511,94,0),\"\")","v":""},"","","",{"$f":"IFERROR(VLOOKUP(CE$3,'District Bids'!$C$5:$CU$511,94,0),\"\")","v":""},"","","",{"$f":"IFERROR(VLOOKUP(CI$3,'District Bids'!$C$5:$CU$511,94,0),\"\")","v":""},"","","",{"$f":"IFERROR(VLOOKUP(CM$3,'District Bids'!$C$5:$CU$511,94,0),\"\")","v":""},"","","",{"$f":"IFERROR(VLOOKUP(CQ$3,'District Bids'!$C$5:$CU$511,94,0),\"\")","v":""},"","","",{"$f":"IFERROR(VLOOKUP(CU$3,'District Bids'!$C$5:$CU$511,94,0),\"\")","v":""},"","","",{"$f":"IFERROR(VLOOKUP(CY$3,'District Bids'!$C$5:$CU$511,94,0),\"\")","v":""},"","","",{"$f":"IFERROR(VLOOKUP(DC$3,'District Bids'!$C$5:$CU$511,94,0),\"\")","v":""},"","","",{"$f":"IFERROR(VLOOKUP(DG$3,'District Bids'!$C$5:$CU$511,94,0),\"\")","v":""},"","","",{"$f":"IFERROR(VLOOKUP(DK$3,'District Bids'!$C$5:$CU$511,94,0),\"\")","v":""},"","","",{"$f":"IFERROR(VLOOKUP(DO$3,'District Bids'!$C$5:$CU$511,94,0),\"\")","v":""},"","","",{"$f":"IFERROR(VLOOKUP(DS$3,'District Bids'!$C$5:$CU$511,94,0),\"\")","v":""},"","","",{"$f":"IFERROR(VLOOKUP(DW$3,'District Bids'!$C$5:$CU$511,94,0),\"\")","v":""},"","","",{"$f":"IFERROR(VLOOKUP(EA$3,'District Bids'!$C$5:$CU$511,94,0),\"\")","v":""},"","",""]
[null,89,"Maintaining Traffic - Arrow Board",{"$f":"'Order Details'!O46","v":0},{"$f":"IFERROR(VLOOKUP(G$3,'District Bids'!$C$5:$CU$511,95,0),\"\")","v":35},0,0,"",{"$f":"IFERROR(VLOOKUP(K$3,'District Bids'!$C$5:$CU$511,95,0),\"\")","v":40},0,0,"",{"$f":"IFERROR(VLOOKUP(O$3,'District Bids'!$C$5:$CU$511,95,0),\"\")","v":40},0,0,"",{"$f":"IFERROR(VLOOKUP(S$3,'District Bids'!$C$5:$CU$511,95,0),\"\")","v":40},0,0,"",{"$f":"IFERROR(VLOOKUP(W$3,'District Bids'!$C$5:$CU$511,95,0),\"\")","v":40},0,0,"",{"$f":"IFERROR(VLOOKUP(AA$3,'District Bids'!$C$5:$CU$511,95,0),\"\")","v":40},0,0,"",{"$f":"IFERROR(VLOOKUP(AE$3,'District Bids'!$C$5:$CU$511,95,0),\"\")","v":40},0,0,"",{"$f":"IFERROR(VLOOKUP(AI$3,'District Bids'!$C$5:$CU$511,95,0),\"\")","v":40},0,0,"",{"$f":"IFERROR(VLOOKUP(AM$3,'District Bids'!$C$5:$CU$511,95,0),\"\")","v":40},0,0,"",{"$f":"IFERROR(VLOOKUP(AQ$3,'District Bids'!$C$5:$CU$511,95,0),\"\")","v":40},0,0,"",{"$f":"IFERROR(VLOOKUP(AU$3,'District Bids'!$C$5:$CU$511,95,0),\"\")","v":""},"","","",{"$f":"IFERROR(VLOOKUP(AY$3,'District Bids'!$C$5:$CU$511,95,0),\"\")","v":""},"","","",{"$f":"IFERROR(VLOOKUP(BC$3,'District Bids'!$C$5:$CU$511,95,0),\"\")","v":""},"","","",{"$f":"IFERROR(VLOOKUP(BG$3,'District Bids'!$C$5:$CU$511,95,0),\"\")","v":""},"","","",{"$f":"IFERROR(VLOOKUP(BK$3,'District Bids'!$C$5:$CU$511,95,0),\"\")","v":""},"","","",{"$f":"IFERROR(VLOOKUP(BO$3,'District Bids'!$C$5:$CU$511,95,0),\"\")","v":""},"","","",{"$f":"IFERROR(VLOOKUP(BS$3,'District Bids'!$C$5:$CU$511,95,0),\"\")","v":""},"","","",{"$f":"IFERROR(VLOOKUP(BW$3,'District Bids'!$C$5:$CU$511,95,0),\"\")","v":""},"","","",{"$f":"IFERROR(VLOOKUP(CA$3,'District Bids'!$C$5:$CU$511,95,0),\"\")","v":""},"","","",{"$f":"IFERROR(VLOOKUP(CE$3,'District Bids'!$C$5:$CU$511,95,0),\"\")","v":""},"","","",{"$f":"IFERROR(VLOOKUP(CI$3,'District Bids'!$C$5:$CU$511,95,0),\"\")","v":""},"","","",{"$f":"IFERROR(VLOOKUP(CM$3,'District Bids'!$C$5:$CU$511,95,0),\"\")","v":""},"","","",{"$f":"IFERROR(VLOOKUP(CQ$3,'District Bids'!$C$5:$CU$511,95,0),\"\")","v":""},"","","",{"$f":"IFERROR(VLOOKUP(CU$3,'District Bids'!$C$5:$CU$511,95,0),\"\")","v":""},"","","",{"$f":"IFERROR(VLOOKUP(CY$3,'District Bids'!$C$5:$CU$511,95,0),\"\")","v":""},"","","",{"$f":"IFERROR(VLOOKUP(DC$3,'District Bids'!$C$5:$CU$511,95,0),\"\")","v":""},"","","",{"$f":"IFERROR(VLOOKUP(DG$3,'District Bids'!$C$5:$CU$511,95,0),\"\")","v":""},"","","",{"$f":"IFERROR(VLOOKUP(DK$3,'District Bids'!$C$5:$CU$511,95,0),\"\")","v":""},"","","",{"$f":"IFERROR(VLOOKUP(DO$3,'District Bids'!$C$5:$CU$511,95,0),\"\")","v":""},"","","",{"$f":"IFERROR(VLOOKUP(DS$3,'District Bids'!$C$5:$CU$511,95,0),\"\")","v":""},"","","",{"$f":"IFERROR(VLOOKUP(DW$3,'District Bids'!$C$5:$CU$511,95,0),\"\")","v":""},"","","",{"$f":"IFERROR(VLOOKUP(EA$3,'District Bids'!$C$5:$CU$511,95,0),\"\")","v":""},"","",""]
[null,90,"Off-Season Plant Opening - First Day",{"$f":"'Order Details'!O47","v":0},{"$f":"IFERROR(VLOOKUP(G$3,'District Bids'!$C$5:$CU$511,96,0),\"\")","v":3750},0,0,"",{"$f":"IFERROR(VLOOKUP(K$3,'District Bids'!$C$5:$CU$511,96,0),\"\")","v":3500},0,0,"",{"$f":"IFERROR(VLOOKUP(O$3,'District Bids'!$C$5:$CU$511,96,0),\"\")","v":3500},0,0,"",{"$f":"IFERROR(VLOOKUP(S$3,'District Bids'!$C$5:$CU$511,96,0),\"\")","v":3500},0,0,"",{"$f":"IFERROR(VLOOKUP(W$3,'District Bids'!$C$5:$CU$511,96,0),\"\")","v":5000},0,0,"",{"$f":"IFERROR(VLOOKUP(AA$3,'District Bids'!$C$5:$CU$511,96,0),\"\")","v":5000},0,0,"",{"$f":"IFERROR(VLOOKUP(AE$3,'District Bids'!$C$5:$CU$511,96,0),\"\")","v":5000},0,0,"",{"$f":"IFERROR(VLOOKUP(AI$3,'District Bids'!$C$5:$CU$511,96,0),\"\")","v":5000},0,0,"",{"$f":"IFERROR(VLOOKUP(AM$3,'District Bids'!$C$5:$CU$511,96,0),\"\")","v":5000},0,0,"",{"$f":"IFERROR(VLOOKUP(AQ$3,'District Bids'!$C$5:$CU$511,96,0),\"\")","v":5000},0,0,"",{"$f":"IFERROR(VLOOKUP(AU$3,'District Bids'!$C$5:$CU$511,96,0),\"\")","v":""},"","","",{"$f":"IFERROR(VLOOKUP(AY$3,'District Bids'!$C$5:$CU$511,96,0),\"\")","v":""},"","","",{"$f":"IFERROR(VLOOKUP(BC$3,'District Bids'!$C$5:$CU$511,96,0),\"\")","v":""},"","","",{"$f":"IFERROR(VLOOKUP(BG$3,'District Bids'!$C$5:$CU$511,96,0),\"\")","v":""},"","","",{"$f":"IFERROR(VLOOKUP(BK$3,'District Bids'!$C$5:$CU$511,96,0),\"\")","v":""},"","","",{"$f":"IFERROR(VLOOKUP(BO$3,'District Bids'!$C$5:$CU$511,96,0),\"\")","v":""},"","","",{"$f":"IFERROR(VLOOKUP(BS$3,'District Bids'!$C$5:$CU$511,96,0),\"\")","v":""},"","","",{"$f":"IFERROR(VLOOKUP(BW$3,'District Bids'!$C$5:$CU$511,96,0),\"\")","v":""},"","","",{"$f":"IFERROR(VLOOKUP(CA$3,'District Bids'!$C$5:$CU$511,96,0),\"\")","v":""},"","","",{"$f":"IFERROR(VLOOKUP(CE$3,'District Bids'!$C$5:$CU$511,96,0),\"\")","v":""},"","","",{"$f":"IFERROR(VLOOKUP(CI$3,'District Bids'!$C$5:$CU$511,96,0),\"\")","v":""},"","","",{"$f":"IFERROR(VLOOKUP(CM$3,'District Bids'!$C$5:$CU$511,96,0),\"\")","v":""},"","","",{"$f":"IFERROR(VLOOKUP(CQ$3,'District Bids'!$C$5:$CU$511,96,0),\"\")","v":""},"","","",{"$f":"IFERROR(VLOOKUP(CU$3,'District Bids'!$C$5:$CU$511,96,0),\"\")","v":""},"","","",{"$f":"IFERROR(VLOOKUP(CY$3,'District Bids'!$C$5:$CU$511,96,0),\"\")","v":""},"","","",{"$f":"IFERROR(VLOOKUP(DC$3,'District Bids'!$C$5:$CU$511,96,0),\"\")","v":""},"","","",{"$f":"IFERROR(VLOOKUP(DG$3,'District Bids'!$C$5:$CU$511,96,0),\"\")","v":""},"","","",{"$f":"IFERROR(VLOOKUP(DK$3,'District Bids'!$C$5:$CU$511,96,0),\"\")","v":""},"","","",{"$f":"IFERROR(VLOOKUP(DO$3,'District Bids'!$C$5:$CU$511,96,0),\"\")","v":""},"","","",{"$f":"IFERROR(VLOOKUP(DS$3,'District Bids'!$C$5:$CU$511,96,0),\"\")","v":""},"","","",{"$f":"IFERROR(VLOOKUP(DW$3,'District Bids'!$C$5:$CU$511,96,0),\"\")","v":""},"","","",{"$f":"IFERROR(VLOOKUP(EA$3,'District Bids'!$C$5:$CU$511,96,0),\"\")","v":""},"","",""]
[null,91,"Off-Season Plant Opening - Each Additional Day",{"$f":"'Order Details'!O48","v":0},{"$f":"IFERROR(VLOOKUP(G$3,'District Bids'!$C$5:$CU$511,97,0),\"\")","v":1500},0,0,"",{"$f":"IFERROR(VLOOKUP(K$3,'District Bids'!$C$5:$CU$511,97,0),\"\")","v":1250},0,0,"",{"$f":"IFERROR(VLOOKUP(O$3,'District Bids'!$C$5:$CU$511,97,0),\"\")","v":1250},0,0,"",{"$f":"IFERROR(VLOOKUP(S$3,'District Bids'!$C$5:$CU$511,97,0),\"\")","v":1000},0,0,"",{"$f":"IFERROR(VLOOKUP(W$3,'District Bids'!$C$5:$CU$511,97,0),\"\")","v":2000},0,0,"",{"$f":"IFERROR(VLOOKUP(AA$3,'District Bids'!$C$5:$CU$511,97,0),\"\")","v":2000},0,0,"",{"$f":"IFERROR(VLOOKUP(AE$3,'District Bids'!$C$5:$CU$511,97,0),\"\")","v":2000},0,0,"",{"$f":"IFERROR(VLOOKUP(AI$3,'District Bids'!$C$5:$CU$511,97,0),\"\")","v":2000},0,0,"",{"$f":"IFERROR(VLOOKUP(AM$3,'District Bids'!$C$5:$CU$511,97,0),\"\")","v":2000},0,0,"",{"$f":"IFERROR(VLOOKUP(AQ$3,'District Bids'!$C$5:$CU$511,97,0),\"\")","v":2000},0,0,"",{"$f":"IFERROR(VLOOKUP(AU$3,'District Bids'!$C$5:$CU$511,97,0),\"\")","v":""},"","","",{"$f":"IFERROR(VLOOKUP(AY$3,'District Bids'!$C$5:$CU$511,97,0),\"\")","v":""},"","","",{"$f":"IFERROR(VLOOKUP(BC$3,'District Bids'!$C$5:$CU$511,97,0),\"\")","v":""},"","","",{"$f":"IFERROR(VLOOKUP(BG$3,'District Bids'!$C$5:$CU$511,97,0),\"\")","v":""},"","","",{"$f":"IFERROR(VLOOKUP(BK$3,'District Bids'!$C$5:$CU$511,97,0),\"\")","v":""},"","","",{"$f":"IFERROR(VLOOKUP(BO$3,'District Bids'!$C$5:$CU$511,97,0),\"\")","v":""},"","","",{"$f":"IFERROR(VLOOKUP(BS$3,'District Bids'!$C$5:$CU$511,97,0),\"\")","v":""},"","","",{"$f":"IFERROR(VLOOKUP(BW$3,'District Bids'!$C$5:$CU$511,97,0),\"\")","v":""},"","","",{"$f":"IFERROR(VLOOKUP(CA$3,'District Bids'!$C$5:$CU$511,97,0),\"\")","v":""},"","","",{"$f":"IFERROR(VLOOKUP(CE$3,'District Bids'!$C$5:$CU$511,97,0),\"\")","v":""},"","","",{"$f":"IFERROR(VLOOKUP(CI$3,'District Bids'!$C$5:$CU$511,97,0),\"\")","v":""},"","","",{"$f":"IFERROR(VLOOKUP(CM$3,'District Bids'!$C$5:$CU$511,97,0),\"\")","v":""},"","","",{"$f":"IFERROR(VLOOKUP(CQ$3,'District Bids'!$C$5:$CU$511,97,0),\"\")","v":""},"","","",{"$f":"IFERROR(VLOOKUP(CU$3,'District Bids'!$C$5:$CU$511,97,0),\"\")","v":""},"","","",{"$f":"IFERROR(VLOOKUP(CY$3,'District Bids'!$C$5:$CU$511,97,0),\"\")","v":""},"","","",{"$f":"IFERROR(VLOOKUP(DC$3,'District Bids'!$C$5:$CU$511,97,0),\"\")","v":""},"","","",{"$f":"IFERROR(VLOOKUP(DG$3,'District Bids'!$C$5:$CU$511,97,0),\"\")","v":""},"","","",{"$f":"IFERROR(VLOOKUP(DK$3,'District Bids'!$C$5:$CU$511,97,0),\"\")","v":""},"","","",{"$f":"IFERROR(VLOOKUP(DO$3,'District Bids'!$C$5:$CU$511,97,0),\"\")","v":""},"","","",{"$f":"IFERROR(VLOOKUP(DS$3,'District Bids'!$C$5:$CU$511,97,0),\"\")","v":""},"","","",{"$f":"IFERROR(VLOOKUP(DW$3,'District Bids'!$C$5:$CU$511,97,0),\"\")","v":""},"","","",{"$f":"IFERROR(VLOOKUP(EA$3,'District Bids'!$C$5:$CU$511,97,0),\"\")","v":""},"","",""]
[null,92,"Raised Pavement Marker (RPM), Type P-2 with Installation",{"$f":"'Order Details'!O49","v":0},{"$f":"IFERROR(VLOOKUP(G$3,'District Bids'!$C$5:$DF$511,98,0),\"\")","v":70},{"$f":"IFERROR(E93*$D93,\"\")","v":0},{"$f":"IFERROR($D93*E93,\"\")","v":0},{"$f":"IF(AND($D93>0,E93=0),\"Incomplete\",\"\")","v":""},{"$f":"IFERROR(VLOOKUP(K$3,'District Bids'!$C$5:$DF$511,98,0),\"\")","v":75},0,0,{"$f":"IF(AND($D93>0,I93=0),\"Incomplete\",\"\")","v":""},{"$f":"IFERROR(VLOOKUP(O$3,'District Bids'!$C$5:$DF$511,98,0),\"\")","v":75},0,0,{"$f":"IF(AND($D93>0,M93=0),\"Incomplete\",\"\")","v":""},{"$f":"IFERROR(VLOOKUP(S$3,'District Bids'!$C$5:$DF$511,98,0),\"\")","v":0},0,0,{"$f":"IF(AND($D93>0,Q93=0),\"Incomplete\",\"\")","v":""},{"$f":"IFERROR(VLOOKUP(W$3,'District Bids'!$C$5:$DF$511,98,0),\"\")","v":76},0,0,{"$f":"IF(AND($D93>0,U93=0),\"Incomplete\",\"\")","v":""},{"$f":"IFERROR(VLOOKUP(AA$3,'District Bids'!$C$5:$DF$511,98,0),\"\")","v":76},0,0,{"$f":"IF(AND($D93>0,Y93=0),\"Incomplete\",\"\")","v":""},{"$f":"IFERROR(VLOOKUP(AE$3,'District Bids'!$C$5:$DF$511,98,0),\"\")","v":76},0,0,{"$f":"IF(AND($D93>0,AC93=0),\"Incomplete\",\"\")","v":""},{"$f":"IFERROR(VLOOKUP(AI$3,'District Bids'!$C$5:$DF$511,98,0),\"\")","v":76},0,0,{"$f":"IF(AND($D93>0,AG93=0),\"Incomplete\",\"\")","v":""},{"$f":"IFERROR(VLOOKUP(AM$3,'District Bids'!$C$5:$DF$511,98,0),\"\")","v":76},0,0,{"$f":"IF(AND($D93>0,AK93=0),\"Incomplete\",\"\")","v":""},{"$f":"IFERROR(VLOOKUP(AQ$3,'District Bids'!$C$5:$DF$511,98,0),\"\")","v":76},0,0,{"$f":"IF(AND($D93>0,AO93=0),\"Incomplete\",\"\")","v":""},{"$f":"IFERROR(VLOOKUP(AU$3,'District Bids'!$C$5:$DF$511,98,0),\"\")","v":""},"","",{"$f":"IF(AND($D93>0,AS93=0),\"Incomplete\",\"\")","v":""},{"$f":"IFERROR(VLOOKUP(AY$3,'District Bids'!$C$5:$DF$511,98,0),\"\")","v":""},"","",{"$f":"IF(AND($D93>0,AW93=0),\"Incomplete\",\"\")","v":""},{"$f":"IFERROR(VLOOKUP(BC$3,'District Bids'!$C$5:$DF$511,98,0),\"\")","v":""},"","",{"$f":"IF(AND($D93>0,BA93=0),\"Incomplete\",\"\")","v":""},{"$f":"IFERROR(VLOOKUP(BG$3,'District Bids'!$C$5:$DF$511,98,0),\"\")","v":""},"","",{"$f":"IF(AND($D93>0,BE93=0),\"Incomplete\",\"\")","v":""},{"$f":"IFERROR(VLOOKUP(BK$3,'District Bids'!$C$5:$DF$511,98,0),\"\")","v":""},"","",{"$f":"IF(AND($D93>0,BI93=0),\"Incomplete\",\"\")","v":""},{"$f":"IFERROR(VLOOKUP(BO$3,'District Bids'!$C$5:$DF$511,98,0),\"\")","v":""},"","",{"$f":"IF(AND($D93>0,BM93=0),\"Incomplete\",\"\")","v":""},{"$f":"IFERROR(VLOOKUP(BS$3,'District Bids'!$C$5:$DF$511,98,0),\"\")","v":""},"","",{"$f":"IF(AND($D93>0,BQ93=0),\"Incomplete\",\"\")","v":""},{"$f":"IFERROR(VLOOKUP(BW$3,'District Bids'!$C$5:$DF$511,98,0),\"\")","v":""},"","",{"$f":"IF(AND($D93>0,BU93=0),\"Incomplete\",\"\")","v":""},{"$f":"IFERROR(VLOOKUP(CA$3,'District Bids'!$C$5:$DF$511,98,0),\"\")","v":""},"","",{"$f":"IF(AND($D93>0,BY93=0),\"Incomplete\",\"\")","v":""},{"$f":"IFERROR(VLOOKUP(CE$3,'District Bids'!$C$5:$DF$511,98,0),\"\")","v":""},"","",{"$f":"IF(AND($D93>0,CC93=0),\"Incomplete\",\"\")","v":""},{"$f":"IFERROR(VLOOKUP(CI$3,'District Bids'!$C$5:$DF$511,98,0),\"\")","v":""},"","",{"$f":"IF(AND($D93>0,CG93=0),\"Incomplete\",\"\")","v":""},{"$f":"IFERROR(VLOOKUP(CM$3,'District Bids'!$C$5:$DF$511,98,0),\"\")","v":""},"","",{"$f":"IF(AND($D93>0,CK93=0),\"Incomplete\",\"\")","v":""},{"$f":"IFERROR(VLOOKUP(CQ$3,'District Bids'!$C$5:$DF$511,98,0),\"\")","v":""},"","",{"$f":"IF(AND($D93>0,CO93=0),\"Incomplete\",\"\")","v":""},{"$f":"IFERROR(VLOOKUP(CU$3,'District Bids'!$C$5:$DF$511,98,0),\"\")","v":""},"","",{"$f":"IF(AND($D93>0,CS93=0),\"Incomplete\",\"\")","v":""},{"$f":"IFERROR(VLOOKUP(CY$3,'District Bids'!$C$5:$DF$511,98,0),\"\")","v":""},"","",{"$f":"IF(AND($D93>0,CW93=0),\"Incomplete\",\"\")","v":""},{"$f":"IFERROR(VLOOKUP(DC$3,'District Bids'!$C$5:$DF$511,98,0),\"\")","v":""},"","",{"$f":"IF(AND($D93>0,DA93=0),\"Incomplete\",\"\")","v":""},{"$f":"IFERROR(VLOOKUP(DG$3,'District Bids'!$C$5:$DF$511,98,0),\"\")","v":""},"","",{"$f":"IF(AND($D93>0,DE93=0),\"Incomplete\",\"\")","v":""},{"$f":"IFERROR(VLOOKUP(DK$3,'District Bids'!$C$5:$DF$511,98,0),\"\")","v":""},"","",{"$f":"IF(AND($D93>0,DI93=0),\"Incomplete\",\"\")","v":""},{"$f":"IFERROR(VLOOKUP(DO$3,'District Bids'!$C$5:$DF$511,98,0),\"\")","v":""},"","",{"$f":"IF(AND($D93>0,DM93=0),\"Incomplete\",\"\")","v":""},{"$f":"IFERROR(VLOOKUP(DS$3,'District Bids'!$C$5:$DF$511,98,0),\"\")","v":""},"","",{"$f":"IF(AND($D93>0,DQ93=0),\"Incomplete\",\"\")","v":""},{"$f":"IFERROR(VLOOKUP(DW$3,'District Bids'!$C$5:$DF$511,98,0),\"\")","v":""},"","",{"$f":"IF(AND($D93>0,DU93=0),\"Incomplete\",\"\")","v":""},{"$f":"IFERROR(VLOOKUP(EA$3,'District Bids'!$C$5:$DF$511,98,0),\"\")","v":""},"","",{"$f":"IF(AND($D93>0,DY93=0),\"Incomplete\",\"\")","v":""}]
[null,93,"Raised Pavement Marker (RPM), Type R-4 with Installation",{"$f":"'Order Details'!O50","v":0},{"$f":"IFERROR(VLOOKUP(G$3,'District Bids'!$C$5:$DF$511,99,0),\"\")","v":30},0,0,"",{"$f":"IFERROR(VLOOKUP(K$3,'District Bids'!$C$5:$DF$511,99,0),\"\")","v":40},0,0,"",{"$f":"IFERROR(VLOOKUP(O$3,'District Bids'!$C$5:$DF$511,99,0),\"\")","v":40},0,0,"",{"$f":"IFERROR(VLOOKUP(S$3,'District Bids'!$C$5:$DF$511,99,0),\"\")","v":0},0,0,"",{"$f":"IFERROR(VLOOKUP(W$3,'District Bids'!$C$5:$DF$511,99,0),\"\")","v":35},0,0,"",{"$f":"IFERROR(VLOOKUP(AA$3,'District Bids'!$C$5:$DF$511,99,0),\"\")","v":35},0,0,"",{"$f":"IFERROR(VLOOKUP(AE$3,'District Bids'!$C$5:$DF$511,99,0),\"\")","v":35},0,0,"",{"$f":"IFERROR(VLOOKUP(AI$3,'District Bids'!$C$5:$DF$511,99,0),\"\")","v":35},0,0,"",{"$f":"IFERROR(VLOOKUP(AM$3,'District Bids'!$C$5:$DF$511,99,0),\"\")","v":35},0,0,"",{"$f":"IFERROR(VLOOKUP(AQ$3,'District Bids'!$C$5:$DF$511,99,0),\"\")","v":35},0,0,"",{"$f":"IFERROR(VLOOKUP(AU$3,'District Bids'!$C$5:$DF$511,99,0),\"\")","v":""},"","","",{"$f":"IFERROR(VLOOKUP(AY$3,'District Bids'!$C$5:$DF$511,99,0),\"\")","v":""},"","","",{"$f":"IFERROR(VLOOKUP(BC$3,'District Bids'!$C$5:$DF$511,99,0),\"\")","v":""},"","","",{"$f":"IFERROR(VLOOKUP(BG$3,'District Bids'!$C$5:$DF$511,99,0),\"\")","v":""},"","","",{"$f":"IFERROR(VLOOKUP(BK$3,'District Bids'!$C$5:$DF$511,99,0),\"\")","v":""},"","","",{"$f":"IFERROR(VLOOKUP(BO$3,'District Bids'!$C$5:$DF$511,99,0),\"\")","v":""},"","","",{"$f":"IFERROR(VLOOKUP(BS$3,'District Bids'!$C$5:$DF$511,99,0),\"\")","v":""},"","","",{"$f":"IFERROR(VLOOKUP(BW$3,'District Bids'!$C$5:$DF$511,99,0),\"\")","v":""},"","","",{"$f":"IFERROR(VLOOKUP(CA$3,'District Bids'!$C$5:$DF$511,99,0),\"\")","v":""},"","","",{"$f":"IFERROR(VLOOKUP(CE$3,'District Bids'!$C$5:$DF$511,99,0),\"\")","v":""},"","","",{"$f":"IFERROR(VLOOKUP(CI$3,'District Bids'!$C$5:$DF$511,99,0),\"\")","v":""},"","","",{"$f":"IFERROR(VLOOKUP(CM$3,'District Bids'!$C$5:$DF$511,99,0),\"\")","v":""},"","","",{"$f":"IFERROR(VLOOKUP(CQ$3,'District Bids'!$C$5:$DF$511,99,0),\"\")","v":""},"","","",{"$f":"IFERROR(VLOOKUP(CU$3,'District Bids'!$C$5:$DF$511,99,0),\"\")","v":""},"","","",{"$f":"IFERROR(VLOOKUP(CY$3,'District Bids'!$C$5:$DF$511,99,0),\"\")","v":""},"","","",{"$f":"IFERROR(VLOOKUP(DC$3,'District Bids'!$C$5:$DF$511,99,0),\"\")","v":""},"","","",{"$f":"IFERROR(VLOOKUP(DG$3,'District Bids'!$C$5:$DF$511,99,0),\"\")","v":""},"","","",{"$f":"IFERROR(VLOOKUP(DK$3,'District Bids'!$C$5:$DF$511,99,0),\"\")","v":""},"","","",{"$f":"IFERROR(VLOOKUP(DO$3,'District Bids'!$C$5:$DF$511,99,0),\"\")","v":""},"","","",{"$f":"IFERROR(VLOOKUP(DS$3,'District Bids'!$C$5:$DF$511,99,0),\"\")","v":""},"","","",{"$f":"IFERROR(VLOOKUP(DW$3,'District Bids'!$C$5:$DF$511,99,0),\"\")","v":""},"","","",{"$f":"IFERROR(VLOOKUP(EA$3,'District Bids'!$C$5:$DF$511,99,0),\"\")","v":""},"","",""]
[null,94,"Mobilization - RPM Installation",{"$f":"'Order Details'!O51","v":0},{"$f":"IFERROR(VLOOKUP(G$3,'District Bids'!$C$5:$DF$511,100,0),\"\")","v":1800},0,0,"",{"$f":"IFERROR(VLOOKUP(K$3,'District Bids'!$C$5:$DF$511,100,0),\"\")","v":1750},0,0,"",{"$f":"IFERROR(VLOOKUP(O$3,'District Bids'!$C$5:$DF$511,100,0),\"\")","v":1750},0,0,"",{"$f":"IFERROR(VLOOKUP(S$3,'District Bids'!$C$5:$DF$511,100,0),\"\")","v":0},0,0,"",{"$f":"IFERROR(VLOOKUP(W$3,'District Bids'!$C$5:$DF$511,100,0),\"\")","v":2000},0,0,"",{"$f":"IFERROR(VLOOKUP(AA$3,'District Bids'!$C$5:$DF$511,100,0),\"\")","v":2000},0,0,"",{"$f":"IFERROR(VLOOKUP(AE$3,'District Bids'!$C$5:$DF$511,100,0),\"\")","v":2000},0,0,"",{"$f":"IFERROR(VLOOKUP(AI$3,'District Bids'!$C$5:$DF$511,100,0),\"\")","v":2000},0,0,"",{"$f":"IFERROR(VLOOKUP(AM$3,'District Bids'!$C$5:$DF$511,100,0),\"\")","v":2000},0,0,"",{"$f":"IFERROR(VLOOKUP(AQ$3,'District Bids'!$C$5:$DF$511,100,0),\"\")","v":2000},0,0,"",{"$f":"IFERROR(VLOOKUP(AU$3,'District Bids'!$C$5:$DF$511,100,0),\"\")","v":""},"","","",{"$f":"IFERROR(VLOOKUP(AY$3,'District Bids'!$C$5:$DF$511,100,0),\"\")","v":""},"","","",{"$f":"IFERROR(VLOOKUP(BC$3,'District Bids'!$C$5:$DF$511,100,0),\"\")","v":""},"","","",{"$f":"IFERROR(VLOOKUP(BG$3,'District Bids'!$C$5:$DF$511,100,0),\"\")","v":""},"","","",{"$f":"IFERROR(VLOOKUP(BK$3,'District Bids'!$C$5:$DF$511,100,0),\"\")","v":""},"","","",{"$f":"IFERROR(VLOOKUP(BO$3,'District Bids'!$C$5:$DF$511,100,0),\"\")","v":""},"","","",{"$f":"IFERROR(VLOOKUP(BS$3,'District Bids'!$C$5:$DF$511,100,0),\"\")","v":""},"","","",{"$f":"IFERROR(VLOOKUP(BW$3,'District Bids'!$C$5:$DF$511,100,0),\"\")","v":""},"","","",{"$f":"IFERROR(VLOOKUP(CA$3,'District Bids'!$C$5:$DF$511,100,0),\"\")","v":""},"","","",{"$f":"IFERROR(VLOOKUP(CE$3,'District Bids'!$C$5:$DF$511,100,0),\"\")","v":""},"","","",{"$f":"IFERROR(VLOOKUP(CI$3,'District Bids'!$C$5:$DF$511,100,0),\"\")","v":""},"","","",{"$f":"IFERROR(VLOOKUP(CM$3,'District Bids'!$C$5:$DF$511,100,0),\"\")","v":""},"","","",{"$f":"IFERROR(VLOOKUP(CQ$3,'District Bids'!$C$5:$DF$511,100,0),\"\")","v":""},"","","",{"$f":"IFERROR(VLOOKUP(CU$3,'District Bids'!$C$5:$DF$511,100,0),\"\")","v":""},"","","",{"$f":"IFERROR(VLOOKUP(CY$3,'District Bids'!$C$5:$DF$511,100,0),\"\")","v":""},"","","",{"$f":"IFERROR(VLOOKUP(DC$3,'District Bids'!$C$5:$DF$511,100,0),\"\")","v":""},"","","",{"$f":"IFERROR(VLOOKUP(DG$3,'District Bids'!$C$5:$DF$511,100,0),\"\")","v":""},"","","",{"$f":"IFERROR(VLOOKUP(DK$3,'District Bids'!$C$5:$DF$511,100,0),\"\")","v":""},"","","",{"$f":"IFERROR(VLOOKUP(DO$3,'District Bids'!$C$5:$DF$511,100,0),\"\")","v":""},"","","",{"$f":"IFERROR(VLOOKUP(DS$3,'District Bids'!$C$5:$DF$511,100,0),\"\")","v":""},"","","",{"$f":"IFERROR(VLOOKUP(DW$3,'District Bids'!$C$5:$DF$511,100,0),\"\")","v":""},"","","",{"$f":"IFERROR(VLOOKUP(EA$3,'District Bids'!$C$5:$DF$511,100,0),\"\")","v":""},"","",""]
[null,95,"Raised Pavement Marker (RPM) Removal",{"$f":"'Order Details'!O52","v":0},{"$f":"IFERROR(VLOOKUP(G$3,'District Bids'!$C$5:$DF$511,101,0),\"\")","v":12},0,0,"",{"$f":"IFERROR(VLOOKUP(K$3,'District Bids'!$C$5:$DF$511,101,0),\"\")","v":22},0,0,"",{"$f":"IFERROR(VLOOKUP(O$3,'District Bids'!$C$5:$DF$511,101,0),\"\")","v":22},0,0,"",{"$f":"IFERROR(VLOOKUP(S$3,'District Bids'!$C$5:$DF$511,101,0),\"\")","v":0},0,0,"",{"$f":"IFERROR(VLOOKUP(W$3,'District Bids'!$C$5:$DF$511,101,0),\"\")","v":13},0,0,"",{"$f":"IFERROR(VLOOKUP(AA$3,'District Bids'!$C$5:$DF$511,101,0),\"\")","v":13},0,0,"",{"$f":"IFERROR(VLOOKUP(AE$3,'District Bids'!$C$5:$DF$511,101,0),\"\")","v":13},0,0,"",{"$f":"IFERROR(VLOOKUP(AI$3,'District Bids'!$C$5:$DF$511,101,0),\"\")","v":13},0,0,"",{"$f":"IFERROR(VLOOKUP(AM$3,'District Bids'!$C$5:$DF$511,101,0),\"\")","v":13},0,0,"",{"$f":"IFERROR(VLOOKUP(AQ$3,'District Bids'!$C$5:$DF$511,101,0),\"\")","v":13},0,0,"",{"$f":"IFERROR(VLOOKUP(AU$3,'District Bids'!$C$5:$DF$511,101,0),\"\")","v":""},"","","",{"$f":"IFERROR(VLOOKUP(AY$3,'District Bids'!$C$5:$DF$511,101,0),\"\")","v":""},"","","",{"$f":"IFERROR(VLOOKUP(BC$3,'District Bids'!$C$5:$DF$511,101,0),\"\")","v":""},"","","",{"$f":"IFERROR(VLOOKUP(BG$3,'District Bids'!$C$5:$DF$511,101,0),\"\")","v":""},"","","",{"$f":"IFERROR(VLOOKUP(BK$3,'District Bids'!$C$5:$DF$511,101,0),\"\")","v":""},"","","",{"$f":"IFERROR(VLOOKUP(BO$3,'District Bids'!$C$5:$DF$511,101,0),\"\")","v":""},"","","",{"$f":"IFERROR(VLOOKUP(BS$3,'District Bids'!$C$5:$DF$511,101,0),\"\")","v":""},"","","",{"$f":"IFERROR(VLOOKUP(BW$3,'District Bids'!$C$5:$DF$511,101,0),\"\")","v":""},"","","",{"$f":"IFERROR(VLOOKUP(CA$3,'District Bids'!$C$5:$DF$511,101,0),\"\")","v":""},"","","",{"$f":"IFERROR(VLOOKUP(CE$3,'District Bids'!$C$5:$DF$511,101,0),\"\")","v":""},"","","",{"$f":"IFERROR(VLOOKUP(CI$3,'District Bids'!$C$5:$DF$511,101,0),\"\")","v":""},"","","",{"$f":"IFERROR(VLOOKUP(CM$3,'District Bids'!$C$5:$DF$511,101,0),\"\")","v":""},"","","",{"$f":"IFERROR(VLOOKUP(CQ$3,'District Bids'!$C$5:$DF$511,101,0),\"\")","v":""},"","","",{"$f":"IFERROR(VLOOKUP(CU$3,'District Bids'!$C$5:$DF$511,101,0),\"\")","v":""},"","","",{"$f":"IFERROR(VLOOKUP(CY$3,'District Bids'!$C$5:$DF$511,101,0),\"\")","v":""},"","","",{"$f":"IFERROR(VLOOKUP(DC$3,'District Bids'!$C$5:$DF$511,101,0),\"\")","v":""},"","","",{"$f":"IFERROR(VLOOKUP(DG$3,'District Bids'!$C$5:$DF$511,101,0),\"\")","v":""},"","","",{"$f":"IFERROR(VLOOKUP(DK$3,'District Bids'!$C$5:$DF$511,101,0),\"\")","v":""},"","","",{"$f":"IFERROR(VLOOKUP(DO$3,'District Bids'!$C$5:$DF$511,101,0),\"\")","v":""},"","","",{"$f":"IFERROR(VLOOKUP(DS$3,'District Bids'!$C$5:$DF$511,101,0),\"\")","v":""},"","","",{"$f":"IFERROR(VLOOKUP(DW$3,'District Bids'!$C$5:$DF$511,101,0),\"\")","v":""},"","","",{"$f":"IFERROR(VLOOKUP(EA$3,'District Bids'!$C$5:$DF$511,101,0),\"\")","v":""},"","",""]
[null,96,"Mobilization - RPM Removal ",{"$f":"'Order Details'!O53","v":0},{"$f":"IFERROR(VLOOKUP(G$3,'District Bids'!$C$5:$DF$511,102,0),\"\")","v":1800},0,0,"",{"$f":"IFERROR(VLOOKUP(K$3,'District Bids'!$C$5:$DF$511,102,0),\"\")","v":1950},0,0,"",{"$f":"IFERROR(VLOOKUP(O$3,'District Bids'!$C$5:$DF$511,102,0),\"\")","v":1950},0,0,"",{"$f":"IFERROR(VLOOKUP(S$3,'District Bids'!$C$5:$DF$511,102,0),\"\")","v":0},0,0,"",{"$f":"IFERROR(VLOOKUP(W$3,'District Bids'!$C$5:$DF$511,102,0),\"\")","v":2000},0,0,"",{"$f":"IFERROR(VLOOKUP(AA$3,'District Bids'!$C$5:$DF$511,102,0),\"\")","v":2000},0,0,"",{"$f":"IFERROR(VLOOKUP(AE$3,'District Bids'!$C$5:$DF$511,102,0),\"\")","v":2000},0,0,"",{"$f":"IFERROR(VLOOKUP(AI$3,'District Bids'!$C$5:$DF$511,102,0),\"\")","v":2000},0,0,"",{"$f":"IFERROR(VLOOKUP(AM$3,'District Bids'!$C$5:$DF$511,102,0),\"\")","v":2000},0,0,"",{"$f":"IFERROR(VLOOKUP(AQ$3,'District Bids'!$C$5:$DF$511,102,0),\"\")","v":2000},0,0,"",{"$f":"IFERROR(VLOOKUP(AU$3,'District Bids'!$C$5:$DF$511,102,0),\"\")","v":""},"","","",{"$f":"IFERROR(VLOOKUP(AY$3,'District Bids'!$C$5:$DF$511,102,0),\"\")","v":""},"","","",{"$f":"IFERROR(VLOOKUP(BC$3,'District Bids'!$C$5:$DF$511,102,0),\"\")","v":""},"","","",{"$f":"IFERROR(VLOOKUP(BG$3,'District Bids'!$C$5:$DF$511,102,0),\"\")","v":""},"","","",{"$f":"IFERROR(VLOOKUP(BK$3,'District Bids'!$C$5:$DF$511,102,0),\"\")","v":""},"","","",{"$f":"IFERROR(VLOOKUP(BO$3,'District Bids'!$C$5:$DF$511,102,0),\"\")","v":""},"","","",{"$f":"IFERROR(VLOOKUP(BS$3,'District Bids'!$C$5:$DF$511,102,0),\"\")","v":""},"","","",{"$f":"IFERROR(VLOOKUP(BW$3,'District Bids'!$C$5:$DF$511,102,0),\"\")","v":""},"","","",{"$f":"IFERROR(VLOOKUP(CA$3,'District Bids'!$C$5:$DF$511,102,0),\"\")","v":""},"","","",{"$f":"IFERROR(VLOOKUP(CE$3,'District Bids'!$C$5:$DF$511,102,0),\"\")","v":""},"","","",{"$f":"IFERROR(VLOOKUP(CI$3,'District Bids'!$C$5:$DF$511,102,0),\"\")","v":""},"","","",{"$f":"IFERROR(VLOOKUP(CM$3,'District Bids'!$C$5:$DF$511,102,0),\"\")","v":""},"","","",{"$f":"IFERROR(VLOOKUP(CQ$3,'District Bids'!$C$5:$DF$511,102,0),\"\")","v":""},"","","",{"$f":"IFERROR(VLOOKUP(CU$3,'District Bids'!$C$5:$DF$511,102,0),\"\")","v":""},"","","",{"$f":"IFERROR(VLOOKUP(CY$3,'District Bids'!$C$5:$DF$511,102,0),\"\")","v":""},"","","",{"$f":"IFERROR(VLOOKUP(DC$3,'District Bids'!$C$5:$DF$511,102,0),\"\")","v":""},"","","",{"$f":"IFERROR(VLOOKUP(DG$3,'District Bids'!$C$5:$DF$511,102,0),\"\")","v":""},"","","",{"$f":"IFERROR(VLOOKUP(DK$3,'District Bids'!$C$5:$DF$511,102,0),\"\")","v":""},"","","",{"$f":"IFERROR(VLOOKUP(DO$3,'District Bids'!$C$5:$DF$511,102,0),\"\")","v":""},"","","",{"$f":"IFERROR(VLOOKUP(DS$3,'District Bids'!$C$5:$DF$511,102,0),\"\")","v":""},"","","",{"$f":"IFERROR(VLOOKUP(DW$3,'District Bids'!$C$5:$DF$511,102,0),\"\")","v":""},"","","",{"$f":"IFERROR(VLOOKUP(EA$3,'District Bids'!$C$5:$DF$511,102,0),\"\")","v":""},"","",""]
[null,97,"VRAM (Void Reducing Asphalt Membrane) 0-1000 LF",{"$f":"'Order Details'!O54","v":0},{"$f":"IFERROR(VLOOKUP(G$3,'District Bids'!$C$5:$DF$511,103,0),\"\")","v":0},0,0,"",{"$f":"IFERROR(VLOOKUP(K$3,'District Bids'!$C$5:$DF$511,103,0),\"\")","v":9.5},0,0,"",{"$f":"IFERROR(VLOOKUP(O$3,'District Bids'!$C$5:$DF$511,103,0),\"\")","v":9.5},0,0,"",{"$f":"IFERROR(VLOOKUP(S$3,'District Bids'!$C$5:$DF$511,103,0),\"\")","v":0},0,0,"",{"$f":"IFERROR(VLOOKUP(W$3,'District Bids'!$C$5:$DF$511,103,0),\"\")","v":8.5},0,0,"",{"$f":"IFERROR(VLOOKUP(AA$3,'District Bids'!$C$5:$DF$511,103,0),\"\")","v":8.5},0,0,"",{"$f":"IFERROR(VLOOKUP(AE$3,'District Bids'!$C$5:$DF$511,103,0),\"\")","v":8.5},0,0,"",{"$f":"IFERROR(VLOOKUP(AI$3,'District Bids'!$C$5:$DF$511,103,0),\"\")","v":8.5},0,0,"",{"$f":"IFERROR(VLOOKUP(AM$3,'District Bids'!$C$5:$DF$511,103,0),\"\")","v":8.5},0,0,"",{"$f":"IFERROR(VLOOKUP(AQ$3,'District Bids'!$C$5:$DF$511,103,0),\"\")","v":8.5},0,0,"",{"$f":"IFERROR(VLOOKUP(AU$3,'District Bids'!$C$5:$DF$511,103,0),\"\")","v":""},"","","",{"$f":"IFERROR(VLOOKUP(AY$3,'District Bids'!$C$5:$DF$511,103,0),\"\")","v":""},"","","",{"$f":"IFERROR(VLOOKUP(BC$3,'District Bids'!$C$5:$DF$511,103,0),\"\")","v":""},"","","",{"$f":"IFERROR(VLOOKUP(BG$3,'District Bids'!$C$5:$DF$511,103,0),\"\")","v":""},"","","",{"$f":"IFERROR(VLOOKUP(BK$3,'District Bids'!$C$5:$DF$511,103,0),\"\")","v":""},"","","",{"$f":"IFERROR(VLOOKUP(BO$3,'District Bids'!$C$5:$DF$511,103,0),\"\")","v":""},"","","",{"$f":"IFERROR(VLOOKUP(BS$3,'District Bids'!$C$5:$DF$511,103,0),\"\")","v":""},"","","",{"$f":"IFERROR(VLOOKUP(BW$3,'District Bids'!$C$5:$DF$511,103,0),\"\")","v":""},"","","",{"$f":"IFERROR(VLOOKUP(CA$3,'District Bids'!$C$5:$DF$511,103,0),\"\")","v":""},"","","",{"$f":"IFERROR(VLOOKUP(CE$3,'District Bids'!$C$5:$DF$511,103,0),\"\")","v":""},"","","",{"$f":"IFERROR(VLOOKUP(CI$3,'District Bids'!$C$5:$DF$511,103,0),\"\")","v":""},"","","",{"$f":"IFERROR(VLOOKUP(CM$3,'District Bids'!$C$5:$DF$511,103,0),\"\")","v":""},"","","",{"$f":"IFERROR(VLOOKUP(CQ$3,'District Bids'!$C$5:$DF$511,103,0),\"\")","v":""},"","","",{"$f":"IFERROR(VLOOKUP(CU$3,'District Bids'!$C$5:$DF$511,103,0),\"\")","v":""},"","","",{"$f":"IFERROR(VLOOKUP(CY$3,'District Bids'!$C$5:$DF$511,103,0),\"\")","v":""},"","","",{"$f":"IFERROR(VLOOKUP(DC$3,'District Bids'!$C$5:$DF$511,103,0),\"\")","v":""},"","","",{"$f":"IFERROR(VLOOKUP(DG$3,'District Bids'!$C$5:$DF$511,103,0),\"\")","v":""},"","","",{"$f":"IFERROR(VLOOKUP(DK$3,'District Bids'!$C$5:$DF$511,103,0),\"\")","v":""},"","","",{"$f":"IFERROR(VLOOKUP(DO$3,'District Bids'!$C$5:$DF$511,103,0),\"\")","v":""},"","","",{"$f":"IFERROR(VLOOKUP(DS$3,'District Bids'!$C$5:$DF$511,103,0),\"\")","v":""},"","","",{"$f":"IFERROR(VLOOKUP(DW$3,'District Bids'!$C$5:$DF$511,103,0),\"\")","v":""},"","","",{"$f":"IFERROR(VLOOKUP(EA$3,'District Bids'!$C$5:$DF$511,103,0),\"\")","v":""},"","",""]
[null,98,"VRAM (Void Reducing Asphalt Membrane) 1001-2000 LF",{"$f":"'Order Details'!O55","v":0},{"$f":"IFERROR(VLOOKUP(G$3,'District Bids'!$C$5:$DF$511,104,0),\"\")","v":0},0,0,"",{"$f":"IFERROR(VLOOKUP(K$3,'District Bids'!$C$5:$DF$511,104,0),\"\")","v":7.4},0,0,"",{"$f":"IFERROR(VLOOKUP(O$3,'District Bids'!$C$5:$DF$511,104,0),\"\")","v":7.4},0,0,"",{"$f":"IFERROR(VLOOKUP(S$3,'District Bids'!$C$5:$DF$511,104,0),\"\")","v":0},0,0,"",{"$f":"IFERROR(VLOOKUP(W$3,'District Bids'!$C$5:$DF$511,104,0),\"\")","v":8},0,0,"",{"$f":"IFERROR(VLOOKUP(AA$3,'District Bids'!$C$5:$DF$511,104,0),\"\")","v":8},0,0,"",{"$f":"IFERROR(VLOOKUP(AE$3,'District Bids'!$C$5:$DF$511,104,0),\"\")","v":8},0,0,"",{"$f":"IFERROR(VLOOKUP(AI$3,'District Bids'!$C$5:$DF$511,104,0),\"\")","v":8},0,0,"",{"$f":"IFERROR(VLOOKUP(AM$3,'District Bids'!$C$5:$DF$511,104,0),\"\")","v":8},0,0,"",{"$f":"IFERROR(VLOOKUP(AQ$3,'District Bids'!$C$5:$DF$511,104,0),\"\")","v":8},0,0,"",{"$f":"IFERROR(VLOOKUP(AU$3,'District Bids'!$C$5:$DF$511,104,0),\"\")","v":""},"","","",{"$f":"IFERROR(VLOOKUP(AY$3,'District Bids'!$C$5:$DF$511,104,0),\"\")","v":""},"","","",{"$f":"IFERROR(VLOOKUP(BC$3,'District Bids'!$C$5:$DF$511,104,0),\"\")","v":""},"","","",{"$f":"IFERROR(VLOOKUP(BG$3,'District Bids'!$C$5:$DF$511,104,0),\"\")","v":""},"","","",{"$f":"IFERROR(VLOOKUP(BK$3,'District Bids'!$C$5:$DF$511,104,0),\"\")","v":""},"","","",{"$f":"IFERROR(VLOOKUP(BO$3,'District Bids'!$C$5:$DF$511,104,0),\"\")","v":""},"","","",{"$f":"IFERROR(VLOOKUP(BS$3,'District Bids'!$C$5:$DF$511,104,0),\"\")","v":""},"","","",{"$f":"IFERROR(VLOOKUP(BW$3,'District Bids'!$C$5:$DF$511,104,0),\"\")","v":""},"","","",{"$f":"IFERROR(VLOOKUP(CA$3,'District Bids'!$C$5:$DF$511,104,0),\"\")","v":""},"","","",{"$f":"IFERROR(VLOOKUP(CE$3,'District Bids'!$C$5:$DF$511,104,0),\"\")","v":""},"","","",{"$f":"IFERROR(VLOOKUP(CI$3,'District Bids'!$C$5:$DF$511,104,0),\"\")","v":""},"","","",{"$f":"IFERROR(VLOOKUP(CM$3,'District Bids'!$C$5:$DF$511,104,0),\"\")","v":""},"","","",{"$f":"IFERROR(VLOOKUP(CQ$3,'District Bids'!$C$5:$DF$511,104,0),\"\")","v":""},"","","",{"$f":"IFERROR(VLOOKUP(CU$3,'District Bids'!$C$5:$DF$511,104,0),\"\")","v":""},"","","",{"$f":"IFERROR(VLOOKUP(CY$3,'District Bids'!$C$5:$DF$511,104,0),\"\")","v":""},"","","",{"$f":"IFERROR(VLOOKUP(DC$3,'District Bids'!$C$5:$DF$511,104,0),\"\")","v":""},"","","",{"$f":"IFERROR(VLOOKUP(DG$3,'District Bids'!$C$5:$DF$511,104,0),\"\")","v":""},"","","",{"$f":"IFERROR(VLOOKUP(DK$3,'District Bids'!$C$5:$DF$511,104,0),\"\")","v":""},"","","",{"$f":"IFERROR(VLOOKUP(DO$3,'District Bids'!$C$5:$DF$511,104,0),\"\")","v":""},"","","",{"$f":"IFERROR(VLOOKUP(DS$3,'District Bids'!$C$5:$DF$511,104,0),\"\")","v":""},"","","",{"$f":"IFERROR(VLOOKUP(DW$3,'District Bids'!$C$5:$DF$511,104,0),\"\")","v":""},"","","",{"$f":"IFERROR(VLOOKUP(EA$3,'District Bids'!$C$5:$DF$511,104,0),\"\")","v":""},"","",""]
[null,99,"VRAM (Void Reducing Asphalt Membrane) 2001-5,000 LF",{"$f":"'Order Details'!O56","v":0},{"$f":"IFERROR(VLOOKUP(G$3,'District Bids'!$C$5:$DF$511,105,0),\"\")","v":0},0,0,"",{"$f":"IFERROR(VLOOKUP(K$3,'District Bids'!$C$5:$DF$511,105,0),\"\")","v":6},0,0,"",{"$f":"IFERROR(VLOOKUP(O$3,'District Bids'!$C$5:$DF$511,105,0),\"\")","v":6},0,0,"",{"$f":"IFERROR(VLOOKUP(S$3,'District Bids'!$C$5:$DF$511,105,0),\"\")","v":0},0,0,"",{"$f":"IFERROR(VLOOKUP(W$3,'District Bids'!$C$5:$DF$511,105,0),\"\")","v":6.5},0,0,"",{"$f":"IFERROR(VLOOKUP(AA$3,'District Bids'!$C$5:$DF$511,105,0),\"\")","v":6.5},0,0,"",{"$f":"IFERROR(VLOOKUP(AE$3,'District Bids'!$C$5:$DF$511,105,0),\"\")","v":6.5},0,0,"",{"$f":"IFERROR(VLOOKUP(AI$3,'District Bids'!$C$5:$DF$511,105,0),\"\")","v":6.5},0,0,"",{"$f":"IFERROR(VLOOKUP(AM$3,'District Bids'!$C$5:$DF$511,105,0),\"\")","v":6.5},0,0,"",{"$f":"IFERROR(VLOOKUP(AQ$3,'District Bids'!$C$5:$DF$511,105,0),\"\")","v":6.5},0,0,"",{"$f":"IFERROR(VLOOKUP(AU$3,'District Bids'!$C$5:$DF$511,105,0),\"\")","v":""},"","","",{"$f":"IFERROR(VLOOKUP(AY$3,'District Bids'!$C$5:$DF$511,105,0),\"\")","v":""},"","","",{"$f":"IFERROR(VLOOKUP(BC$3,'District Bids'!$C$5:$DF$511,105,0),\"\")","v":""},"","","",{"$f":"IFERROR(VLOOKUP(BG$3,'District Bids'!$C$5:$DF$511,105,0),\"\")","v":""},"","","",{"$f":"IFERROR(VLOOKUP(BK$3,'District Bids'!$C$5:$DF$511,105,0),\"\")","v":""},"","","",{"$f":"IFERROR(VLOOKUP(BO$3,'District Bids'!$C$5:$DF$511,105,0),\"\")","v":""},"","","",{"$f":"IFERROR(VLOOKUP(BS$3,'District Bids'!$C$5:$DF$511,105,0),\"\")","v":""},"","","",{"$f":"IFERROR(VLOOKUP(BW$3,'District Bids'!$C$5:$DF$511,105,0),\"\")","v":""},"","","",{"$f":"IFERROR(VLOOKUP(CA$3,'District Bids'!$C$5:$DF$511,105,0),\"\")","v":""},"","","",{"$f":"IFERROR(VLOOKUP(CE$3,'District Bids'!$C$5:$DF$511,105,0),\"\")","v":""},"","","",{"$f":"IFERROR(VLOOKUP(CI$3,'District Bids'!$C$5:$DF$511,105,0),\"\")","v":""},"","","",{"$f":"IFERROR(VLOOKUP(CM$3,'District Bids'!$C$5:$DF$511,105,0),\"\")","v":""},"","","",{"$f":"IFERROR(VLOOKUP(CQ$3,'District Bids'!$C$5:$DF$511,105,0),\"\")","v":""},"","","",{"$f":"IFERROR(VLOOKUP(CU$3,'District Bids'!$C$5:$DF$511,105,0),\"\")","v":""},"","","",{"$f":"IFERROR(VLOOKUP(CY$3,'District Bids'!$C$5:$DF$511,105,0),\"\")","v":""},"","","",{"$f":"IFERROR(VLOOKUP(DC$3,'District Bids'!$C$5:$DF$511,105,0),\"\")","v":""},"","","",{"$f":"IFERROR(VLOOKUP(DG$3,'District Bids'!$C$5:$DF$511,105,0),\"\")","v":""},"","","",{"$f":"IFERROR(VLOOKUP(DK$3,'District Bids'!$C$5:$DF$511,105,0),\"\")","v":""},"","","",{"$f":"IFERROR(VLOOKUP(DO$3,'District Bids'!$C$5:$DF$511,105,0),\"\")","v":""},"","","",{"$f":"IFERROR(VLOOKUP(DS$3,'District Bids'!$C$5:$DF$511,105,0),\"\")","v":""},"","","",{"$f":"IFERROR(VLOOKUP(DW$3,'District Bids'!$C$5:$DF$511,105,0),\"\")","v":""},"","","",{"$f":"IFERROR(VLOOKUP(EA$3,'District Bids'!$C$5:$DF$511,105,0),\"\")","v":""},"","",""]
[null,100,"VRAM (Void Reducing Asphalt Membrane) 5,001 LF or greater",{"$f":"'Order Details'!O57","v":0},{"$f":"IFERROR(VLOOKUP(G$3,'District Bids'!$C$5:$DF$511,106,0),\"\")","v":0},0,0,"",{"$f":"IFERROR(VLOOKUP(K$3,'District Bids'!$C$5:$DF$511,106,0),\"\")","v":4.55},0,0,"",{"$f":"IFERROR(VLOOKUP(O$3,'District Bids'!$C$5:$DF$511,106,0),\"\")","v":4.55},0,0,"",{"$f":"IFERROR(VLOOKUP(S$3,'District Bids'!$C$5:$DF$511,106,0),\"\")","v":0},0,0,"",{"$f":"IFERROR(VLOOKUP(W$3,'District Bids'!$C$5:$DF$511,106,0),\"\")","v":5},0,0,"",{"$f":"IFERROR(VLOOKUP(AA$3,'District Bids'!$C$5:$DF$511,106,0),\"\")","v":5},0,0,"",{"$f":"IFERROR(VLOOKUP(AE$3,'District Bids'!$C$5:$DF$511,106,0),\"\")","v":5},0,0,"",{"$f":"IFERROR(VLOOKUP(AI$3,'District Bids'!$C$5:$DF$511,106,0),\"\")","v":5},0,0,"",{"$f":"IFERROR(VLOOKUP(AM$3,'District Bids'!$C$5:$DF$511,106,0),\"\")","v":5},0,0,"",{"$f":"IFERROR(VLOOKUP(AQ$3,'District Bids'!$C$5:$DF$511,106,0),\"\")","v":5},0,0,"",{"$f":"IFERROR(VLOOKUP(AU$3,'District Bids'!$C$5:$DF$511,106,0),\"\")","v":""},"","","",{"$f":"IFERROR(VLOOKUP(AY$3,'District Bids'!$C$5:$DF$511,106,0),\"\")","v":""},"","","",{"$f":"IFERROR(VLOOKUP(BC$3,'District Bids'!$C$5:$DF$511,106,0),\"\")","v":""},"","","",{"$f":"IFERROR(VLOOKUP(BG$3,'District Bids'!$C$5:$DF$511,106,0),\"\")","v":""},"","","",{"$f":"IFERROR(VLOOKUP(BK$3,'District Bids'!$C$5:$DF$511,106,0),\"\")","v":""},"","","",{"$f":"IFERROR(VLOOKUP(BO$3,'District Bids'!$C$5:$DF$511,106,0),\"\")","v":""},"","","",{"$f":"IFERROR(VLOOKUP(BS$3,'District Bids'!$C$5:$DF$511,106,0),\"\")","v":""},"","","",{"$f":"IFERROR(VLOOKUP(BW$3,'District Bids'!$C$5:$DF$511,106,0),\"\")","v":""},"","","",{"$f":"IFERROR(VLOOKUP(CA$3,'District Bids'!$C$5:$DF$511,106,0),\"\")","v":""},"","","",{"$f":"IFERROR(VLOOKUP(CE$3,'District Bids'!$C$5:$DF$511,106,0),\"\")","v":""},"","","",{"$f":"IFERROR(VLOOKUP(CI$3,'District Bids'!$C$5:$DF$511,106,0),\"\")","v":""},"","","",{"$f":"IFERROR(VLOOKUP(CM$3,'District Bids'!$C$5:$DF$511,106,0),\"\")","v":""},"","","",{"$f":"IFERROR(VLOOKUP(CQ$3,'District Bids'!$C$5:$DF$511,106,0),\"\")","v":""},"","","",{"$f":"IFERROR(VLOOKUP(CU$3,'District Bids'!$C$5:$DF$511,106,0),\"\")","v":""},"","","",{"$f":"IFERROR(VLOOKUP(CY$3,'District Bids'!$C$5:$DF$511,106,0),\"\")","v":""},"","","",{"$f":"IFERROR(VLOOKUP(DC$3,'District Bids'!$C$5:$DF$511,106,0),\"\")","v":""},"","","",{"$f":"IFERROR(VLOOKUP(DG$3,'District Bids'!$C$5:$DF$511,106,0),\"\")","v":""},"","","",{"$f":"IFERROR(VLOOKUP(DK$3,'District Bids'!$C$5:$DF$511,106,0),\"\")","v":""},"","","",{"$f":"IFERROR(VLOOKUP(DO$3,'District Bids'!$C$5:$DF$511,106,0),\"\")","v":""},"","","",{"$f":"IFERROR(VLOOKUP(DS$3,'District Bids'!$C$5:$DF$511,106,0),\"\")","v":""},"","","",{"$f":"IFERROR(VLOOKUP(DW$3,'District Bids'!$C$5:$DF$511,106,0),\"\")","v":""},"","","",{"$f":"IFERROR(VLOOKUP(EA$3,'District Bids'!$C$5:$DF$511,106,0),\"\")","v":""},"","",""]
[null,101,"VRAM Preparation, Removal of Center Line",{"$f":"'Order Details'!O58","v":0},{"$f":"IFERROR(VLOOKUP(G$3,'District Bids'!$C$5:$DF$511,107,0),\"\")","v":0},0,0,"",{"$f":"IFERROR(VLOOKUP(K$3,'District Bids'!$C$5:$DF$511,107,0),\"\")","v":5.25},0,0,"",{"$f":"IFERROR(VLOOKUP(O$3,'District Bids'!$C$5:$DF$511,107,0),\"\")","v":5.25},0,0,"",{"$f":"IFERROR(VLOOKUP(S$3,'District Bids'!$C$5:$DF$511,107,0),\"\")","v":0},0,0,"",{"$f":"IFERROR(VLOOKUP(W$3,'District Bids'!$C$5:$DF$511,107,0),\"\")","v":6},0,0,"",{"$f":"IFERROR(VLOOKUP(AA$3,'District Bids'!$C$5:$DF$511,107,0),\"\")","v":6},0,0,"",{"$f":"IFERROR(VLOOKUP(AE$3,'District Bids'!$C$5:$DF$511,107,0),\"\")","v":6},0,0,"",{"$f":"IFERROR(VLOOKUP(AI$3,'District Bids'!$C$5:$DF$511,107,0),\"\")","v":6},0,0,"",{"$f":"IFERROR(VLOOKUP(AM$3,'District Bids'!$C$5:$DF$511,107,0),\"\")","v":6},0,0,"",{"$f":"IFERROR(VLOOKUP(AQ$3,'District Bids'!$C$5:$DF$511,107,0),\"\")","v":6},0,0,"",{"$f":"IFERROR(VLOOKUP(AU$3,'District Bids'!$C$5:$DF$511,107,0),\"\")","v":""},"","","",{"$f":"IFERROR(VLOOKUP(AY$3,'District Bids'!$C$5:$DF$511,107,0),\"\")","v":""},"","","",{"$f":"IFERROR(VLOOKUP(BC$3,'District Bids'!$C$5:$DF$511,107,0),\"\")","v":""},"","","",{"$f":"IFERROR(VLOOKUP(BG$3,'District Bids'!$C$5:$DF$511,107,0),\"\")","v":""},"","","",{"$f":"IFERROR(VLOOKUP(BK$3,'District Bids'!$C$5:$DF$511,107,0),\"\")","v":""},"","","",{"$f":"IFERROR(VLOOKUP(BO$3,'District Bids'!$C$5:$DF$511,107,0),\"\")","v":""},"","","",{"$f":"IFERROR(VLOOKUP(BS$3,'District Bids'!$C$5:$DF$511,107,0),\"\")","v":""},"","","",{"$f":"IFERROR(VLOOKUP(BW$3,'District Bids'!$C$5:$DF$511,107,0),\"\")","v":""},"","","",{"$f":"IFERROR(VLOOKUP(CA$3,'District Bids'!$C$5:$DF$511,107,0),\"\")","v":""},"","","",{"$f":"IFERROR(VLOOKUP(CE$3,'District Bids'!$C$5:$DF$511,107,0),\"\")","v":""},"","","",{"$f":"IFERROR(VLOOKUP(CI$3,'District Bids'!$C$5:$DF$511,107,0),\"\")","v":""},"","","",{"$f":"IFERROR(VLOOKUP(CM$3,'District Bids'!$C$5:$DF$511,107,0),\"\")","v":""},"","","",{"$f":"IFERROR(VLOOKUP(CQ$3,'District Bids'!$C$5:$DF$511,107,0),\"\")","v":""},"","","",{"$f":"IFERROR(VLOOKUP(CU$3,'District Bids'!$C$5:$DF$511,107,0),\"\")","v":""},"","","",{"$f":"IFERROR(VLOOKUP(CY$3,'District Bids'!$C$5:$DF$511,107,0),\"\")","v":""},"","","",{"$f":"IFERROR(VLOOKUP(DC$3,'District Bids'!$C$5:$DF$511,107,0),\"\")","v":""},"","","",{"$f":"IFERROR(VLOOKUP(DG$3,'District Bids'!$C$5:$DF$511,107,0),\"\")","v":""},"","","",{"$f":"IFERROR(VLOOKUP(DK$3,'District Bids'!$C$5:$DF$511,107,0),\"\")","v":""},"","","",{"$f":"IFERROR(VLOOKUP(DO$3,'District Bids'!$C$5:$DF$511,107,0),\"\")","v":""},"","","",{"$f":"IFERROR(VLOOKUP(DS$3,'District Bids'!$C$5:$DF$511,107,0),\"\")","v":""},"","","",{"$f":"IFERROR(VLOOKUP(DW$3,'District Bids'!$C$5:$DF$511,107,0),\"\")","v":""},"","","",{"$f":"IFERROR(VLOOKUP(EA$3,'District Bids'!$C$5:$DF$511,107,0),\"\")","v":""},"","",""]
[null,102,"Mobilization - VRAM ",{"$f":"'Order Details'!O59","v":0},{"$f":"IFERROR(VLOOKUP(G$3,'District Bids'!$C$5:$DF$511,108,0),\"\")","v":0},0,0,"",{"$f":"IFERROR(VLOOKUP(K$3,'District Bids'!$C$5:$DF$511,108,0),\"\")","v":5000},0,0,"",{"$f":"IFERROR(VLOOKUP(O$3,'District Bids'!$C$5:$DF$511,108,0),\"\")","v":5000},0,0,"",{"$f":"IFERROR(VLOOKUP(S$3,'District Bids'!$C$5:$DF$511,108,0),\"\")","v":0},0,0,"",{"$f":"IFERROR(VLOOKUP(W$3,'District Bids'!$C$5:$DF$511,108,0),\"\")","v":5000},0,0,"",{"$f":"IFERROR(VLOOKUP(AA$3,'District Bids'!$C$5:$DF$511,108,0),\"\")","v":5000},0,0,"",{"$f":"IFERROR(VLOOKUP(AE$3,'District Bids'!$C$5:$DF$511,108,0),\"\")","v":5000},0,0,"",{"$f":"IFERROR(VLOOKUP(AI$3,'District Bids'!$C$5:$DF$511,108,0),\"\")","v":5000},0,0,"",{"$f":"IFERROR(VLOOKUP(AM$3,'District Bids'!$C$5:$DF$511,108,0),\"\")","v":5000},0,0,"",{"$f":"IFERROR(VLOOKUP(AQ$3,'District Bids'!$C$5:$DF$511,108,0),\"\")","v":5000},0,0,"",{"$f":"IFERROR(VLOOKUP(AU$3,'District Bids'!$C$5:$DF$511,108,0),\"\")","v":""},"","","",{"$f":"IFERROR(VLOOKUP(AY$3,'District Bids'!$C$5:$DF$511,108,0),\"\")","v":""},"","","",{"$f":"IFERROR(VLOOKUP(BC$3,'District Bids'!$C$5:$DF$511,108,0),\"\")","v":""},"","","",{"$f":"IFERROR(VLOOKUP(BG$3,'District Bids'!$C$5:$DF$511,108,0),\"\")","v":""},"","","",{"$f":"IFERROR(VLOOKUP(BK$3,'District Bids'!$C$5:$DF$511,108,0),\"\")","v":""},"","","",{"$f":"IFERROR(VLOOKUP(BO$3,'District Bids'!$C$5:$DF$511,108,0),\"\")","v":""},"","","",{"$f":"IFERROR(VLOOKUP(BS$3,'District Bids'!$C$5:$DF$511,108,0),\"\")","v":""},"","","",{"$f":"IFERROR(VLOOKUP(BW$3,'District Bids'!$C$5:$DF$511,108,0),\"\")","v":""},"","","",{"$f":"IFERROR(VLOOKUP(CA$3,'District Bids'!$C$5:$DF$511,108,0),\"\")","v":""},"","","",{"$f":"IFERROR(VLOOKUP(CE$3,'District Bids'!$C$5:$DF$511,108,0),\"\")","v":""},"","","",{"$f":"IFERROR(VLOOKUP(CI$3,'District Bids'!$C$5:$DF$511,108,0),\"\")","v":""},"","","",{"$f":"IFERROR(VLOOKUP(CM$3,'District Bids'!$C$5:$DF$511,108,0),\"\")","v":""},"","","",{"$f":"IFERROR(VLOOKUP(CQ$3,'District Bids'!$C$5:$DF$511,108,0),\"\")","v":""},"","","",{"$f":"IFERROR(VLOOKUP(CU$3,'District Bids'!$C$5:$DF$511,108,0),\"\")","v":""},"","","",{"$f":"IFERROR(VLOOKUP(CY$3,'District Bids'!$C$5:$DF$511,108,0),\"\")","v":""},"","","",{"$f":"IFERROR(VLOOKUP(DC$3,'District Bids'!$C$5:$DF$511,108,0),\"\")","v":""},"","","",{"$f":"IFERROR(VLOOKUP(DG$3,'District Bids'!$C$5:$DF$511,108,0),\"\")","v":""},"","","",{"$f":"IFERROR(VLOOKUP(DK$3,'District Bids'!$C$5:$DF$511,108,0),\"\")","v":""},"","","",{"$f":"IFERROR(VLOOKUP(DO$3,'District Bids'!$C$5:$DF$511,108,0),\"\")","v":""},"","","",{"$f":"IFERROR(VLOOKUP(DS$3,'District Bids'!$C$5:$DF$511,108,0),\"\")","v":""},"","","",{"$f":"IFERROR(VLOOKUP(DW$3,'District Bids'!$C$5:$DF$511,108,0),\"\")","v":""},"","","",{"$f":"IFERROR(VLOOKUP(EA$3,'District Bids'!$C$5:$DF$511,108,0),\"\")","v":""},"","",""]
[null,null,null,null,null,null,{"$f":"IF(ISNA(MATCH(\"Incomplete\",H8:H103,0))=TRUE,\"\",\"Incomplete\")","v":""},null,null,null,{"$f":"IF(ISNA(MATCH(\"Incomplete\",L8:L103,0))=TRUE,\"\",\"Incomplete\")","v":""},null,null,null,{"$f":"IF(ISNA(MATCH(\"Incomplete\",P8:P103,0))=TRUE,\"\",\"Incomplete\")","v":""},null,null,null,{"$f":"IF(ISNA(MATCH(\"Incomplete\",T8:T103,0))=TRUE,\"\",\"Incomplete\")","v":""},null,null,null,{"$f":"IF(ISNA(MATCH(\"Incomplete\",X8:X103,0))=TRUE,\"\",\"Incomplete\")","v":""},null,null,null,{"$f":"IF(ISNA(MATCH(\"Incomplete\",AB8:AB103,0))=TRUE,\"\",\"Incomplete\")","v":""},null,null,null,{"$f":"IF(ISNA(MATCH(\"Incomplete\",AF8:AF103,0))=TRUE,\"\",\"Incomplete\")","v":""},null,null,null,{"$f":"IF(ISNA(MATCH(\"Incomplete\",AJ8:AJ103,0))=TRUE,\"\",\"Incomplete\")","v":""},null,null,null,{"$f":"IF(ISNA(MATCH(\"Incomplete\",AN8:AN103,0))=TRUE,\"\",\"Incomplete\")","v":""},null,null,null,{"$f":"IF(ISNA(MATCH(\"Incomplete\",AR8:AR103,0))=TRUE,\"\",\"Incomplete\")","v":""},null,null,null,{"$f":"IF(ISNA(MATCH(\"Incomplete\",AV8:AV103,0))=TRUE,\"\",\"Incomplete\")","v":""},null,null,null,{"$f":"IF(ISNA(MATCH(\"Incomplete\",AZ8:AZ103,0))=TRUE,\"\",\"Incomplete\")","v":""},null,null,null,{"$f":"IF(ISNA(MATCH(\"Incomplete\",BD8:BD103,0))=TRUE,\"\",\"Incomplete\")","v":""},null,null,null,{"$f":"IF(ISNA(MATCH(\"Incomplete\",BH8:BH103,0))=TRUE,\"\",\"Incomplete\")","v":""},null,null,null,{"$f":"IF(ISNA(MATCH(\"Incomplete\",BL8:BL103,0))=TRUE,\"\",\"Incomplete\")","v":""},null,null,null,{"$f":"IF(ISNA(MATCH(\"Incomplete\",BP8:BP103,0))=TRUE,\"\",\"Incomplete\")","v":""},null,null,null,{"$f":"IF(ISNA(MATCH(\"Incomplete\",BT8:BT103,0))=TRUE,\"\",\"Incomplete\")","v":""},null,null,null,{"$f":"IF(ISNA(MATCH(\"Incomplete\",BX8:BX92,0))=TRUE,\"\",\"Incomplete\")","v":""},null,null,null,{"$f":"IF(ISNA(MATCH(\"Incomplete\",CB8:CB92,0))=TRUE,\"\",\"Incomplete\")","v":""},null,null,null,{"$f":"IF(ISNA(MATCH(\"Incomplete\",CF8:CF92,0))=TRUE,\"\",\"Incomplete\")","v":""},null,null,null,{"$f":"IF(ISNA(MATCH(\"Incomplete\",CJ8:CJ92,0))=TRUE,\"\",\"Incomplete\")","v":""},null,null,null,{"$f":"IF(ISNA(MATCH(\"Incomplete\",CN8:CN92,0))=TRUE,\"\",\"Incomplete\")","v":""},null,null,null,{"$f":"IF(ISNA(MATCH(\"Incomplete\",CR8:CR92,0))=TRUE,\"\",\"Incomplete\")","v":""},null,null,null,{"$f":"IF(ISNA(MATCH(\"Incomplete\",CV8:CV103,0))=TRUE,\"\",\"Incomplete\")","v":""},null,null,null,{"$f":"IF(ISNA(MATCH(\"Incomplete\",CZ8:CZ103,0))=TRUE,\"\",\"Incomplete\")","v":""},null,null,null,{"$f":"IF(ISNA(MATCH(\"Incomplete\",DD8:DD103,0))=TRUE,\"\",\"Incomplete\")","v":""},null,null,null,{"$f":"IF(ISNA(MATCH(\"Incomplete\",DH8:DH103,0))=TRUE,\"\",\"Incomplete\")","v":""},null,null,null,{"$f":"IF(ISNA(MATCH(\"Incomplete\",DL8:DL103,0))=TRUE,\"\",\"Incomplete\")","v":""},null,null,null,{"$f":"IF(ISNA(MATCH(\"Incomplete\",DP8:DP103,0))=TRUE,\"\",\"Incomplete\")","v":""},null,null,null,{"$f":"IF(ISNA(MATCH(\"Incomplete\",DT8:DT103,0))=TRUE,\"\",\"Incomplete\")","v":""},null,null,null,{"$f":"IF(ISNA(MATCH(\"Incomplete\",DX8:DX103,0))=TRUE,\"\",\"Incomplete\")","v":""},null,null,null,{"$f":"IF(ISNA(MATCH(\"Incomplete\",EB8:EB103,0))=TRUE,\"\",\"Incomplete\")","v":""}]
[null,null,null,null,"Stone Haul Distance>>>>>",null,{"$f":"IFERROR(VLOOKUP(G3,Mileages!$C$3:$P$38,13,0),\"\")","v":193.96033627899999},null,"Stone Haul Distance>>>>>",null,{"$f":"IFERROR(VLOOKUP(K3,Mileages!$C$3:$P$38,13,0),\"\")","v":161.15319022099999},null,"Stone Haul Distance>>>>>",null,{"$f":"IFERROR(VLOOKUP(O3,Mileages!$C$3:$P$38,13,0),\"\")","v":173.28048802800001},null,"Stone Haul Distance>>>>>",null,{"$f":"IFERROR(VLOOKUP(S3,Mileages!$C$3:$P$38,13,0),\"\")","v":109.87579118800001},null,"Stone Haul Distance>>>>>",null,{"$f":"IFERROR(VLOOKUP(W3,Mileages!$C$3:$P$38,13,0),\"\")","v":194.67491292899999},null,"Stone Haul Distance>>>>>",null,{"$f":"IFERROR(VLOOKUP(AA3,Mileages!$C$3:$P$38,13,0),\"\")","v":70.181990337000002},null,"Stone Haul Distance>>>>>",null,{"$f":"IFERROR(VLOOKUP(AE3,Mileages!$C$3:$P$38,13,0),\"\")","v":194.67491292899999},null,"Stone Haul Distance>>>>>",null,{"$f":"IFERROR(VLOOKUP(AI3,Mileages!$C$3:$P$38,13,0),\"\")","v":70.181990337000002},null,"Stone Haul Distance>>>>>",null,{"$f":"IFERROR(VLOOKUP(AM3,Mileages!$C$3:$P$38,13,0),\"\")","v":194.67491292899999},null,"Stone Haul Distance>>>>>",null,{"$f":"IFERROR(VLOOKUP(AQ3,Mileages!$C$3:$P$38,13,0),\"\")","v":70.181990337000002},null,"Stone Haul Distance>>>>>",null,{"$f":"IFERROR(VLOOKUP(AU3,Mileages!$C$3:$P$38,13,0),\"\")","v":""},null,"Stone Haul Distance>>>>>",null,{"$f":"IFERROR(VLOOKUP(AY3,Mileages!$C$3:$P$38,13,0),\"\")","v":""},null,"Stone Haul Distance>>>>>",null,{"$f":"IFERROR(VLOOKUP(BC3,Mileages!$C$3:$P$38,13,0),\"\")","v":""},null,"Stone Haul Distance>>>>>",null,{"$f":"IFERROR(VLOOKUP(BG3,Mileages!$C$3:$P$38,13,0),\"\")","v":""},null,"Stone Haul Distance>>>>>",null,{"$f":"IFERROR(VLOOKUP(BK3,Mileages!$C$3:$P$38,13,0),\"\")","v":""},null,"Stone Haul Distance>>>>>",null,{"$f":"IFERROR(VLOOKUP(BO3,Mileages!$C$3:$P$38,13,0),\"\")","v":""},null,"Stone Haul Distance>>>>>",null,{"$f":"IFERROR(VLOOKUP(BS3,Mileages!$C$3:$P$38,13,0),\"\")","v":""},null,"Stone Haul Distance>>>>>",null,{"$f":"IFERROR(VLOOKUP(BW3,Mileages!$C$3:$P$38,13,0),\"\")","v":""},null,"Stone Haul Distance>>>>>",null,{"$f":"IFERROR(VLOOKUP(CA3,Mileages!$C$3:$P$38,13,0),\"\")","v":""},null,"Stone Haul Distance>>>>>",null,{"$f":"IFERROR(VLOOKUP(CE3,Mileages!$C$3:$P$38,13,0),\"\")","v":""},null,"Stone Haul Distance>>>>>",null,{"$f":"IFERROR(VLOOKUP(CI3,Mileages!$C$3:$P$38,13,0),\"\")","v":""},null,"Stone Haul Distance>>>>>",null,{"$f":"IFERROR(VLOOKUP(CM3,Mileages!$C$3:$P$38,13,0),\"\")","v":""},null,"Stone Haul Distance>>>>>",null,{"$f":"IFERROR(VLOOKUP(CQ3,Mileages!$C$3:$P$38,13,0),\"\")","v":""},null,"Stone Haul Distance>>>>>",null,{"$f":"IFERROR(VLOOKUP(CU3,Mileages!$C$3:$P$38,13,0),\"\")","v":""},null,"Stone Haul Distance>>>>>",null,{"$f":"IFERROR(VLOOKUP(CY3,Mileages!$C$3:$P$38,13,0),\"\")","v":""},null,"Stone Haul Distance>>>>>",null,{"$f":"IFERROR(VLOOKUP(DC3,Mileages!$C$3:$P$38,13,0),\"\")","v":""},null,"Stone Haul Distance>>>>>",null,{"$f":"IFERROR(VLOOKUP(DG3,Mileages!$C$3:$P$38,13,0),\"\")","v":""},null,"Stone Haul Distance>>>>>",null,{"$f":"IFERROR(VLOOKUP(DK3,Mileages!$C$3:$P$38,13,0),\"\")","v":""},null,"Stone Haul Distance>>>>>",null,{"$f":"IFERROR(VLOOKUP(DO3,Mileages!$C$3:$P$38,13,0),\"\")","v":""},null,"Stone Haul Distance>>>>>",null,{"$f":"IFERROR(VLOOKUP(DS3,Mileages!$C$3:$P$38,13,0),\"\")","v":""},null,"Stone Haul Distance>>>>>",null,{"$f":"IFERROR(VLOOKUP(DW3,Mileages!$C$3:$P$38,13,0),\"\")","v":""},null,"Stone Haul Distance>>>>>",null,{"$f":"IFERROR(VLOOKUP(EA3,Mileages!$C$3:$P$38,13,0),\"\")","v":""}]
[null,"Mileages",null,null,"HMA Haul Distance>>>>",null,{"$f":"IFERROR(VLOOKUP(G3,Mileages!$C$3:$P$38,7,0),\"\")","v":190.27871310399999},null,"HMA Haul Distance>>>>",null,{"$f":"IFERROR(VLOOKUP(K3,Mileages!$C$3:$P$38,7,0),\"\")","v":158.860331231},null,"HMA Haul Distance>>>>",null,{"$f":"IFERROR(VLOOKUP(O3,Mileages!$C$3:$P$38,7,0),\"\")","v":158.860331231},null,"HMA Haul Distance>>>>",null,{"$f":"IFERROR(VLOOKUP(S3,Mileages!$C$3:$P$38,7,0),\"\")","v":105.145915136},null,"HMA Haul Distance>>>>",null,{"$f":"IFERROR(VLOOKUP(W3,Mileages!$C$3:$P$38,7,0),\"\")","v":164.89073678599999},null,"HMA Haul Distance>>>>",null,{"$f":"IFERROR(VLOOKUP(AA3,Mileages!$C$3:$P$38,7,0),\"\")","v":164.89073678599999},null,"HMA Haul Distance>>>>",null,{"$f":"IFERROR(VLOOKUP(AE3,Mileages!$C$3:$P$38,7,0),\"\")","v":105.6952071},null,"HMA Haul Distance>>>>",null,{"$f":"IFERROR(VLOOKUP(AI3,Mileages!$C$3:$P$38,7,0),\"\")","v":105.6952071},null,"HMA Haul Distance>>>>",null,{"$f":"IFERROR(VLOOKUP(AM3,Mileages!$C$3:$P$38,7,0),\"\")","v":109.51663875},null,"HMA Haul Distance>>>>",null,{"$f":"IFERROR(VLOOKUP(AQ3,Mileages!$C$3:$P$38,7,0),\"\")","v":109.51663875},null,"HMA Haul Distance>>>>",null,{"$f":"IFERROR(VLOOKUP(AU3,Mileages!$C$3:$P$38,7,0),\"\")","v":""},null,"HMA Haul Distance>>>>",null,{"$f":"IFERROR(VLOOKUP(AY3,Mileages!$C$3:$P$38,7,0),\"\")","v":""},null,"HMA Haul Distance>>>>",null,{"$f":"IFERROR(VLOOKUP(BC3,Mileages!$C$3:$P$38,7,0),\"\")","v":""},null,"HMA Haul Distance>>>>",null,{"$f":"IFERROR(VLOOKUP(BG3,Mileages!$C$3:$P$38,7,0),\"\")","v":""},null,"HMA Haul Distance>>>>",null,{"$f":"IFERROR(VLOOKUP(BK3,Mileages!$C$3:$P$38,7,0),\"\")","v":""},null,"HMA Haul Distance>>>>",null,{"$f":"IFERROR(VLOOKUP(BO3,Mileages!$C$3:$P$38,7,0),\"\")","v":""},null,"HMA Haul Distance>>>>",null,{"$f":"IFERROR(VLOOKUP(BS3,Mileages!$C$3:$P$38,7,0),\"\")","v":""},null,"HMA Haul Distance>>>>",null,{"$f":"IFERROR(VLOOKUP(BW3,Mileages!$C$3:$P$38,7,0),\"\")","v":""},null,"HMA Haul Distance>>>>",null,{"$f":"IFERROR(VLOOKUP(CA3,Mileages!$C$3:$P$38,7,0),\"\")","v":""},null,"HMA Haul Distance>>>>",null,{"$f":"IFERROR(VLOOKUP(CE3,Mileages!$C$3:$P$38,7,0),\"\")","v":""},null,"HMA Haul Distance>>>>",null,{"$f":"IFERROR(VLOOKUP(CI3,Mileages!$C$3:$P$38,7,0),\"\")","v":""},null,"HMA Haul Distance>>>>",null,{"$f":"IFERROR(VLOOKUP(CM3,Mileages!$C$3:$P$38,7,0),\"\")","v":""},null,"HMA Haul Distance>>>>",null,{"$f":"IFERROR(VLOOKUP(CQ3,Mileages!$C$3:$P$38,7,0),\"\")","v":""},null,"HMA Haul Distance>>>>",null,{"$f":"IFERROR(VLOOKUP(CU3,Mileages!$C$3:$P$38,7,0),\"\")","v":""},null,"HMA Haul Distance>>>>",null,{"$f":"IFERROR(VLOOKUP(CY3,Mileages!$C$3:$P$38,7,0),\"\")","v":""},null,"HMA Haul Distance>>>>",null,{"$f":"IFERROR(VLOOKUP(DC3,Mileages!$C$3:$P$38,7,0),\"\")","v":""},null,"HMA Haul Distance>>>>",null,{"$f":"IFERROR(VLOOKUP(DG3,Mileages!$C$3:$P$38,7,0),\"\")","v":""},null,"HMA Haul Distance>>>>",null,{"$f":"IFERROR(VLOOKUP(DK3,Mileages!$C$3:$P$38,7,0),\"\")","v":""},null,"HMA Haul Distance>>>>",null,{"$f":"IFERROR(VLOOKUP(DO3,Mileages!$C$3:$P$38,7,0),\"\")","v":""},null,"HMA Haul Distance>>>>",null,{"$f":"IFERROR(VLOOKUP(DS3,Mileages!$C$3:$P$38,7,0),\"\")","v":""},null,"HMA Haul Distance>>>>",null,{"$f":"IFERROR(VLOOKUP(DW3,Mileages!$C$3:$P$38,7,0),\"\")","v":""},null,"HMA Haul Distance>>>>",null,{"$f":"IFERROR(VLOOKUP(EA3,Mileages!$C$3:$P$38,7,0),\"\")","v":""}]
[null,"Item","Description",null,"Milling Waste Haul Distance>>",null,{"$f":"IFERROR(VLOOKUP(G3,Mileages!$C$3:$P$38,9,0),\"\")","v":20},null,"Milling Waste Haul Distance>>",null,{"$f":"IFERROR(VLOOKUP(K3,Mileages!$C$3:$P$38,9,0),\"\")","v":20},null,"Milling Waste Haul Distance>>",null,{"$f":"IFERROR(VLOOKUP(O3,Mileages!$C$3:$P$38,9,0),\"\")","v":20},null,"Milling Waste Haul Distance>>",null,{"$f":"IFERROR(VLOOKUP(S3,Mileages!$C$3:$P$38,9,0),\"\")","v":20},null,"Milling Waste Haul Distance>>",null,{"$f":"IFERROR(VLOOKUP(W3,Mileages!$C$3:$P$38,9,0),\"\")","v":20},null,"Milling Waste Haul Distance>>",null,{"$f":"IFERROR(VLOOKUP(AA3,Mileages!$C$3:$P$38,9,0),\"\")","v":20},null,"Milling Waste Haul Distance>>",null,{"$f":"IFERROR(VLOOKUP(AE3,Mileages!$C$3:$P$38,9,0),\"\")","v":20},null,"Milling Waste Haul Distance>>",null,{"$f":"IFERROR(VLOOKUP(AI3,Mileages!$C$3:$P$38,9,0),\"\")","v":20},null,"Milling Waste Haul Distance>>",null,{"$f":"IFERROR(VLOOKUP(AM3,Mileages!$C$3:$P$38,9,0),\"\")","v":20},null,"Milling Waste Haul Distance>>",null,{"$f":"IFERROR(VLOOKUP(AQ3,Mileages!$C$3:$P$38,9,0),\"\")","v":20},null,"Milling Waste Haul Distance>>",null,{"$f":"IFERROR(VLOOKUP(AU3,Mileages!$C$3:$P$38,9,0),\"\")","v":""},null,"Milling Waste Haul Distance>>",null,{"$f":"IFERROR(VLOOKUP(AY3,Mileages!$C$3:$P$38,9,0),\"\")","v":""},null,"Milling Waste Haul Distance>>",null,{"$f":"IFERROR(VLOOKUP(BC3,Mileages!$C$3:$P$38,9,0),\"\")","v":""},null,"Milling Waste Haul Distance>>",null,{"$f":"IFERROR(VLOOKUP(BG3,Mileages!$C$3:$P$38,9,0),\"\")","v":""},null,"Milling Waste Haul Distance>>",null,{"$f":"IFERROR(VLOOKUP(BK3,Mileages!$C$3:$P$38,9,0),\"\")","v":""},null,"Milling Waste Haul Distance>>",null,{"$f":"IFERROR(VLOOKUP(BO3,Mileages!$C$3:$P$38,9,0),\"\")","v":""},null,"Milling Waste Haul Distance>>",null,{"$f":"IFERROR(VLOOKUP(BS3,Mileages!$C$3:$P$38,9,0),\"\")","v":""},null,"Milling Waste Haul Distance>>",null,{"$f":"IFERROR(VLOOKUP(BW3,Mileages!$C$3:$P$38,9,0),\"\")","v":""},null,"Milling Waste Haul Distance>>",null,{"$f":"IFERROR(VLOOKUP(CA3,Mileages!$C$3:$P$38,9,0),\"\")","v":""},null,"Milling Waste Haul Distance>>",null,{"$f":"IFERROR(VLOOKUP(CE3,Mileages!$C$3:$P$38,9,0),\"\")","v":""},null,"Milling Waste Haul Distance>>",null,{"$f":"IFERROR(VLOOKUP(CI3,Mileages!$C$3:$P$38,9,0),\"\")","v":""},null,"Milling Waste Haul Distance>>",null,{"$f":"IFERROR(VLOOKUP(CM3,Mileages!$C$3:$P$38,9,0),\"\")","v":""},null,"Milling Waste Haul Distance>>",null,{"$f":"IFERROR(VLOOKUP(CQ3,Mileages!$C$3:$P$38,9,0),\"\")","v":""},null,"Milling Waste Haul Distance>>",null,{"$f":"IFERROR(VLOOKUP(CU3,Mileages!$C$3:$P$38,9,0),\"\")","v":""},null,"Milling Waste Haul Distance>>",null,{"$f":"IFERROR(VLOOKUP(CY3,Mileages!$C$3:$P$38,9,0),\"\")","v":""},null,"Milling Waste Haul Distance>>",null,{"$f":"IFERROR(VLOOKUP(DC3,Mileages!$C$3:$P$38,9,0),\"\")","v":""},null,"Milling Waste Haul Distance>>",null,{"$f":"IFERROR(VLOOKUP(DG3,Mileages!$C$3:$P$38,9,0),\"\")","v":""},null,"Milling Waste Haul Distance>>",null,{"$f":"IFERROR(VLOOKUP(DK3,Mileages!$C$3:$P$38,9,0),\"\")","v":""},null,"Milling Waste Haul Distance>>",null,{"$f":"IFERROR(VLOOKUP(DO3,Mileages!$C$3:$P$38,9,0),\"\")","v":""},null,"Milling Waste Haul Distance>>",null,{"$f":"IFERROR(VLOOKUP(DS3,Mileages!$C$3:$P$38,9,0),\"\")","v":""},null,"Milling Waste Haul Distance>>",null,{"$f":"IFERROR(VLOOKUP(DW3,Mileages!$C$3:$P$38,9,0),\"\")","v":""},null,"Milling Waste Haul Distance>>",null,{"$f":"IFERROR(VLOOKUP(EA3,Mileages!$C$3:$P$38,9,0),\"\")","v":""}]
[null,null,null,null,"Unit $","Haul Ton/Mile","Adjusted",null,"Unit $","Haul Ton/Mile","Adjusted",null,"Unit $","Haul Ton/Mile","Adjusted",null,"Unit $","Haul Ton/Mile","Adjusted",null,"Unit $","Haul Ton/Mile","Adjusted",null,"Unit $","Haul Ton/Mile","Adjusted",null,"Unit $","Haul Ton/Mile","Adjusted",null,"Unit $","Haul Ton/Mile","Adjusted",null,"Unit $","Haul Ton/Mile","Adjusted",null,"Unit $","Haul Ton/Mile","Adjusted",null,"Unit $","Haul Ton/Mile","Adjusted",null,"Unit $","Haul Ton/Mile","Adjusted",null,"Unit $","Haul Ton/Mile","Adjusted",null,"Unit $","Haul Ton/Mile","Adjusted",null,"Unit $","Haul Ton/Mile","Adjusted",null,"Unit $","Haul Ton/Mile","Adjusted",null,"Unit $","Haul Ton/Mile","Adjusted",null,"Unit $","Haul Ton/Mile","Adjusted",null,"Unit $","Haul Ton/Mile","Adjusted",null,"Unit $","Haul Ton/Mile","Adjusted",null,"Unit $","Haul Ton/Mile","Adjusted",null,"Unit $","Haul Ton/Mile","Adjusted",null,"Unit $","Haul Ton/Mile","Adjusted",null,"Unit $","Haul Ton/Mile","Adjusted",null,"Unit $","Haul Ton/Mile","Adjusted",null,"Unit $","Haul Ton/Mile","Adjusted",null,"Unit $","Haul Ton/Mile","Adjusted",null,"Unit $","Haul Ton/Mile","Adjusted",null,"Unit $","Haul Ton/Mile","Adjusted",null,"Unit $","Haul Ton/Mile","Adjusted",null,"Unit $","Haul Ton/Mile","Adjusted",null,"Unit $","Haul Ton/Mile","Adjusted"]
[null,20,"Haul by Vendor Shoulder Stone Placement - First Ton Mile",null,{"$f":"IFERROR(VLOOKUP(G$3,'District Bids'!$C$5:$CU$511,26,0),\"\")","v":2.6},{"$f":"'Order Details'!$J$24","v":0},{"$f":"IFERROR(IF(E109=0,0,F109*E109+(F109*'Complicated Price Adjustment'!$L33)),\"\")","v":0},null,{"$f":"IFERROR(VLOOKUP(K$3,'District Bids'!$C$5:$CU$511,26,0),\"\")","v":2.9},{"$f":"'Order Details'!$J$24","v":0},{"$f":"IFERROR(IF(I109=0,0,J109*I109+(J109*'Complicated Price Adjustment'!$L33)),\"\")","v":0},null,{"$f":"IFERROR(VLOOKUP(O$3,'District Bids'!$C$5:$CU$511,26,0),\"\")","v":2.9},{"$f":"'Order Details'!$J$24","v":0},{"$f":"IFERROR(IF(M109=0,0,N109*M109+(N109*'Complicated Price Adjustment'!$L33)),\"\")","v":0},null,{"$f":"IFERROR(VLOOKUP(S$3,'District Bids'!$C$5:$CU$511,26,0),\"\")","v":2.6},{"$f":"'Order Details'!$J$24","v":0},{"$f":"IFERROR(IF(Q109=0,0,R109*Q109+(R109*'Complicated Price Adjustment'!$L33)),\"\")","v":0},null,{"$f":"IFERROR(VLOOKUP(W$3,'District Bids'!$C$5:$CU$511,26,0),\"\")","v":2.75},{"$f":"'Order Details'!$J$24","v":0},{"$f":"IFERROR(IF(U109=0,0,V109*U109+(V109*'Complicated Price Adjustment'!$L33)),\"\")","v":0},null,{"$f":"IFERROR(VLOOKUP(AA$3,'District Bids'!$C$5:$CU$511,26,0),\"\")","v":2.75},{"$f":"'Order Details'!$J$24","v":0},{"$f":"IFERROR(IF(Y109=0,0,Z109*Y109+(Z109*'Complicated Price Adjustment'!$L33)),\"\")","v":0},null,{"$f":"IFERROR(VLOOKUP(AE$3,'District Bids'!$C$5:$CU$511,26,0),\"\")","v":2.75},{"$f":"'Order Details'!$J$24","v":0},{"$f":"IFERROR(IF(AC109=0,0,AD109*AC109+(AD109*'Complicated Price Adjustment'!$L33)),\"\")","v":0},null,{"$f":"IFERROR(VLOOKUP(AI$3,'District Bids'!$C$5:$CU$511,26,0),\"\")","v":2.75},{"$f":"'Order Details'!$J$24","v":0},{"$f":"IFERROR(IF(AG109=0,0,AH109*AG109+(AH109*'Complicated Price Adjustment'!$L33)),\"\")","v":0},null,{"$f":"IFERROR(VLOOKUP(AM$3,'District Bids'!$C$5:$CU$511,26,0),\"\")","v":2.75},{"$f":"'Order Details'!$J$24","v":0},{"$f":"IFERROR(IF(AK109=0,0,AL109*AK109+(AL109*'Complicated Price Adjustment'!$L33)),\"\")","v":0},null,{"$f":"IFERROR(VLOOKUP(AQ$3,'District Bids'!$C$5:$CU$511,26,0),\"\")","v":2.75},{"$f":"'Order Details'!$J$24","v":0},{"$f":"IFERROR(IF(AO109=0,0,AP109*AO109+(AP109*'Complicated Price Adjustment'!$L33)),\"\")","v":0},null,{"$f":"IFERROR(VLOOKUP(AU$3,'District Bids'!$C$5:$CU$511,26,0),\"\")","v":""},{"$f":"'Order Details'!$J$24","v":0},{"$f":"IFERROR(IF(AS109=0,0,AT109*AS109+(AT109*'Complicated Price Adjustment'!$L33)),\"\")","v":""},null,{"$f":"IFERROR(VLOOKUP(AY$3,'District Bids'!$C$5:$CU$511,26,0),\"\")","v":""},{"$f":"'Order Details'!$J$24","v":0},{"$f":"IFERROR(IF(AW109=0,0,AX109*AW109+(AX109*'Complicated Price Adjustment'!$L33)),\"\")","v":""},null,{"$f":"IFERROR(VLOOKUP(BC$3,'District Bids'!$C$5:$CU$511,26,0),\"\")","v":""},{"$f":"'Order Details'!$J$24","v":0},{"$f":"IFERROR(IF(BA109=0,0,BB109*BA109+(BB109*'Complicated Price Adjustment'!$L33)),\"\")","v":""},null,{"$f":"IFERROR(VLOOKUP(BG$3,'District Bids'!$C$5:$CU$511,26,0),\"\")","v":""},{"$f":"'Order Details'!$J$24","v":0},{"$f":"IFERROR(IF(BE109=0,0,BF109*BE109+(BF109*'Complicated Price Adjustment'!$L33)),\"\")","v":""},null,{"$f":"IFERROR(VLOOKUP(BK$3,'District Bids'!$C$5:$CU$511,26,0),\"\")","v":""},{"$f":"'Order Details'!$J$24","v":0},{"$f":"IFERROR(IF(BI109=0,0,BJ109*BI109+(BJ109*'Complicated Price Adjustment'!$L33)),\"\")","v":""},null,{"$f":"IFERROR(VLOOKUP(BO$3,'District Bids'!$C$5:$CU$511,26,0),\"\")","v":""},{"$f":"'Order Details'!$J$24","v":0},{"$f":"IFERROR(IF(BM109=0,0,BN109*BM109+(BN109*'Complicated Price Adjustment'!$L33)),\"\")","v":""},null,{"$f":"IFERROR(VLOOKUP(BS$3,'District Bids'!$C$5:$CU$511,26,0),\"\")","v":""},{"$f":"'Order Details'!$J$24","v":0},{"$f":"IFERROR(IF(BQ109=0,0,BR109*BQ109+(BR109*'Complicated Price Adjustment'!$L33)),\"\")","v":""},null,{"$f":"IFERROR(VLOOKUP(BW$3,'District Bids'!$C$5:$CU$511,26,0),\"\")","v":""},{"$f":"'Order Details'!$J$24","v":0},{"$f":"IFERROR(IF(BU109=0,0,BV109*BU109+(BV109*'Complicated Price Adjustment'!$L33)),\"\")","v":""},null,{"$f":"IFERROR(VLOOKUP(CA$3,'District Bids'!$C$5:$CU$511,26,0),\"\")","v":""},{"$f":"'Order Details'!$J$24","v":0},{"$f":"IFERROR(IF(BY109=0,0,BZ109*BY109+(BZ109*'Complicated Price Adjustment'!$L33)),\"\")","v":""},null,{"$f":"IFERROR(VLOOKUP(CE$3,'District Bids'!$C$5:$CU$511,26,0),\"\")","v":""},{"$f":"'Order Details'!$J$24","v":0},{"$f":"IFERROR(IF(CC109=0,0,CD109*CC109+(CD109*'Complicated Price Adjustment'!$L33)),\"\")","v":""},null,{"$f":"IFERROR(VLOOKUP(CI$3,'District Bids'!$C$5:$CU$511,26,0),\"\")","v":""},{"$f":"'Order Details'!$J$24","v":0},{"$f":"IFERROR(IF(CG109=0,0,CH109*CG109+(CH109*'Complicated Price Adjustment'!$L33)),\"\")","v":""},null,{"$f":"IFERROR(VLOOKUP(CM$3,'District Bids'!$C$5:$CU$511,26,0),\"\")","v":""},{"$f":"'Order Details'!$J$24","v":0},{"$f":"IFERROR(IF(CK109=0,0,CL109*CK109+(CL109*'Complicated Price Adjustment'!$L33)),\"\")","v":""},null,{"$f":"IFERROR(VLOOKUP(CQ$3,'District Bids'!$C$5:$CU$511,26,0),\"\")","v":""},{"$f":"'Order Details'!$J$24","v":0},{"$f":"IFERROR(IF(CO109=0,0,CP109*CO109+(CP109*'Complicated Price Adjustment'!$L33)),\"\")","v":""},null,{"$f":"IFERROR(VLOOKUP(CU$3,'District Bids'!$C$5:$CU$511,26,0),\"\")","v":""},{"$f":"'Order Details'!$J$24","v":0},{"$f":"IFERROR(IF(CS109=0,0,CT109*CS109+(CT109*'Complicated Price Adjustment'!$L33)),\"\")","v":""},null,{"$f":"IFERROR(VLOOKUP(CY$3,'District Bids'!$C$5:$CU$511,26,0),\"\")","v":""},{"$f":"'Order Details'!$J$24","v":0},{"$f":"IFERROR(IF(CW109=0,0,CX109*CW109+(CX109*'Complicated Price Adjustment'!$L33)),\"\")","v":""},null,{"$f":"IFERROR(VLOOKUP(DC$3,'District Bids'!$C$5:$CU$511,26,0),\"\")","v":""},{"$f":"'Order Details'!$J$24","v":0},{"$f":"IFERROR(IF(DA109=0,0,DB109*DA109+(DB109*'Complicated Price Adjustment'!$L33)),\"\")","v":""},null,{"$f":"IFERROR(VLOOKUP(DG$3,'District Bids'!$C$5:$CU$511,26,0),\"\")","v":""},{"$f":"'Order Details'!$J$24","v":0},{"$f":"IFERROR(IF(DE109=0,0,DF109*DE109+(DF109*'Complicated Price Adjustment'!$L33)),\"\")","v":""},null,{"$f":"IFERROR(VLOOKUP(DK$3,'District Bids'!$C$5:$CU$511,26,0),\"\")","v":""},{"$f":"'Order Details'!$J$24","v":0},{"$f":"IFERROR(IF(DI109=0,0,DJ109*DI109+(DJ109*'Complicated Price Adjustment'!$L33)),\"\")","v":""},null,{"$f":"IFERROR(VLOOKUP(DO$3,'District Bids'!$C$5:$CU$511,26,0),\"\")","v":""},{"$f":"'Order Details'!$J$24","v":0},{"$f":"IFERROR(IF(DM109=0,0,DN109*DM109+(DN109*'Complicated Price Adjustment'!$L33)),\"\")","v":""},null,{"$f":"IFERROR(VLOOKUP(DS$3,'District Bids'!$C$5:$CU$511,26,0),\"\")","v":""},{"$f":"'Order Details'!$J$24","v":0},{"$f":"IFERROR(IF(DQ109=0,0,DR109*DQ109+(DR109*'Complicated Price Adjustment'!$L33)),\"\")","v":""},null,{"$f":"IFERROR(VLOOKUP(DW$3,'District Bids'!$C$5:$CU$511,26,0),\"\")","v":""},{"$f":"'Order Details'!$J$24","v":0},{"$f":"IFERROR(IF(DU109=0,0,DV109*DU109+(DV109*'Complicated Price Adjustment'!$L33)),\"\")","v":""},null,{"$f":"IFERROR(VLOOKUP(EA$3,'District Bids'!$C$5:$CU$511,26,0),\"\")","v":""},{"$f":"'Order Details'!$J$24","v":0},{"$f":"IFERROR(IF(DY109=0,0,DZ109*DY109+(DZ109*'Complicated Price Adjustment'!$L33)),\"\")","v":""}]
[null,21,"Haul by Vendor Shoulder Stone Placement - Each Additional  Ton Mile",null,{"$f":"IFERROR(VLOOKUP(G$3,'District Bids'!$C$5:$CU$511,27,0),\"\")","v":0.3},{"$f":"IF(G105>1,VLOOKUP(G$3,Mileages!$C$3:$P$38,14,))","v":0},{"$f":"IFERROR(IF(E110=0,0,F110*E110+(F110*'Complicated Price Adjustment'!$L$34)),\"\")","v":0},null,{"$f":"IFERROR(VLOOKUP(K$3,'District Bids'!$C$5:$CU$511,27,0),\"\")","v":0.3},{"$f":"IF(K105>1,VLOOKUP(K$3,Mileages!$C$3:$P$38,14,))","v":0},{"$f":"IFERROR(IF(I110=0,0,J110*I110+(J110*'Complicated Price Adjustment'!$L$34)),\"\")","v":0},null,{"$f":"IFERROR(VLOOKUP(O$3,'District Bids'!$C$5:$CU$511,27,0),\"\")","v":0.3},{"$f":"IF(O105>1,VLOOKUP(O$3,Mileages!$C$3:$P$38,14,))","v":0},{"$f":"IFERROR(IF(M110=0,0,N110*M110+(N110*'Complicated Price Adjustment'!$L$34)),\"\")","v":0},null,{"$f":"IFERROR(VLOOKUP(S$3,'District Bids'!$C$5:$CU$511,27,0),\"\")","v":0.32},{"$f":"IF(S105>1,VLOOKUP(S$3,Mileages!$C$3:$P$38,14,))","v":0},{"$f":"IFERROR(IF(Q110=0,0,R110*Q110+(R110*'Complicated Price Adjustment'!$L$34)),\"\")","v":0},null,{"$f":"IFERROR(VLOOKUP(W$3,'District Bids'!$C$5:$CU$511,27,0),\"\")","v":0.33},{"$f":"IF(W105>1,VLOOKUP(W$3,Mileages!$C$3:$P$38,14,))","v":0},{"$f":"IFERROR(IF(U110=0,0,V110*U110+(V110*'Complicated Price Adjustment'!$L$34)),\"\")","v":0},null,{"$f":"IFERROR(VLOOKUP(AA$3,'District Bids'!$C$5:$CU$511,27,0),\"\")","v":0.33},{"$f":"IF(AA105>1,VLOOKUP(AA$3,Mileages!$C$3:$P$38,14,))","v":0},{"$f":"IFERROR(IF(Y110=0,0,Z110*Y110+(Z110*'Complicated Price Adjustment'!$L$34)),\"\")","v":0},null,{"$f":"IFERROR(VLOOKUP(AE$3,'District Bids'!$C$5:$CU$511,27,0),\"\")","v":0.33},{"$f":"IF(AE105>1,VLOOKUP(AE$3,Mileages!$C$3:$P$38,14,))","v":0},{"$f":"IFERROR(IF(AC110=0,0,AD110*AC110+(AD110*'Complicated Price Adjustment'!$L$34)),\"\")","v":0},null,{"$f":"IFERROR(VLOOKUP(AI$3,'District Bids'!$C$5:$CU$511,27,0),\"\")","v":0.33},{"$f":"IF(AI105>1,VLOOKUP(AI$3,Mileages!$C$3:$P$38,14,))","v":0},{"$f":"IFERROR(IF(AG110=0,0,AH110*AG110+(AH110*'Complicated Price Adjustment'!$L$34)),\"\")","v":0},null,{"$f":"IFERROR(VLOOKUP(AM$3,'District Bids'!$C$5:$CU$511,27,0),\"\")","v":0.33},{"$f":"IF(AM105>1,VLOOKUP(AM$3,Mileages!$C$3:$P$38,14,))","v":0},{"$f":"IFERROR(IF(AK110=0,0,AL110*AK110+(AL110*'Complicated Price Adjustment'!$L$34)),\"\")","v":0},null,{"$f":"IFERROR(VLOOKUP(AQ$3,'District Bids'!$C$5:$CU$511,27,0),\"\")","v":0.33},{"$f":"IF(AQ105>1,VLOOKUP(AQ$3,Mileages!$C$3:$P$38,14,))","v":0},{"$f":"IFERROR(IF(AO110=0,0,AP110*AO110+(AP110*'Complicated Price Adjustment'!$L$34)),\"\")","v":0},null,{"$f":"IFERROR(VLOOKUP(AU$3,'District Bids'!$C$5:$CU$511,27,0),\"\")","v":""},{"$f":"IF(AU105>1,VLOOKUP(AU$3,Mileages!$C$3:$P$38,14,))","v":{"$error":"#N/A"}},{"$f":"IFERROR(IF(AS110=0,0,AT110*AS110+(AT110*'Complicated Price Adjustment'!$L$34)),\"\")","v":""},null,{"$f":"IFERROR(VLOOKUP(AY$3,'District Bids'!$C$5:$CU$511,27,0),\"\")","v":""},{"$f":"IF(AY105>1,VLOOKUP(AY$3,Mileages!$C$3:$P$38,14,))","v":{"$error":"#N/A"}},{"$f":"IFERROR(IF(AW110=0,0,AX110*AW110+(AX110*'Complicated Price Adjustment'!$L$34)),\"\")","v":""},null,{"$f":"IFERROR(VLOOKUP(BC$3,'District Bids'!$C$5:$CU$511,27,0),\"\")","v":""},{"$f":"IF(BC105>1,VLOOKUP(BC$3,Mileages!$C$3:$P$38,14,))","v":{"$error":"#N/A"}},{"$f":"IFERROR(IF(BA110=0,0,BB110*BA110+(BB110*'Complicated Price Adjustment'!$L$34)),\"\")","v":""},null,{"$f":"IFERROR(VLOOKUP(BG$3,'District Bids'!$C$5:$CU$511,27,0),\"\")","v":""},{"$f":"IF(BG105>1,VLOOKUP(BG$3,Mileages!$C$3:$P$38,14,))","v":{"$error":"#N/A"}},{"$f":"IFERROR(IF(BE110=0,0,BF110*BE110+(BF110*'Complicated Price Adjustment'!$L$34)),\"\")","v":""},null,{"$f":"IFERROR(VLOOKUP(BK$3,'District Bids'!$C$5:$CU$511,27,0),\"\")","v":""},{"$f":"IF(BK105>1,VLOOKUP(BK$3,Mileages!$C$3:$P$38,14,))","v":{"$error":"#N/A"}},{"$f":"IFERROR(IF(BI110=0,0,BJ110*BI110+(BJ110*'Complicated Price Adjustment'!$L$34)),\"\")","v":""},null,{"$f":"IFERROR(VLOOKUP(BO$3,'District Bids'!$C$5:$CU$511,27,0),\"\")","v":""},{"$f":"IF(BO105>1,VLOOKUP(BO$3,Mileages!$C$3:$P$38,14,))","v":{"$error":"#N/A"}},{"$f":"IFERROR(IF(BM110=0,0,BN110*BM110+(BN110*'Complicated Price Adjustment'!$L$34)),\"\")","v":""},null,{"$f":"IFERROR(VLOOKUP(BS$3,'District Bids'!$C$5:$CU$511,27,0),\"\")","v":""},{"$f":"IF(BS105>1,VLOOKUP(BS$3,Mileages!$C$3:$P$38,14,))","v":{"$error":"#N/A"}},{"$f":"IFERROR(IF(BQ110=0,0,BR110*BQ110+(BR110*'Complicated Price Adjustment'!$L$34)),\"\")","v":""},null,{"$f":"IFERROR(VLOOKUP(BW$3,'District Bids'!$C$5:$CU$511,27,0),\"\")","v":""},{"$f":"IF(BW105>1,VLOOKUP(BW$3,Mileages!$C$3:$P$38,14,))","v":{"$error":"#N/A"}},{"$f":"IFERROR(IF(BU110=0,0,BV110*BU110+(BV110*'Complicated Price Adjustment'!$L$34)),\"\")","v":""},null,{"$f":"IFERROR(VLOOKUP(CA$3,'District Bids'!$C$5:$CU$511,27,0),\"\")","v":""},{"$f":"IF(CA105>1,VLOOKUP(CA$3,Mileages!$C$3:$P$38,14,))","v":{"$error":"#N/A"}},{"$f":"IFERROR(IF(BY110=0,0,BZ110*BY110+(BZ110*'Complicated Price Adjustment'!$L$34)),\"\")","v":""},null,{"$f":"IFERROR(VLOOKUP(CE$3,'District Bids'!$C$5:$CU$511,27,0),\"\")","v":""},{"$f":"IF(CE105>1,VLOOKUP(CE$3,Mileages!$C$3:$P$38,14,))","v":{"$error":"#N/A"}},{"$f":"IFERROR(IF(CC110=0,0,CD110*CC110+(CD110*'Complicated Price Adjustment'!$L$34)),\"\")","v":""},null,{"$f":"IFERROR(VLOOKUP(CI$3,'District Bids'!$C$5:$CU$511,27,0),\"\")","v":""},{"$f":"IF(CI105>1,VLOOKUP(CI$3,Mileages!$C$3:$P$38,14,))","v":{"$error":"#N/A"}},{"$f":"IFERROR(IF(CG110=0,0,CH110*CG110+(CH110*'Complicated Price Adjustment'!$L$34)),\"\")","v":""},null,{"$f":"IFERROR(VLOOKUP(CM$3,'District Bids'!$C$5:$CU$511,27,0),\"\")","v":""},{"$f":"IF(CM105>1,VLOOKUP(CM$3,Mileages!$C$3:$P$38,14,))","v":{"$error":"#N/A"}},{"$f":"IFERROR(IF(CK110=0,0,CL110*CK110+(CL110*'Complicated Price Adjustment'!$L$34)),\"\")","v":""},null,{"$f":"IFERROR(VLOOKUP(CQ$3,'District Bids'!$C$5:$CU$511,27,0),\"\")","v":""},{"$f":"IF(CQ105>1,VLOOKUP(CQ$3,Mileages!$C$3:$P$38,14,))","v":{"$error":"#N/A"}},{"$f":"IFERROR(IF(CO110=0,0,CP110*CO110+(CP110*'Complicated Price Adjustment'!$L$34)),\"\")","v":""},null,{"$f":"IFERROR(VLOOKUP(CU$3,'District Bids'!$C$5:$CU$511,27,0),\"\")","v":""},{"$f":"IF(CU105>1,VLOOKUP(CU$3,Mileages!$C$3:$P$38,14,))","v":{"$error":"#N/A"}},{"$f":"IFERROR(IF(CS110=0,0,CT110*CS110+(CT110*'Complicated Price Adjustment'!$L$34)),\"\")","v":""},null,{"$f":"IFERROR(VLOOKUP(CY$3,'District Bids'!$C$5:$CU$511,27,0),\"\")","v":""},{"$f":"IF(CY105>1,VLOOKUP(CY$3,Mileages!$C$3:$P$38,14,))","v":{"$error":"#N/A"}},{"$f":"IFERROR(IF(CW110=0,0,CX110*CW110+(CX110*'Complicated Price Adjustment'!$L$34)),\"\")","v":""},null,{"$f":"IFERROR(VLOOKUP(DC$3,'District Bids'!$C$5:$CU$511,27,0),\"\")","v":""},{"$f":"IF(DC105>1,VLOOKUP(DC$3,Mileages!$C$3:$P$38,14,))","v":{"$error":"#N/A"}},{"$f":"IFERROR(IF(DA110=0,0,DB110*DA110+(DB110*'Complicated Price Adjustment'!$L$34)),\"\")","v":""},null,{"$f":"IFERROR(VLOOKUP(DG$3,'District Bids'!$C$5:$CU$511,27,0),\"\")","v":""},{"$f":"IF(DG105>1,VLOOKUP(DG$3,Mileages!$C$3:$P$38,14,))","v":{"$error":"#N/A"}},{"$f":"IFERROR(IF(DE110=0,0,DF110*DE110+(DF110*'Complicated Price Adjustment'!$L$34)),\"\")","v":""},null,{"$f":"IFERROR(VLOOKUP(DK$3,'District Bids'!$C$5:$CU$511,27,0),\"\")","v":""},{"$f":"IF(DK105>1,VLOOKUP(DK$3,Mileages!$C$3:$P$38,14,))","v":{"$error":"#N/A"}},{"$f":"IFERROR(IF(DI110=0,0,DJ110*DI110+(DJ110*'Complicated Price Adjustment'!$L$34)),\"\")","v":""},null,{"$f":"IFERROR(VLOOKUP(DO$3,'District Bids'!$C$5:$CU$511,27,0),\"\")","v":""},{"$f":"IF(DO105>1,VLOOKUP(DO$3,Mileages!$C$3:$P$38,14,))","v":{"$error":"#N/A"}},{"$f":"IFERROR(IF(DM110=0,0,DN110*DM110+(DN110*'Complicated Price Adjustment'!$L$34)),\"\")","v":""},null,{"$f":"IFERROR(VLOOKUP(DS$3,'District Bids'!$C$5:$CU$511,27,0),\"\")","v":""},{"$f":"IF(DS105>1,VLOOKUP(DS$3,Mileages!$C$3:$P$38,14,))","v":{"$error":"#N/A"}},{"$f":"IFERROR(IF(DQ110=0,0,DR110*DQ110+(DR110*'Complicated Price Adjustment'!$L$34)),\"\")","v":""},null,{"$f":"IFERROR(VLOOKUP(DW$3,'District Bids'!$C$5:$CU$511,27,0),\"\")","v":""},{"$f":"IF(DW105>1,VLOOKUP(DW$3,Mileages!$C$3:$P$38,14,))","v":{"$error":"#N/A"}},{"$f":"IFERROR(IF(DU110=0,0,DV110*DU110+(DV110*'Complicated Price Adjustment'!$L$34)),\"\")","v":""},null,{"$f":"IFERROR(VLOOKUP(EA$3,'District Bids'!$C$5:$CU$511,27,0),\"\")","v":""},{"$f":"IF(EA105>1,VLOOKUP(EA$3,Mileages!$C$3:$P$38,14,))","v":{"$error":"#N/A"}},{"$f":"IFERROR(IF(DY110=0,0,DZ110*DY110+(DZ110*'Complicated Price Adjustment'!$L$34)),\"\")","v":""}]
[null,27,"Asphalt Haul by Vendor - First Ton Mile",null,{"$f":"IFERROR(VLOOKUP(G$3,'District Bids'!$C$5:$CU$511,33,0),\"\")","v":2.6},{"$f":"IF(G106>1,(SUM('Order Details'!$J$7:$J$23,'Order Details'!$O$23,'Order Details'!$O$26)),0)","v":0},{"$f":"IFERROR(IF(E111=0,0,F111*E111+(F111*'Complicated Price Adjustment'!$L26)),\"\")","v":0},null,{"$f":"IFERROR(VLOOKUP(K$3,'District Bids'!$C$5:$CU$511,33,0),\"\")","v":3},{"$f":"IF(K106>1,(SUM('Order Details'!$J$7:$J$23,'Order Details'!$O$23,'Order Details'!$O$26)),0)","v":0},{"$f":"IFERROR(IF(I111=0,0,J111*I111+(J111*'Complicated Price Adjustment'!$L26)),\"\")","v":0},null,{"$f":"IFERROR(VLOOKUP(O$3,'District Bids'!$C$5:$CU$511,33,0),\"\")","v":3},{"$f":"IF(O106>1,(SUM('Order Details'!$J$7:$J$23,'Order Details'!$O$23,'Order Details'!$O$26)),0)","v":0},{"$f":"IFERROR(IF(M111=0,0,N111*M111+(N111*'Complicated Price Adjustment'!$L26)),\"\")","v":0},null,{"$f":"IFERROR(VLOOKUP(S$3,'District Bids'!$C$5:$CU$511,33,0),\"\")","v":2.6},{"$f":"IF(S106>1,(SUM('Order Details'!$J$7:$J$23,'Order Details'!$O$23,'Order Details'!$O$26)),0)","v":0},{"$f":"IFERROR(IF(Q111=0,0,R111*Q111+(R111*'Complicated Price Adjustment'!$L26)),\"\")","v":0},null,{"$f":"IFERROR(VLOOKUP(W$3,'District Bids'!$C$5:$CU$511,33,0),\"\")","v":2.75},{"$f":"IF(W106>1,(SUM('Order Details'!$J$7:$J$23,'Order Details'!$O$23,'Order Details'!$O$26)),0)","v":0},{"$f":"IFERROR(IF(U111=0,0,V111*U111+(V111*'Complicated Price Adjustment'!$L26)),\"\")","v":0},null,{"$f":"IFERROR(VLOOKUP(AA$3,'District Bids'!$C$5:$CU$511,33,0),\"\")","v":2.75},{"$f":"IF(AA106>1,(SUM('Order Details'!$J$7:$J$23,'Order Details'!$O$23,'Order Details'!$O$26)),0)","v":0},{"$f":"IFERROR(IF(Y111=0,0,Z111*Y111+(Z111*'Complicated Price Adjustment'!$L26)),\"\")","v":0},null,{"$f":"IFERROR(VLOOKUP(AE$3,'District Bids'!$C$5:$CU$511,33,0),\"\")","v":2.75},{"$f":"IF(AE106>1,(SUM('Order Details'!$J$7:$J$23,'Order Details'!$O$23,'Order Details'!$O$26)),0)","v":0},{"$f":"IFERROR(IF(AC111=0,0,AD111*AC111+(AD111*'Complicated Price Adjustment'!$L26)),\"\")","v":0},null,{"$f":"IFERROR(VLOOKUP(AI$3,'District Bids'!$C$5:$CU$511,33,0),\"\")","v":2.75},{"$f":"IF(AI106>1,(SUM('Order Details'!$J$7:$J$23,'Order Details'!$O$23,'Order Details'!$O$26)),0)","v":0},{"$f":"IFERROR(IF(AG111=0,0,AH111*AG111+(AH111*'Complicated Price Adjustment'!$L26)),\"\")","v":0},null,{"$f":"IFERROR(VLOOKUP(AM$3,'District Bids'!$C$5:$CU$511,33,0),\"\")","v":2.75},{"$f":"IF(AM106>1,(SUM('Order Details'!$J$7:$J$23,'Order Details'!$O$23,'Order Details'!$O$26)),0)","v":0},{"$f":"IFERROR(IF(AK111=0,0,AL111*AK111+(AL111*'Complicated Price Adjustment'!$L26)),\"\")","v":0},null,{"$f":"IFERROR(VLOOKUP(AQ$3,'District Bids'!$C$5:$CU$511,33,0),\"\")","v":2.75},{"$f":"IF(AQ106>1,(SUM('Order Details'!$J$7:$J$23,'Order Details'!$O$23,'Order Details'!$O$26)),0)","v":0},{"$f":"IFERROR(IF(AO111=0,0,AP111*AO111+(AP111*'Complicated Price Adjustment'!$L26)),\"\")","v":0},null,{"$f":"IFERROR(VLOOKUP(AU$3,'District Bids'!$C$5:$CU$511,33,0),\"\")","v":""},{"$f":"IF(AU106>1,(SUM('Order Details'!$J$7:$J$23,'Order Details'!$O$23,'Order Details'!$O$26)),0)","v":0},{"$f":"IFERROR(IF(AS111=0,0,AT111*AS111+(AT111*'Complicated Price Adjustment'!$L26)),\"\")","v":""},null,{"$f":"IFERROR(VLOOKUP(AY$3,'District Bids'!$C$5:$CU$511,33,0),\"\")","v":""},{"$f":"IF(AY106>1,(SUM('Order Details'!$J$7:$J$23,'Order Details'!$O$23,'Order Details'!$O$26)),0)","v":0},{"$f":"IFERROR(IF(AW111=0,0,AX111*AW111+(AX111*'Complicated Price Adjustment'!$L26)),\"\")","v":""},null,{"$f":"IFERROR(VLOOKUP(BC$3,'District Bids'!$C$5:$CU$511,33,0),\"\")","v":""},{"$f":"IF(BC106>1,(SUM('Order Details'!$J$7:$J$23,'Order Details'!$O$23,'Order Details'!$O$26)),0)","v":0},{"$f":"IFERROR(IF(BA111=0,0,BB111*BA111+(BB111*'Complicated Price Adjustment'!$L26)),\"\")","v":""},null,{"$f":"IFERROR(VLOOKUP(BG$3,'District Bids'!$C$5:$CU$511,33,0),\"\")","v":""},{"$f":"IF(BG106>1,(SUM('Order Details'!$J$7:$J$23,'Order Details'!$O$23,'Order Details'!$O$26)),0)","v":0},{"$f":"IFERROR(IF(BE111=0,0,BF111*BE111+(BF111*'Complicated Price Adjustment'!$L26)),\"\")","v":""},null,{"$f":"IFERROR(VLOOKUP(BK$3,'District Bids'!$C$5:$CU$511,33,0),\"\")","v":""},{"$f":"IF(BK106>1,(SUM('Order Details'!$J$7:$J$23,'Order Details'!$O$23,'Order Details'!$O$26)),0)","v":0},{"$f":"IFERROR(IF(BI111=0,0,BJ111*BI111+(BJ111*'Complicated Price Adjustment'!$L26)),\"\")","v":""},null,{"$f":"IFERROR(VLOOKUP(BO$3,'District Bids'!$C$5:$CU$511,33,0),\"\")","v":""},{"$f":"IF(BO106>1,(SUM('Order Details'!$J$7:$J$23,'Order Details'!$O$23,'Order Details'!$O$26)),0)","v":0},{"$f":"IFERROR(IF(BM111=0,0,BN111*BM111+(BN111*'Complicated Price Adjustment'!$L26)),\"\")","v":""},null,{"$f":"IFERROR(VLOOKUP(BS$3,'District Bids'!$C$5:$CU$511,33,0),\"\")","v":""},{"$f":"IF(BS106>1,(SUM('Order Details'!$J$7:$J$23,'Order Details'!$O$23,'Order Details'!$O$26)),0)","v":0},{"$f":"IFERROR(IF(BQ111=0,0,BR111*BQ111+(BR111*'Complicated Price Adjustment'!$L26)),\"\")","v":""},null,{"$f":"IFERROR(VLOOKUP(BW$3,'District Bids'!$C$5:$CU$511,33,0),\"\")","v":""},{"$f":"IF(BW106>1,(SUM('Order Details'!$J$7:$J$23,'Order Details'!$O$23,'Order Details'!$O$26)),0)","v":0},{"$f":"IFERROR(IF(BU111=0,0,BV111*BU111+(BV111*'Complicated Price Adjustment'!$L26)),\"\")","v":""},null,{"$f":"IFERROR(VLOOKUP(CA$3,'District Bids'!$C$5:$CU$511,33,0),\"\")","v":""},{"$f":"IF(CA106>1,(SUM('Order Details'!$J$7:$J$23,'Order Details'!$O$23,'Order Details'!$O$26)),0)","v":0},{"$f":"IFERROR(IF(BY111=0,0,BZ111*BY111+(BZ111*'Complicated Price Adjustment'!$L26)),\"\")","v":""},null,{"$f":"IFERROR(VLOOKUP(CE$3,'District Bids'!$C$5:$CU$511,33,0),\"\")","v":""},{"$f":"IF(CE106>1,(SUM('Order Details'!$J$7:$J$23,'Order Details'!$O$23,'Order Details'!$O$26)),0)","v":0},{"$f":"IFERROR(IF(CC111=0,0,CD111*CC111+(CD111*'Complicated Price Adjustment'!$L26)),\"\")","v":""},null,{"$f":"IFERROR(VLOOKUP(CI$3,'District Bids'!$C$5:$CU$511,33,0),\"\")","v":""},{"$f":"IF(CI106>1,(SUM('Order Details'!$J$7:$J$23,'Order Details'!$O$23,'Order Details'!$O$26)),0)","v":0},{"$f":"IFERROR(IF(CG111=0,0,CH111*CG111+(CH111*'Complicated Price Adjustment'!$L26)),\"\")","v":""},null,{"$f":"IFERROR(VLOOKUP(CM$3,'District Bids'!$C$5:$CU$511,33,0),\"\")","v":""},{"$f":"IF(CM106>1,(SUM('Order Details'!$J$7:$J$23,'Order Details'!$O$23,'Order Details'!$O$26)),0)","v":0},{"$f":"IFERROR(IF(CK111=0,0,CL111*CK111+(CL111*'Complicated Price Adjustment'!$L26)),\"\")","v":""},null,{"$f":"IFERROR(VLOOKUP(CQ$3,'District Bids'!$C$5:$CU$511,33,0),\"\")","v":""},{"$f":"IF(CQ106>1,(SUM('Order Details'!$J$7:$J$23,'Order Details'!$O$23,'Order Details'!$O$26)),0)","v":0},{"$f":"IFERROR(IF(CO111=0,0,CP111*CO111+(CP111*'Complicated Price Adjustment'!$L26)),\"\")","v":""},null,{"$f":"IFERROR(VLOOKUP(CU$3,'District Bids'!$C$5:$CU$511,33,0),\"\")","v":""},{"$f":"IF(CU106>1,(SUM('Order Details'!$J$7:$J$23,'Order Details'!$O$23,'Order Details'!$O$26)),0)","v":0},{"$f":"IFERROR(IF(CS111=0,0,CT111*CS111+(CT111*'Complicated Price Adjustment'!$L26)),\"\")","v":""},null,{"$f":"IFERROR(VLOOKUP(CY$3,'District Bids'!$C$5:$CU$511,33,0),\"\")","v":""},{"$f":"IF(CY106>1,(SUM('Order Details'!$J$7:$J$23,'Order Details'!$O$23,'Order Details'!$O$26)),0)","v":0},{"$f":"IFERROR(IF(CW111=0,0,CX111*CW111+(CX111*'Complicated Price Adjustment'!$L26)),\"\")","v":""},null,{"$f":"IFERROR(VLOOKUP(DC$3,'District Bids'!$C$5:$CU$511,33,0),\"\")","v":""},{"$f":"IF(DC106>1,(SUM('Order Details'!$J$7:$J$23,'Order Details'!$O$23,'Order Details'!$O$26)),0)","v":0},{"$f":"IFERROR(IF(DA111=0,0,DB111*DA111+(DB111*'Complicated Price Adjustment'!$L26)),\"\")","v":""},null,{"$f":"IFERROR(VLOOKUP(DG$3,'District Bids'!$C$5:$CU$511,33,0),\"\")","v":""},{"$f":"IF(DG106>1,(SUM('Order Details'!$J$7:$J$23,'Order Details'!$O$23,'Order Details'!$O$26)),0)","v":0},{"$f":"IFERROR(IF(DE111=0,0,DF111*DE111+(DF111*'Complicated Price Adjustment'!$L26)),\"\")","v":""},null,{"$f":"IFERROR(VLOOKUP(DK$3,'District Bids'!$C$5:$CU$511,33,0),\"\")","v":""},{"$f":"IF(DK106>1,(SUM('Order Details'!$J$7:$J$23,'Order Details'!$O$23,'Order Details'!$O$26)),0)","v":0},{"$f":"IFERROR(IF(DI111=0,0,DJ111*DI111+(DJ111*'Complicated Price Adjustment'!$L26)),\"\")","v":""},null,{"$f":"IFERROR(VLOOKUP(DO$3,'District Bids'!$C$5:$CU$511,33,0),\"\")","v":""},{"$f":"IF(DO106>1,(SUM('Order Details'!$J$7:$J$23,'Order Details'!$O$23,'Order Details'!$O$26)),0)","v":0},{"$f":"IFERROR(IF(DM111=0,0,DN111*DM111+(DN111*'Complicated Price Adjustment'!$L26)),\"\")","v":""},null,{"$f":"IFERROR(VLOOKUP(DS$3,'District Bids'!$C$5:$CU$511,33,0),\"\")","v":""},{"$f":"IF(DS106>1,(SUM('Order Details'!$J$7:$J$23,'Order Details'!$O$23,'Order Details'!$O$26)),0)","v":0},{"$f":"IFERROR(IF(DQ111=0,0,DR111*DQ111+(DR111*'Complicated Price Adjustment'!$L26)),\"\")","v":""},null,{"$f":"IFERROR(VLOOKUP(DW$3,'District Bids'!$C$5:$CU$511,33,0),\"\")","v":""},{"$f":"IF(DW106>1,(SUM('Order Details'!$J$7:$J$23,'Order Details'!$O$23,'Order Details'!$O$26)),0)","v":0},{"$f":"IFERROR(IF(DU111=0,0,DV111*DU111+(DV111*'Complicated Price Adjustment'!$L26)),\"\")","v":""},null,{"$f":"IFERROR(VLOOKUP(EA$3,'District Bids'!$C$5:$CU$511,33,0),\"\")","v":""},{"$f":"IF(EA106>1,(SUM('Order Details'!$J$7:$J$23,'Order Details'!$O$23,'Order Details'!$O$26)),0)","v":0},{"$f":"IFERROR(IF(DY111=0,0,DZ111*DY111+(DZ111*'Complicated Price Adjustment'!$L26)),\"\")","v":""}]
[null,28,"Asphalt Haul by Vendor - Each Additional Ton Mile",null,{"$f":"IFERROR(VLOOKUP(G$3,'District Bids'!$C$5:$CU$511,34,0),\"\")","v":0.3},{"$f":"IF(G106>1,VLOOKUP(G$3,Mileages!$C$3:$P$38,8,))","v":0},{"$f":"IFERROR(IF(E112=0,0,F112*E112+(F112*'Complicated Price Adjustment'!$L27)),\"\")","v":0},null,{"$f":"IFERROR(VLOOKUP(K$3,'District Bids'!$C$5:$CU$511,34,0),\"\")","v":0.27},{"$f":"IF(K106>1,VLOOKUP(K$3,Mileages!$C$3:$P$38,8,))","v":0},{"$f":"IFERROR(IF(I112=0,0,J112*I112+(J112*'Complicated Price Adjustment'!$L27)),\"\")","v":0},null,{"$f":"IFERROR(VLOOKUP(O$3,'District Bids'!$C$5:$CU$511,34,0),\"\")","v":0.27},{"$f":"IF(O106>1,VLOOKUP(O$3,Mileages!$C$3:$P$38,8,))","v":0},{"$f":"IFERROR(IF(M112=0,0,N112*M112+(N112*'Complicated Price Adjustment'!$L27)),\"\")","v":0},null,{"$f":"IFERROR(VLOOKUP(S$3,'District Bids'!$C$5:$CU$511,34,0),\"\")","v":0.26},{"$f":"IF(S106>1,VLOOKUP(S$3,Mileages!$C$3:$P$38,8,))","v":0},{"$f":"IFERROR(IF(Q112=0,0,R112*Q112+(R112*'Complicated Price Adjustment'!$L27)),\"\")","v":0},null,{"$f":"IFERROR(VLOOKUP(W$3,'District Bids'!$C$5:$CU$511,34,0),\"\")","v":0.28000000000000003},{"$f":"IF(W106>1,VLOOKUP(W$3,Mileages!$C$3:$P$38,8,))","v":0},{"$f":"IFERROR(IF(U112=0,0,V112*U112+(V112*'Complicated Price Adjustment'!$L27)),\"\")","v":0},null,{"$f":"IFERROR(VLOOKUP(AA$3,'District Bids'!$C$5:$CU$511,34,0),\"\")","v":0.28000000000000003},{"$f":"IF(AA106>1,VLOOKUP(AA$3,Mileages!$C$3:$P$38,8,))","v":0},{"$f":"IFERROR(IF(Y112=0,0,Z112*Y112+(Z112*'Complicated Price Adjustment'!$L27)),\"\")","v":0},null,{"$f":"IFERROR(VLOOKUP(AE$3,'District Bids'!$C$5:$CU$511,34,0),\"\")","v":0.28000000000000003},{"$f":"IF(AE106>1,VLOOKUP(AE$3,Mileages!$C$3:$P$38,8,))","v":0},{"$f":"IFERROR(IF(AC112=0,0,AD112*AC112+(AD112*'Complicated Price Adjustment'!$L27)),\"\")","v":0},null,{"$f":"IFERROR(VLOOKUP(AI$3,'District Bids'!$C$5:$CU$511,34,0),\"\")","v":0.28000000000000003},{"$f":"IF(AI106>1,VLOOKUP(AI$3,Mileages!$C$3:$P$38,8,))","v":0},{"$f":"IFERROR(IF(AG112=0,0,AH112*AG112+(AH112*'Complicated Price Adjustment'!$L27)),\"\")","v":0},null,{"$f":"IFERROR(VLOOKUP(AM$3,'District Bids'!$C$5:$CU$511,34,0),\"\")","v":0.28000000000000003},{"$f":"IF(AM106>1,VLOOKUP(AM$3,Mileages!$C$3:$P$38,8,))","v":0},{"$f":"IFERROR(IF(AK112=0,0,AL112*AK112+(AL112*'Complicated Price Adjustment'!$L27)),\"\")","v":0},null,{"$f":"IFERROR(VLOOKUP(AQ$3,'District Bids'!$C$5:$CU$511,34,0),\"\")","v":0.28000000000000003},{"$f":"IF(AQ106>1,VLOOKUP(AQ$3,Mileages!$C$3:$P$38,8,))","v":0},{"$f":"IFERROR(IF(AO112=0,0,AP112*AO112+(AP112*'Complicated Price Adjustment'!$L27)),\"\")","v":0},null,{"$f":"IFERROR(VLOOKUP(AU$3,'District Bids'!$C$5:$CU$511,34,0),\"\")","v":""},{"$f":"IF(AU106>1,VLOOKUP(AU$3,Mileages!$C$3:$P$38,8,))","v":{"$error":"#N/A"}},{"$f":"IFERROR(IF(AS112=0,0,AT112*AS112+(AT112*'Complicated Price Adjustment'!$L27)),\"\")","v":""},null,{"$f":"IFERROR(VLOOKUP(AY$3,'District Bids'!$C$5:$CU$511,34,0),\"\")","v":""},{"$f":"IF(AY106>1,VLOOKUP(AY$3,Mileages!$C$3:$P$38,8,))","v":{"$error":"#N/A"}},{"$f":"IFERROR(IF(AW112=0,0,AX112*AW112+(AX112*'Complicated Price Adjustment'!$L27)),\"\")","v":""},null,{"$f":"IFERROR(VLOOKUP(BC$3,'District Bids'!$C$5:$CU$511,34,0),\"\")","v":""},{"$f":"IF(BC106>1,VLOOKUP(BC$3,Mileages!$C$3:$P$38,8,))","v":{"$error":"#N/A"}},{"$f":"IFERROR(IF(BA112=0,0,BB112*BA112+(BB112*'Complicated Price Adjustment'!$L27)),\"\")","v":""},null,{"$f":"IFERROR(VLOOKUP(BG$3,'District Bids'!$C$5:$CU$511,34,0),\"\")","v":""},{"$f":"IF(BG106>1,VLOOKUP(BG$3,Mileages!$C$3:$P$38,8,))","v":{"$error":"#N/A"}},{"$f":"IFERROR(IF(BE112=0,0,BF112*BE112+(BF112*'Complicated Price Adjustment'!$L27)),\"\")","v":""},null,{"$f":"IFERROR(VLOOKUP(BK$3,'District Bids'!$C$5:$CU$511,34,0),\"\")","v":""},{"$f":"IF(BK106>1,VLOOKUP(BK$3,Mileages!$C$3:$P$38,8,))","v":{"$error":"#N/A"}},{"$f":"IFERROR(IF(BI112=0,0,BJ112*BI112+(BJ112*'Complicated Price Adjustment'!$L27)),\"\")","v":""},null,{"$f":"IFERROR(VLOOKUP(BO$3,'District Bids'!$C$5:$CU$511,34,0),\"\")","v":""},{"$f":"IF(BO106>1,VLOOKUP(BO$3,Mileages!$C$3:$P$38,8,))","v":{"$error":"#N/A"}},{"$f":"IFERROR(IF(BM112=0,0,BN112*BM112+(BN112*'Complicated Price Adjustment'!$L27)),\"\")","v":""},null,{"$f":"IFERROR(VLOOKUP(BS$3,'District Bids'!$C$5:$CU$511,34,0),\"\")","v":""},{"$f":"IF(BS106>1,VLOOKUP(BS$3,Mileages!$C$3:$P$38,8,))","v":{"$error":"#N/A"}},{"$f":"IFERROR(IF(BQ112=0,0,BR112*BQ112+(BR112*'Complicated Price Adjustment'!$L27)),\"\")","v":""},null,{"$f":"IFERROR(VLOOKUP(BW$3,'District Bids'!$C$5:$CU$511,34,0),\"\")","v":""},{"$f":"IF(BW106>1,VLOOKUP(BW$3,Mileages!$C$3:$P$38,8,))","v":{"$error":"#N/A"}},{"$f":"IFERROR(IF(BU112=0,0,BV112*BU112+(BV112*'Complicated Price Adjustment'!$L27)),\"\")","v":""},null,{"$f":"IFERROR(VLOOKUP(CA$3,'District Bids'!$C$5:$CU$511,34,0),\"\")","v":""},{"$f":"IF(CA106>1,VLOOKUP(CA$3,Mileages!$C$3:$P$38,8,))","v":{"$error":"#N/A"}},{"$f":"IFERROR(IF(BY112=0,0,BZ112*BY112+(BZ112*'Complicated Price Adjustment'!$L27)),\"\")","v":""},null,{"$f":"IFERROR(VLOOKUP(CE$3,'District Bids'!$C$5:$CU$511,34,0),\"\")","v":""},{"$f":"IF(CE106>1,VLOOKUP(CE$3,Mileages!$C$3:$P$38,8,))","v":{"$error":"#N/A"}},{"$f":"IFERROR(IF(CC112=0,0,CD112*CC112+(CD112*'Complicated Price Adjustment'!$L27)),\"\")","v":""},null,{"$f":"IFERROR(VLOOKUP(CI$3,'District Bids'!$C$5:$CU$511,34,0),\"\")","v":""},{"$f":"IF(CI106>1,VLOOKUP(CI$3,Mileages!$C$3:$P$38,8,))","v":{"$error":"#N/A"}},{"$f":"IFERROR(IF(CG112=0,0,CH112*CG112+(CH112*'Complicated Price Adjustment'!$L27)),\"\")","v":""},null,{"$f":"IFERROR(VLOOKUP(CM$3,'District Bids'!$C$5:$CU$511,34,0),\"\")","v":""},{"$f":"IF(CM106>1,VLOOKUP(CM$3,Mileages!$C$3:$P$38,8,))","v":{"$error":"#N/A"}},{"$f":"IFERROR(IF(CK112=0,0,CL112*CK112+(CL112*'Complicated Price Adjustment'!$L27)),\"\")","v":""},null,{"$f":"IFERROR(VLOOKUP(CQ$3,'District Bids'!$C$5:$CU$511,34,0),\"\")","v":""},{"$f":"IF(CQ106>1,VLOOKUP(CQ$3,Mileages!$C$3:$P$38,8,))","v":{"$error":"#N/A"}},{"$f":"IFERROR(IF(CO112=0,0,CP112*CO112+(CP112*'Complicated Price Adjustment'!$L27)),\"\")","v":""},null,{"$f":"IFERROR(VLOOKUP(CU$3,'District Bids'!$C$5:$CU$511,34,0),\"\")","v":""},{"$f":"IF(CU106>1,VLOOKUP(CU$3,Mileages!$C$3:$P$38,8,))","v":{"$error":"#N/A"}},{"$f":"IFERROR(IF(CS112=0,0,CT112*CS112+(CT112*'Complicated Price Adjustment'!$L27)),\"\")","v":""},null,{"$f":"IFERROR(VLOOKUP(CY$3,'District Bids'!$C$5:$CU$511,34,0),\"\")","v":""},{"$f":"IF(CY106>1,VLOOKUP(CY$3,Mileages!$C$3:$P$38,8,))","v":{"$error":"#N/A"}},{"$f":"IFERROR(IF(CW112=0,0,CX112*CW112+(CX112*'Complicated Price Adjustment'!$L27)),\"\")","v":""},null,{"$f":"IFERROR(VLOOKUP(DC$3,'District Bids'!$C$5:$CU$511,34,0),\"\")","v":""},{"$f":"IF(DC106>1,VLOOKUP(DC$3,Mileages!$C$3:$P$38,8,))","v":{"$error":"#N/A"}},{"$f":"IFERROR(IF(DA112=0,0,DB112*DA112+(DB112*'Complicated Price Adjustment'!$L27)),\"\")","v":""},null,{"$f":"IFERROR(VLOOKUP(DG$3,'District Bids'!$C$5:$CU$511,34,0),\"\")","v":""},{"$f":"IF(DG106>1,VLOOKUP(DG$3,Mileages!$C$3:$P$38,8,))","v":{"$error":"#N/A"}},{"$f":"IFERROR(IF(DE112=0,0,DF112*DE112+(DF112*'Complicated Price Adjustment'!$L27)),\"\")","v":""},null,{"$f":"IFERROR(VLOOKUP(DK$3,'District Bids'!$C$5:$CU$511,34,0),\"\")","v":""},{"$f":"IF(DK106>1,VLOOKUP(DK$3,Mileages!$C$3:$P$38,8,))","v":{"$error":"#N/A"}},{"$f":"IFERROR(IF(DI112=0,0,DJ112*DI112+(DJ112*'Complicated Price Adjustment'!$L27)),\"\")","v":""},null,{"$f":"IFERROR(VLOOKUP(DO$3,'District Bids'!$C$5:$CU$511,34,0),\"\")","v":""},{"$f":"IF(DO106>1,VLOOKUP(DO$3,Mileages!$C$3:$P$38,8,))","v":{"$error":"#N/A"}},{"$f":"IFERROR(IF(DM112=0,0,DN112*DM112+(DN112*'Complicated Price Adjustment'!$L27)),\"\")","v":""},null,{"$f":"IFERROR(VLOOKUP(DS$3,'District Bids'!$C$5:$CU$511,34,0),\"\")","v":""},{"$f":"IF(DS106>1,VLOOKUP(DS$3,Mileages!$C$3:$P$38,8,))","v":{"$error":"#N/A"}},{"$f":"IFERROR(IF(DQ112=0,0,DR112*DQ112+(DR112*'Complicated Price Adjustment'!$L27)),\"\")","v":""},null,{"$f":"IFERROR(VLOOKUP(DW$3,'District Bids'!$C$5:$CU$511,34,0),\"\")","v":""},{"$f":"IF(DW106>1,VLOOKUP(DW$3,Mileages!$C$3:$P$38,8,))","v":{"$error":"#N/A"}},{"$f":"IFERROR(IF(DU112=0,0,DV112*DU112+(DV112*'Complicated Price Adjustment'!$L27)),\"\")","v":""},null,{"$f":"IFERROR(VLOOKUP(EA$3,'District Bids'!$C$5:$CU$511,34,0),\"\")","v":""},{"$f":"IF(EA106>1,VLOOKUP(EA$3,Mileages!$C$3:$P$38,8,))","v":{"$error":"#N/A"}},{"$f":"IFERROR(IF(DY112=0,0,DZ112*DY112+(DZ112*'Complicated Price Adjustment'!$L27)),\"\")","v":""}]
[null,63,"Haul of Profiled/Milled Cuttings or Fine Millings, First 10 Miles (Included #49-60 and #69-80)",null,{"$f":"IFERROR(VLOOKUP(G$3,'District Bids'!$C$5:$CU$511,69,0),\"\")","v":0},{"$f":"'Order Details'!$B$35","v":0},{"$f":"F113*E113","v":0},null,{"$f":"IFERROR(VLOOKUP(K$3,'District Bids'!$C$5:$CU$511,69,0),\"\")","v":0},{"$f":"'Order Details'!$B$35","v":0},{"$f":"J113*I113","v":0},null,{"$f":"IFERROR(VLOOKUP(O$3,'District Bids'!$C$5:$CU$511,69,0),\"\")","v":0},{"$f":"'Order Details'!$B$35","v":0},{"$f":"N113*M113","v":0},null,{"$f":"IFERROR(VLOOKUP(S$3,'District Bids'!$C$5:$CU$511,69,0),\"\")","v":0},{"$f":"'Order Details'!$B$35","v":0},{"$f":"R113*Q113","v":0},null,{"$f":"IFERROR(VLOOKUP(W$3,'District Bids'!$C$5:$CU$511,69,0),\"\")","v":0},{"$f":"'Order Details'!$B$35","v":0},{"$f":"V113*U113","v":0},null,{"$f":"IFERROR(VLOOKUP(AA$3,'District Bids'!$C$5:$CU$511,69,0),\"\")","v":0},{"$f":"'Order Details'!$B$35","v":0},{"$f":"Z113*Y113","v":0},null,{"$f":"IFERROR(VLOOKUP(AE$3,'District Bids'!$C$5:$CU$511,69,0),\"\")","v":0},{"$f":"'Order Details'!$B$35","v":0},{"$f":"AD113*AC113","v":0},null,{"$f":"IFERROR(VLOOKUP(AI$3,'District Bids'!$C$5:$CU$511,69,0),\"\")","v":0},{"$f":"'Order Details'!$B$35","v":0},{"$f":"AH113*AG113","v":0},null,{"$f":"IFERROR(VLOOKUP(AM$3,'District Bids'!$C$5:$CU$511,69,0),\"\")","v":0},{"$f":"'Order Details'!$B$35","v":0},{"$f":"AL113*AK113","v":0},null,{"$f":"IFERROR(VLOOKUP(AQ$3,'District Bids'!$C$5:$CU$511,69,0),\"\")","v":0},{"$f":"'Order Details'!$B$35","v":0},{"$f":"AP113*AO113","v":0},null,{"$f":"IFERROR(VLOOKUP(AU$3,'District Bids'!$C$5:$CU$511,69,0),\"\")","v":""},{"$f":"'Order Details'!$B$35","v":0},{"$f":"AT113*AS113","v":{"$error":"#VALUE!"}},null,{"$f":"IFERROR(VLOOKUP(AY$3,'District Bids'!$C$5:$CU$511,69,0),\"\")","v":""},{"$f":"'Order Details'!$B$35","v":0},{"$f":"AX113*AW113","v":{"$error":"#VALUE!"}},null,{"$f":"IFERROR(VLOOKUP(BC$3,'District Bids'!$C$5:$CU$511,69,0),\"\")","v":""},{"$f":"'Order Details'!$B$35","v":0},{"$f":"BB113*BA113","v":{"$error":"#VALUE!"}},null,{"$f":"IFERROR(VLOOKUP(BG$3,'District Bids'!$C$5:$CU$511,69,0),\"\")","v":""},{"$f":"'Order Details'!$B$35","v":0},{"$f":"BF113*BE113","v":{"$error":"#VALUE!"}},null,{"$f":"IFERROR(VLOOKUP(BK$3,'District Bids'!$C$5:$CU$511,69,0),\"\")","v":""},{"$f":"'Order Details'!$B$35","v":0},{"$f":"BJ113*BI113","v":{"$error":"#VALUE!"}},null,{"$f":"IFERROR(VLOOKUP(BO$3,'District Bids'!$C$5:$CU$511,69,0),\"\")","v":""},{"$f":"'Order Details'!$B$35","v":0},{"$f":"BN113*BM113","v":{"$error":"#VALUE!"}},null,{"$f":"IFERROR(VLOOKUP(BS$3,'District Bids'!$C$5:$CU$511,69,0),\"\")","v":""},{"$f":"'Order Details'!$B$35","v":0},{"$f":"BR113*BQ113","v":{"$error":"#VALUE!"}},null,{"$f":"IFERROR(VLOOKUP(BW$3,'District Bids'!$C$5:$CU$511,69,0),\"\")","v":""},{"$f":"'Order Details'!$B$35","v":0},{"$f":"BV113*BU113","v":{"$error":"#VALUE!"}},null,{"$f":"IFERROR(VLOOKUP(CA$3,'District Bids'!$C$5:$CU$511,69,0),\"\")","v":""},{"$f":"'Order Details'!$B$35","v":0},{"$f":"BZ113*BY113","v":{"$error":"#VALUE!"}},null,{"$f":"IFERROR(VLOOKUP(CE$3,'District Bids'!$C$5:$CU$511,69,0),\"\")","v":""},{"$f":"'Order Details'!$B$35","v":0},{"$f":"CD113*CC113","v":{"$error":"#VALUE!"}},null,{"$f":"IFERROR(VLOOKUP(CI$3,'District Bids'!$C$5:$CU$511,69,0),\"\")","v":""},{"$f":"'Order Details'!$B$35","v":0},{"$f":"CH113*CG113","v":{"$error":"#VALUE!"}},null,{"$f":"IFERROR(VLOOKUP(CM$3,'District Bids'!$C$5:$CU$511,69,0),\"\")","v":""},{"$f":"'Order Details'!$B$35","v":0},{"$f":"CL113*CK113","v":{"$error":"#VALUE!"}},null,{"$f":"IFERROR(VLOOKUP(CQ$3,'District Bids'!$C$5:$CU$511,69,0),\"\")","v":""},{"$f":"'Order Details'!$B$35","v":0},{"$f":"CP113*CO113","v":{"$error":"#VALUE!"}},null,{"$f":"IFERROR(VLOOKUP(CU$3,'District Bids'!$C$5:$CU$511,69,0),\"\")","v":""},{"$f":"'Order Details'!$B$35","v":0},{"$f":"CT113*CS113","v":{"$error":"#VALUE!"}},null,{"$f":"IFERROR(VLOOKUP(CY$3,'District Bids'!$C$5:$CU$511,69,0),\"\")","v":""},{"$f":"'Order Details'!$B$35","v":0},{"$f":"CX113*CW113","v":{"$error":"#VALUE!"}},null,{"$f":"IFERROR(VLOOKUP(DC$3,'District Bids'!$C$5:$CU$511,69,0),\"\")","v":""},{"$f":"'Order Details'!$B$35","v":0},{"$f":"DB113*DA113","v":{"$error":"#VALUE!"}},null,{"$f":"IFERROR(VLOOKUP(DG$3,'District Bids'!$C$5:$CU$511,69,0),\"\")","v":""},{"$f":"'Order Details'!$B$35","v":0},{"$f":"DF113*DE113","v":{"$error":"#VALUE!"}},null,{"$f":"IFERROR(VLOOKUP(DK$3,'District Bids'!$C$5:$CU$511,69,0),\"\")","v":""},{"$f":"'Order Details'!$B$35","v":0},{"$f":"DJ113*DI113","v":{"$error":"#VALUE!"}},null,{"$f":"IFERROR(VLOOKUP(DO$3,'District Bids'!$C$5:$CU$511,69,0),\"\")","v":""},{"$f":"'Order Details'!$B$35","v":0},{"$f":"DN113*DM113","v":{"$error":"#VALUE!"}},null,{"$f":"IFERROR(VLOOKUP(DS$3,'District Bids'!$C$5:$CU$511,69,0),\"\")","v":""},{"$f":"'Order Details'!$B$35","v":0},{"$f":"DR113*DQ113","v":{"$error":"#VALUE!"}},null,{"$f":"IFERROR(VLOOKUP(DW$3,'District Bids'!$C$5:$CU$511,69,0),\"\")","v":""},{"$f":"'Order Details'!$B$35","v":0},{"$f":"DV113*DU113","v":{"$error":"#VALUE!"}},null,{"$f":"IFERROR(VLOOKUP(EA$3,'District Bids'!$C$5:$CU$511,69,0),\"\")","v":""},{"$f":"'Order Details'!$B$35","v":0},{"$f":"DZ113*DY113","v":{"$error":"#VALUE!"}}]
[null,64,"Haul of Profiled/Milled Cuttings or Fine Millings, Each additional Mile (Above 10 Miles)",null,{"$f":"IFERROR(VLOOKUP(G$3,'District Bids'!$C$5:$CU$511,70,0),\"\")","v":0.3},{"$f":"IF(G107>1,VLOOKUP(G$3,Mileages!$C$3:$P$38,10,),0)","v":0},{"$f":"F114*E114","v":0},null,{"$f":"IFERROR(VLOOKUP(K$3,'District Bids'!$C$5:$CU$511,70,0),\"\")","v":0.27},{"$f":"IF(K107>1,VLOOKUP(K$3,Mileages!$C$3:$P$38,10,),0)","v":0},{"$f":"J114*I114","v":0},null,{"$f":"IFERROR(VLOOKUP(O$3,'District Bids'!$C$5:$CU$511,70,0),\"\")","v":0.27},{"$f":"IF(O107>1,VLOOKUP(O$3,Mileages!$C$3:$P$38,10,),0)","v":0},{"$f":"N114*M114","v":0},null,{"$f":"IFERROR(VLOOKUP(S$3,'District Bids'!$C$5:$CU$511,70,0),\"\")","v":5},{"$f":"IF(S107>1,VLOOKUP(S$3,Mileages!$C$3:$P$38,10,),0)","v":0},{"$f":"R114*Q114","v":0},null,{"$f":"IFERROR(VLOOKUP(W$3,'District Bids'!$C$5:$CU$511,70,0),\"\")","v":0.28000000000000003},{"$f":"IF(W107>1,VLOOKUP(W$3,Mileages!$C$3:$P$38,10,),0)","v":0},{"$f":"V114*U114","v":0},null,{"$f":"IFERROR(VLOOKUP(AA$3,'District Bids'!$C$5:$CU$511,70,0),\"\")","v":0.28000000000000003},{"$f":"IF(AA107>1,VLOOKUP(AA$3,Mileages!$C$3:$P$38,10,),0)","v":0},{"$f":"Z114*Y114","v":0},null,{"$f":"IFERROR(VLOOKUP(AE$3,'District Bids'!$C$5:$CU$511,70,0),\"\")","v":0.28000000000000003},{"$f":"IF(AE107>1,VLOOKUP(AE$3,Mileages!$C$3:$P$38,10,),0)","v":0},{"$f":"AD114*AC114","v":0},null,{"$f":"IFERROR(VLOOKUP(AI$3,'District Bids'!$C$5:$CU$511,70,0),\"\")","v":0.28000000000000003},{"$f":"IF(AI107>1,VLOOKUP(AI$3,Mileages!$C$3:$P$38,10,),0)","v":0},{"$f":"AH114*AG114","v":0},null,{"$f":"IFERROR(VLOOKUP(AM$3,'District Bids'!$C$5:$CU$511,70,0),\"\")","v":0.28000000000000003},{"$f":"IF(AM107>1,VLOOKUP(AM$3,Mileages!$C$3:$P$38,10,),0)","v":0},{"$f":"AL114*AK114","v":0},null,{"$f":"IFERROR(VLOOKUP(AQ$3,'District Bids'!$C$5:$CU$511,70,0),\"\")","v":0.28000000000000003},{"$f":"IF(AQ107>1,VLOOKUP(AQ$3,Mileages!$C$3:$P$38,10,),0)","v":0},{"$f":"AP114*AO114","v":0},null,{"$f":"IFERROR(VLOOKUP(AU$3,'District Bids'!$C$5:$CU$511,70,0),\"\")","v":""},{"$f":"IF(AU107>1,VLOOKUP(AU$3,Mileages!$C$3:$P$38,10,),0)","v":{"$error":"#N/A"}},{"$f":"AT114*AS114","v":{"$error":"#N/A"}},null,{"$f":"IFERROR(VLOOKUP(AY$3,'District Bids'!$C$5:$CU$511,70,0),\"\")","v":""},{"$f":"IF(AY107>1,VLOOKUP(AY$3,Mileages!$C$3:$P$38,10,),0)","v":{"$error":"#N/A"}},{"$f":"AX114*AW114","v":{"$error":"#N/A"}},null,{"$f":"IFERROR(VLOOKUP(BC$3,'District Bids'!$C$5:$CU$511,70,0),\"\")","v":""},{"$f":"IF(BC107>1,VLOOKUP(BC$3,Mileages!$C$3:$P$38,10,),0)","v":{"$error":"#N/A"}},{"$f":"BB114*BA114","v":{"$error":"#N/A"}},null,{"$f":"IFERROR(VLOOKUP(BG$3,'District Bids'!$C$5:$CU$511,70,0),\"\")","v":""},{"$f":"IF(BG107>1,VLOOKUP(BG$3,Mileages!$C$3:$P$38,10,),0)","v":{"$error":"#N/A"}},{"$f":"BF114*BE114","v":{"$error":"#N/A"}},null,{"$f":"IFERROR(VLOOKUP(BK$3,'District Bids'!$C$5:$CU$511,70,0),\"\")","v":""},{"$f":"IF(BK107>1,VLOOKUP(BK$3,Mileages!$C$3:$P$38,10,),0)","v":{"$error":"#N/A"}},{"$f":"BJ114*BI114","v":{"$error":"#N/A"}},null,{"$f":"IFERROR(VLOOKUP(BO$3,'District Bids'!$C$5:$CU$511,70,0),\"\")","v":""},{"$f":"IF(BO107>1,VLOOKUP(BO$3,Mileages!$C$3:$P$38,10,),0)","v":{"$error":"#N/A"}},{"$f":"BN114*BM114","v":{"$error":"#N/A"}},null,{"$f":"IFERROR(VLOOKUP(BS$3,'District Bids'!$C$5:$CU$511,70,0),\"\")","v":""},{"$f":"IF(BS107>1,VLOOKUP(BS$3,Mileages!$C$3:$P$38,10,),0)","v":{"$error":"#N/A"}},{"$f":"BR114*BQ114","v":{"$error":"#N/A"}},null,{"$f":"IFERROR(VLOOKUP(BW$3,'District Bids'!$C$5:$CU$511,70,0),\"\")","v":""},{"$f":"IF(BW107>1,VLOOKUP(BW$3,Mileages!$C$3:$P$38,10,),0)","v":{"$error":"#N/A"}},{"$f":"BV114*BU114","v":{"$error":"#N/A"}},null,{"$f":"IFERROR(VLOOKUP(CA$3,'District Bids'!$C$5:$CU$511,70,0),\"\")","v":""},{"$f":"IF(CA107>1,VLOOKUP(CA$3,Mileages!$C$3:$P$38,10,),0)","v":{"$error":"#N/A"}},{"$f":"BZ114*BY114","v":{"$error":"#N/A"}},null,{"$f":"IFERROR(VLOOKUP(CE$3,'District Bids'!$C$5:$CU$511,70,0),\"\")","v":""},{"$f":"IF(CE107>1,VLOOKUP(CE$3,Mileages!$C$3:$P$38,10,),0)","v":{"$error":"#N/A"}},{"$f":"CD114*CC114","v":{"$error":"#N/A"}},null,{"$f":"IFERROR(VLOOKUP(CI$3,'District Bids'!$C$5:$CU$511,70,0),\"\")","v":""},{"$f":"IF(CI107>1,VLOOKUP(CI$3,Mileages!$C$3:$P$38,10,),0)","v":{"$error":"#N/A"}},{"$f":"CH114*CG114","v":{"$error":"#N/A"}},null,{"$f":"IFERROR(VLOOKUP(CM$3,'District Bids'!$C$5:$CU$511,70,0),\"\")","v":""},{"$f":"IF(CM107>1,VLOOKUP(CM$3,Mileages!$C$3:$P$38,10,),0)","v":{"$error":"#N/A"}},{"$f":"CL114*CK114","v":{"$error":"#N/A"}},null,{"$f":"IFERROR(VLOOKUP(CQ$3,'District Bids'!$C$5:$CU$511,70,0),\"\")","v":""},{"$f":"IF(CQ107>1,VLOOKUP(CQ$3,Mileages!$C$3:$P$38,10,),0)","v":{"$error":"#N/A"}},{"$f":"CP114*CO114","v":{"$error":"#N/A"}},null,{"$f":"IFERROR(VLOOKUP(CU$3,'District Bids'!$C$5:$CU$511,70,0),\"\")","v":""},{"$f":"IF(CU107>1,VLOOKUP(CU$3,Mileages!$C$3:$P$38,10,),0)","v":{"$error":"#N/A"}},{"$f":"CT114*CS114","v":{"$error":"#N/A"}},null,{"$f":"IFERROR(VLOOKUP(CY$3,'District Bids'!$C$5:$CU$511,70,0),\"\")","v":""},{"$f":"IF(CY107>1,VLOOKUP(CY$3,Mileages!$C$3:$P$38,10,),0)","v":{"$error":"#N/A"}},{"$f":"CX114*CW114","v":{"$error":"#N/A"}},null,{"$f":"IFERROR(VLOOKUP(DC$3,'District Bids'!$C$5:$CU$511,70,0),\"\")","v":""},{"$f":"IF(DC107>1,VLOOKUP(DC$3,Mileages!$C$3:$P$38,10,),0)","v":{"$error":"#N/A"}},{"$f":"DB114*DA114","v":{"$error":"#N/A"}},null,{"$f":"IFERROR(VLOOKUP(DG$3,'District Bids'!$C$5:$CU$511,70,0),\"\")","v":""},{"$f":"IF(DG107>1,VLOOKUP(DG$3,Mileages!$C$3:$P$38,10,),0)","v":{"$error":"#N/A"}},{"$f":"DF114*DE114","v":{"$error":"#N/A"}},null,{"$f":"IFERROR(VLOOKUP(DK$3,'District Bids'!$C$5:$CU$511,70,0),\"\")","v":""},{"$f":"IF(DK107>1,VLOOKUP(DK$3,Mileages!$C$3:$P$38,10,),0)","v":{"$error":"#N/A"}},{"$f":"DJ114*DI114","v":{"$error":"#N/A"}},null,{"$f":"IFERROR(VLOOKUP(DO$3,'District Bids'!$C$5:$CU$511,70,0),\"\")","v":""},{"$f":"IF(DO107>1,VLOOKUP(DO$3,Mileages!$C$3:$P$38,10,),0)","v":{"$error":"#N/A"}},{"$f":"DN114*DM114","v":{"$error":"#N/A"}},null,{"$f":"IFERROR(VLOOKUP(DS$3,'District Bids'!$C$5:$CU$511,70,0),\"\")","v":""},{"$f":"IF(DS107>1,VLOOKUP(DS$3,Mileages!$C$3:$P$38,10,),0)","v":{"$error":"#N/A"}},{"$f":"DR114*DQ114","v":{"$error":"#N/A"}},null,{"$f":"IFERROR(VLOOKUP(DW$3,'District Bids'!$C$5:$CU$511,70,0),\"\")","v":""},{"$f":"IF(DW107>1,VLOOKUP(DW$3,Mileages!$C$3:$P$38,10,),0)","v":{"$error":"#N/A"}},{"$f":"DV114*DU114","v":{"$error":"#N/A"}},null,{"$f":"IFERROR(VLOOKUP(EA$3,'District Bids'!$C$5:$CU$511,70,0),\"\")","v":""},{"$f":"IF(EA107>1,VLOOKUP(EA$3,Mileages!$C$3:$P$38,10,),0)","v":{"$error":"#N/A"}},{"$f":"DZ114*DY114","v":{"$error":"#N/A"}}]

{"sheet":"Order Summary","index":8,"n_rows":72,"n_cols":23,"rows_kept":72,"cut":false,"hidden":false,"merged":[[6,14,6,15]]}
["Manual Override Selection:"]
["Override",{"$f":"IF(E1=\"\",\"No\",\"Yes\")","v":"No"},null,null,null,null,null,null,null,null,null,null,"Milage"]
[null,null,null,null,null,null,"Asphalt:",{"$f":"IF($E$1=\"\",'Vendor Totals'!$C2,HLOOKUP('Order Summary'!$E$1,'Vendor Totals'!$E$2:$DZ$5,3,0))","v":{"$error":"#N/A"}}]
["Agency Release No.",null,{"$f":"'Order Details'!B19","v":12345},null,null,null,"Location:",{"$f":"IF($E$1=\"\",'Vendor Totals'!$C3,VLOOKUP($H$7,Mileages!$C$3:$P$38,5,0))","v":{"$error":"#N/A"}},null,null,null,null,{"$f":"VLOOKUP($H$7,Mileages!$C$3:$P$15,7,FALSE)","v":{"$error":"#N/A"}}]
["Project Type:",null,{"$f":"'Order Details'!B17","v":"pave"},null,null,null,"Stone",{"$f":"IF($E$1=\"\",'Vendor Totals'!$C4,HLOOKUP('Order Summary'!$E$1,'Vendor Totals'!$E$2:$DZ$5,4,0))","v":{"$error":"#N/A"}}]
["Description:",null,{"$f":"'Order Details'!B18","v":"paving roads"},null,null,null,"Location:",{"$f":"IF($E$1=\"\",'Vendor Totals'!$C5,VLOOKUP($H$7,Mileages!$C$3:$P$38,12,0))","v":{"$error":"#N/A"}},null,null,null,null,{"$f":"VLOOKUP($H$7,Mileages!$C$3:$P$15,13,FALSE)","v":{"$error":"#N/A"}}]
["Project #",null,{"$f":"'Order Details'!B20","v":111111111},null,null,null,"PID",{"$f":"IF(E1=\"\",'Vendor Totals'!B3,HLOOKUP('Order Summary'!E1,'Vendor Totals'!E2:DZ3,2,0))","v":{"$error":"#N/A"}},null,null,null,null,null,"TOTAL",{"$f":"SUM(K11:K53,W11:W63,M67:M72)","v":{"$error":"#N/A"}}]
["Authorization #",null,{"$f":"'Order Details'!B21","v":22222222}]
[]
["Item","Description",null,null,null,null,null,"Quantity","Unit $","Adjusted","Total",null,"Item","Description",null,null,null,null,null,"Quantity","Unit $","Adjusted","Total"]
[1,"Asphalt Section 401 - Base I",null,null,null,null,null,{"$f":"'Order Details'!J7","v":0},{"$f":"VLOOKUP($H$7,'District Bids'!$C$5:$CU$511,7,0)","v":{"$error":"#N/A"}},{"$f":"IFERROR(H11*'Complicated Price Adjustment'!$E32,\"\")","v":0},{"$f":"IFERROR(I11*H11+(H11*'Complicated Price Adjustment'!$E32),\"\")","v":""},null,48,"Additional Heel-In Joints",null,null,null,null,null,{"$f":"'Order Details'!O7","v":0},{"$f":"VLOOKUP($H$7,'District Bids'!$C$5:$CU$511,54,0)","v":{"$error":"#N/A"}},null,{"$f":"U11*T11","v":{"$error":"#N/A"}}]
[2,"Asphalt Section 401 - 25mm Superpave",null,null,null,null,null,{"$f":"'Order Details'!J8","v":0},{"$f":"VLOOKUP($H$7,'District Bids'!$C$5:$CU$511,8,0)","v":{"$error":"#N/A"}},{"$f":"IFERROR(H12*'Complicated Price Adjustment'!$E33,\"\")","v":0},{"$f":"IFERROR(I12*H12+(H12*'Complicated Price Adjustment'!$E33),\"\")","v":""},null,49,"Skip Paving Surcharge",null,null,null,null,null,{"$f":"'Order Details'!O8","v":0},{"$f":"VLOOKUP($H$7,'District Bids'!$C$5:$CU$511,55,0)","v":{"$error":"#N/A"}},null,{"$f":"U12*T12","v":{"$error":"#N/A"}}]
[3,"Asphalt Section 401 - Base II",null,null,null,null,null,{"$f":"'Order Details'!J9","v":0},{"$f":"VLOOKUP($H$7,'District Bids'!$C$5:$CU$511,9,0)","v":{"$error":"#N/A"}},{"$f":"IFERROR(H13*'Complicated Price Adjustment'!$E34,\"\")","v":0},{"$f":"IFERROR(I13*H13+(H13*'Complicated Price Adjustment'!$E34),\"\")","v":""},null,50,"Pavement Profiling/Milling-WVDOH Owns Millings 0 to 250 ",null,null,null,null,null,{"$f":"'Order Details'!O9","v":0},{"$f":"VLOOKUP($H$7,'District Bids'!$C$5:$CU$511,56,0)","v":{"$error":"#N/A"}},null,{"$error":"#N/A"}]
[4,"Asphalt Section 401 - Patch and Level",null,null,null,null,null,{"$f":"'Order Details'!J10","v":0},{"$f":"VLOOKUP($H$7,'District Bids'!$C$5:$CU$511,10,0)","v":{"$error":"#N/A"}},{"$f":"IFERROR(H14*'Complicated Price Adjustment'!$E35,\"\")","v":0},{"$f":"IFERROR(I14*H14+(H14*'Complicated Price Adjustment'!$E35),\"\")","v":""},null,51,"Pavement Profiling/Milling-WVDOH Owns Millings 251 to 500 ",null,null,null,null,null,{"$f":"'Order Details'!O10","v":0},{"$f":"VLOOKUP($H$7,'District Bids'!$C$5:$CU$511,57,0)","v":{"$error":"#N/A"}},null,{"$error":"#N/A"}]
[5,"Asphalt Section 401 - Wearing IV",null,null,null,null,null,{"$f":"'Order Details'!J11","v":0},{"$f":"VLOOKUP($H$7,'District Bids'!$C$5:$CU$511,11,0)","v":{"$error":"#N/A"}},{"$f":"IFERROR(H15*'Complicated Price Adjustment'!$E36,\"\")","v":0},{"$f":"IFERROR(I15*H15+(H15*'Complicated Price Adjustment'!$E36),\"\")","v":""},null,52,"Pavement Profiling/Milling-WVDOH Owns Millings 501 to 1000 ",null,null,null,null,null,{"$f":"'Order Details'!O11","v":0},{"$f":"VLOOKUP($H$7,'District Bids'!$C$5:$CU$511,58,0)","v":{"$error":"#N/A"}},null,{"$error":"#N/A"}]
[6,"Asphalt Section 402 - Wearing IV",null,null,null,null,null,{"$f":"'Order Details'!J12","v":0},{"$f":"VLOOKUP($H$7,'District Bids'!$C$5:$CU$511,12,0)","v":{"$error":"#N/A"}},{"$f":"IFERROR(H16*'Complicated Price Adjustment'!$E37,\"\")","v":0},{"$f":"IFERROR(I16*H16+(H16*'Complicated Price Adjustment'!$E37),\"\")","v":""},null,53,"Pavement Profiling/Milling-WVDOH Owns Millings 1001 to 2500 ",null,null,null,null,null,{"$f":"'Order Details'!O12","v":0},{"$f":"VLOOKUP($H$7,'District Bids'!$C$5:$CU$511,59,0)","v":{"$error":"#N/A"}},null,{"$error":"#N/A"}]
[7,"Asphalt Section 401 - 19mm Superpave",null,null,null,null,null,{"$f":"'Order Details'!J13","v":0},{"$f":"VLOOKUP($H$7,'District Bids'!$C$5:$CU$511,13,0)","v":{"$error":"#N/A"}},{"$f":"IFERROR(H17*'Complicated Price Adjustment'!$E38,\"\")","v":0},{"$f":"IFERROR(I17*H17+(H17*'Complicated Price Adjustment'!$E38),\"\")","v":""},null,54,"Pavement Profiling/Milling-WVDOH Owns Millings 2501 to 5000 ",null,null,null,null,null,{"$f":"'Order Details'!O13","v":0},{"$f":"VLOOKUP($H$7,'District Bids'!$C$5:$CU$511,60,0)","v":{"$error":"#N/A"}},null,{"$error":"#N/A"}]
[8,"Asphalt Section 401 - Scratch Course",null,null,null,null,null,{"$f":"'Order Details'!J14","v":0},{"$f":"VLOOKUP($H$7,'District Bids'!$C$5:$CU$511,14,0)","v":{"$error":"#N/A"}},{"$f":"IFERROR(H18*'Complicated Price Adjustment'!$E39,\"\")","v":0},{"$f":"IFERROR(I18*H18+(H18*'Complicated Price Adjustment'!$E39),\"\")","v":""},null,55,"Pavement Profiling/Milling-WVDOH Owns Millings 5001+ ",null,null,null,null,null,{"$f":"'Order Details'!O14","v":0},{"$f":"VLOOKUP($H$7,'District Bids'!$C$5:$CU$511,61,0)","v":{"$error":"#N/A"}},null,{"$error":"#N/A"}]
[9,"Asphalt Section 402 - 9.5mm Superpave",null,null,null,null,null,{"$f":"'Order Details'!J15","v":0},{"$f":"VLOOKUP($H$7,'District Bids'!$C$5:$CU$511,15,0)","v":{"$error":"#N/A"}},{"$f":"IFERROR(H19*'Complicated Price Adjustment'!$E40,\"\")","v":0},{"$f":"IFERROR(I19*H19+(H19*'Complicated Price Adjustment'!$E40),\"\")","v":""},null,56,"Pavement Profiling/Milling-Vendor Owns Millings 0 to 250 ",null,null,null,null,null,{"$f":"'Order Details'!O15","v":0},{"$f":"VLOOKUP($H$7,'District Bids'!$C$5:$CU$511,62,0)","v":{"$error":"#N/A"}},null,{"$f":"U19*T19*'Order Details'!$B$32","v":{"$error":"#N/A"}}]
[10,"Asphalt Section 401 - Wearing 1",null,null,null,null,null,{"$f":"'Order Details'!J16","v":0},{"$f":"VLOOKUP($H$7,'District Bids'!$C$5:$CU$511,16,0)","v":{"$error":"#N/A"}},{"$f":"IFERROR(H20*'Complicated Price Adjustment'!$E41,\"\")","v":0},{"$f":"IFERROR(I20*H20+(H20*'Complicated Price Adjustment'!$E41),\"\")","v":""},null,57,"Pavement Profiling/Milling-Vendor Owns Millings 251 to 500 ",null,null,null,null,null,{"$f":"'Order Details'!O16","v":0},{"$f":"VLOOKUP($H$7,'District Bids'!$C$5:$CU$511,63,0)","v":{"$error":"#N/A"}},null,{"$f":"U20*T20*'Order Details'!$B$32","v":{"$error":"#N/A"}}]
[11,"Asphalt Section 402 - Wearing 1",null,null,null,null,null,{"$f":"'Order Details'!J17","v":0},{"$f":"VLOOKUP($H$7,'District Bids'!$C$5:$CU$511,17,0)","v":{"$error":"#N/A"}},{"$f":"IFERROR(H21*'Complicated Price Adjustment'!$E42,\"\")","v":0},{"$f":"IFERROR(I21*H21+(H21*'Complicated Price Adjustment'!$E42),\"\")","v":""},null,58,"Pavement Profiling/Milling-Vendor Owns Millings 501 to 1000 ",null,null,null,null,null,{"$f":"'Order Details'!O17","v":0},{"$f":"VLOOKUP($H$7,'District Bids'!$C$5:$CU$511,64,0)","v":{"$error":"#N/A"}},null,{"$f":"U21*T21*'Order Details'!$B$32","v":{"$error":"#N/A"}}]
[12,"Asphalt Section 401 - 4.75mm Superpave",null,null,null,null,null,{"$f":"'Order Details'!J18","v":0},{"$f":"VLOOKUP($H$7,'District Bids'!$C$5:$CU$511,18,0)","v":{"$error":"#N/A"}},{"$f":"IFERROR(H22*'Complicated Price Adjustment'!$E43,\"\")","v":0},{"$f":"IFERROR(I22*H22+(H22*'Complicated Price Adjustment'!$E43),\"\")","v":""},null,59,"Pavement Profiling/Milling-Vendor Owns Millings 1001 to 2500 ",null,null,null,null,null,{"$f":"'Order Details'!O18","v":0},{"$f":"VLOOKUP($H$7,'District Bids'!$C$5:$CU$511,65,0)","v":{"$error":"#N/A"}},null,{"$f":"U22*T22*'Order Details'!$B$32","v":{"$error":"#N/A"}}]
[13,"Asphalt Section 402 - 4.75mm Superpave",null,null,null,null,null,{"$f":"'Order Details'!J19","v":0},{"$f":"VLOOKUP($H$7,'District Bids'!$C$5:$CU$511,19,0)","v":{"$error":"#N/A"}},{"$f":"IFERROR(H23*'Complicated Price Adjustment'!$E44,\"\")","v":0},{"$f":"IFERROR(I23*H23+(H23*'Complicated Price Adjustment'!$E44),\"\")","v":""},null,60,"Pavement Profiling/Milling-Vendor Owns Millings 2501 to 5000 ",null,null,null,null,null,{"$f":"'Order Details'!O19","v":0},{"$f":"VLOOKUP($H$7,'District Bids'!$C$5:$CU$511,66,0)","v":{"$error":"#N/A"}},null,{"$f":"U23*T23*'Order Details'!$B$32","v":{"$error":"#N/A"}}]
[14,"Asphalt Section 401 - Wearing III",null,null,null,null,null,{"$f":"'Order Details'!J20","v":0},{"$f":"VLOOKUP($H$7,'District Bids'!$C$5:$CU$511,20,0)","v":{"$error":"#N/A"}},{"$f":"IFERROR(H24*'Complicated Price Adjustment'!$E45,\"\")","v":0},{"$f":"IFERROR(I24*H24+(H24*'Complicated Price Adjustment'!$E45),\"\")","v":""},null,61,"Pavement Profiling/Milling-Vendor Owns Millings 5001+  ",null,null,null,null,null,{"$f":"'Order Details'!O20","v":0},{"$f":"VLOOKUP($H$7,'District Bids'!$C$5:$CU$511,67,0)","v":{"$error":"#N/A"}},null,{"$f":"U24*T24*'Order Details'!$B$32","v":{"$error":"#N/A"}}]
[15,"Asphalt Section 402 - Wearing III",null,null,null,null,null,{"$f":"'Order Details'!J21","v":0},{"$f":"VLOOKUP($H$7,'District Bids'!$C$5:$CU$511,21,0)","v":{"$error":"#N/A"}},{"$f":"IFERROR(H25*'Complicated Price Adjustment'!$E46,\"\")","v":0},{"$f":"IFERROR(I25*H25+(H25*'Complicated Price Adjustment'!$E46),\"\")","v":""},null,62,"Mobilization - Pavement Profiling/Milling ",null,null,null,null,null,{"$f":"'Order Details'!O21","v":0},{"$f":"VLOOKUP($H$7,'District Bids'!$C$5:$CU$511,68,0)","v":{"$error":"#N/A"}},null,{"$error":"#N/A"}]
[16,"Asphalt Section 401 - 12.5mm Superpave",null,null,null,null,null,{"$f":"'Order Details'!J22","v":0},{"$f":"VLOOKUP($H$7,'District Bids'!$C$5:$CU$511,22,0)","v":{"$error":"#N/A"}},{"$f":"IFERROR(H26*'Complicated Price Adjustment'!$E47,\"\")","v":0},{"$f":"IFERROR(I26*H26+(H26*'Complicated Price Adjustment'!$E47),\"\")","v":""},null,65,"Pavement Repair - Asphalt Base II",null,null,null,null,null,{"$f":"'Order Details'!O22","v":0},{"$f":"VLOOKUP($H$7,'District Bids'!$C$5:$CU$511,71,0)","v":{"$error":"#N/A"}},null,{"$error":"#N/A"}]
[17,"Asphalt Section 402 - 12.5mm Superpave",null,null,null,null,null,{"$f":"'Order Details'!J23","v":0},{"$f":"VLOOKUP($H$7,'District Bids'!$C$5:$CU$511,23,0)","v":{"$error":"#N/A"}},{"$f":"IFERROR(H27*'Complicated Price Adjustment'!$E48,\"\")","v":0},{"$f":"IFERROR(I27*H27+(H27*'Complicated Price Adjustment'!$E48),\"\")","v":""},null,66,"Asphalt HPTO - SP496 - PG 64E-22 ordered 400 Ton increments",null,null,null,null,null,{"$f":"'Order Details'!O23","v":0},{"$f":"VLOOKUP($H$7,'District Bids'!$C$5:$CU$511,72,0)","v":{"$error":"#N/A"}},{"$f":"IFERROR(T27*'Complicated Price Adjustment'!$E49,\"\")","v":0},{"$f":"IFERROR(U27*T27+(T27*'Complicated Price Adjustment'!$E49),\"\")","v":""}]
[18,"Shoulder Stone Placement for Asphalt Section 307 - Class 10",null,null,null,null,null,{"$f":"'Order Details'!J24","v":0},{"$f":"VLOOKUP($H$7,'District Bids'!$C$5:$CU$511,24,0)","v":{"$error":"#N/A"}},{"$f":"IFERROR(H28*'Complicated Price Adjustment'!$L32,\"\")","v":0},{"$f":"IFERROR(I28*H28+(H28*'Complicated Price Adjustment'!$L32),\"\")","v":""},null,67,"Non-Tracking Tack - to be used with #65",null,null,null,null,null,{"$f":"'Order Details'!O24","v":0},{"$f":"VLOOKUP($H$7,'District Bids'!$C$5:$CU$511,73,0)","v":{"$error":"#N/A"}},null,{"$f":"U28*T28","v":{"$error":"#N/A"}}]
[19,"Shoulder Stone Mobilization ",null,null,null,null,null,{"$f":"'Order Details'!J25","v":0},{"$f":"VLOOKUP($H$7,'District Bids'!$C$5:$CU$511,25,0)","v":{"$error":"#N/A"}},null,{"$f":"I29*H29","v":{"$error":"#N/A"}},null,68,"Lay Down of Materials - to be used with #65 - 400+ ",null,null,null,null,null,{"$f":"'Order Details'!O25","v":0},{"$f":"VLOOKUP($H$7,'District Bids'!$C$5:$CU$511,74,0)","v":{"$error":"#N/A"}},null,{"$f":"U29*T29","v":{"$error":"#N/A"}}]
[22,"Surcharge for PG Binder 58-28S",null,null,null,null,null,{"$f":"'Order Details'!J26","v":0},{"$f":"VLOOKUP($H$7,'District Bids'!$C$5:$CU$511,28,0)","v":{"$error":"#N/A"}},null,{"$f":"I30*H30","v":{"$error":"#N/A"}},null,69,"Ultra-Thin Asphalt Overlay - SP498",null,null,null,null,null,{"$f":"'Order Details'!O26","v":0},{"$f":"VLOOKUP($H$7,'District Bids'!$C$5:$CU$511,75,0)","v":{"$error":"#N/A"}},{"$f":"IFERROR(T30*'Complicated Price Adjustment'!E50,\"\")","v":0},{"$f":"IFERROR(U30*T30+(T30*'Complicated Price Adjustment'!E50),\"\")","v":""}]
[23,"Surcharge for PG Binder - 64H - 22",null,null,null,null,null,{"$f":"'Order Details'!J27","v":0},{"$f":"VLOOKUP($H$7,'District Bids'!$C$5:$CU$511,29,0)","v":{"$error":"#N/A"}},null,{"$error":"#N/A"},null,70,"Fine Milling -WVDOH Owns Millings 0 to 250 ",null,null,null,null,null,{"$f":"'Order Details'!O27","v":0},{"$f":"VLOOKUP($H$7,'District Bids'!$C$5:$CU$511,76,0)","v":{"$error":"#N/A"}},null,{"$f":"U31*T31","v":{"$error":"#N/A"}}]
[24,"Surcharge for PG Binder 64E - 22 ordered in 400 Ton increments",null,null,null,null,null,{"$f":"'Order Details'!J28","v":0},{"$f":"VLOOKUP($H$7,'District Bids'!$C$5:$CU$511,30,0)","v":{"$error":"#N/A"}},null,{"$error":"#N/A"},null,71,"Fine Milling -WVDOH Owns Millings 251 to 500 ",null,null,null,null,null,{"$f":"'Order Details'!O28","v":0},{"$f":"VLOOKUP($H$7,'District Bids'!$C$5:$CU$511,77,0)","v":{"$error":"#N/A"}},null,{"$f":"U32*T32","v":{"$error":"#N/A"}}]
[25,"ESAL Surcharge - 3 million to 20 million ESALs ",null,null,null,null,null,{"$f":"'Order Details'!J29","v":0},{"$f":"VLOOKUP($H$7,'District Bids'!$C$5:$CU$511,31,0)","v":{"$error":"#N/A"}},null,{"$error":"#N/A"},null,72,"Fine Milling -WVDOH Owns Millings 501 to 1000 ",null,null,null,null,null,{"$f":"'Order Details'!O29","v":0},{"$f":"VLOOKUP($H$7,'District Bids'!$C$5:$CU$511,78,0)","v":{"$error":"#N/A"}},null,{"$error":"#N/A"}]
[26,"ESAL Surcharge - Greater than 20 million ESALs ",null,null,null,null,null,{"$f":"'Order Details'!J30","v":0},{"$f":"VLOOKUP($H$7,'District Bids'!$C$5:$CU$511,32,0)","v":{"$error":"#N/A"}},null,{"$error":"#N/A"},null,73,"Fine Milling -WVDOH Owns Millings 1001 to 2500 ",null,null,null,null,null,{"$f":"'Order Details'!O30","v":0},{"$f":"VLOOKUP($H$7,'District Bids'!$C$5:$CU$511,79,0)","v":{"$error":"#N/A"}},null,{"$error":"#N/A"}]
[29,"Laydown of Materials. Items #1-17 and #67, Each Site 0-100",null,null,null,null,null,{"$f":"'Order Details'!J31","v":0},{"$f":"VLOOKUP($H$7,'District Bids'!$C$5:$CU$511,35,0)","v":{"$error":"#N/A"}},{"$f":"IFERROR(H35*'Complicated Price Adjustment'!L28,\"\")","v":0},{"$f":"IFERROR(I35*H35+(H35*'Complicated Price Adjustment'!L28),\"\")","v":""},null,74,"Fine Milling -WVDOH Owns Millings 2501 to 5000 ",null,null,null,null,null,{"$f":"'Order Details'!O31","v":0},{"$f":"VLOOKUP($H$7,'District Bids'!$C$5:$CU$511,80,0)","v":{"$error":"#N/A"}},null,{"$error":"#N/A"}]
[30,"Laydown of Materials. Items #1-17 and #67, Each Site 101 to 200 ",null,null,null,null,null,{"$f":"'Order Details'!J32","v":0},{"$f":"VLOOKUP($H$7,'District Bids'!$C$5:$CU$511,36,0)","v":{"$error":"#N/A"}},{"$f":"IFERROR(H36*'Complicated Price Adjustment'!L29,\"\")","v":0},{"$f":"IFERROR(I36*H36+(H36*'Complicated Price Adjustment'!L29),\"\")","v":""},null,75,"Fine Milling -WVDOH Owns Millings 5001+ ",null,null,null,null,null,{"$f":"'Order Details'!O32","v":0},{"$f":"VLOOKUP($H$7,'District Bids'!$C$5:$CU$511,81,0)","v":{"$error":"#N/A"}},null,{"$error":"#N/A"}]
[31,"Laydown of Materials. Items #1-17 and #67, Each Site 201 to 500 ",null,null,null,null,null,{"$f":"'Order Details'!J33","v":0},{"$f":"VLOOKUP($H$7,'District Bids'!$C$5:$CU$511,37,0)","v":{"$error":"#N/A"}},{"$f":"IFERROR(H37*'Complicated Price Adjustment'!L30,\"\")","v":0},{"$f":"IFERROR(I37*H37+(H37*'Complicated Price Adjustment'!L30),\"\")","v":""},null,76,"Fine Milling- Vendor Owns Millings 0 to 250 ",null,null,null,null,null,{"$f":"'Order Details'!O33","v":0},{"$f":"VLOOKUP($H$7,'District Bids'!$C$5:$CU$511,82,0)","v":{"$error":"#N/A"}},null,{"$error":"#N/A"}]
[32,"Laydown of Materials. Items #1-17 and #67, Each Site 501+ ",null,null,null,null,null,{"$f":"'Order Details'!J34","v":0},{"$f":"VLOOKUP($H$7,'District Bids'!$C$5:$CU$511,38,0)","v":{"$error":"#N/A"}},{"$f":"IFERROR(H38*'Complicated Price Adjustment'!L31,\"\")","v":0},{"$f":"IFERROR(I38*H38+(H38*'Complicated Price Adjustment'!L31),\"\")","v":""},null,77,"Fine Milling- Vendor Owns Millings 251 to 500 ",null,null,null,null,null,{"$f":"'Order Details'!O34","v":0},{"$f":"VLOOKUP($H$7,'District Bids'!$C$5:$CU$511,83,0)","v":{"$error":"#N/A"}},null,{"$error":"#N/A"}]
[33,"Mobilization - Daytime Paving ",null,null,null,null,null,{"$f":"'Order Details'!J35","v":0},{"$f":"VLOOKUP($H$7,'District Bids'!$C$5:$CU$511,39,0)","v":{"$error":"#N/A"}},null,{"$f":"I39*H39","v":{"$error":"#N/A"}},null,78,"Fine Milling- Vendor Owns Millings 501 to 1000 ",null,null,null,null,null,{"$f":"'Order Details'!O35","v":0},{"$f":"VLOOKUP($H$7,'District Bids'!$C$5:$CU$511,84,0)","v":{"$error":"#N/A"}},null,{"$error":"#N/A"}]
[34,"Mobilization - Nighttime Paving ",null,null,null,null,null,{"$f":"'Order Details'!J36","v":0},{"$f":"VLOOKUP($H$7,'District Bids'!$C$5:$CU$511,40,0)","v":{"$error":"#N/A"}},null,{"$f":"I40*H40","v":{"$error":"#N/A"}},null,79,"Fine Milling- Vendor Owns Millings 1001 to 2500 ",null,null,null,null,null,{"$f":"'Order Details'!O36","v":0},{"$f":"VLOOKUP($H$7,'District Bids'!$C$5:$CU$511,85,0)","v":{"$error":"#N/A"}},null,{"$error":"#N/A"}]
[35,"Excavation for Shoulder Paving - 0 to 1000 ",null,null,null,null,null,{"$f":"'Order Details'!J37","v":0},{"$f":"VLOOKUP($H$7,'District Bids'!$C$5:$CU$511,41,0)","v":{"$error":"#N/A"}},{"$f":"IFERROR(H41*'Complicated Price Adjustment'!$L35,\"\")","v":0},{"$f":"IFERROR(I41*H41*'Order Details'!$B$31+(H41*'Complicated Price Adjustment'!$L35*'Order Details'!$B$31),\"\")","v":""},null,80,"Fine Milling- Vendor Owns Millings 2501 to 5000 ",null,null,null,null,null,{"$f":"'Order Details'!O37","v":0},{"$f":"VLOOKUP($H$7,'District Bids'!$C$5:$CU$511,86,0)","v":{"$error":"#N/A"}},null,{"$error":"#N/A"}]
[36,"Excavation for Shoulder Paving - 1001 to 2000 ",null,null,null,null,null,{"$f":"'Order Details'!J38","v":0},{"$f":"VLOOKUP($H$7,'District Bids'!$C$5:$CU$511,42,0)","v":{"$error":"#N/A"}},{"$f":"IFERROR(H42*'Complicated Price Adjustment'!$L36,\"\")","v":0},{"$f":"IFERROR(I42*H42*'Order Details'!$B$31+(H42*'Complicated Price Adjustment'!$L36*'Order Details'!$B$31),\"\")","v":""},null,81,"Fine Milling- Vendor Owns Millings 5001+ ",null,null,null,null,null,{"$f":"'Order Details'!O38","v":0},{"$f":"VLOOKUP($H$7,'District Bids'!$C$5:$CU$511,87,0)","v":{"$error":"#N/A"}},null,{"$error":"#N/A"}]
[37,"Excavation for Shoulder Paving - 2001 to 3000 ",null,null,null,null,null,{"$f":"'Order Details'!J39","v":0},{"$f":"VLOOKUP($H$7,'District Bids'!$C$5:$CU$511,43,0)","v":{"$error":"#N/A"}},{"$f":"IFERROR(H43*'Complicated Price Adjustment'!$L37,\"\")","v":0},{"$f":"IFERROR(I43*H43*'Order Details'!$B$31+(H43*'Complicated Price Adjustment'!$L37*'Order Details'!$B$31),\"\")","v":""},null,82,"Milled Rumble Strips",null,null,null,null,null,{"$f":"'Order Details'!O39","v":0},{"$f":"VLOOKUP($H$7,'District Bids'!$C$5:$CU$511,88,0)","v":{"$error":"#N/A"}},null,{"$error":"#N/A"}]
[38,"Excavation for Shoulder Paving - 3001+ ",null,null,null,null,null,{"$f":"'Order Details'!J40","v":0},{"$f":"VLOOKUP($H$7,'District Bids'!$C$5:$CU$511,44,0)","v":{"$error":"#N/A"}},{"$f":"IFERROR(H44*'Complicated Price Adjustment'!$L38,\"\")","v":0},{"$f":"IFERROR(I44*H44*'Order Details'!$B$31+(H44*'Complicated Price Adjustment'!$L38*'Order Details'!$B$31),\"\")","v":""},null,83,"Mobilization - Milled Rumble Strips ",null,null,null,null,null,{"$f":"'Order Details'!O40","v":0},{"$f":"VLOOKUP($H$7,'District Bids'!$C$5:$CU$511,89,0)","v":{"$error":"#N/A"}},null,{"$error":"#N/A"}]
[39,"Asphalt Base I Shoulder Paving Surcharge - 0 to 100 ",null,null,null,null,null,{"$f":"'Order Details'!J41","v":0},{"$f":"VLOOKUP($H$7,'District Bids'!$C$5:$CU$511,45,0)","v":{"$error":"#N/A"}},null,{"$f":"I45*H45","v":{"$error":"#N/A"}},null,84,"Surcharge for Parking Lot and Facility Paving ",null,null,null,null,null,{"$f":"'Order Details'!O41","v":0},{"$f":"VLOOKUP($H$7,'District Bids'!$C$5:$CU$511,90,0)","v":{"$error":"#N/A"}},null,{"$error":"#N/A"}]
[40,"Asphalt Base I Shoulder Paving Surcharge - 101 to 200 ",null,null,null,null,null,{"$f":"'Order Details'!J42","v":0},{"$f":"VLOOKUP($H$7,'District Bids'!$C$5:$CU$511,46,0)","v":{"$error":"#N/A"}},null,{"$f":"I46*H46","v":{"$error":"#N/A"}},null,85,"Cleaning and Sweeping",null,null,null,null,null,{"$f":"'Order Details'!O42","v":0},{"$f":"VLOOKUP($H$7,'District Bids'!$C$5:$CU$511,91,0)","v":{"$error":"#N/A"}},null,{"$error":"#N/A"}]
[41,"Asphalt Base I Shoulder Paving Surcharge - 201 to 500 ",null,null,null,null,null,{"$f":"'Order Details'!J43","v":0},{"$f":"VLOOKUP($H$7,'District Bids'!$C$5:$CU$511,47,0)","v":{"$error":"#N/A"}},null,{"$error":"#N/A"},null,86,"Maintaining Traffic - Pilot Truck and Driver",null,null,null,null,null,{"$f":"'Order Details'!O43","v":0},{"$f":"VLOOKUP($H$7,'District Bids'!$C$5:$CU$511,92,0)","v":{"$error":"#N/A"}},null,{"$error":"#N/A"}]
[42,"Asphalt Base I Shoulder Paving Surcharge - 501+ ",null,null,null,null,null,{"$f":"'Order Details'!J44","v":0},{"$f":"VLOOKUP($H$7,'District Bids'!$C$5:$CU$511,48,0)","v":{"$error":"#N/A"}},null,{"$error":"#N/A"},null,87,"Maintaining Traffic - Traffic Control Devices",null,null,null,null,null,{"$f":"'Order Details'!O44","v":0},{"$f":"VLOOKUP($H$7,'District Bids'!$C$5:$CU$511,93,0)","v":{"$error":"#N/A"}},null,{"$error":"#N/A"}]
[43,"Asphalt Base II Shoulder Paving Surcharge - 0 to 100 ",null,null,null,null,null,{"$f":"'Order Details'!J45","v":0},{"$f":"VLOOKUP($H$7,'District Bids'!$C$5:$CU$511,49,0)","v":{"$error":"#N/A"}},null,{"$error":"#N/A"},null,88,"Maintaining Traffic - Flagger",null,null,null,null,null,{"$f":"'Order Details'!O45","v":0},{"$f":"VLOOKUP($H$7,'District Bids'!$C$5:$CU$511,94,0)","v":{"$error":"#N/A"}},null,{"$error":"#N/A"}]
[44,"Asphalt Base II Shoulder Paving Surcharge - 101 to 200 ",null,null,null,null,null,{"$f":"'Order Details'!J46","v":0},{"$f":"VLOOKUP($H$7,'District Bids'!$C$5:$CU$511,50,0)","v":{"$error":"#N/A"}},null,{"$error":"#N/A"},null,89,"Maintaining Traffic - Arrow Board",null,null,null,null,null,{"$f":"'Order Details'!O46","v":0},{"$f":"VLOOKUP($H$7,'District Bids'!$C$5:$CU$511,95,0)","v":{"$error":"#N/A"}},null,{"$error":"#N/A"}]
[45,"Asphalt Base II Shoulder Paving Surcharge - 201 to 500 ",null,null,null,null,null,{"$f":"'Order Details'!J47","v":0},{"$f":"VLOOKUP($H$7,'District Bids'!$C$5:$CU$511,51,0)","v":{"$error":"#N/A"}},null,{"$error":"#N/A"},null,90,"Off-Season Plant Opening - First Day",null,null,null,null,null,{"$f":"'Order Details'!O47","v":0},{"$f":"VLOOKUP($H$7,'District Bids'!$C$5:$CU$511,96,0)","v":{"$error":"#N/A"}},null,{"$error":"#N/A"}]
[46,"Asphalt Base II Shoulder Paving Surcharge - 501+ ",null,null,null,null,null,{"$f":"'Order Details'!J48","v":0},{"$f":"VLOOKUP($H$7,'District Bids'!$C$5:$CU$511,52,0)","v":{"$error":"#N/A"}},null,{"$error":"#N/A"},null,91,"Off-Season Plant Opening - Each Additional Day",null,null,null,null,null,{"$f":"'Order Details'!O48","v":0},{"$f":"VLOOKUP($H$7,'District Bids'!$C$5:$CU$511,97,0)","v":{"$error":"#N/A"}},null,{"$error":"#N/A"}]
[47,"Asphalt Material for Tack Coat or Prime Material",null,null,null,null,null,{"$f":"'Order Details'!J49","v":0},{"$f":"VLOOKUP($H$7,'District Bids'!$C$5:$CU$511,53,0)","v":{"$error":"#N/A"}},null,{"$error":"#N/A"},null,92,"Raised Pavement Marker (RPM), Type P-2 with Installation",null,null,null,null,null,{"$f":"'Order Details'!O49","v":0},{"$f":"VLOOKUP($H$7,'District Bids'!$C$5:$DF$511,98,0)","v":{"$error":"#N/A"}},null,{"$f":"U53*T53","v":{"$error":"#N/A"}}]
[null,null,null,null,null,null,null,null,null,null,null,null,93,"Raised Pavement Marker (RPM), Type R-4 with Installation",null,null,null,null,null,{"$f":"'Order Details'!O50","v":0},{"$f":"VLOOKUP($H$7,'District Bids'!$C$5:$DF$511,99,0)","v":{"$error":"#N/A"}},null,{"$error":"#N/A"}]
[null,null,null,null,null,null,null,null,null,null,null,null,94,"Mobilization - RPM Installation",null,null,null,null,null,{"$f":"'Order Details'!O51","v":0},{"$f":"VLOOKUP($H$7,'District Bids'!$C$5:$DF$511,100,0)","v":{"$error":"#N/A"}},null,{"$error":"#N/A"}]
[null,null,null,null,null,null,null,null,null,null,null,null,95,"Raised Pavement Marker (RPM) Removal",null,null,null,null,null,{"$f":"'Order Details'!O52","v":0},{"$f":"VLOOKUP($H$7,'District Bids'!$C$5:$DF$511,101,0)","v":{"$error":"#N/A"}},null,{"$error":"#N/A"}]
[null,null,null,null,null,null,null,null,null,null,null,null,96,"Mobilization - RPM Removal ",null,null,null,null,null,{"$f":"'Order Details'!O53","v":0},{"$f":"VLOOKUP($H$7,'District Bids'!$C$5:$DF$511,102,0)","v":{"$error":"#N/A"}},null,{"$error":"#N/A"}]
[null,null,null,null,null,null,null,null,null,null,null,null,97,"VRAM (Void Reducing Asphalt Membrane) 0-1000 LF",null,null,null,null,null,{"$f":"'Order Details'!O54","v":0},{"$f":"VLOOKUP($H$7,'District Bids'!$C$5:$DF$511,103,0)","v":{"$error":"#N/A"}},null,{"$error":"#N/A"}]
[null,null,null,null,null,null,null,null,null,null,null,null,98,"VRAM (Void Reducing Asphalt Membrane) 1001-2000 LF",null,null,null,null,null,{"$f":"'Order Details'!O55","v":0},{"$f":"VLOOKUP($H$7,'District Bids'!$C$5:$DF$511,104,0)","v":{"$error":"#N/A"}},null,{"$error":"#N/A"}]
[null,null,null,null,null,null,null,null,null,null,null,null,99,"VRAM (Void Reducing Asphalt Membrane) 2001-5,000 LF",null,null,null,null,null,{"$f":"'Order Details'!O56","v":0},{"$f":"VLOOKUP($H$7,'District Bids'!$C$5:$DF$511,105,0)","v":{"$error":"#N/A"}},null,{"$error":"#N/A"}]
[null,null,null,null,null,null,null,null,null,null,null,null,100,"VRAM (Void Reducing Asphalt Membrane) 5,001 LF or greater",null,null,null,null,null,{"$f":"'Order Details'!O57","v":0},{"$f":"VLOOKUP($H$7,'District Bids'!$C$5:$DF$511,106,0)","v":{"$error":"#N/A"}},null,{"$error":"#N/A"}]
[null,null,null,null,null,null,null,null,null,null,null,null,101,"VRAM Preparation, Removal of Center Line",null,null,null,null,null,{"$f":"'Order Details'!O58","v":0},{"$f":"VLOOKUP($H$7,'District Bids'!$C$5:$DF$511,107,0)","v":{"$error":"#N/A"}},null,{"$error":"#N/A"}]
[null,null,null,null,null,null,null,null,null,null,null,null,102,"Mobilization - VRAM ",null,null,null,null,null,{"$f":"'Order Details'!O59","v":0},{"$f":"VLOOKUP($H$7,'District Bids'!$C$5:$DF$511,108,0)","v":{"$error":"#N/A"}},null,{"$f":"U63*T63","v":{"$error":"#N/A"}}]
[]
["Mileages"]
["Item","Description",null,null,null,null,null,"Ton Mile","Base Unit $","Total base","Adjusted Unit $/mile","Total Adjusted","Total"]
[20,"Haul by Vendor Shoulder Stone Placement - First Ton Mile",null,null,null,null,null,{"$f":"'Order Details'!J24","v":0},{"$f":"VLOOKUP($H$7,'District Bids'!$C$5:$CU$510,26,0)","v":{"$error":"#N/A"}},{"$f":"H67*I67","v":{"$error":"#N/A"}},{"$f":"'Complicated Price Adjustment'!L33","v":0},{"$f":"H67*K67","v":0},{"$f":"L67+J67","v":{"$error":"#N/A"}}]
[21,"Haul by Vendor Shoulder Stone Placement - Each Additional Ton Mile",null,null,null,null,null,{"$f":"VLOOKUP(H7,Mileages!C3:P38,14,)","v":{"$error":"#N/A"}},{"$f":"VLOOKUP($H$7,'District Bids'!$C$5:$CU$511,27,0)","v":{"$error":"#N/A"}},{"$error":"#N/A"},{"$f":"'Complicated Price Adjustment'!L34","v":0},{"$f":"H68*K68","v":{"$error":"#N/A"}},{"$error":"#N/A"}]
[27,"Asphalt Haul by Vendor - First Ton Mile",null,null,null,null,null,{"$f":"SUM('Order Details'!$J$7:$J$23,'Order Details'!$O$23,'Order Details'!$O$26)","v":0},{"$f":"VLOOKUP($H$7,'District Bids'!$C$5:$CU$511,33,0)","v":{"$error":"#N/A"}},{"$error":"#N/A"},{"$f":"'Complicated Price Adjustment'!L26","v":0},{"$f":"H69*K69","v":0},{"$error":"#N/A"}]
[28,"Asphalt Haul by Vendor - Each Additional Ton  Mile",null,null,null,null,null,{"$f":"VLOOKUP(H7,Mileages!C3:P38,8,0)","v":{"$error":"#N/A"}},{"$f":"VLOOKUP($H$7,'District Bids'!$C$5:$CU$511,34,0)","v":{"$error":"#N/A"}},{"$error":"#N/A"},{"$f":"'Complicated Price Adjustment'!L27","v":0},{"$f":"K70*H70","v":{"$error":"#N/A"}},{"$error":"#N/A"}]
[63,"Haul of Profiled/Milled Cuttings or Fine Millings, First 10 Miles (Included #49-60 and #69-80)",null,null,null,null,null,{"$f":"'Order Details'!B35","v":0},{"$f":"VLOOKUP($H$7,'District Bids'!$C$5:$CU$511,69,0)","v":{"$error":"#N/A"}},{"$error":"#N/A"},null,null,{"$error":"#N/A"}]
[64,"Haul of Profiled/Milled Cuttings or Fine Millings, Each additional Mile (Above 10 Miles)",null,null,null,null,null,{"$f":"VLOOKUP(H7,Mileages!C3:P38,10,0)","v":{"$error":"#N/A"}},{"$f":"VLOOKUP($H$7,'District Bids'!$C$5:$CU$511,70,0)","v":{"$error":"#N/A"}},{"$f":"H72*I72","v":{"$error":"#N/A"}},null,null,{"$error":"#N/A"}]

{"sheet":"PJ-101","index":9,"n_rows":62,"n_cols":11,"rows_kept":62,"cut":false,"hidden":false,"merged":[[61,3,61,6],[40,1,40,8],[44,3,44,4],[49,1,49,8],[50,1,50,8],[51,1,51,8],[52,1,52,8],[53,1,53,8],[54,1,54,10],[57,3,57,4],[60,1,60,2],[60,3,60,6],[39,1,39,8],[13,2,13,3],[22,0,22,2],[22,7,22,8],[27,3,27,5],[32,4,32,6]]}
["STATE  USE  ONLY"]
["PJ-101"]
["Rev. 4/14/82"]
[]
["WEST  VIRGINIA  DEPARTMENT  OF HIGHWAYS"]
[]
["REPORT  OF  ROAD  OR  BRIDGE  PROJECTS  EFFECTING  PLANNING  INVENTORY  DATA"]
["(Send  to  RP  to  update  Straight-Line  Diagrams)"]
[]
["A.  IDENTIFICATION  INFORMATION",null,null,null,null,null,"                        P. O.  Request Date:",null,null,{"$f":"NOW()","v":"2025-03-19T08:55:26"}]
[null,null,null,null,null,null,"                        Prepared By:"]
["    l.  District ",null,{"$f":"'Order Details'!D3","v":"09"},null,null,null,"                        Data Column:"]
[null,null,null,null,null,null,"                        Authorization No:"]
["    2.  County ",null,{"$f":"'Order Details'!B3","v":"Fayette"},null,null,null,"                        Approx. Cost",null,null,{"$f":"'Order Summary'!O7:P7","v":{"$error":"#N/A"}},0]
[]
["    3.  I, US, WV, Co. & Route Number ",null,null,null,{"$f":"'Order Details'!B6","v":"Interstate"},{"$f":"'Order Details'!B7","v":79},"/",{"$f":"'Order Details'!B8","v":0}]
[null,null,null,null,null,null,null,null,null,"WVDOH  MAPS"]
["    4.  Beginning Milepoint ",null,null,{"$f":"'Order Details'!E6","v":81},null,null,null,null,"Latitude:",{"$f":"'Order Details'!E8","v":38.890548000000003}]
[null,null,null,null,null,null,null,null,"Longitude:",{"$f":"'Order Details'!E9","v":-79.845938000000004}]
["    5.  Ending Milepoint (before project) ",null,null,null,{"$f":"'Order Details'!E7","v":90}]
[]
[null,null,null,"District Equipment Shop"]
["    6. Project beginning is ",null,null,null,"miles","N",null,"from jct. with Route Number"]
[null,null,null,"to "]
[]
["    7.  Length of new work ",null,null,{"$f":"'Order Details'!B24","v":2}]
[]
["    8.  Project Number "]
[]
[]
["B.  Nature of Work"]
[]
["    1. Road",null,"     Bridge",null,"      Bridge & Approaches",null,null,null,"       Other"]
[]
["    2.  Narrative Description of Work:"]
[]
[null,"  Examples:  Widen to 16' and stab Reconst to 2 12' ln, 4' shl  "]
[null,null,"  Reinf base and pave Traf sig, Sign, Light, Pvmt. Mark  "]
[null,null,"  Const 2 l0' ln, 4' shl Repl New Loc, 28' wide conc slab "]
[]
[]
[]
["    3.  New Pavement Width (if paved) "]
[]
["    4.  New Grade Width "]
[]
["    5.  New Pavement:"]
[]
[null,"       Example:  110 #/ST HLBC patch & level & 110 #/SY HLBC Wearing Course"]
[]
[]
[]
[]
[]
[]
[]
[]
["    6.  Date Work Completed ",null,null,null,null,"     Date Work Started "]
[]
[]
[null,"Prepared by:  ",null,null,null,null,null,"Date:"]
[null,null,null,"  (Please print or type) "]

{"sheet":"FIELD","index":10,"n_rows":117,"n_cols":13,"rows_kept":117,"cut":false,"hidden":false,"merged":[[115,3,115,4],[116,3,116,4],[106,8,106,12],[107,8,107,12],[108,8,108,12],[109,8,109,12],[110,8,110,12],[111,8,111,12],[112,8,112,12],[113,8,113,12],[114,8,114,12],[115,8,115,12],[116,8,116,12],[106,3,106,4],[107,3,107,4],[108,3,108,4],[109,3,109,4],[110,3,110,4],[111,3,111,4],[112,3,112,4],[113,3,113,4],[114,3,114,4],[101,3,101,4],[102,3,102,4],[103,3,103,4],[104,3,104,4],[105,3,105,4],[101,8,101,12],[102,8,102,12],[103,8,103,12],[104,8,104,12],[105,8,105,12],[99,3,99,4],[99,8,99,12],[100,3,100,4],[100,8,100,12],[53,3,53,4],[61,3,61,4],[64,8,64,12],[65,8,65,12],[66,8,66,12],[67,8,67,12],[96,3,96,4],[96,8,96,12],[97,3,97,4],[97,8,97,12],[98,3,98,4],[98,8,98,12],[93,3,93,4],[93,8,93,12],[94,3,94,4],[94,8,94,12],[95,3,95,4],[95,8,95,12],[89,3,89,4],[89,8,89,12],[90,3,90,4],[90,8,90,12],[91,3,91,4],[91,8,91,12],[92,3,92,4],[92,8,92,12],[85,3,85,4],[85,8,85,12],[86,3,86,4],[86,8,86,12],[87,8,87,12],[88,3,88,4],[88,8,88,12],[87,3,87,4],[82,3,82,4],[82,8,82,12],[83,3,83,4],[83,8,83,12],[84,3,84,4],[84,8,84,12],[79,3,79,4],[79,8,79,12],[80,3,80,4],[80,8,80,12],[81,3,81,4],[81,8,81,12],[76,3,76,4],[76,8,76,12],[77,3,77,4],[77,8,77,12],[78,3,78,4],[78,8,78,12],[70,8,70,12],[71,8,71,12],[72,8,72,12],[73,8,73,12],[74,8,74,12],[75,8,75,12],[70,3,70,4],[71,3,71,4],[72,3,72,4],[73,3,73,4],[74,3,74,4],[75,3,75,4],[62,3,62,4],[62,8,62,12],[63,3,63,4],[63,8,63,12],[69,8,69,12],[68,8,68,12],[59,3,59,4],[59,8,59,12],[60,3,60,4],[60,8,60,12],[61,8,61,12],[64,3,64,4],[65,3,65,4],[66,3,66,4],[67,3,67,4],[68,3,68,4],[69,3,69,4],[56,3,56,4],[56,8,56,12],[57,3,57,4],[57,8,57,12],[58,3,58,4],[58,8,58,12],[53,8,53,12],[54,3,54,4],[54,8,54,12],[55,3,55,4],[55,8,55,12],[50,3,50,4],[50,8,50,12],[51,3,51,4],[51,8,51,12],[52,3,52,4],[52,8,52,12],[47,3,47,4],[47,8,47,12],[48,3,48,4],[48,8,48,12],[49,3,49,4],[49,8,49,12],[44,3,44,4],[44,8,44,12],[45,3,45,4],[45,8,45,12],[46,3,46,4],[46,8,46,12],[41,3,41,4],[41,8,41,12],[42,3,42,4],[42,8,42,12],[43,3,43,4],[43,8,43,12],[38,3,38,4],[38,8,38,12],[39,3,39,4],[39,8,39,12],[40,3,40,4],[40,8,40,12],[34,3,34,4],[34,8,34,12],[35,3,35,4],[35,8,35,12],[37,3,37,4],[37,8,37,12],[36,3,36,4],[31,3,31,4],[31,8,31,12],[32,8,32,12],[33,3,33,4],[33,8,33,12],[32,3,32,4],[28,3,28,4],[28,8,28,12],[29,3,29,4],[29,8,29,12],[30,3,30,4],[30,8,30,12],[25,3,25,4],[25,8,25,12],[26,3,26,4],[26,8,26,12],[27,3,27,4],[27,8,27,12],[22,3,22,4],[22,8,22,12],[23,3,23,4],[23,8,23,12],[24,3,24,4],[24,8,24,12],[19,3,19,4],[19,8,19,12],[20,3,20,4],[20,8,20,12],[21,3,21,4],[21,8,21,12],[16,3,16,4],[16,8,16,12],[17,3,17,4],[17,8,17,12],[18,3,18,4],[18,8,18,12],[13,8,13,12],[14,0,14,2],[14,3,14,4],[14,5,14,6],[14,8,14,12],[15,3,15,4],[15,8,15,12],[7,0,10,2],[7,3,10,12],[11,0,11,2],[11,3,11,5],[11,7,12,12],[12,0,12,2],[13,0,13,2],[5,0,5,2],[5,3,5,7],[5,8,5,9],[5,10,5,12],[6,0,6,2],[6,3,6,7],[6,8,6,9],[3,0,3,2],[3,3,3,4],[3,5,3,6],[3,8,3,9],[3,10,3,12],[4,0,4,2],[4,3,4,4],[4,5,4,6],[4,8,4,9],[4,10,4,12],[0,0,0,12],[1,0,1,2],[1,3,1,4],[1,5,1,6],[1,7,1,12],[2,0,2,2],[2,3,2,4],[2,5,2,6],[2,8,2,9],[2,10,2,12]]}
["HOT-MIXED ASPHALT PROJECT DATA (FOR FIELD PERSONNEL, BOTH STATE & CONTRACTOR)"]
["Project Title:",null,null,{"$f":"'Order Details'!B17","v":"pave"},null,"Project Description:",null,{"$f":"'Order Details'!B18","v":"paving roads"}]
["Project Number:",null,null,{"$f":"'Order Details'!B20","v":111111111},null,"Longitude:",null,{"$f":"'Order Details'!E9","v":-79.845938000000004},"Agency Release No.",null,{"$f":"'Order Details'!B19","v":12345}]
["County:",null,null,{"$f":"'Order Details'!B3","v":"Fayette"},null,"Latitude:",null,{"$f":"'Order Details'!E8","v":38.890548000000003},"Prepared By:"]
["Auth. No.:",null,null,{"$f":"'Order Details'!B21","v":22222222},null,"Date:",null,{"$f":"TODAY()","v":"2025-03-19"},"Length (miles):",null,{"$f":"'Order Details'!B24","v":2}]
["Begin:",null,null,{"$f":"'Order Details'!B14","v":"start"},null,null,null,null,"Route Sign:",null,{"$f":"'Order Details'!B6","v":"Interstate"}]
["End:",null,null,{"$f":"'Order Details'!B15","v":"end"},null,null,null,null,"Route No.:",null,{"$f":"'Order Details'!B7","v":79},{"$f":"\"/\"","v":"/"},{"$f":"'Order Details'!B8","v":0}]
["Further Description:\nand \nComments:",null,null,""]
[]
[]
[]
["Vendor PID:",null,null,{"$f":"'Order Summary'!H7","v":{"$error":"#N/A"}},null,null,null,"FIELD INSPECTOR'S COPY"]
["Vendor Name:",null,null,{"$f":"'Order Summary'!H3","v":{"$error":"#N/A"}}]
["Vendor Location:",null,null,{"$f":"'Order Summary'!H4","v":{"$error":"#N/A"}},null,null,null,"Actual","Comment"]
[null,null,null,"Qty."]
[1,"Asphalt Section 401 - Base I",null,{"$f":"'Order Details'!J7","v":0}]
[2,"Asphalt Section 401 - 25mm Superpave",null,{"$f":"'Order Details'!J8","v":0}]
[3,"Asphalt Section 401 - Base II",null,{"$f":"'Order Details'!J9","v":0}]
[4,"Asphalt Section 401 - Patch and Level",null,{"$f":"'Order Details'!J10","v":0}]
[5,"Asphalt Section 401 - Wearing IV",null,{"$f":"'Order Details'!J11","v":0}]
[6,"Asphalt Section 402 - Wearing IV",null,{"$f":"'Order Details'!J12","v":0}]
[7,"Asphalt Section 401 - 19mm Superpave",null,{"$f":"'Order Details'!J13","v":0}]
[8,"Asphalt Section 401 - Scratch Course",null,{"$f":"'Order Details'!J14","v":0}]
[9,"Asphalt Section 402 - 9.5mm Superpave",null,{"$f":"'Order Details'!J15","v":0}]
[10,"Asphalt Section 401 - Wearing 1",null,{"$f":"'Order Details'!J16","v":0}]
[11,"Asphalt Section 402 - Wearing 1",null,{"$f":"'Order Details'!J17","v":0}]
[12,"Asphalt Section 401 - 4.75mm Superpave",null,{"$f":"'Order Details'!J18","v":0}]
[13,"Asphalt Section 402 - 4.75mm Superpave",null,{"$f":"'Order Details'!J19","v":0}]
[14,"Asphalt Section 401 - Wearing III",null,{"$f":"'Order Details'!J20","v":0}]
[15,"Asphalt Section 402 - Wearing III",null,{"$f":"'Order Details'!J21","v":0}]
[16,"Asphalt Section 401 - 12.5mm Superpave",null,{"$f":"'Order Details'!J22","v":0}]
[17,"Asphalt Section 402 - 12.5mm Superpave",null,{"$f":"'Order Details'!J23","v":0}]
[18,"Shoulder Stone Placement for Asphalt Section 307 - Class 10",null,{"$f":"'Order Details'!J24","v":0}]
[19,"Shoulder Stone Mobilization ",null,{"$f":"'Order Details'!J25","v":0}]
[20,"Haul by Vendor Shoulder Stone Placement - First Ton Mile",null,{"$f":"'Order Details'!J24","v":0}]
[21,"Haul by Vendor Shoulder Stone Placement - Each Additional Ton Mile",null,{"$f":"'Order Summary'!H68","v":{"$error":"#N/A"}}]
[22,"Surcharge for PG Binder 58-28S",null,{"$f":"'Order Details'!J26","v":0}]
[23,"Surcharge for PG Binder - 64H - 22",null,{"$f":"'Order Details'!J27","v":0}]
[24,"Surcharge for PG Binder 64E - 22 ordered in 400 Ton increments",null,{"$f":"'Order Details'!J28","v":0}]
[25,"ESAL Surcharge - 3 million to 20 million ESALs ",null,{"$f":"'Order Details'!J29","v":0}]
[26,"ESAL Surcharge - Greater than 20 million ESALs ",null,{"$f":"'Order Details'!J30","v":0}]
[27,"Asphalt Haul by Vendor - First Ton Mile",null,{"$f":"'Order Summary'!H69","v":0}]
[28,"Asphalt Haul by Vendor - Each Additional Ton Mile",null,{"$f":"'Order Summary'!H70","v":{"$error":"#N/A"}}]
[29,"Laydown of Materials. Items #1-17 and #67, Each Site 0-100",null,{"$f":"'Order Details'!J31","v":0}]
[30,"Laydown of Materials. Items #1-17 and #67, Each Site 101 to 200 ",null,{"$f":"'Order Details'!J32","v":0}]
[31,"Laydown of Materials. Items #1-17 and #67, Each Site 201 to 500 ",null,{"$f":"'Order Details'!J33","v":0}]
[32,"Laydown of Materials. Items #1-17 and #67, Each Site 501+ ",null,{"$f":"'Order Details'!J34","v":0}]
[33,"Mobilization - Daytime Paving ",null,{"$f":"'Order Details'!J35","v":0}]
[34,"Mobilization - Nighttime Paving ",null,{"$f":"'Order Details'!J36","v":0}]
[35,"Excavation for Shoulder Paving - 0 to 1000 ",null,{"$f":"'Order Details'!J37","v":0}]
[36,"Excavation for Shoulder Paving - 1001 to 2000 ",null,{"$f":"'Order Details'!J38","v":0}]
[37,"Excavation for Shoulder Paving - 2001 to 3000 ",null,{"$f":"'Order Details'!J39","v":0}]
[38,"Excavation for Shoulder Paving - 3001+ ",null,{"$f":"'Order Details'!J40","v":0}]
[39,"Asphalt Base I Shoulder Paving Surcharge - 0 to 100 ",null,{"$f":"'Order Details'!J41","v":0}]
[40,"Asphalt Base I Shoulder Paving Surcharge - 101 to 200 ",null,{"$f":"'Order Details'!J42","v":0}]
[41,"Asphalt Base I Shoulder Paving Surcharge - 201 to 500 ",null,{"$f":"'Order Details'!J43","v":0}]
[42,"Asphalt Base I Shoulder Paving Surcharge - 501+ ",null,{"$f":"'Order Details'!J44","v":0}]
[43,"Asphalt Base II Shoulder Paving Surcharge - 0 to 100 ",null,{"$f":"'Order Details'!J45","v":0}]
[44,"Asphalt Base II Shoulder Paving Surcharge - 101 to 200 ",null,{"$f":"'Order Details'!J46","v":0}]
[45,"Asphalt Base II Shoulder Paving Surcharge - 201 to 500 ",null,{"$f":"'Order Details'!J47","v":0}]
[46,"Asphalt Base II Shoulder Paving Surcharge - 501+ ",null,{"$f":"'Order Details'!J48","v":0}]
[47,"Asphalt Material for Tack Coat or Prime Material",null,{"$f":"'Order Details'!J49","v":0}]
[48,"Additional Heel-In Joints",null,{"$f":"'Order Details'!O7","v":0}]
[49,"Skip Paving Surcharge",null,{"$f":"'Order Details'!O8","v":0}]
[50,"Pavement Profiling/Milling-WVDOH Owns Millings 0 to 250 ",null,{"$f":"'Order Details'!O9","v":0}]
[51,"Pavement Profiling/Milling-WVDOH Owns Millings 251 to 500 ",null,{"$f":"'Order Details'!O10","v":0}]
[52,"Pavement Profiling/Milling-WVDOH Owns Millings 501 to 1000 ",null,{"$f":"'Order Details'!O11","v":0}]
[53,"Pavement Profiling/Milling-WVDOH Owns Millings 1001 to 2500 ",null,{"$f":"'Order Details'!O12","v":0}]
[54,"Pavement Profiling/Milling-WVDOH Owns Millings 2501 to 5000 ",null,{"$f":"'Order Details'!O13","v":0}]
[55,"Pavement Profiling/Milling-WVDOH Owns Millings 5001+ ",null,{"$f":"'Order Details'!O14","v":0}]
[56,"Pavement Profiling/Milling-Vendor Owns Millings 0 to 250 ",null,{"$f":"'Order Details'!O15","v":0}]
[57,"Pavement Profiling/Milling-Vendor Owns Millings 251 to 500 ",null,{"$f":"'Order Details'!O16","v":0}]
[58,"Pavement Profiling/Milling-Vendor Owns Millings 501 to 1000 ",null,{"$f":"'Order Details'!O17","v":0}]
[59,"Pavement Profiling/Milling-Vendor Owns Millings 1001 to 2500 ",null,{"$f":"'Order Details'!O18","v":0}]
[60,"Pavement Profiling/Milling-Vendor Owns Millings 2501 to 5000 ",null,{"$f":"'Order Details'!O19","v":0}]
[61,"Pavement Profiling/Milling-Vendor Owns Millings 5001+  ",null,{"$f":"'Order Details'!O20","v":0}]
[62,"Mobilization - Pavement Profiling/Milling ",null,{"$f":"'Order Details'!O21","v":0}]
[63,"Haul of Profiled/Milled Cuttings or Fine Millings, First 10 Miles (Included #49-60 and #69-80)",null,{"$f":"'Order Summary'!H71","v":0}]
[64,"Haul of Profiled/Milled Cuttings or Fine Millings, Each additional Mile (Above 10 Miles)",null,{"$f":"'Order Summary'!H72","v":{"$error":"#N/A"}}]
[65,"Pavement Repair - Asphalt Base II",null,{"$f":"'Order Details'!O22","v":0}]
[66,"Asphalt HPTO - SP496 - PG 64E-22 ordered 400 Ton increments",null,{"$f":"'Order Details'!O23","v":0}]
[67,"Non-Tracking Tack - to be used with #65",null,{"$f":"'Order Details'!O24","v":0}]
[68,"Lay Down of Materials - to be used with #65 - 400+ ",null,{"$f":"'Order Details'!O25","v":0}]
[69,"Ultra-Thin Asphalt Overlay - SP498",null,{"$f":"'Order Details'!O26","v":0}]
[70,"Fine Milling -WVDOH Owns Millings 0 to 250 ",null,{"$f":"'Order Details'!O27","v":0}]
[71,"Fine Milling -WVDOH Owns Millings 251 to 500 ",null,{"$f":"'Order Details'!O28","v":0}]
[72,"Fine Milling -WVDOH Owns Millings 501 to 1000 ",null,{"$f":"'Order Details'!O29","v":0}]
[73,"Fine Milling -WVDOH Owns Millings 1001 to 2500 ",null,{"$f":"'Order Details'!O30","v":0}]
[74,"Fine Milling -WVDOH Owns Millings 2501 to 5000 ",null,{"$f":"'Order Details'!O31","v":0}]
[75,"Fine Milling -WVDOH Owns Millings 5001+ ",null,{"$f":"'Order Details'!O32","v":0}]
[76,"Fine Milling- Vendor Owns Millings 0 to 250 ",null,{"$f":"'Order Details'!O33","v":0}]
[77,"Fine Milling- Vendor Owns Millings 251 to 500 ",null,{"$f":"'Order Details'!O34","v":0}]
[78,"Fine Milling- Vendor Owns Millings 501 to 1000 ",null,{"$f":"'Order Details'!O35","v":0}]
[79,"Fine Milling- Vendor Owns Millings 1001 to 2500 ",null,{"$f":"'Order Details'!O36","v":0}]
[80,"Fine Milling- Vendor Owns Millings 2501 to 5000 ",null,{"$f":"'Order Details'!O37","v":0}]
[81,"Fine Milling- Vendor Owns Millings 5001+ ",null,{"$f":"'Order Details'!O38","v":0}]
[82,"Milled Rumble Strips",null,{"$f":"'Order Details'!O39","v":0}]
[83,"Mobilization - Milled Rumble Strips ",null,{"$f":"'Order Details'!O40","v":0}]
[84,"Surcharge for Parking Lot and Facility Paving ",null,{"$f":"'Order Details'!O41","v":0}]
[85,"Cleaning and Sweeping",null,{"$f":"'Order Details'!O42","v":0}]
[86,"Maintaining Traffic - Pilot Truck and Driver",null,{"$f":"'Order Details'!O43","v":0}]
[87,"Maintaining Traffic - Traffic Control Devices",null,{"$f":"'Order Details'!O44","v":0}]
[88,"Maintaining Traffic - Flagger",null,{"$f":"'Order Details'!O45","v":0}]
[89,"Maintaining Traffic - Arrow Board",null,{"$f":"'Order Details'!O46","v":0}]
[90,"Off-Season Plant Opening - First Day",null,{"$f":"'Order Details'!O47","v":0}]
[91,"Off-Season Plant Opening - Each Additional Day",null,{"$f":"'Order Details'!O48","v":0}]
[92,"Raised Pavement Marker (RPM), Type P-2 with Installation",null,{"$f":"'Order Details'!O49","v":0}]
[93,"Raised Pavement Marker (RPM), Type R-4 with Installation",null,{"$f":"'Order Details'!O50","v":0}]
[94,"Mobilization - RPM Installation",null,{"$f":"'Order Details'!O51","v":0}]
[95,"Raised Pavement Marker (RPM) Removal",null,{"$f":"'Order Details'!O52","v":0}]
[96,"Mobilization - RPM Removal ",null,{"$f":"'Order Details'!O53","v":0}]
[97,"VRAM (Void Reducing Asphalt Membrane) 0-1000 LF",null,{"$f":"'Order Details'!O54","v":0}]
[98,"VRAM (Void Reducing Asphalt Membrane) 1001-2000 LF",null,{"$f":"'Order Details'!O55","v":0}]
[99,"VRAM (Void Reducing Asphalt Membrane) 2001-5,000 LF",null,{"$f":"'Order Details'!O56","v":0}]
[100,"VRAM (Void Reducing Asphalt Membrane) 5,001 LF or greater",null,{"$f":"'Order Details'!O57","v":0}]
[101,"VRAM Preparation, Removal of Center Line",null,{"$f":"'Order Details'!O58","v":0}]
[102,"Mobilization - VRAM ",null,{"$f":"'Order Details'!O59","v":0}]

{"sheet":"WV-39_09_11_17","index":11,"n_rows":139,"n_cols":11,"rows_kept":139,"cut":false,"hidden":false,"merged":[[47,8,47,9],[47,10,47,11],[0,0,0,1],[0,10,0,11],[5,1,5,2],[5,6,5,7],[7,2,8,11],[26,8,26,9],[26,10,26,11],[28,8,28,9],[28,10,28,11],[9,10,9,11],[21,2,22,11],[23,1,24,6],[23,9,24,11],[25,3,25,7],[25,8,25,9],[25,10,25,11],[5,10,6,11],[33,8,33,9],[33,10,33,11],[34,8,34,9],[34,10,34,11],[31,8,31,9],[31,10,31,11],[32,8,32,9],[32,10,32,11],[29,8,29,9],[29,10,29,11],[30,8,30,9],[30,10,30,11],[39,8,39,9],[39,10,39,11],[40,8,40,9],[40,10,40,11],[37,8,37,9],[37,10,37,11],[38,8,38,9],[38,10,38,11],[35,8,35,9],[35,10,35,11],[36,8,36,9],[36,10,36,11],[45,8,45,9],[45,10,45,11],[46,8,46,9],[46,10,46,11],[43,8,43,9],[43,10,43,11],[44,8,44,9],[44,10,44,11],[41,8,41,9],[41,10,41,11],[42,8,42,9],[42,10,42,11],[50,8,50,9],[50,10,50,11],[51,8,51,9],[51,10,51,11],[48,8,48,9],[48,10,48,11],[49,8,49,9],[49,10,49,11],[124,8,124,9],[124,10,124,11],[54,8,54,9],[54,10,54,11],[55,8,55,9],[55,10,55,11],[52,8,52,9],[52,10,52,11],[53,8,53,9],[53,10,53,11],[56,8,56,9],[56,10,56,11],[70,10,70,11],[71,8,71,9],[71,10,71,11],[68,8,68,9],[58,8,58,9],[58,10,58,11],[59,8,59,9],[59,10,59,11],[57,8,57,9],[57,10,57,11],[64,8,64,9],[64,10,64,11],[65,8,65,9],[65,10,65,11],[62,8,62,9],[62,10,62,11],[63,8,63,9],[63,10,63,11],[60,8,60,9],[60,10,60,11],[61,8,61,9],[61,10,61,11],[72,8,72,9],[72,10,72,11],[73,8,73,9],[73,10,73,11],[68,10,68,11],[69,8,69,9],[69,10,69,11],[66,8,66,9],[66,10,66,11],[67,8,67,9],[67,10,67,11],[70,8,70,9],[86,8,86,9],[87,8,87,9],[88,8,88,9],[77,8,77,9],[77,10,77,11],[74,8,74,9],[74,10,74,11],[75,8,75,9],[75,10,75,11],[76,8,76,9],[76,10,76,11],[94,10,94,11],[95,10,95,11],[96,10,96,11],[130,0,130,1],[138,0,138,1],[193,4,193,9],[194,4,194,9],[195,2,195,11],[78,8,78,9],[78,10,78,11],[79,8,79,9],[79,10,79,11],[127,8,127,9],[127,10,127,11],[126,8,126,9],[126,10,126,11],[125,8,125,9],[125,10,125,11],[80,8,80,9],[81,8,81,9],[82,8,82,9],[83,8,83,9],[84,8,84,9],[85,8,85,9],[97,8,97,9],[97,10,97,11],[80,10,80,11],[81,10,81,11],[82,10,82,11],[83,10,83,11],[84,10,84,11],[85,10,85,11],[86,10,86,11],[87,10,87,11],[88,10,88,11],[89,8,89,9],[90,8,90,9],[91,8,91,9],[92,8,92,9],[93,8,93,9],[94,8,94,9],[95,8,95,9],[96,8,96,9],[89,10,89,11],[90,10,90,11],[91,10,91,11],[92,10,92,11],[93,10,93,11],[98,10,98,11],[99,10,99,11],[100,10,100,11],[101,10,101,11],[102,10,102,11],[103,10,103,11],[104,10,104,11],[105,10,105,11],[128,8,128,9],[98,8,98,9],[99,8,99,9],[100,8,100,9],[101,8,101,9],[102,8,102,9],[103,8,103,9],[104,8,104,9],[105,8,105,9],[116,8,116,9],[116,10,116,11],[117,8,117,9],[117,10,117,11],[118,8,118,9],[118,10,118,11],[119,8,119,9],[132,10,132,11],[129,8,129,9],[106,10,106,11],[107,10,107,11],[108,10,108,11],[109,10,109,11],[110,10,110,11],[111,10,111,11],[112,10,112,11],[128,10,128,11],[129,10,129,11],[106,8,106,9],[107,8,107,9],[108,8,108,9],[109,8,109,9],[110,8,110,9],[111,8,111,9],[112,8,112,9],[113,8,113,9],[113,10,113,11],[114,8,114,9],[114,10,114,11],[115,8,115,9],[115,10,115,11],[119,10,119,11],[120,8,120,9],[120,10,120,11],[121,8,121,9],[121,10,121,11],[122,8,122,9],[122,10,122,11],[123,8,123,9],[123,10,123,11]]}
["WV-39",null,null,null,null,null,null,null,null,null,"Page 1 of        Pages"]
["Approved / Revised 09/11/17"]
["State of West Virginia"]
["Purchasing Division"]
["RELEASE ORDER"]
["Release No:","GETTER DUN",null,null,null,"Req. Date:",{"$f":"TODAY()","v":"2025-03-19"},null,null,"Buyer:"]
[]
["Fund Accounting Information:",null,"  "]
[]
["Agency/Invoice To:",null,null,null,null,null,null,null,"Dept. Code:"]
[]
["WV Divison of Highways"]
[]
[]
[]
["Vendor Name & Address:"]
[{"$f":"'Order Summary'!H3","v":{"$error":"#N/A"}}]
[{"$f":"'Order Summary'!H4","v":{"$error":"#N/A"}}]
[]
[]
[]
["wvOASIS Vendor Customer No.:"]
[]
["Terms:",null,null,null,null,null,null,null,"F.O.B.: "]
[]
["Item No.","Quantity",null,"Description",null,null,null,null,"Unit Price",null,"Amount"]
[null,null,"Agency or Central Master Agreement Number"]
[null,null,null,"(AMA/CMA #)"]
[1,{"$f":"IF('Order Details'!J7>0,'Order Details'!J7,\"\")","v":""},{"$f":"IF($B29=\"\",\"\",'Order Details'!I7)","v":""},null,null,null,null,null,{"$f":"IF(B29=\"\",\"\",('Order Summary'!I11+'Order Summary'!J11/'Order Summary'!H11))","v":""},null,{"$f":"IF(B29=\"\",\"\",'Order Summary'!K11)","v":""}]
[2,{"$f":"IF('Order Details'!J8>0,'Order Details'!J8,\"\")","v":""},{"$f":"IF($B30=\"\",\"\",'Order Details'!I8)","v":""},null,null,null,null,null,{"$f":"IF(B30=\"\",\"\",('Order Summary'!I12+'Order Summary'!J12/'Order Summary'!H12))","v":""},null,{"$f":"IF(B30=\"\",\"\",'Order Summary'!K12)","v":""}]
[3,{"$f":"IF('Order Details'!J9>0,'Order Details'!J9,\"\")","v":""},{"$f":"IF($B31=\"\",\"\",'Order Details'!I9)","v":""},null,null,null,null,null,{"$f":"IF(B31=\"\",\"\",('Order Summary'!I13+'Order Summary'!J13/'Order Summary'!H13))","v":""},null,{"$f":"IF(B31=\"\",\"\",'Order Summary'!K13)","v":""}]
[4,{"$f":"IF('Order Details'!J10>0,'Order Details'!J10,\"\")","v":""},{"$f":"IF($B32=\"\",\"\",'Order Details'!I10)","v":""},null,null,null,null,null,{"$f":"IF(B32=\"\",\"\",('Order Summary'!I14+'Order Summary'!J14/'Order Summary'!H14))","v":""},null,{"$f":"IF(B32=\"\",\"\",'Order Summary'!K14)","v":""}]
[5,{"$f":"IF('Order Details'!J11>0,'Order Details'!J11,\"\")","v":""},{"$f":"IF($B33=\"\",\"\",'Order Details'!I11)","v":""},null,null,null,null,null,{"$f":"IF(B33=\"\",\"\",('Order Summary'!I15+'Order Summary'!J15/'Order Summary'!H15))","v":""},null,{"$f":"IF(B33=\"\",\"\",'Order Summary'!K15)","v":""}]
[6,{"$f":"IF('Order Details'!J12>0,'Order Details'!J12,\"\")","v":""},{"$f":"IF($B34=\"\",\"\",'Order Details'!I12)","v":""},null,null,null,null,null,{"$f":"IF(B34=\"\",\"\",('Order Summary'!I16+'Order Summary'!J16/'Order Summary'!H16))","v":""},null,{"$f":"IF(B34=\"\",\"\",'Order Summary'!K16)","v":""}]
[7,{"$f":"IF('Order Details'!J13>0,'Order Details'!J13,\"\")","v":""},{"$f":"IF($B35=\"\",\"\",'Order Details'!I13)","v":""},null,null,null,null,null,{"$f":"IF(B35=\"\",\"\",('Order Summary'!I17+'Order Summary'!J17/'Order Summary'!H17))","v":""},null,{"$f":"IF(B35=\"\",\"\",'Order Summary'!K17)","v":""}]
[8,{"$f":"IF('Order Details'!J14>0,'Order Details'!J14,\"\")","v":""},{"$f":"IF($B36=\"\",\"\",'Order Details'!I14)","v":""},null,null,null,null,null,{"$f":"IF(B36=\"\",\"\",('Order Summary'!I18+'Order Summary'!J18/'Order Summary'!H18))","v":""},null,{"$f":"IF(B36=\"\",\"\",'Order Summary'!K18)","v":""}]
[9,{"$f":"IF('Order Details'!J15>0,'Order Details'!J15,\"\")","v":""},{"$f":"IF($B37=\"\",\"\",'Order Details'!I15)","v":""},null,null,null,null,null,{"$f":"IF(B37=\"\",\"\",('Order Summary'!I19+'Order Summary'!J19/'Order Summary'!H19))","v":""},null,{"$f":"IF(B37=\"\",\"\",'Order Summary'!K19)","v":""}]
[10,{"$f":"IF('Order Details'!J16>0,'Order Details'!J16,\"\")","v":""},{"$f":"IF($B38=\"\",\"\",'Order Details'!I16)","v":""},null,null,null,null,null,{"$f":"IF(B38=\"\",\"\",('Order Summary'!I20+'Order Summary'!J20/'Order Summary'!H20))","v":""},null,{"$f":"IF(B38=\"\",\"\",'Order Summary'!K20)","v":""}]
[11,{"$f":"IF('Order Details'!J17>0,'Order Details'!J17,\"\")","v":""},{"$f":"IF($B39=\"\",\"\",'Order Details'!I17)","v":""},null,null,null,null,null,{"$f":"IF(B39=\"\",\"\",('Order Summary'!I21+'Order Summary'!J21/'Order Summary'!H21))","v":""},null,{"$f":"IF(B39=\"\",\"\",'Order Summary'!K21)","v":""}]
[12,{"$f":"IF('Order Details'!J18>0,'Order Details'!J18,\"\")","v":""},{"$f":"IF($B40=\"\",\"\",'Order Details'!I18)","v":""},null,null,null,null,null,{"$f":"IF(B40=\"\",\"\",('Order Summary'!I22+'Order Summary'!J22/'Order Summary'!H22))","v":""},null,{"$f":"IF(B40=\"\",\"\",'Order Summary'!K22)","v":""}]
[13,{"$f":"IF('Order Details'!J19>0,'Order Details'!J19,\"\")","v":""},{"$f":"IF($B41=\"\",\"\",'Order Details'!I19)","v":""},null,null,null,null,null,{"$f":"IF(B41=\"\",\"\",('Order Summary'!I23+'Order Summary'!J23/'Order Summary'!H23))","v":""},null,{"$f":"IF(B41=\"\",\"\",'Order Summary'!K23)","v":""}]
[14,{"$f":"IF('Order Details'!J20>0,'Order Details'!J20,\"\")","v":""},{"$f":"IF($B42=\"\",\"\",'Order Details'!I20)","v":""},null,null,null,null,null,{"$f":"IF(B42=\"\",\"\",('Order Summary'!I24+'Order Summary'!J24/'Order Summary'!H24))","v":""},null,{"$f":"IF(B42=\"\",\"\",'Order Summary'!K24)","v":""}]
[15,{"$f":"IF('Order Details'!J21>0,'Order Details'!J21,\"\")","v":""},{"$f":"IF($B43=\"\",\"\",'Order Details'!I21)","v":""},null,null,null,null,null,{"$f":"IF(B43=\"\",\"\",('Order Summary'!I25+'Order Summary'!J25/'Order Summary'!H25))","v":""},null,{"$f":"IF(B43=\"\",\"\",'Order Summary'!K25)","v":""}]
[16,{"$f":"IF('Order Details'!J22>0,'Order Details'!J22,\"\")","v":""},{"$f":"IF($B44=\"\",\"\",'Order Details'!I22)","v":""},null,null,null,null,null,{"$f":"IF(B44=\"\",\"\",('Order Summary'!I26+'Order Summary'!J26/'Order Summary'!H26))","v":""},null,{"$f":"IF(B44=\"\",\"\",'Order Summary'!K26)","v":""}]
[17,{"$f":"IF('Order Details'!J23>0,'Order Details'!J23,\"\")","v":""},{"$f":"IF($B45=\"\",\"\",'Order Details'!I23)","v":""},null,null,null,null,null,{"$f":"IF(B45=\"\",\"\",('Order Summary'!I27+'Order Summary'!J27/'Order Summary'!H27))","v":""},null,{"$f":"IF(B45=\"\",\"\",'Order Summary'!K27)","v":""}]
[18,{"$f":"IF('Order Details'!J24>0,'Order Details'!J24,\"\")","v":""},{"$f":"IF($B46=\"\",\"\",'Order Details'!I24)","v":""},null,null,null,null,null,{"$f":"IF(B46=\"\",\"\",('Order Summary'!I28+'Order Summary'!J28/'Order Summary'!H28))","v":""},null,{"$f":"IF(B46=\"\",\"\",'Order Summary'!K28)","v":""}]
[19,{"$f":"IF('Order Details'!J25>0,'Order Details'!J25,\"\")","v":""},{"$f":"IF($B47=\"\",\"\",'Order Details'!I25)","v":""},null,null,null,null,null,{"$f":"IF(B47=\"\",\"\",'Order Summary'!I29)","v":""},null,{"$f":"IF(B47=\"\",\"\",'Order Summary'!K29)","v":""}]
[22,{"$f":"IF('Order Details'!J26>0,'Order Details'!J26,\"\")","v":""},{"$f":"IF($B48=\"\",\"\",'Order Details'!I26)","v":""},null,null,null,null,null,{"$f":"IF(B48=\"\",\"\",'Order Summary'!I30)","v":""},null,{"$f":"IF(B48=\"\",\"\",'Order Summary'!K30)","v":""}]
[23,{"$f":"IF('Order Details'!J27>0,'Order Details'!J27,\"\")","v":""},{"$f":"IF($B49=\"\",\"\",'Order Details'!I27)","v":""},null,null,null,null,null,{"$f":"IF(B49=\"\",\"\",'Order Summary'!I31)","v":""},null,{"$f":"IF(B49=\"\",\"\",'Order Summary'!K31)","v":""}]
[24,{"$f":"IF('Order Details'!J28>0,'Order Details'!J28,\"\")","v":""},{"$f":"IF($B50=\"\",\"\",'Order Details'!I28)","v":""},null,null,null,null,null,{"$f":"IF(B50=\"\",\"\",'Order Summary'!I32)","v":""},null,{"$f":"IF(B50=\"\",\"\",'Order Summary'!K32)","v":""}]
[25,{"$f":"IF('Order Details'!J29>0,'Order Details'!J29,\"\")","v":""},{"$f":"IF($B51=\"\",\"\",'Order Details'!I29)","v":""},null,null,null,null,null,{"$f":"IF(B51=\"\",\"\",'Order Summary'!I33)","v":""},null,{"$f":"IF(B51=\"\",\"\",'Order Summary'!K33)","v":""}]
[26,{"$f":"IF('Order Details'!J30>0,'Order Details'!J30,\"\")","v":""},{"$f":"IF($B52=\"\",\"\",'Order Details'!I30)","v":""},null,null,null,null,null,{"$f":"IF(B52=\"\",\"\",'Order Summary'!I34)","v":""},null,{"$f":"IF(B52=\"\",\"\",'Order Summary'!K34)","v":""}]
[29,{"$f":"IF('Order Details'!J31>0,'Order Details'!J31,\"\")","v":""},{"$f":"IF($B53=\"\",\"\",'Order Details'!I31)","v":""},null,null,null,null,null,{"$f":"IF(B53=\"\",\"\",('Order Summary'!I35+'Order Summary'!J35/'Order Summary'!H35))","v":""},null,{"$f":"IF(B53=\"\",\"\",'Order Summary'!K35)","v":""}]
[30,{"$f":"IF('Order Details'!J32>0,'Order Details'!J32,\"\")","v":""},{"$f":"IF($B54=\"\",\"\",'Order Details'!I32)","v":""},null,null,null,null,null,{"$f":"IF(B54=\"\",\"\",('Order Summary'!I36+'Order Summary'!J36/'Order Summary'!H36))","v":""},null,{"$f":"IF(B54=\"\",\"\",'Order Summary'!K36)","v":""}]
[31,{"$f":"IF('Order Details'!J33>0,'Order Details'!J33,\"\")","v":""},{"$f":"IF($B55=\"\",\"\",'Order Details'!I33)","v":""},null,null,null,null,null,{"$f":"IF(B55=\"\",\"\",('Order Summary'!I37+'Order Summary'!J37/'Order Summary'!H37))","v":""},null,{"$f":"IF(B55=\"\",\"\",'Order Summary'!K37)","v":""}]
[32,{"$f":"IF('Order Details'!J34>0,'Order Details'!J34,\"\")","v":""},{"$f":"IF($B56=\"\",\"\",'Order Details'!I34)","v":""},null,null,null,null,null,{"$f":"IF(B56=\"\",\"\",('Order Summary'!I38+'Order Summary'!J38/'Order Summary'!H38))","v":""},null,{"$f":"IF(B56=\"\",\"\",'Order Summary'!K38)","v":""}]
[33,{"$f":"IF('Order Details'!J35>0,'Order Details'!J35,\"\")","v":""},{"$f":"IF($B57=\"\",\"\",'Order Details'!I35)","v":""},null,null,null,null,null,{"$f":"IF(B57=\"\",\"\",'Order Summary'!I39)","v":""},null,{"$f":"IF(B57=\"\",\"\",'Order Summary'!K39)","v":""}]
[34,{"$f":"IF('Order Details'!J36>0,'Order Details'!J36,\"\")","v":""},{"$f":"IF($B58=\"\",\"\",'Order Details'!I36)","v":""},null,null,null,null,null,{"$f":"IF(B58=\"\",\"\",'Order Summary'!I40)","v":""},null,{"$f":"IF(B58=\"\",\"\",'Order Summary'!K40)","v":""}]
[35,{"$f":"IF('Order Details'!J37>0,'Order Details'!J37,\"\")","v":""},{"$f":"IF($B59=\"\",\"\",'Order Details'!I37)","v":""},null,null,null,null,null,{"$f":"IF(B59=\"\",\"\",('Order Summary'!I41+'Order Summary'!J41/'Order Summary'!H41))","v":""},null,{"$f":"IF(B59=\"\",\"\",'Order Summary'!K41)","v":""}]
[36,{"$f":"IF('Order Details'!J38>0,'Order Details'!J38,\"\")","v":""},{"$f":"IF($B60=\"\",\"\",'Order Details'!I38)","v":""},null,null,null,null,null,{"$f":"IF(B60=\"\",\"\",('Order Summary'!I42+'Order Summary'!J42/'Order Summary'!H42))","v":""},null,{"$f":"IF(B60=\"\",\"\",'Order Summary'!K42)","v":""}]
[37,{"$f":"IF('Order Details'!J39>0,'Order Details'!J39,\"\")","v":""},{"$f":"IF($B61=\"\",\"\",'Order Details'!I39)","v":""},null,null,null,null,null,{"$f":"IF(B61=\"\",\"\",('Order Summary'!I43+'Order Summary'!J43/'Order Summary'!H43))","v":""},null,{"$f":"IF(B61=\"\",\"\",'Order Summary'!K43)","v":""}]
[38,{"$f":"IF('Order Details'!J40>0,'Order Details'!J40,\"\")","v":""},{"$f":"IF($B62=\"\",\"\",'Order Details'!I40)","v":""},null,null,null,null,null,{"$f":"IF(B62=\"\",\"\",('Order Summary'!I44+'Order Summary'!J44/'Order Summary'!H44))","v":""},null,{"$f":"IF(B62=\"\",\"\",'Order Summary'!K44)","v":""}]
[39,{"$f":"IF('Order Details'!J41>0,'Order Details'!J41,\"\")","v":""},{"$f":"IF($B63=\"\",\"\",'Order Details'!I41)","v":""},null,null,null,null,null,{"$f":"IF(B63=\"\",\"\",'Order Summary'!I45)","v":""},null,{"$f":"IF(B63=\"\",\"\",'Order Summary'!K45)","v":""}]
[40,{"$f":"IF('Order Details'!J42>0,'Order Details'!J42,\"\")","v":""},{"$f":"IF($B64=\"\",\"\",'Order Details'!I42)","v":""},null,null,null,null,null,{"$f":"IF(B64=\"\",\"\",'Order Summary'!I46)","v":""},null,{"$f":"IF(B64=\"\",\"\",'Order Summary'!K46)","v":""}]
[41,{"$f":"IF('Order Details'!J43>0,'Order Details'!J43,\"\")","v":""},{"$f":"IF($B65=\"\",\"\",'Order Details'!I43)","v":""},null,null,null,null,null,{"$f":"IF(B65=\"\",\"\",'Order Summary'!I47)","v":""},null,{"$f":"IF(B65=\"\",\"\",'Order Summary'!K47)","v":""}]
[42,{"$f":"IF('Order Details'!J44>0,'Order Details'!J44,\"\")","v":""},{"$f":"IF($B66=\"\",\"\",'Order Details'!I44)","v":""},null,null,null,null,null,{"$f":"IF(B66=\"\",\"\",'Order Summary'!I48)","v":""},null,{"$f":"IF(B66=\"\",\"\",'Order Summary'!K48)","v":""}]
[43,{"$f":"IF('Order Details'!J45>0,'Order Details'!J45,\"\")","v":""},{"$f":"IF($B67=\"\",\"\",'Order Details'!I45)","v":""},null,null,null,null,null,{"$f":"IF(B67=\"\",\"\",'Order Summary'!I49)","v":""},null,{"$f":"IF(B67=\"\",\"\",'Order Summary'!K49)","v":""}]
[44,{"$f":"IF('Order Details'!J46>0,'Order Details'!J46,\"\")","v":""},{"$f":"IF($B68=\"\",\"\",'Order Details'!I46)","v":""},null,null,null,null,null,{"$f":"IF(B68=\"\",\"\",'Order Summary'!I50)","v":""},null,{"$f":"IF(B68=\"\",\"\",'Order Summary'!K50)","v":""}]
[45,{"$f":"IF('Order Details'!J47>0,'Order Details'!J47,\"\")","v":""},{"$f":"IF($B69=\"\",\"\",'Order Details'!I47)","v":""},null,null,null,null,null,{"$f":"IF(B69=\"\",\"\",'Order Summary'!I51)","v":""},null,{"$f":"IF(B69=\"\",\"\",'Order Summary'!K51)","v":""}]
[46,{"$f":"IF('Order Details'!J48>0,'Order Details'!J48,\"\")","v":""},{"$f":"IF($B70=\"\",\"\",'Order Details'!I48)","v":""},null,null,null,null,null,{"$f":"IF(B70=\"\",\"\",'Order Summary'!I52)","v":""},null,{"$f":"IF(B70=\"\",\"\",'Order Summary'!K52)","v":""}]
[47,{"$f":"IF('Order Details'!J49>0,'Order Details'!J49,\"\")","v":""},{"$f":"IF($B71=\"\",\"\",'Order Details'!I49)","v":""},null,null,null,null,null,{"$f":"IF(B71=\"\",\"\",'Order Summary'!I53)","v":""},null,{"$f":"IF(B71=\"\",\"\",'Order Summary'!K53)","v":""}]
[48,{"$f":"IF('Order Details'!O7>0,'Order Details'!O7,\"\")","v":""},{"$f":"IF($B72=\"\",\"\",'Order Details'!N7)","v":""},null,null,null,null,null,{"$f":"IF(B72=\"\",\"\",'Order Summary'!U11)","v":""},null,{"$f":"IF(B72=\"\",\"\",'Order Summary'!W11)","v":""}]
[49,{"$f":"IF('Order Details'!O8>0,'Order Details'!O8,\"\")","v":""},{"$f":"IF($B73=\"\",\"\",'Order Details'!N8)","v":""},null,null,null,null,null,{"$f":"IF(B73=\"\",\"\",'Order Summary'!U12)","v":""},null,{"$f":"IF(B73=\"\",\"\",'Order Summary'!W12)","v":""}]
[50,{"$f":"IF('Order Details'!O9>0,'Order Details'!O9,\"\")","v":""},{"$f":"IF($B74=\"\",\"\",'Order Details'!N9)","v":""},null,null,null,null,null,{"$f":"IF(B74=\"\",\"\",'Order Summary'!U13)","v":""},null,{"$f":"IF(B74=\"\",\"\",'Order Summary'!W13)","v":""}]
[51,{"$f":"IF('Order Details'!O10>0,'Order Details'!O10,\"\")","v":""},{"$f":"IF($B75=\"\",\"\",'Order Details'!N10)","v":""},null,null,null,null,null,{"$f":"IF(B75=\"\",\"\",'Order Summary'!U14)","v":""},null,{"$f":"IF(B75=\"\",\"\",'Order Summary'!W14)","v":""}]
[52,{"$f":"IF('Order Details'!O11>0,'Order Details'!O11,\"\")","v":""},{"$f":"IF($B76=\"\",\"\",'Order Details'!N11)","v":""},null,null,null,null,null,{"$f":"IF(B76=\"\",\"\",'Order Summary'!U15)","v":""},null,{"$f":"IF(B76=\"\",\"\",'Order Summary'!W15)","v":""}]
[53,{"$f":"IF('Order Details'!O12>0,'Order Details'!O12,\"\")","v":""},{"$f":"IF($B77=\"\",\"\",'Order Details'!N12)","v":""},null,null,null,null,null,{"$f":"IF(B77=\"\",\"\",'Order Summary'!U16)","v":""},null,{"$f":"IF(B77=\"\",\"\",'Order Summary'!W16)","v":""}]
[54,{"$f":"IF('Order Details'!O13>0,'Order Details'!O13,\"\")","v":""},{"$f":"IF($B78=\"\",\"\",'Order Details'!N13)","v":""},null,null,null,null,null,{"$f":"IF(B78=\"\",\"\",'Order Summary'!U17)","v":""},null,{"$f":"IF(B78=\"\",\"\",'Order Summary'!W17)","v":""}]
[55,{"$f":"IF('Order Details'!O14>0,'Order Details'!O14,\"\")","v":""},{"$f":"IF($B79=\"\",\"\",'Order Details'!N14)","v":""},null,null,null,null,null,{"$f":"IF(B79=\"\",\"\",'Order Summary'!U18)","v":""},null,{"$f":"IF(B79=\"\",\"\",'Order Summary'!W18)","v":""}]
[56,{"$f":"IF('Order Details'!O15>0,'Order Details'!O15,\"\")","v":""},{"$f":"IF($B80=\"\",\"\",'Order Details'!N15)","v":""},null,null,null,null,null,{"$f":"IF(B80=\"\",\"\",'Order Summary'!U19)","v":""},null,{"$f":"IF(B80=\"\",\"\",'Order Summary'!W19)","v":""}]
[57,{"$f":"IF('Order Details'!O16>0,'Order Details'!O16,\"\")","v":""},{"$f":"IF($B81=\"\",\"\",'Order Details'!N16)","v":""},null,null,null,null,null,{"$f":"IF(B81=\"\",\"\",'Order Summary'!U20)","v":""},null,{"$f":"IF(B81=\"\",\"\",'Order Summary'!W20)","v":""}]
[58,{"$f":"IF('Order Details'!O17>0,'Order Details'!O17,\"\")","v":""},{"$f":"IF($B82=\"\",\"\",'Order Details'!N17)","v":""},null,null,null,null,null,{"$f":"IF(B82=\"\",\"\",'Order Summary'!U21)","v":""},null,{"$f":"IF(B82=\"\",\"\",'Order Summary'!W21)","v":""}]
[59,{"$f":"IF('Order Details'!O18>0,'Order Details'!O18,\"\")","v":""},{"$f":"IF($B83=\"\",\"\",'Order Details'!N18)","v":""},null,null,null,null,null,{"$f":"IF(B83=\"\",\"\",'Order Summary'!U22)","v":""},null,{"$f":"IF(B83=\"\",\"\",'Order Summary'!W22)","v":""}]
[60,{"$f":"IF('Order Details'!O19>0,'Order Details'!O19,\"\")","v":""},{"$f":"IF($B84=\"\",\"\",'Order Details'!N19)","v":""},null,null,null,null,null,{"$f":"IF(B84=\"\",\"\",'Order Summary'!U23)","v":""},null,{"$f":"IF(B84=\"\",\"\",'Order Summary'!W23)","v":""}]
[61,{"$f":"IF('Order Details'!O20>0,'Order Details'!O20,\"\")","v":""},{"$f":"IF($B85=\"\",\"\",'Order Details'!N20)","v":""},null,null,null,null,null,{"$f":"IF(B85=\"\",\"\",'Order Summary'!U24)","v":""},null,{"$f":"IF(B85=\"\",\"\",'Order Summary'!W24)","v":""}]
[62,{"$f":"IF('Order Details'!O21>0,'Order Details'!O21,\"\")","v":""},{"$f":"IF($B86=\"\",\"\",'Order Details'!N21)","v":""},null,null,null,null,null,{"$f":"IF(B86=\"\",\"\",'Order Summary'!U25)","v":""},null,{"$f":"IF(B86=\"\",\"\",'Order Summary'!W25)","v":""}]
[65,{"$f":"IF('Order Details'!O22>0,'Order Details'!O22,\"\")","v":""},{"$f":"IF($B87=\"\",\"\",'Order Details'!N22)","v":""},null,null,null,null,null,{"$f":"IF(B87=\"\",\"\",'Order Summary'!U26)","v":""},null,{"$f":"IF(B87=\"\",\"\",'Order Summary'!W26)","v":""}]
[66,{"$f":"IF('Order Details'!O23>0,'Order Details'!O23,\"\")","v":""},{"$f":"IF($B88=\"\",\"\",'Order Details'!N23)","v":""},null,null,null,null,null,{"$f":"IF(B88=\"\",\"\",'Order Summary'!U27+'Order Summary'!V27/'Order Summary'!T27)","v":""},null,{"$f":"IF(B88=\"\",\"\",'Order Summary'!W27)","v":""}]
[67,{"$f":"IF('Order Details'!O24>0,'Order Details'!O24,\"\")","v":""},{"$f":"IF($B89=\"\",\"\",'Order Details'!N24)","v":""},null,null,null,null,null,{"$f":"IF(B89=\"\",\"\",'Order Summary'!U28)","v":""},null,{"$f":"IF(B89=\"\",\"\",'Order Summary'!W28)","v":""}]
[68,{"$f":"IF('Order Details'!O25>0,'Order Details'!O25,\"\")","v":""},{"$f":"IF($B90=\"\",\"\",'Order Details'!N25)","v":""},null,null,null,null,null,{"$f":"IF(B90=\"\",\"\",'Order Summary'!U29)","v":""},null,{"$f":"IF(B90=\"\",\"\",'Order Summary'!W29)","v":""}]
[69,{"$f":"IF('Order Details'!O26>0,'Order Details'!O26,\"\")","v":""},{"$f":"IF($B91=\"\",\"\",'Order Details'!N26)","v":""},null,null,null,null,null,{"$f":"IF(B91=\"\",\"\",'Order Summary'!U30+'Order Summary'!V30/'Order Summary'!T30)","v":""},null,{"$f":"IF(B91=\"\",\"\",'Order Summary'!W30)","v":""}]
[70,{"$f":"IF('Order Details'!O27>0,'Order Details'!O27,\"\")","v":""},{"$f":"IF($B92=\"\",\"\",'Order Details'!N27)","v":""},null,null,null,null,null,{"$f":"IF(B92=\"\",\"\",'Order Summary'!U31)","v":""},null,{"$f":"IF(B92=\"\",\"\",'Order Summary'!W31)","v":""}]
[71,{"$f":"IF('Order Details'!O28>0,'Order Details'!O28,\"\")","v":""},{"$f":"IF($B93=\"\",\"\",'Order Details'!N28)","v":""},null,null,null,null,null,{"$f":"IF(B93=\"\",\"\",'Order Summary'!U32)","v":""},null,{"$f":"IF(B93=\"\",\"\",'Order Summary'!W32)","v":""}]
[72,{"$f":"IF('Order Details'!O29>0,'Order Details'!O29,\"\")","v":""},{"$f":"IF($B94=\"\",\"\",'Order Details'!N29)","v":""},null,null,null,null,null,{"$f":"IF(B94=\"\",\"\",'Order Summary'!U33)","v":""},null,{"$f":"IF(B94=\"\",\"\",'Order Summary'!W33)","v":""}]
[73,{"$f":"IF('Order Details'!O30>0,'Order Details'!O30,\"\")","v":""},{"$f":"IF($B95=\"\",\"\",'Order Details'!N30)","v":""},null,null,null,null,null,{"$f":"IF(B95=\"\",\"\",'Order Summary'!U34)","v":""},null,{"$f":"IF(B95=\"\",\"\",'Order Summary'!W34)","v":""}]
[74,{"$f":"IF('Order Details'!O31>0,'Order Details'!O31,\"\")","v":""},{"$f":"IF($B96=\"\",\"\",'Order Details'!N31)","v":""},null,null,null,null,null,{"$f":"IF(B96=\"\",\"\",'Order Summary'!U35)","v":""},null,{"$f":"IF(B96=\"\",\"\",'Order Summary'!W35)","v":""}]
[75,{"$f":"IF('Order Details'!O32>0,'Order Details'!O32,\"\")","v":""},{"$f":"IF($B97=\"\",\"\",'Order Details'!N32)","v":""},null,null,null,null,null,{"$f":"IF(B97=\"\",\"\",'Order Summary'!U36)","v":""},null,{"$f":"IF(B97=\"\",\"\",'Order Summary'!W36)","v":""}]
[76,{"$f":"IF('Order Details'!O33>0,'Order Details'!O33,\"\")","v":""},{"$f":"IF($B98=\"\",\"\",'Order Details'!N33)","v":""},null,null,null,null,null,{"$f":"IF(B98=\"\",\"\",'Order Summary'!U37)","v":""},null,{"$f":"IF(B98=\"\",\"\",'Order Summary'!W37)","v":""}]
[77,{"$f":"IF('Order Details'!O34>0,'Order Details'!O34,\"\")","v":""},{"$f":"IF($B99=\"\",\"\",'Order Details'!N34)","v":""},null,null,null,null,null,{"$f":"IF(B99=\"\",\"\",'Order Summary'!U38)","v":""},null,{"$f":"IF(B99=\"\",\"\",'Order Summary'!W38)","v":""}]
[78,{"$f":"IF('Order Details'!O35>0,'Order Details'!O35,\"\")","v":""},{"$f":"IF($B100=\"\",\"\",'Order Details'!N35)","v":""},null,null,null,null,null,{"$f":"IF(B100=\"\",\"\",'Order Summary'!U39)","v":""},null,{"$f":"IF(B100=\"\",\"\",'Order Summary'!W39)","v":""}]
[79,{"$f":"IF('Order Details'!O36>0,'Order Details'!O36,\"\")","v":""},{"$f":"IF($B101=\"\",\"\",'Order Details'!N36)","v":""},null,null,null,null,null,{"$f":"IF(B101=\"\",\"\",'Order Summary'!U40)","v":""},null,{"$f":"IF(B101=\"\",\"\",'Order Summary'!W40)","v":""}]
[80,{"$f":"IF('Order Details'!O37>0,'Order Details'!O37,\"\")","v":""},{"$f":"IF($B102=\"\",\"\",'Order Details'!N37)","v":""},null,null,null,null,null,{"$f":"IF(B102=\"\",\"\",'Order Summary'!U41)","v":""},null,{"$f":"IF(B102=\"\",\"\",'Order Summary'!W41)","v":""}]
[81,{"$f":"IF('Order Details'!O38>0,'Order Details'!O38,\"\")","v":""},{"$f":"IF($B103=\"\",\"\",'Order Details'!N38)","v":""},null,null,null,null,null,{"$f":"IF(B103=\"\",\"\",'Order Summary'!U42)","v":""},null,{"$f":"IF(B103=\"\",\"\",'Order Summary'!W42)","v":""}]
[82,{"$f":"IF('Order Details'!O39>0,'Order Details'!O39,\"\")","v":""},{"$f":"IF($B104=\"\",\"\",'Order Details'!N39)","v":""},null,null,null,null,null,{"$f":"IF(B104=\"\",\"\",'Order Summary'!U43)","v":""},null,{"$f":"IF(B104=\"\",\"\",'Order Summary'!W43)","v":""}]
[83,{"$f":"IF('Order Details'!O40>0,'Order Details'!O40,\"\")","v":""},{"$f":"IF($B105=\"\",\"\",'Order Details'!N40)","v":""},null,null,null,null,null,{"$f":"IF(B105=\"\",\"\",'Order Summary'!U44)","v":""},null,{"$f":"IF(B105=\"\",\"\",'Order Summary'!W44)","v":""}]
[84,{"$f":"IF('Order Details'!O41>0,'Order Details'!O41,\"\")","v":""},{"$f":"IF($B106=\"\",\"\",'Order Details'!N41)","v":""},null,null,null,null,null,{"$f":"IF(B106=\"\",\"\",'Order Summary'!U45)","v":""},null,{"$f":"IF(B106=\"\",\"\",'Order Summary'!W45)","v":""}]
[85,{"$f":"IF('Order Details'!O42>0,'Order Details'!O42,\"\")","v":""},{"$f":"IF($B107=\"\",\"\",'Order Details'!N42)","v":""},null,null,null,null,null,{"$f":"IF(B107=\"\",\"\",'Order Summary'!U46)","v":""},null,{"$f":"IF(B107=\"\",\"\",'Order Summary'!W46)","v":""}]
[86,{"$f":"IF('Order Details'!O43>0,'Order Details'!O43,\"\")","v":""},{"$f":"IF($B108=\"\",\"\",'Order Details'!N43)","v":""},null,null,null,null,null,{"$f":"IF(B108=\"\",\"\",'Order Summary'!U47)","v":""},null,{"$f":"IF(B108=\"\",\"\",'Order Summary'!W47)","v":""}]
[87,{"$f":"IF('Order Details'!O44>0,'Order Details'!O44,\"\")","v":""},{"$f":"IF($B109=\"\",\"\",'Order Details'!N44)","v":""},null,null,null,null,null,{"$f":"IF(B109=\"\",\"\",'Order Summary'!U48)","v":""},null,{"$f":"IF(B109=\"\",\"\",'Order Summary'!W48)","v":""}]
[88,{"$f":"IF('Order Details'!O45>0,'Order Details'!O45,\"\")","v":""},{"$f":"IF($B110=\"\",\"\",'Order Details'!N45)","v":""},null,null,null,null,null,{"$f":"IF(B110=\"\",\"\",'Order Summary'!U49)","v":""},null,{"$f":"IF(B110=\"\",\"\",'Order Summary'!W49)","v":""}]
[89,{"$f":"IF('Order Details'!O46>0,'Order Details'!O46,\"\")","v":""},{"$f":"IF($B111=\"\",\"\",'Order Details'!N46)","v":""},null,null,null,null,null,{"$f":"IF(B111=\"\",\"\",'Order Summary'!U50)","v":""},null,{"$f":"IF(B111=\"\",\"\",'Order Summary'!W50)","v":""}]
[90,{"$f":"IF('Order Details'!O47>0,'Order Details'!O47,\"\")","v":""},{"$f":"IF($B112=\"\",\"\",'Order Details'!N47)","v":""},null,null,null,null,null,{"$f":"IF(B112=\"\",\"\",'Order Summary'!U51)","v":""},null,{"$f":"IF(B112=\"\",\"\",'Order Summary'!W51)","v":""}]
[91,{"$f":"IF('Order Details'!O48>0,'Order Details'!O48,\"\")","v":""},{"$f":"IF($B113=\"\",\"\",'Order Details'!N48)","v":""},null,null,null,null,null,{"$f":"IF(B113=\"\",\"\",'Order Summary'!U52)","v":""},null,{"$f":"IF(B113=\"\",\"\",'Order Summary'!W52)","v":""}]
[92,{"$f":"IF('Order Details'!O49>0,'Order Details'!O49,\"\")","v":""},{"$f":"IF($B114=\"\",\"\",'Order Details'!N49)","v":""},null,null,null,null,null,{"$f":"IF(B114=\"\",\"\",'Order Summary'!U53)","v":""},null,{"$f":"IF(B114=\"\",\"\",'Order Summary'!W53)","v":""}]
[93,{"$f":"IF('Order Details'!O50>0,'Order Details'!O50,\"\")","v":""},{"$f":"IF($B115=\"\",\"\",'Order Details'!N50)","v":""},null,null,null,null,null,{"$f":"IF(B115=\"\",\"\",'Order Summary'!U54)","v":""},null,{"$f":"IF(B115=\"\",\"\",'Order Summary'!W54)","v":""}]
[94,{"$f":"IF('Order Details'!O51>0,'Order Details'!O51,\"\")","v":""},{"$f":"IF($B116=\"\",\"\",'Order Details'!N51)","v":""},null,null,null,null,null,{"$f":"IF(B116=\"\",\"\",'Order Summary'!U55)","v":""},null,{"$f":"IF(B116=\"\",\"\",'Order Summary'!W55)","v":""}]
[95,{"$f":"IF('Order Details'!O52>0,'Order Details'!O52,\"\")","v":""},{"$f":"IF($B117=\"\",\"\",'Order Details'!N52)","v":""},null,null,null,null,null,{"$f":"IF(B117=\"\",\"\",'Order Summary'!U56)","v":""},null,{"$f":"IF(B117=\"\",\"\",'Order Summary'!W56)","v":""}]
[96,{"$f":"IF('Order Details'!O53>0,'Order Details'!O53,\"\")","v":""},{"$f":"IF($B118=\"\",\"\",'Order Details'!N53)","v":""},null,null,null,null,null,{"$f":"IF(B118=\"\",\"\",'Order Summary'!U57)","v":""},null,{"$f":"IF(B118=\"\",\"\",'Order Summary'!W57)","v":""}]
[97,{"$f":"IF('Order Details'!O54>0,'Order Details'!O54,\"\")","v":""},{"$f":"IF($B119=\"\",\"\",'Order Details'!N54)","v":""},null,null,null,null,null,{"$f":"IF(B119=\"\",\"\",'Order Summary'!U58)","v":""},null,{"$f":"IF(B119=\"\",\"\",'Order Summary'!W58)","v":""}]
[98,{"$f":"IF('Order Details'!O55>0,'Order Details'!O55,\"\")","v":""},{"$f":"IF($B120=\"\",\"\",'Order Details'!N55)","v":""},null,null,null,null,null,{"$f":"IF(B120=\"\",\"\",'Order Summary'!U59)","v":""},null,{"$f":"IF(B120=\"\",\"\",'Order Summary'!W59)","v":""}]
[99,{"$f":"IF('Order Details'!O56>0,'Order Details'!O56,\"\")","v":""},{"$f":"IF($B121=\"\",\"\",'Order Details'!N56)","v":""},null,null,null,null,null,{"$f":"IF(B121=\"\",\"\",'Order Summary'!U60)","v":""},null,{"$f":"IF(B121=\"\",\"\",'Order Summary'!W60)","v":""}]
[100,{"$f":"IF('Order Details'!O57>0,'Order Details'!O57,\"\")","v":""},{"$f":"IF($B122=\"\",\"\",'Order Details'!N57)","v":""},null,null,null,null,null,{"$f":"IF(B122=\"\",\"\",'Order Summary'!U61)","v":""},null,{"$f":"IF(B122=\"\",\"\",'Order Summary'!W61)","v":""}]
[101,{"$f":"IF('Order Details'!O58>0,'Order Details'!O58,\"\")","v":""},{"$f":"IF($B123=\"\",\"\",'Order Details'!N58)","v":""},null,null,null,null,null,{"$f":"IF(B123=\"\",\"\",'Order Summary'!U62)","v":""},null,{"$f":"IF(B123=\"\",\"\",'Order Summary'!W62)","v":""}]
[102,{"$f":"IF('Order Details'!O59>0,'Order Details'!O59,\"\")","v":""},{"$f":"IF($B124=\"\",\"\",'Order Details'!N59)","v":""},null,null,null,null,null,{"$f":"IF(B124=\"\",\"\",'Order Summary'!U63)","v":""},null,{"$f":"IF(B124=\"\",\"\",'Order Summary'!W63)","v":""}]
[20,{"$f":"'Order Summary'!H67","v":0},"Haul by Vendor Shoulder Stone Placement - First Ton Mile",null,null,null,null,null,{"$f":"'Order Summary'!I67","v":{"$error":"#N/A"}},null,{"$f":"'Order Summary'!M67","v":{"$error":"#N/A"}}]
[21,{"$f":"'Order Summary'!H68","v":{"$error":"#N/A"}},"Haul by Vendor Shoulder Stone Placement - Each Additional Mile",null,null,null,null,null,{"$f":"'Order Summary'!I68","v":{"$error":"#N/A"}},null,{"$f":"'Order Summary'!M68","v":{"$error":"#N/A"}}]
[27,{"$f":"'Order Summary'!H69","v":0},"Asphalt Haul by Vendor - First Ton Mile",null,null,null,null,null,{"$f":"'Order Summary'!I69","v":{"$error":"#N/A"}},null,{"$f":"'Order Summary'!M69","v":{"$error":"#N/A"}}]
[28,{"$f":"'Order Summary'!H70","v":{"$error":"#N/A"}},"Asphalt Haul by Vendor - Each Additional Mile",null,null,null,null,null,{"$f":"'Order Summary'!I70","v":{"$error":"#N/A"}},null,{"$f":"'Order Summary'!M70","v":{"$error":"#N/A"}}]
[63,{"$f":"'Order Details'!B35","v":0},"Haul of Profiled/Milled Cuttings or Fine Millings, First 10 Miles (Included #49-60 and #69-80)",null,null,null,null,null,0,null,{"$f":"'Order Summary'!M71","v":{"$error":"#N/A"}}]
[64,{"$f":"'Order Summary'!H72","v":{"$error":"#N/A"}},"Haul of Profiled/Milled Cuttings or Fine Millings, Each additional Mile (Above 10 Miles)",null,null,null,null,null,{"$f":"'Order Summary'!I72","v":{"$error":"#N/A"}},null,{"$f":"'Order Summary'!M72","v":{"$error":"#N/A"}}]
[]
[null,null,"                                                                                                     "]
["Authorized Signature:",null,null,null,null,null,null,null,null,"Total Amount",{"$f":"SUBTOTAL(9,K29:L130)","v":{"$error":"#N/A"}}]
[null,null,"                                                                                                     "]
["Title:",null,null,null,null,null,null,null,null,"Original: Vendor"]
[null,null,"                                                                                                     ",null,null,null,null,null,null,"Copy: Auditor's Office"]
["Telephone:",null,null,null,null,null,null,null,null,"Copy: Purchasing Division"]
[]
["WV-39 Release Order"]